{"text_format":"1","workbook":"xlsx","n_sheets":9,"sheets":["Instructions","Dashboard","SA Charts","NSA Charts","Monthly","3Month","Historical","NSA","SA"],"not_rendered":{"charts":11,"images":6,"macros":1,"external_links":0,"defined_names":4,"comments":0,"pivot_tables":0},"unopened":[],"bounds":{"document_bytes":16777216,"sheet_cells":100000,"rows_first":2000,"rows_last":500,"rows_between":2000,"halvings":0,"cell_chars":16384,"cell_head_chars":4096},"cells_cut":0,"cells_raw":0,"read":"whole","date_system":"1900"}

{"sheet":"Instructions","index":0,"n_rows":41,"n_cols":3,"rows_kept":41,"cut":false,"hidden":false,"merged":[]}
["CES Dynamic Charts"]
[]
["Tool Instructions:",null,"Do not save under another name - the tool will break.  "]
[]
["Dashboard worksheet:  allows you to navigate to other worksheets in the tool by choosing one of the 5 options (SA Charts, NSA Charts, etc.).  Use green arrows to return to dashboard portal."]
[]
["SA and NSA Charts worksheets:  Use the drop down menus to choose different sectors.  The statistics in the table below it will automatically update."]
["For the number of months, the limit is 100."]
[]
[]
[]
[]
[]
[]
[]
[]
[]
["Enter a month and year to see the level and percentage changes since that date."]
[]
[]
[]
[]
[]
[]
[]
[]
[]
["Enter a start and finish date to see level and percentage changes between those dates."]
[]
[]
[]
[]
[]
[]
[]
[]
[]
["Historical worksheet:  Travel through the years by using the right arrow key on your keyboard, and watch the economic changes develop.  Begin your journey at the far left of the spreadsheet in January 2005."]
["Refer to the color key at the top of the page.  Each cell is color coded to represent how well the sector performed during that time frame."]
["Essentially, red colors show the lowest performance for that sector while blue colors show the best performance for that sector.  The darker color red represents"]
["the lowest 15% of each sector's performance compared to its own historical performance, while the darkest blue color represents the top 15% of its performance."]

{"sheet":"Dashboard","index":1,"n_rows":0,"n_cols":0,"rows_kept":0,"cut":false,"hidden":false,"merged":[]}

{"sheet":"SA Charts","index":2,"n_rows":79,"n_cols":108,"rows_kept":79,"cut":false,"hidden":false,"merged":[[5,2,5,4],[1,12,1,15],[2,9,2,11],[5,12,5,13],[5,5,5,6],[5,7,5,8],[5,10,5,11],[5,14,5,15],[1,2,1,4],[2,2,2,4],[3,2,3,4]]}
[]
[null,"Series 1","Total Private",null,null,null,null,null,null,null,null,null,"Compare arbitrary dates:"]
[null,"Series 2","Goods Producing",null,null,null,null,null,null,"Comparison to current month:",null,null,null,"Mo","Yr"]
[null,"Months",48,null,null,null,null,null,null,"Month","Yr",null,"Start",12,2002]
[null,null,null,null,null,null,null,null,null,12,2010,null,"Finish",12,2010]
[null,null,"Current",null,null,"OTM",null,"OTY",null,"Count","Change",null,"Counts",null,"Change"]
[null,null,"Count","% of TNF","% of other","Level","%","Level","%",{"$f":"IF(K5>2000,DATE(K5,J5,1),DATE(2000+K5,J5,1))","v":"2010-12-01"},"Level","%",{"$f":"IF(O4>1999,DATE(O4,N4,1),DATE(1999+O4,N4,1))","v":"2002-12-01"},{"$f":"IF(O5>1999,DATE(O5,N5,1),DATE(1999+O5,N5,1))","v":"2010-12-01"},"Level","%"]
[null,{"$f":"C2","v":"Total Private"},{"$f":"OFFSET(SA!A1,MATCH(C2,SA!D2:D35,0),COUNTA(SA!1:1)-1,1,1)","v":2587100},{"$f":"OFFSET(SA!A1,MATCH(C2,SA!D2:D35,0),COUNTA(SA!1:1)-1,1,1)/OFFSET(SA!A1,1,COUNTA(SA!1:1)-1,1,1)","v":0.86481698144743435},{"$f":"D8/D9","v":4.2691419141914189},{"$f":"OFFSET(SA!A1,MATCH(C2,SA!D2:D35,0),COUNTA(SA!1:1)-1,1,1)-OFFSET(SA!A1,MATCH(C2,SA!D2:D35,0),COUNTA(SA!1:1)-2,1,1)","v":9000},{"$f":"F8/OFFSET(SA!A1,MATCH(C2,SA!D2:D35,0),COUNTA(SA!1:1)-2,1,1)","v":3.4909429424770178E-3},{"$f":"OFFSET(SA!A1,MATCH(C2,SA!D2:D35,0),COUNTA(SA!1:1)-1,1,1)-OFFSET(SA!A1,MATCH(C2,SA!D2:D35,0),COUNTA(SA!1:1)-13,1,1)","v":-4800},{"$f":"H8/OFFSET(SA!A1,MATCH(C2,SA!D2:D35,0),COUNTA(SA!1:1)-13,1,1)","v":-1.851923299510012E-3},{"$f":"OFFSET(SA!A1,MATCH(C2,SA!D2:D35,0),MATCH(J7,SA!1:1,0)-1,1,1)","v":2321700},{"$f":"C8-J8","v":265400},{"$f":"K8/OFFSET(SA!A1,MATCH(C2,SA!D2:D35,0),MATCH(J7,SA!1:1,0)-1,1,1)","v":0.11431278804324417},{"$f":"OFFSET(SA!A1,MATCH(C2,SA!D2:D35,0),MATCH(M7,SA!1:1,0)-1,1,1)","v":2363400},{"$f":"OFFSET(SA!A1,MATCH(C2,SA!D2:D35,0),MATCH(N7,SA!1:1,0)-1,1,1)","v":2321700},{"$f":"N8-M8","v":-41700},{"$f":"O8/M8","v":-1.7644072099517644E-2}]
[null,{"$f":"C3","v":"Goods Producing"},{"$f":"OFFSET(SA!A1,MATCH(C3,SA!D2:D46,0),COUNTA(SA!1:1)-1,1,1)","v":606000},{"$f":"OFFSET(SA!A1,MATCH(C3,SA!D2:D46,0),COUNTA(SA!1:1)-1,1,1)/OFFSET(SA!A1,1,COUNTA(SA!1:1)-1,1,1)","v":0.20257395955206417},{"$f":"D9/D8","v":0.23423910942754436},{"$f":"OFFSET(SA!A1,MATCH(C3,SA!D2:D46,0),COUNTA(SA!1:1)-1,1,1)-OFFSET(SA!A1,MATCH(C3,SA!D2:D46,0),COUNTA(SA!1:1)-2,1,1)","v":2900},{"$f":"F9/OFFSET(SA!A1,MATCH(C3,SA!D2:D46,0),COUNTA(SA!1:1)-2,1,1)","v":4.8084894710661583E-3},{"$f":"OFFSET(SA!A1,MATCH(C3,SA!D2:D46,0),COUNTA(SA!1:1)-1,1,1)-OFFSET(SA!A1,MATCH(C3,SA!D2:D46,0),COUNTA(SA!1:1)-13,1,1)","v":-14800},{"$f":"H9/OFFSET(SA!A1,MATCH(C3,SA!D2:D46,0),COUNTA(SA!1:1)-13,1,1)","v":-2.3840206185567009E-2},{"$f":"OFFSET(SA!A1,MATCH(C3,SA!D2:D46,0),MATCH(J7,SA!1:1,0)-1,1,1)","v":532200},{"$f":"C9-J9","v":73800},{"$f":"K9/OFFSET(SA!A1,MATCH(C3,SA!D2:D46,0),MATCH(J7,SA!1:1,0)-1,1,1)","v":0.13866967305524239},{"$f":"OFFSET(SA!A1,MATCH(C3,SA!D2:D35,0),MATCH(M7,SA!1:1,0)-1,1,1)","v":648900},{"$f":"OFFSET(SA!A1,MATCH(C3,SA!D2:D35,0),MATCH(N7,SA!1:1,0)-1,1,1)","v":532200},{"$f":"N9-M9","v":-116700},{"$f":"O9/M9","v":-0.17984281091077209}]
[]
[]
[]
[]
[]
[]
[]
[]
[]
[]
[]
[]
[]
[]
[]
[]
[]
[]
[]
[]
[]
[]
[]
[]
[]
[]
[]
[]
[]
[null,{"$f":"CONCATENATE(\"SA \",TRIM(B42),\" / \",TRIM(B43))","v":"SA Total Private / Goods Producing"}]
[]
[null,"Month",{"$f":"OFFSET(SA!A1,0,COUNTA(SA!1:1)-'SA Charts'!C4,1,'SA Charts'!C4)","v":"2016-01-01"},"2016-02-01","2016-03-01","2016-04-01","2016-05-01","2016-06-01","2016-07-01","2016-08-01","2016-09-01","2016-10-01","2016-11-01","2016-12-01","2017-01-01","2017-02-01","2017-03-01","2017-04-01","2017-05-01","2017-06-01","2017-07-01","2017-08-01","2017-09-01","2017-10-01","2017-11-01","2017-12-01","2018-01-01","2018-02-01","2018-03-01","2018-04-01","2018-05-01","2018-06-01","2018-07-01","2018-08-01","2018-09-01","2018-10-01","2018-11-01","2018-12-01","2019-01-01","2019-02-01","2019-03-01","2019-04-01","2019-05-01","2019-06-01","2019-07-01","2019-08-01","2019-09-01","2019-10-01","2019-11-01","2019-12-01",{"$error":"#N/A"},{"$error":"#N/A"},{"$error":"#N/A"},{"$error":"#N/A"},{"$error":"#N/A"},{"$error":"#N/A"},{"$error":"#N/A"},{"$error":"#N/A"},{"$error":"#N/A"},{"$error":"#N/A"},{"$error":"#N/A"},{"$error":"#N/A"},{"$error":"#N/A"},{"$error":"#N/A"},{"$error":"#N/A"},{"$error":"#N/A"},{"$error":"#N/A"},{"$error":"#N/A"},{"$error":"#N/A"},{"$error":"#N/A"},{"$error":"#N/A"},{"$error":"#N/A"},{"$error":"#N/A"},{"$error":"#N/A"},{"$error":"#N/A"},{"$error":"#N/A"},{"$error":"#N/A"},{"$error":"#N/A"},{"$error":"#N/A"},{"$error":"#N/A"},{"$error":"#N/A"},{"$error":"#N/A"},{"$error":"#N/A"},{"$error":"#N/A"},{"$error":"#N/A"},{"$error":"#N/A"},{"$error":"#N/A"},{"$error":"#N/A"},{"$error":"#N/A"},{"$error":"#N/A"},{"$error":"#N/A"},{"$error":"#N/A"},{"$error":"#N/A"},{"$error":"#N/A"},{"$error":"#N/A"},{"$error":"#N/A"},{"$error":"#N/A"},{"$error":"#N/A"},{"$error":"#N/A"},{"$error":"#N/A"},{"$error":"#N/A"},{"$error":"#N/A"},{"$error":"#N/A"},{"$error":"#N/A"}]
[null,{"$f":"C2","v":"Total Private"},{"$f":"OFFSET(SA!A1,MATCH(C2,SA!D2:D35,0),COUNTA(SA!1:1)-'SA Charts'!C4,1,'SA Charts'!C4)","v":2507400},2510600,2510600,2515000,2512300,2508600,2516600,2517700,2519700,2520300,2521800,2521900,2531700,2535200,2538900,2536800,2533500,2539200,2536900,2537100,2535000,2538600,2541400,2547000,2554100,2557800,2566000,2560400,2559600,2566300,2573500,2571800,2572200,2572000,2582800,2591900,2584600,2583200,2576800,2576500,2577700,2577200,2574000,2573900,2575100,2577000,2578100,2587100,{"$error":"#N/A"},{"$error":"#N/A"},{"$error":"#N/A"},{"$error":"#N/A"},{"$error":"#N/A"},{"$error":"#N/A"},{"$error":"#N/A"},{"$error":"#N/A"},{"$error":"#N/A"},{"$error":"#N/A"},{"$error":"#N/A"},{"$error":"#N/A"},{"$error":"#N/A"},{"$error":"#N/A"},{"$error":"#N/A"},{"$error":"#N/A"},{"$error":"#N/A"},{"$error":"#N/A"},{"$error":"#N/A"},{"$error":"#N/A"},{"$error":"#N/A"},{"$error":"#N/A"},{"$error":"#N/A"},{"$error":"#N/A"},{"$error":"#N/A"},{"$error":"#N/A"},{"$error":"#N/A"},{"$error":"#N/A"},{"$error":"#N/A"},{"$error":"#N/A"},{"$error":"#N/A"},{"$error":"#N/A"},{"$error":"#N/A"},{"$error":"#N/A"},{"$error":"#N/A"},{"$error":"#N/A"},{"$error":"#N/A"},{"$error":"#N/A"},{"$error":"#N/A"},{"$error":"#N/A"},{"$error":"#N/A"},{"$error":"#N/A"},{"$error":"#N/A"},{"$error":"#N/A"},{"$error":"#N/A"},{"$error":"#N/A"},{"$error":"#N/A"},{"$error":"#N/A"},{"$error":"#N/A"},{"$error":"#N/A"},{"$error":"#N/A"},{"$error":"#N/A"},{"$error":"#N/A"},{"$error":"#N/A"}]
[null,{"$f":"C3","v":"Goods Producing"},{"$f":"OFFSET(SA!A1,MATCH(C3,SA!D2:D46,0),COUNTA(SA!1:1)-'SA Charts'!C4,1,'SA Charts'!C4)","v":581900},581800,582200,581800,580800,579700,579300,579900,579900,581000,582100,583200,584500,586300,587300,587900,587900,588600,588700,589100,589100,590700,592700,594400,598000,602400,606100,605400,608200,613400,615700,617800,619400,620000,620200,620800,608100,606800,605400,602700,605000,605700,602600,603600,602300,601800,603100,606000,{"$error":"#N/A"},{"$error":"#N/A"},{"$error":"#N/A"},{"$error":"#N/A"},{"$error":"#N/A"},{"$error":"#N/A"},{"$error":"#N/A"},{"$error":"#N/A"},{"$error":"#N/A"},{"$error":"#N/A"},{"$error":"#N/A"},{"$error":"#N/A"},{"$error":"#N/A"},{"$error":"#N/A"},{"$error":"#N/A"},{"$error":"#N/A"},{"$error":"#N/A"},{"$error":"#N/A"},{"$error":"#N/A"},{"$error":"#N/A"},{"$error":"#N/A"},{"$error":"#N/A"},{"$error":"#N/A"},{"$error":"#N/A"},{"$error":"#N/A"},{"$error":"#N/A"},{"$error":"#N/A"},{"$error":"#N/A"},{"$error":"#N/A"},{"$error":"#N/A"},{"$error":"#N/A"},{"$error":"#N/A"},{"$error":"#N/A"},{"$error":"#N/A"},{"$error":"#N/A"},{"$error":"#N/A"},{"$error":"#N/A"},{"$error":"#N/A"},{"$error":"#N/A"},{"$error":"#N/A"},{"$error":"#N/A"},{"$error":"#N/A"},{"$error":"#N/A"},{"$error":"#N/A"},{"$error":"#N/A"},{"$error":"#N/A"},{"$error":"#N/A"},{"$error":"#N/A"},{"$error":"#N/A"},{"$error":"#N/A"},{"$error":"#N/A"},{"$error":"#N/A"},{"$error":"#N/A"},{"$error":"#N/A"}]
[null,"OTM 1",null,{"$f":"D42-C42","v":3200},{"$f":"E42-D42","v":0},4400,-2700,-3700,8000,{"$f":"J42-I42","v":1100},2000,600,1500,100,9800,3500,3700,-2100,-3300,5700,-2300,200,-2100,3600,2800,5600,7100,3700,8200,-5600,-800,6700,7200,-1700,400,-200,10800,9100,-7300,-1400,-6400,-300,1200,-500,-3200,-100,1200,1900,1100,9000,{"$error":"#N/A"},{"$error":"#N/A"},{"$error":"#N/A"},{"$error":"#N/A"},{"$error":"#N/A"},{"$error":"#N/A"},{"$error":"#N/A"},{"$error":"#N/A"},{"$error":"#N/A"},{"$error":"#N/A"},{"$error":"#N/A"},{"$error":"#N/A"},{"$error":"#N/A"},{"$error":"#N/A"},{"$error":"#N/A"},{"$error":"#N/A"},{"$error":"#N/A"},{"$error":"#N/A"},{"$error":"#N/A"},{"$error":"#N/A"},{"$error":"#N/A"},{"$error":"#N/A"},{"$error":"#N/A"},{"$f":"BV42-BU42","v":{"$error":"#N/A"}},{"$error":"#N/A"},{"$error":"#N/A"},{"$error":"#N/A"},{"$error":"#N/A"},{"$error":"#N/A"},{"$error":"#N/A"},{"$error":"#N/A"},{"$error":"#N/A"},{"$error":"#N/A"},{"$error":"#N/A"},{"$error":"#N/A"},{"$error":"#N/A"},{"$error":"#N/A"},{"$error":"#N/A"},{"$error":"#N/A"},{"$error":"#N/A"},{"$error":"#N/A"},{"$error":"#N/A"},{"$error":"#N/A"},{"$error":"#N/A"},{"$error":"#N/A"},{"$error":"#N/A"},{"$error":"#N/A"},{"$error":"#N/A"},{"$error":"#N/A"},{"$error":"#N/A"},{"$error":"#N/A"},{"$error":"#N/A"},{"$error":"#N/A"},{"$error":"#N/A"}]
[null,"OTM 2",null,-100,400,-400,-1000,-1100,-400,{"$f":"J43-I43","v":600},0,1100,1100,1100,1300,1800,1000,600,0,700,100,400,0,1600,2000,1700,3600,4400,3700,-700,2800,5200,2300,2100,1600,600,200,600,-12700,-1300,-1400,-2700,2300,700,-3100,1000,-1300,-500,1300,2900,{"$error":"#N/A"},{"$error":"#N/A"},{"$error":"#N/A"},{"$error":"#N/A"},{"$error":"#N/A"},{"$error":"#N/A"},{"$error":"#N/A"},{"$error":"#N/A"},{"$error":"#N/A"},{"$error":"#N/A"},{"$error":"#N/A"},{"$error":"#N/A"},{"$error":"#N/A"},{"$error":"#N/A"},{"$error":"#N/A"},{"$error":"#N/A"},{"$error":"#N/A"},{"$error":"#N/A"},{"$error":"#N/A"},{"$error":"#N/A"},{"$error":"#N/A"},{"$error":"#N/A"},{"$error":"#N/A"},{"$f":"BV43-BU43","v":{"$error":"#N/A"}},{"$error":"#N/A"},{"$error":"#N/A"},{"$error":"#N/A"},{"$error":"#N/A"},{"$error":"#N/A"},{"$error":"#N/A"},{"$error":"#N/A"},{"$error":"#N/A"},{"$error":"#N/A"},{"$error":"#N/A"},{"$error":"#N/A"},{"$error":"#N/A"},{"$error":"#N/A"},{"$error":"#N/A"},{"$error":"#N/A"},{"$error":"#N/A"},{"$error":"#N/A"},{"$error":"#N/A"},{"$error":"#N/A"},{"$error":"#N/A"},{"$error":"#N/A"},{"$error":"#N/A"},{"$error":"#N/A"},{"$error":"#N/A"},{"$error":"#N/A"},{"$error":"#N/A"},{"$error":"#N/A"},{"$error":"#N/A"},{"$error":"#N/A"},{"$error":"#N/A"}]
[null,"%OTM 1",null,{"$f":"D44/C42*100","v":0.12762223817500198},0,0.17525691069863777,-0.1073558648111332,-0.14727540500736377,0.31890297377023041,{"$f":"J44/I42*100","v":4.3709767146149568E-2},7.9437581920006356E-2,2.3812358614120729E-2,5.9516724199500062E-2,3.9654215243080338E-3,0.38859589991672944,0.13824702768890468,0.14594509308930262,-8.2712985938792394E-2,-0.13008514664143805,0.22498519834221434,-9.0579710144927536E-2,7.8836375103472738E-3,-8.2771668440345281E-2,0.14201183431952663,0.11029701410226109,0.22035098764460534,0.27875932469572046,0.14486511882855019,0.32058800531706932,-0.21823850350740451,-3.1245117950320259E-2,0.26175964994530393,0.28055956045668862,-6.6057897804546337E-2,1.555330896648262E-2,-7.7754451442345069E-3,0.41990668740279935,0.35233080377884468,-0.28164666846714764,-5.4166989089220768E-2,-0.24775472282440383,-1.1642347097174792E-2,4.6574810789831167E-2,-1.9397136982581373E-2,-0.12416576129132392,-3.885003885003885E-3,4.6621857881036559E-2,7.3783542386703427E-2,4.2685292976329066E-2,0.34909429424770178,{"$error":"#N/A"},{"$error":"#N/A"},{"$error":"#N/A"},{"$error":"#N/A"},{"$error":"#N/A"},{"$error":"#N/A"},{"$error":"#N/A"},{"$error":"#N/A"},{"$error":"#N/A"},{"$error":"#N/A"},{"$error":"#N/A"},{"$error":"#N/A"},{"$error":"#N/A"},{"$error":"#N/A"},{"$error":"#N/A"},{"$error":"#N/A"},{"$error":"#N/A"},{"$error":"#N/A"},{"$error":"#N/A"},{"$error":"#N/A"},{"$error":"#N/A"},{"$error":"#N/A"},{"$error":"#N/A"},{"$f":"BV44/BU42*100","v":{"$error":"#N/A"}},{"$error":"#N/A"},{"$error":"#N/A"},{"$error":"#N/A"},{"$error":"#N/A"},{"$error":"#N/A"},{"$error":"#N/A"},{"$error":"#N/A"},{"$error":"#N/A"},{"$error":"#N/A"},{"$error":"#N/A"},{"$error":"#N/A"},{"$error":"#N/A"},{"$error":"#N/A"},{"$error":"#N/A"},{"$error":"#N/A"},{"$error":"#N/A"},{"$error":"#N/A"},{"$error":"#N/A"},{"$error":"#N/A"},{"$error":"#N/A"},{"$error":"#N/A"},{"$error":"#N/A"},{"$error":"#N/A"},{"$error":"#N/A"},{"$error":"#N/A"},{"$error":"#N/A"},{"$error":"#N/A"},{"$error":"#N/A"},{"$error":"#N/A"},{"$error":"#N/A"}]
[null,"%OTM 2",null,-1.7185083347654236E-2,6.8752148504640773E-2,-6.870491240123669E-2,-0.17188037126160191,-0.18939393939393939,-6.9001207521131619E-2,{"$f":"J45/I43*100","v":0.10357327809425168},0,0.18968787722021038,0.18932874354561102,0.18897096718776843,0.22290809327846364,0.30795551753635586,0.17056114617090226,0.1021624382768602,0,0.11906786868515053,1.6989466530750934E-2,6.7946322405299811E-2,0,0.27160074690205399,0.33858134416793634,0.28682301332883414,0.60565275908479144,0.73578595317725748,0.61420982735723773,-0.11549249298795577,0.46250412950115627,0.85498191384413025,0.37495924356048255,0.34107519896053273,0.25898348980252511,9.6867936712948008E-2,3.2258064516129031E-2,9.6742986133505321E-2,-2.0457474226804124,-0.21378062818615357,-0.23071852340145024,-0.44598612487611494,0.38161606105856977,0.11570247933884298,-0.51180452369159646,0.1659475605708596,-0.21537442014579194,-8.3015108749792454E-2,0.21601861083416418,0.48084894710661585,{"$error":"#N/A"},{"$error":"#N/A"},{"$error":"#N/A"},{"$error":"#N/A"},{"$error":"#N/A"},{"$error":"#N/A"},{"$error":"#N/A"},{"$error":"#N/A"},{"$error":"#N/A"},{"$error":"#N/A"},{"$error":"#N/A"},{"$error":"#N/A"},{"$error":"#N/A"},{"$error":"#N/A"},{"$error":"#N/A"},{"$error":"#N/A"},{"$error":"#N/A"},{"$error":"#N/A"},{"$error":"#N/A"},{"$error":"#N/A"},{"$error":"#N/A"},{"$error":"#N/A"},{"$error":"#N/A"},{"$f":"BV45/BU43*100","v":{"$error":"#N/A"}},{"$error":"#N/A"},{"$error":"#N/A"},{"$error":"#N/A"},{"$error":"#N/A"},{"$error":"#N/A"},{"$error":"#N/A"},{"$error":"#N/A"},{"$error":"#N/A"},{"$error":"#N/A"},{"$error":"#N/A"},{"$error":"#N/A"},{"$error":"#N/A"},{"$error":"#N/A"},{"$error":"#N/A"},{"$error":"#N/A"},{"$error":"#N/A"},{"$error":"#N/A"},{"$error":"#N/A"},{"$error":"#N/A"},{"$error":"#N/A"},{"$error":"#N/A"},{"$error":"#N/A"},{"$error":"#N/A"},{"$error":"#N/A"},{"$error":"#N/A"},{"$error":"#N/A"},{"$error":"#N/A"},{"$error":"#N/A"},{"$error":"#N/A"},{"$error":"#N/A"}]
[null,null,"Used for pop-up menus. -->","None",null,null,null,null,null,null,null,null,null,null,null,null,null,null,null,null,null,null,null,null,null,null,null,null,null,null,null,null,null,null,null,null,null,null,null,null,null,null,null,null,null,null,null,null,null,null,null,null,null,null,null,null,null,null,null,null,null,{"$f":"(BJ42-BI42)/(BB42-BI42)","v":{"$error":"#N/A"}}]
[null,null,"May need to change if",{"$f":"SA!D2","v":"Total Nonfarm"},null,null,null,null,null,null,null,null,null,null,null,null,null,null,null,null,null,null,null,null,null,null,null,null,null,null,null,null,null,null,null,null,null,null,null,null,null,null,null,null,null,null,null,null,null,null,null,null,null,null,null,null,null,null,null,null,null,{"$f":"(BJ43-BI43)/(BB43-BI43)","v":{"$error":"#N/A"}},null,null,null,null,null,null,null,null,null,null,null,null,null,null,null,null,null,null,null,null,null,null,null,null,null,null,null,null,null,null,null,null,null,null,null,null,null,null,null,null,null,null,null,null,null,"`"]
[null,null,"SA sector names change.",{"$f":"SA!D3","v":"Total Private"}]
[null,null,null,{"$f":"SA!D4","v":"Goods Producing"}]
[null,null,null,{"$f":"SA!D5","v":"Service-Providing"},null,null,null,null,null,null,null,null,"<-- Button no longer needed; relevant code called directly when parameter cells change."]
[null,null,null,{"$f":"SA!D6","v":"Private Service Providing"}]
[null,null,null,{"$f":"SA!D7","v":"Mining and Logging"},null,null,null,null,null,null,"Axis range calculations (referenced in axis-manipulation code)"]
[null,null,null,{"$f":"SA!D9","v":"Construction"},null,null,null,null,null,null,"Ave","SD","Min","Max","SDMin","SDMax","AxisSDMin","AxisSDMax","AxisMin","AxisMax"]
[null,null,null,{"$f":"SA!D10","v":"Manufacturing"},null,null,null,null,null,null,{"$f":"AVERAGE(OFFSET($C42,0,0,1,$C$4))","v":2550070.8333333335},{"$f":"STDEV(OFFSET($C42,0,0,1,$C$4))","v":26245.274819567236},{"$f":"MIN(OFFSET($C42,0,0,1,$C$4))","v":2507400},{"$f":"MAX(OFFSET($C42,0,0,1,$C$4))","v":2591900},{"$f":"(M56-$K56)/$L56","v":-1.625848219410533},{"$f":"(N56-$K56)/$L56","v":1.5937789546589416},{"$f":"IF(ISNA(O57),FLOOR(O56,0.25),FLOOR(MIN($O$56:$O$57),0.25))","v":-1.75},{"$f":"IF(ISNA(P57),CEILING(P56,0.25),CEILING(MAX($P$56:$P$57),0.25))","v":2},{"$f":"Q56*$L56+$K56","v":2504141.6023990908},{"$f":"R56*$L56+$K56","v":2602561.3829724682}]
[null,null,null,{"$f":"SA!D11","v":"Durable Goods"},null,null,null,null,null,null,{"$f":"AVERAGE(OFFSET($C43,0,0,1,$C$4))","v":596693.75},{"$f":"STDEV(OFFSET($C43,0,0,1,$C$4))","v":13123.414291241988},{"$f":"MIN(OFFSET($C43,0,0,1,$C$4))","v":579300},{"$f":"MAX(OFFSET($C43,0,0,1,$C$4))","v":620800},{"$f":"(M57-$K57)/$L57","v":-1.3253982244245579},{"$f":"(N57-$K57)/$L57","v":1.8368885920249802},{"$f":"IF(ISNA(O56),FLOOR(O57,0.25),FLOOR(MIN($O$56:$O$57),0.25))","v":-1.75},{"$f":"IF(ISNA(P56),CEILING(P57,0.25),CEILING(MAX($P$56:$P$57),0.25))","v":2},{"$f":"Q57*$L57+$K57","v":573727.77499032649},{"$f":"R57*$L57+$K57","v":622940.57858248393}]
[null,null,null,{"$f":"SA!D12","v":"Non-Durable Goods"}]
[null,null,null,{"$f":"SA!D13","v":"Trade, Transportation, and Utilities"}]
[null,null,null,{"$f":"SA!D14","v":"Wholesale Trade"}]
[null,null,null,{"$f":"SA!D15","v":"Retail Trade"}]
[null,null,null,{"$f":"SA!D16","v":"Transportation, Warehousing, and Utilities"}]
[null,null,null,{"$f":"SA!D17","v":"Information"}]
[null,null,null,{"$f":"SA!D18","v":"Financial Activities"}]
[null,null,null,{"$f":"SA!D20","v":"Real Estate and Rental and Leasing"}]
[null,null,null,{"$f":"SA!D21","v":"Professional and Business Services"}]
[null,null,null,{"$f":"SA!D22","v":"Professional, Scientific, and Technical Services"}]
[null,null,null,{"$f":"SA!D24","v":"Administrative and Support and Waste Management and Remediation Services"}]
[null,null,null,{"$f":"SA!D25","v":"Education and Health Services"}]
[null,null,null,{"$f":"SA!D26","v":"Educational Services"}]
[null,null,null,{"$f":"SA!D27","v":"Health Care and Social Assistance"}]
[null,null,null,{"$f":"SA!D28","v":"Leisure and Hospitality"}]
[null,null,null,{"$f":"SA!D29","v":"Arts, Entertainment, and Recreation"}]
[null,null,null,{"$f":"SA!D30","v":"Accommodation and Food Services"}]
[null,null,null,{"$f":"SA!D31","v":"Other Services"}]
[null,null,null,{"$f":"SA!D32","v":"Government"}]
[null,null,null,{"$f":"SA!D33","v":"Federal Government"}]
[null,null,null,{"$f":"SA!D34","v":"State Government"}]
[null,null,null,{"$f":"SA!D35","v":"Local Government"}]

{"sheet":"NSA Charts","index":3,"n_rows":153,"n_cols":104,"rows_kept":153,"cut":false,"hidden":false,"merged":[[6,15,6,16],[1,2,1,4],[1,13,1,16],[2,2,2,4],[3,2,3,4],[6,2,6,4],[6,5,6,6],[6,7,6,8],[6,13,6,14],[1,6,1,8],[2,6,2,8],[1,10,1,12],[3,5,3,8]]}
[]
[null,"Series 1","Total Private",null,null,"Series 3","Manufacturing",null,null,null,"Comparison to current month:",null,null,"Compare arbitrary dates:"]
[null,"Series 2","Total Private",null,null,"Series 4","Retail Trade",null,null,null,null,null,null,null,"Mo","Yr"]
[null,"Months",48,null,null,null,null,null,null,null,"Month","Yr",null,"Start",12,2002]
[null,null,null,null,null,null,null,null,null,null,12,2010,null,"Finish",12,2010]
[]
[null,null,"Current",null,null,"OTM",null,"OTY",null,{"$f":"B7","v":0},"Count","Change",null,"Counts",null,"Change"]
[null,null,"Count","% of TNF","% of SS","Level","%","Level","%",0,{"$f":"IF(L5>2000,DATE(L5,K5,1),DATE(2000+L5,K5,1))","v":"2010-12-01"},"Level","%",{"$f":"IF(P4>2000,DATE(P4,O4,1),DATE(2000+P4,O4,1))","v":"2002-12-01"},{"$f":"IF(P5>2000,DATE(P5,O5,1),DATE(2000+P5,O5,1))","v":"2010-12-01"},"Level","%"]
[null,{"$f":"C2","v":"Total Private"},{"$f":"OFFSET(NSA!A1,MATCH(C2,NSA!D2:D89,0),COUNTA(NSA!1:1)+1,1,1)","v":2583000},{"$f":"OFFSET(NSA!A1,MATCH(C2,NSA!D2:D89,0),COUNTA(NSA!1:1),1,1)/OFFSET(NSA!A1,1,COUNTA(NSA!1:1),1,1)","v":0.86067154255319145},"SS",{"$f":"OFFSET(NSA!A1,MATCH(C2,NSA!D2:D89,0),COUNTA(NSA!1:1)+1,1,1)-OFFSET(NSA!A1,MATCH(C2,NSA!D2:D89,0),COUNTA(NSA!1:1),1,1)","v":-5900},{"$f":"F9/OFFSET(NSA!C1,MATCH(C2,NSA!D2:D89,0),COUNTA(NSA!1:1)-2,1,1)","v":-2.2789601761365832E-3},{"$f":"OFFSET(NSA!A1,MATCH(C2,NSA!D2:D89,0),COUNTA(NSA!1:1)+1,1,1)-OFFSET(NSA!A1,MATCH(C2,NSA!D2:D89,0),COUNTA(NSA!1:1)-11,1,1)","v":-3300},{"$f":"H9/OFFSET(NSA!C1,MATCH(C2,NSA!D2:D89,0),COUNTA(NSA!1:1)-13,1,1)","v":-1.2759540656536365E-3},"Total Private",{"$f":"OFFSET(NSA!A1,MATCH(C2,NSA!D2:D89,0),MATCH(K8,NSA!1:1,0)-1,1,1)","v":2326800},{"$f":"C9-K9","v":256200},{"$f":"L9/OFFSET(NSA!A1,MATCH(C2,NSA!D2:D89,0),MATCH(K8,NSA!1:1,0),1,1)","v":0.11314255431902491},{"$f":"OFFSET(NSA!C1,MATCH(C2,NSA!D2:D89,0),MATCH(N8,NSA!1:1,0)-3,1,1)","v":2372900},{"$f":"OFFSET(NSA!C1,MATCH(C2,NSA!D2:D89,0),MATCH(O8,NSA!1:1,0)-3,1,1)","v":2326800},{"$f":"O9-N9","v":-46100},{"$f":"P9/N9","v":-1.9427704496607526E-2}]
[null,{"$f":"C3","v":"Total Private"},{"$f":"OFFSET(NSA!A1,MATCH(C3,NSA!D2:D89,0),COUNTA(NSA!1:1)+1,1,1)","v":2583000},{"$f":"OFFSET(NSA!A1,MATCH(C3,NSA!D2:D89,0),COUNTA(NSA!1:1),1,1)/OFFSET(NSA!A1,1,COUNTA(NSA!1:1),1,1)","v":0.86067154255319145},{"$f":"C10/C9","v":1},{"$f":"OFFSET(NSA!A1,MATCH(C3,NSA!D2:D89,0),COUNTA(NSA!1:1)+1,1,1)-OFFSET(NSA!A1,MATCH(C3,NSA!D2:D89,0),COUNTA(NSA!1:1),1,1)","v":-5900},{"$f":"F10/OFFSET(NSA!C1,MATCH(C3,NSA!D2:D89,0),COUNTA(NSA!1:1)-2,1,1)","v":-2.2789601761365832E-3},{"$f":"OFFSET(NSA!A1,MATCH(C3,NSA!D2:D89,0),COUNTA(NSA!1:1)+1,1,1)-OFFSET(NSA!A1,MATCH(C3,NSA!D2:D89,0),COUNTA(NSA!1:1)-11,1,1)","v":-3300},{"$f":"H10/OFFSET(NSA!C1,MATCH(C3,NSA!D2:D89,0),COUNTA(NSA!1:1)-13,1,1)","v":-1.2759540656536365E-3},"Total Private",{"$f":"OFFSET(NSA!A1,MATCH(C3,NSA!D2:D89,0),MATCH(K8,NSA!1:1,0)-1,1,1)","v":2326800},{"$f":"C10-K10","v":256200},{"$f":"L10/OFFSET(NSA!A1,MATCH(C3,NSA!D2:D89,0),MATCH(K8,NSA!1:1,0),1,1)","v":0.11314255431902491},{"$f":"OFFSET(NSA!C1,MATCH(C3,NSA!D2:D89,0),MATCH(N8,NSA!1:1,0)-3,1,1)","v":2372900},{"$f":"OFFSET(NSA!C1,MATCH(C3,NSA!D2:D89,0),MATCH(O8,NSA!1:1,0)-3,1,1)","v":2326800},{"$f":"O10-N10","v":-46100},{"$f":"P10/N10","v":-1.9427704496607526E-2}]
[null,{"$f":"G2","v":"Manufacturing"},{"$f":"OFFSET(NSA!A1,MATCH(G2,NSA!D2:D89,0),COUNTA(NSA!1:1)+1,1,1)","v":472100},{"$f":"OFFSET(NSA!A1,MATCH(G2,NSA!D2:D89,0),COUNTA(NSA!1:1),1,1)/OFFSET(NSA!A1,1,COUNTA(NSA!1:1),1,1)","v":0.15654920212765958},{"$f":"C11/C9","v":0.18277197057684863},{"$f":"OFFSET(NSA!A1,MATCH(G2,NSA!D2:D89,0),COUNTA(NSA!1:1)+1,1,1)-OFFSET(NSA!A1,MATCH(G2,NSA!D2:D89,0),COUNTA(NSA!1:1),1,1)","v":1200},{"$f":"F11/OFFSET(NSA!C1,MATCH(G2,NSA!D2:D89,0),COUNTA(NSA!1:1)-2,1,1)","v":2.5483117434699511E-3},{"$f":"OFFSET(NSA!A1,MATCH(G2,NSA!D2:D89,0),COUNTA(NSA!1:1)+1,1,1)-OFFSET(NSA!A1,MATCH(G2,NSA!D2:D89,0),COUNTA(NSA!1:1)-11,1,1)","v":-17200},{"$f":"H11/OFFSET(NSA!C1,MATCH(G2,NSA!D2:D89,0),COUNTA(NSA!1:1)-13,1,1)","v":-3.5152258328223995E-2},"Manufacturing",{"$f":"OFFSET(NSA!A1,MATCH(G2,NSA!D2:D89,0),MATCH(K8,NSA!1:1,0)-1,1,1)","v":435100},37000,{"$f":"L11/OFFSET(NSA!A1,MATCH(G2,NSA!D2:D89,0),MATCH(K8,NSA!1:1,0),1,1)","v":8.5391183937225945E-2},{"$f":"OFFSET(NSA!C1,MATCH(G2,NSA!D2:D89,0),MATCH(N8,NSA!1:1,0)-3,1,1)","v":521200.00000000006},{"$f":"OFFSET(NSA!C1,MATCH(G2,NSA!D2:D89,0),MATCH(O8,NSA!1:1,0)-3,1,1)","v":435100},{"$f":"O11-N11","v":-86100.000000000058},{"$f":"P11/N11","v":-0.16519570222563323}]
[null,{"$f":"G3","v":"Retail Trade"},{"$f":"OFFSET(NSA!A1,MATCH(G3,NSA!D2:D89,0),COUNTA(NSA!1:1)+1,1,1)","v":320700},{"$f":"OFFSET(NSA!A1,MATCH(G3,NSA!D2:D89,0),COUNTA(NSA!1:1),1,1)/OFFSET(NSA!A1,1,COUNTA(NSA!1:1),1,1)","v":0.10621675531914894},{"$f":"C12/C9","v":0.12415795586527294},{"$f":"OFFSET(NSA!A1,MATCH(G3,NSA!D2:D89,0),COUNTA(NSA!1:1)+1,1,1)-OFFSET(NSA!A1,MATCH(G3,NSA!D2:D89,0),COUNTA(NSA!1:1),1,1)","v":1200},{"$f":"F12/OFFSET(NSA!C1,MATCH(G3,NSA!D2:D89,0),COUNTA(NSA!1:1)-2,1,1)","v":3.7558685446009389E-3},{"$f":"OFFSET(NSA!A1,MATCH(G3,NSA!D2:D89,0),COUNTA(NSA!1:1)+1,1,1)-OFFSET(NSA!A1,MATCH(G3,NSA!D2:D89,0),COUNTA(NSA!1:1)-11,1,1)","v":7100},{"$f":"H12/OFFSET(NSA!C1,MATCH(G3,NSA!D2:D89,0),COUNTA(NSA!1:1)-13,1,1)","v":2.264030612244898E-2},"Retail Trade",{"$f":"OFFSET(NSA!A1,MATCH(G3,NSA!D2:D89,0),MATCH(K8,NSA!1:1,0)-1,1,1)","v":306200},14500,{"$f":"L12/OFFSET(NSA!A1,MATCH(G3,NSA!D2:D89,0),MATCH(K8,NSA!1:1,0),1,1)","v":5.0051777701070076E-2},{"$f":"OFFSET(NSA!C1,MATCH(G3,NSA!D2:D89,0),MATCH(N8,NSA!1:1,0)-3,1,1)","v":335700},{"$f":"OFFSET(NSA!C1,MATCH(G3,NSA!D2:D89,0),MATCH(O8,NSA!1:1,0)-3,1,1)","v":306200},{"$f":"O12-N12","v":-29500},{"$f":"P12/N12","v":-8.7876079833184392E-2}]
[]
[]
[]
[]
[]
[]
[]
[]
[]
[]
[]
[]
[]
[]
[]
[]
[]
[]
[]
[]
[]
[]
[]
[]
[]
[]
[]
[]
[]
[]
[]
[]
[]
[]
[]
[]
[]
[]
[]
[]
[]
[]
[null,{"$f":"CONCATENATE(\"NSA \",TRIM(B57),\" / \",TRIM(B58))","v":"NSA Total Private / Total Private"},0,{"$f":"C55+1","v":1},{"$f":"D55+1","v":2},{"$f":"E55+1","v":3},4,5,6,7,8,9,10,11,12,13,14,15,16,17,18,19,20,21,22,23,24,25,26,27,28,29,30,31,32,33,34,35,36,37,38,39,40,41,42,43,44,45,46,47,48,49,50,51,52,53,54,55,56,57,58,59,60,61,62,63,64,65,66,{"$f":"BQ55+1","v":67},68,69,70,71,72,73,74,75,76,77,78,79,80,81,82,83,84,85,86,87,88,89,90,91,92,93,94,95,96,97,98,99,100,101]
[null,"Month",{"$f":"OFFSET(SA!A1,0,COUNTA(SA!1:1)-'NSA Charts'!C4,1,'NSA Charts'!C4)","v":"2016-01-01"},"2016-02-01","2016-03-01","2016-04-01","2016-05-01","2016-06-01","2016-07-01","2016-08-01","2016-09-01","2016-10-01","2016-11-01","2016-12-01","2017-01-01","2017-02-01","2017-03-01","2017-04-01","2017-05-01","2017-06-01","2017-07-01","2017-08-01","2017-09-01","2017-10-01","2017-11-01","2017-12-01","2018-01-01","2018-02-01","2018-03-01","2018-04-01","2018-05-01","2018-06-01","2018-07-01","2018-08-01","2018-09-01","2018-10-01","2018-11-01","2018-12-01","2019-01-01","2019-02-01","2019-03-01","2019-04-01","2019-05-01","2019-06-01","2019-07-01","2019-08-01","2019-09-01","2019-10-01","2019-11-01","2019-12-01",{"$error":"#N/A"},{"$error":"#N/A"},{"$error":"#N/A"},{"$error":"#N/A"},{"$error":"#N/A"},{"$error":"#N/A"},{"$error":"#N/A"},{"$error":"#N/A"},{"$error":"#N/A"},{"$error":"#N/A"},{"$error":"#N/A"},{"$error":"#N/A"},{"$error":"#N/A"},{"$error":"#N/A"},{"$error":"#N/A"},{"$error":"#N/A"},{"$error":"#N/A"},{"$error":"#N/A"},{"$error":"#N/A"},{"$error":"#N/A"},{"$error":"#N/A"},{"$error":"#N/A"},{"$error":"#N/A"},{"$error":"#N/A"},{"$error":"#N/A"},{"$error":"#N/A"},{"$error":"#N/A"},{"$error":"#N/A"},{"$error":"#N/A"},{"$error":"#N/A"},{"$error":"#N/A"},{"$error":"#N/A"},{"$error":"#N/A"},{"$error":"#N/A"},{"$error":"#N/A"},{"$error":"#N/A"},{"$error":"#N/A"},{"$error":"#N/A"},{"$error":"#N/A"},{"$error":"#N/A"},{"$error":"#N/A"},{"$error":"#N/A"},{"$error":"#N/A"},{"$error":"#N/A"},{"$error":"#N/A"},{"$error":"#N/A"},{"$error":"#N/A"},{"$error":"#N/A"},{"$error":"#N/A"},{"$error":"#N/A"},{"$error":"#N/A"},{"$error":"#N/A"},{"$error":"#N/A"},{"$error":"#N/A"}]
[null,{"$f":"C2","v":"Total Private"},{"$f":"OFFSET(NSA!$C$1,MATCH($C$2,NSA!$D$2:$D$89,0),COUNTA(NSA!1:1)-($C$4-C$55))","v":2444800},{"$f":"OFFSET(NSA!$C$1,MATCH($C$2,NSA!$D$2:$D$89,0),COUNTA(NSA!1:1)-($C$4-D$55))","v":2449700},{"$f":"OFFSET(NSA!$C$1,MATCH($C$2,NSA!$D$2:$D$88,0),COUNTA(NSA!1:1)-($C$4-E55))","v":2460300},{"$f":"OFFSET(NSA!$C$1,MATCH($C$2,NSA!$D$2:$D$88,0),COUNTA(NSA!1:1)-($C$4-F55))","v":2494900},{"$f":"OFFSET(NSA!$C$1,MATCH($C$2,NSA!$D$2:$D$88,0),COUNTA(NSA!1:1)-($C$4-G55))","v":2521800},{"$f":"OFFSET(NSA!$C$1,MATCH($C$2,NSA!$D$2:$D$88,0),COUNTA(NSA!1:1)-($C$4-H55))","v":2552100},{"$f":"OFFSET(NSA!$C$1,MATCH($C$2,NSA!$D$2:$D$88,0),COUNTA(NSA!1:1)-($C$4-I55))","v":2563500},{"$f":"OFFSET(NSA!$C$1,MATCH($C$2,NSA!$D$2:$D$88,0),COUNTA(NSA!1:1)-($C$4-J55))","v":2565100},{"$f":"OFFSET(NSA!$C$1,MATCH($C$2,NSA!$D$2:$D$88,0),COUNTA(NSA!1:1)-($C$4-K55))","v":2537500},{"$f":"OFFSET(NSA!$C$1,MATCH($C$2,NSA!$D$2:$D$88,0),COUNTA(NSA!1:1)-($C$4-L55))","v":2533300},{"$f":"OFFSET(NSA!$C$1,MATCH($C$2,NSA!$D$2:$D$88,0),COUNTA(NSA!1:1)-($C$4-M55))","v":2530700},{"$f":"OFFSET(NSA!$C$1,MATCH($C$2,NSA!$D$2:$D$88,0),COUNTA(NSA!1:1)-($C$4-N55))","v":2521900},{"$f":"OFFSET(NSA!$C$1,MATCH($C$2,NSA!$D$2:$D$88,0),COUNTA(NSA!1:1)-($C$4-O55))","v":2469500},{"$f":"OFFSET(NSA!$C$1,MATCH($C$2,NSA!$D$2:$D$88,0),COUNTA(NSA!1:1)-($C$4-P55))","v":2473500},{"$f":"OFFSET(NSA!$C$1,MATCH($C$2,NSA!$D$2:$D$88,0),COUNTA(NSA!1:1)-($C$4-Q55))","v":2489400},{"$f":"OFFSET(NSA!$C$1,MATCH($C$2,NSA!$D$2:$D$88,0),COUNTA(NSA!1:1)-($C$4-R55))","v":2511500},{"$f":"OFFSET(NSA!$C$1,MATCH($C$2,NSA!$D$2:$D$88,0),COUNTA(NSA!1:1)-($C$4-S55))","v":2542800},{"$f":"OFFSET(NSA!$C$1,MATCH($C$2,NSA!$D$2:$D$88,0),COUNTA(NSA!1:1)-($C$4-T55))","v":2583600},{"$f":"OFFSET(NSA!$C$1,MATCH($C$2,NSA!$D$2:$D$88,0),COUNTA(NSA!1:1)-($C$4-U55))","v":2584300},{"$f":"OFFSET(NSA!$C$1,MATCH($C$2,NSA!$D$2:$D$88,0),COUNTA(NSA!1:1)-($C$4-V55))","v":2584800},{"$f":"OFFSET(NSA!$C$1,MATCH($C$2,NSA!$D$2:$D$88,0),COUNTA(NSA!1:1)-($C$4-W55))","v":2552200},{"$f":"OFFSET(NSA!$C$1,MATCH($C$2,NSA!$D$2:$D$88,0),COUNTA(NSA!1:1)-($C$4-X55))","v":2559600},{"$f":"OFFSET(NSA!$C$1,MATCH($C$2,NSA!$D$2:$D$88,0),COUNTA(NSA!1:1)-($C$4-Y55))","v":2554200},{"$f":"OFFSET(NSA!$C$1,MATCH($C$2,NSA!$D$2:$D$88,0),COUNTA(NSA!1:1)-($C$4-Z55))","v":2541400},{"$f":"OFFSET(NSA!$C$1,MATCH($C$2,NSA!$D$2:$D$88,0),COUNTA(NSA!1:1)-($C$4-AA55))","v":2492100},{"$f":"OFFSET(NSA!$C$1,MATCH($C$2,NSA!$D$2:$D$88,0),COUNTA(NSA!1:1)-($C$4-AB55))","v":2494500},{"$f":"OFFSET(NSA!$C$1,MATCH($C$2,NSA!$D$2:$D$88,0),COUNTA(NSA!1:1)-($C$4-AC55))","v":2513000},{"$f":"OFFSET(NSA!$C$1,MATCH($C$2,NSA!$D$2:$D$88,0),COUNTA(NSA!1:1)-($C$4-AD55))","v":2531400},{"$f":"OFFSET(NSA!$C$1,MATCH($C$2,NSA!$D$2:$D$88,0),COUNTA(NSA!1:1)-($C$4-AE55))","v":2562700},{"$f":"OFFSET(NSA!$C$1,MATCH($C$2,NSA!$D$2:$D$88,0),COUNTA(NSA!1:1)-($C$4-AF55))","v":2614800},{"$f":"OFFSET(NSA!$C$1,MATCH($C$2,NSA!$D$2:$D$88,0),COUNTA(NSA!1:1)-($C$4-AG55))","v":2628000},{"$f":"OFFSET(NSA!$C$1,MATCH($C$2,NSA!$D$2:$D$88,0),COUNTA(NSA!1:1)-($C$4-AH55))","v":2624900},{"$f":"OFFSET(NSA!$C$1,MATCH($C$2,NSA!$D$2:$D$88,0),COUNTA(NSA!1:1)-($C$4-AI55))","v":2590600},{"$f":"OFFSET(NSA!$C$1,MATCH($C$2,NSA!$D$2:$D$88,0),COUNTA(NSA!1:1)-($C$4-AJ55))","v":2591900},{"$f":"OFFSET(NSA!$C$1,MATCH($C$2,NSA!$D$2:$D$88,0),COUNTA(NSA!1:1)-($C$4-AK55))","v":2593600},{"$f":"OFFSET(NSA!$C$1,MATCH($C$2,NSA!$D$2:$D$88,0),COUNTA(NSA!1:1)-($C$4-AL55))","v":2586300},{"$f":"OFFSET(NSA!$C$1,MATCH($C$2,NSA!$D$2:$D$88,0),COUNTA(NSA!1:1)-($C$4-AM55))","v":2525600},{"$f":"OFFSET(NSA!$C$1,MATCH($C$2,NSA!$D$2:$D$88,0),COUNTA(NSA!1:1)-($C$4-AN55))","v":2522000},{"$f":"OFFSET(NSA!$C$1,MATCH($C$2,NSA!$D$2:$D$88,0),COUNTA(NSA!1:1)-($C$4-AO55))","v":2527400},{"$f":"OFFSET(NSA!$C$1,MATCH($C$2,NSA!$D$2:$D$88,0),COUNTA(NSA!1:1)-($C$4-AP55))","v":2545600},{"$f":"OFFSET(NSA!$C$1,MATCH($C$2,NSA!$D$2:$D$88,0),COUNTA(NSA!1:1)-($C$4-AQ55))","v":2582000},{"$f":"OFFSET(NSA!$C$1,MATCH($C$2,NSA!$D$2:$D$88,0),COUNTA(NSA!1:1)-($C$4-AR55))","v":2624900},{"$f":"OFFSET(NSA!$C$1,MATCH($C$2,NSA!$D$2:$D$88,0),COUNTA(NSA!1:1)-($C$4-AS55))","v":2627400},{"$f":"OFFSET(NSA!$C$1,MATCH($C$2,NSA!$D$2:$D$88,0),COUNTA(NSA!1:1)-($C$4-AT55))","v":2623300},{"$f":"OFFSET(NSA!$C$1,MATCH($C$2,NSA!$D$2:$D$88,0),COUNTA(NSA!1:1)-($C$4-AU55))","v":2589100},{"$f":"OFFSET(NSA!$C$1,MATCH($C$2,NSA!$D$2:$D$88,0),COUNTA(NSA!1:1)-($C$4-AV55))","v":2595500},{"$f":"OFFSET(NSA!$C$1,MATCH($C$2,NSA!$D$2:$D$88,0),COUNTA(NSA!1:1)-($C$4-AW55))","v":2588900},{"$f":"OFFSET(NSA!$C$1,MATCH($C$2,NSA!$D$2:$D$89,0),COUNTA(NSA!1:1)-($C$4-AX55))","v":2583000},{"$f":"OFFSET(NSA!$C$1,MATCH($C$2,NSA!$D$2:$D$88,0),COUNTA(NSA!1:1)-($C$4-AY55))","v":0},{"$f":"OFFSET(NSA!$C$1,MATCH($C$2,NSA!$D$2:$D$88,0),COUNTA(NSA!1:1)-($C$4-AZ55))","v":0},{"$f":"OFFSET(NSA!$C$1,MATCH($C$2,NSA!$D$2:$D$88,0),COUNTA(NSA!1:1)-($C$4-BA55))","v":0},{"$f":"OFFSET(NSA!$C$1,MATCH($C$2,NSA!$D$2:$D$88,0),COUNTA(NSA!1:1)-($C$4-BB55))","v":0},{"$f":"OFFSET(NSA!$C$1,MATCH($C$2,NSA!$D$2:$D$88,0),COUNTA(NSA!1:1)-($C$4-BC55))","v":0},{"$f":"OFFSET(NSA!$C$1,MATCH($C$2,NSA!$D$2:$D$88,0),COUNTA(NSA!1:1)-($C$4-BD55))","v":0},{"$f":"OFFSET(NSA!$C$1,MATCH($C$2,NSA!$D$2:$D$88,0),COUNTA(NSA!1:1)-($C$4-BE55))","v":0},{"$f":"OFFSET(NSA!$C$1,MATCH($C$2,NSA!$D$2:$D$88,0),COUNTA(NSA!1:1)-($C$4-BF55))","v":0},{"$f":"OFFSET(NSA!$C$1,MATCH($C$2,NSA!$D$2:$D$88,0),COUNTA(NSA!1:1)-($C$4-BG55))","v":0},{"$f":"OFFSET(NSA!$C$1,MATCH($C$2,NSA!$D$2:$D$88,0),COUNTA(NSA!1:1)-($C$4-BH55))","v":0},{"$f":"OFFSET(NSA!$C$1,MATCH($C$2,NSA!$D$2:$D$88,0),COUNTA(NSA!1:1)-($C$4-BI55))","v":0},{"$f":"OFFSET(NSA!$C$1,MATCH($C$2,NSA!$D$2:$D$88,0),COUNTA(NSA!1:1)-($C$4-BJ55))","v":0},{"$f":"OFFSET(NSA!$C$1,MATCH($C$2,NSA!$D$2:$D$88,0),COUNTA(NSA!1:1)-($C$4-BK55))","v":0},{"$f":"OFFSET(NSA!$C$1,MATCH($C$2,NSA!$D$2:$D$88,0),COUNTA(NSA!1:1)-($C$4-BL55))","v":0},{"$f":"OFFSET(NSA!$C$1,MATCH($C$2,NSA!$D$2:$D$88,0),COUNTA(NSA!1:1)-($C$4-BM55))","v":0},{"$f":"OFFSET(NSA!$C$1,MATCH($C$2,NSA!$D$2:$D$88,0),COUNTA(NSA!1:1)-($C$4-BN55))","v":0},{"$f":"OFFSET(NSA!$C$1,MATCH($C$2,NSA!$D$2:$D$88,0),COUNTA(NSA!1:1)-($C$4-BO55))","v":0},{"$f":"OFFSET(NSA!$C$1,MATCH($C$2,NSA!$D$2:$D$88,0),COUNTA(NSA!1:1)-($C$4-BP55))","v":0},{"$f":"OFFSET(NSA!$C$1,MATCH($C$2,NSA!$D$2:$D$88,0),COUNTA(NSA!1:1)-($C$4-BQ55))","v":0},{"$f":"OFFSET(NSA!$C$1,MATCH($C$2,NSA!$D$2:$D$88,0),COUNTA(NSA!1:1)-($C$4-BR55))","v":0},{"$f":"OFFSET(NSA!$C$1,MATCH($C$2,NSA!$D$2:$D$88,0),COUNTA(NSA!1:1)-($C$4-BS55))","v":0},{"$f":"OFFSET(NSA!$C$1,MATCH($C$2,NSA!$D$2:$D$88,0),COUNTA(NSA!1:1)-($C$4-BT55))","v":0},{"$f":"OFFSET(NSA!$C$1,MATCH($C$2,NSA!$D$2:$D$88,0),COUNTA(NSA!1:1)-($C$4-BU55))","v":0},{"$f":"OFFSET(NSA!$C$1,MATCH($C$2,NSA!$D$2:$D$88,0),COUNTA(NSA!1:1)-($C$4-BV55))","v":0},{"$f":"OFFSET(NSA!$C$1,MATCH($C$2,NSA!$D$2:$D$88,0),COUNTA(NSA!1:1)-($C$4-BW55))","v":0},{"$f":"OFFSET(NSA!$C$1,MATCH($C$2,NSA!$D$2:$D$88,0),COUNTA(NSA!1:1)-($C$4-BX55))","v":0},{"$f":"OFFSET(NSA!$C$1,MATCH($C$2,NSA!$D$2:$D$88,0),COUNTA(NSA!1:1)-($C$4-BY55))","v":0},{"$f":"OFFSET(NSA!$C$1,MATCH($C$2,NSA!$D$2:$D$88,0),COUNTA(NSA!1:1)-($C$4-BZ55))","v":0},{"$f":"OFFSET(NSA!$C$1,MATCH($C$2,NSA!$D$2:$D$88,0),COUNTA(NSA!1:1)-($C$4-CA55))","v":0},{"$f":"OFFSET(NSA!$C$1,MATCH($C$2,NSA!$D$2:$D$88,0),COUNTA(NSA!1:1)-($C$4-CB55))","v":0},{"$f":"OFFSET(NSA!$C$1,MATCH($C$2,NSA!$D$2:$D$88,0),COUNTA(NSA!1:1)-($C$4-CC55))","v":0},{"$f":"OFFSET(NSA!$C$1,MATCH($C$2,NSA!$D$2:$D$88,0),COUNTA(NSA!1:1)-($C$4-CD55))","v":0},{"$f":"OFFSET(NSA!$C$1,MATCH($C$2,NSA!$D$2:$D$88,0),COUNTA(NSA!1:1)-($C$4-CE55))","v":0},{"$f":"OFFSET(NSA!$C$1,MATCH($C$2,NSA!$D$2:$D$88,0),COUNTA(NSA!1:1)-($C$4-CF55))","v":0},{"$f":"OFFSET(NSA!$C$1,MATCH($C$2,NSA!$D$2:$D$88,0),COUNTA(NSA!1:1)-($C$4-CG55))","v":0},{"$f":"OFFSET(NSA!$C$1,MATCH($C$2,NSA!$D$2:$D$88,0),COUNTA(NSA!1:1)-($C$4-CH55))","v":0},{"$f":"OFFSET(NSA!$C$1,MATCH($C$2,NSA!$D$2:$D$88,0),COUNTA(NSA!1:1)-($C$4-CI55))","v":0},{"$f":"OFFSET(NSA!$C$1,MATCH($C$2,NSA!$D$2:$D$88,0),COUNTA(NSA!1:1)-($C$4-CJ55))","v":0},{"$f":"OFFSET(NSA!$C$1,MATCH($C$2,NSA!$D$2:$D$88,0),COUNTA(NSA!1:1)-($C$4-CK55))","v":0},{"$f":"OFFSET(NSA!$C$1,MATCH($C$2,NSA!$D$2:$D$88,0),COUNTA(NSA!1:1)-($C$4-CL55))","v":0},{"$f":"OFFSET(NSA!$C$1,MATCH($C$2,NSA!$D$2:$D$88,0),COUNTA(NSA!1:1)-($C$4-CM55))","v":0},{"$f":"OFFSET(NSA!$C$1,MATCH($C$2,NSA!$D$2:$D$88,0),COUNTA(NSA!1:1)-($C$4-CN55))","v":0},{"$f":"OFFSET(NSA!$C$1,MATCH($C$2,NSA!$D$2:$D$88,0),COUNTA(NSA!1:1)-($C$4-CO55))","v":0},{"$f":"OFFSET(NSA!$C$1,MATCH($C$2,NSA!$D$2:$D$88,0),COUNTA(NSA!1:1)-($C$4-CP55))","v":0},{"$f":"OFFSET(NSA!$C$1,MATCH($C$2,NSA!$D$2:$D$88,0),COUNTA(NSA!1:1)-($C$4-CQ55))","v":0},{"$f":"OFFSET(NSA!$C$1,MATCH($C$2,NSA!$D$2:$D$88,0),COUNTA(NSA!1:1)-($C$4-CR55))","v":0},{"$f":"OFFSET(NSA!$C$1,MATCH($C$2,NSA!$D$2:$D$88,0),COUNTA(NSA!1:1)-($C$4-CS55))","v":0},{"$f":"OFFSET(NSA!$C$1,MATCH($C$2,NSA!$D$2:$D$88,0),COUNTA(NSA!1:1)-($C$4-CT55))","v":0},{"$f":"OFFSET(NSA!$C$1,MATCH($C$2,NSA!$D$2:$D$88,0),COUNTA(NSA!1:1)-($C$4-CU55))","v":0},{"$f":"OFFSET(NSA!$C$1,MATCH($C$2,NSA!$D$2:$D$88,0),COUNTA(NSA!1:1)-($C$4-CV55))","v":0},{"$f":"OFFSET(NSA!$C$1,MATCH($C$2,NSA!$D$2:$D$88,0),COUNTA(NSA!1:1)-($C$4-CW55))","v":0},{"$f":"OFFSET(NSA!$C$1,MATCH($C$2,NSA!$D$2:$D$88,0),COUNTA(NSA!1:1)-($C$4-CX55))","v":0},{"$f":"OFFSET(NSA!$C$1,MATCH($C$2,NSA!$D$2:$D$88,0),COUNTA(NSA!1:1)-($C$4-CY55))","v":0},{"$f":"OFFSET(NSA!$C$1,MATCH($C$2,NSA!$D$2:$D$88,0),COUNTA(NSA!1:1)-($C$4-CZ55))","v":0}]
[null,{"$f":"C3","v":"Total Private"},{"$f":"OFFSET(NSA!$C$1,MATCH($C$3,NSA!$D$2:$D$89,0),COUNTA(NSA!1:1)-($C$4-C$55))","v":2444800},{"$f":"OFFSET(NSA!$C$1,MATCH($C$3,NSA!$D$2:$D$88,0),COUNTA(NSA!1:1)-($C$4-D$55))","v":2449700},{"$f":"OFFSET(NSA!$C$1,MATCH($C$3,NSA!$D$2:$D$88,0),COUNTA(NSA!1:1)-($C$4-E$55))","v":2460300},{"$f":"OFFSET(NSA!$C$1,MATCH($C$3,NSA!$D$2:$D$88,0),COUNTA(NSA!1:1)-($C$4-F$55))","v":2494900},{"$f":"OFFSET(NSA!$C$1,MATCH($C$3,NSA!$D$2:$D$88,0),COUNTA(NSA!1:1)-($C$4-G$55))","v":2521800},{"$f":"OFFSET(NSA!$C$1,MATCH($C$3,NSA!$D$2:$D$88,0),COUNTA(NSA!1:1)-($C$4-H$55))","v":2552100},{"$f":"OFFSET(NSA!$C$1,MATCH($C$3,NSA!$D$2:$D$88,0),COUNTA(NSA!1:1)-($C$4-I$55))","v":2563500},{"$f":"OFFSET(NSA!$C$1,MATCH($C$3,NSA!$D$2:$D$88,0),COUNTA(NSA!1:1)-($C$4-J$55))","v":2565100},{"$f":"OFFSET(NSA!$C$1,MATCH($C$3,NSA!$D$2:$D$88,0),COUNTA(NSA!1:1)-($C$4-K$55))","v":2537500},{"$f":"OFFSET(NSA!$C$1,MATCH($C$3,NSA!$D$2:$D$88,0),COUNTA(NSA!1:1)-($C$4-L$55))","v":2533300},{"$f":"OFFSET(NSA!$C$1,MATCH($C$3,NSA!$D$2:$D$88,0),COUNTA(NSA!1:1)-($C$4-M$55))","v":2530700},{"$f":"OFFSET(NSA!$C$1,MATCH($C$3,NSA!$D$2:$D$88,0),COUNTA(NSA!1:1)-($C$4-N$55))","v":2521900},{"$f":"OFFSET(NSA!$C$1,MATCH($C$3,NSA!$D$2:$D$88,0),COUNTA(NSA!1:1)-($C$4-O$55))","v":2469500},{"$f":"OFFSET(NSA!$C$1,MATCH($C$3,NSA!$D$2:$D$88,0),COUNTA(NSA!1:1)-($C$4-P$55))","v":2473500},{"$f":"OFFSET(NSA!$C$1,MATCH($C$3,NSA!$D$2:$D$88,0),COUNTA(NSA!1:1)-($C$4-Q$55))","v":2489400},{"$f":"OFFSET(NSA!$C$1,MATCH($C$3,NSA!$D$2:$D$88,0),COUNTA(NSA!1:1)-($C$4-R$55))","v":2511500},{"$f":"OFFSET(NSA!$C$1,MATCH($C$3,NSA!$D$2:$D$88,0),COUNTA(NSA!1:1)-($C$4-S$55))","v":2542800},{"$f":"OFFSET(NSA!$C$1,MATCH($C$3,NSA!$D$2:$D$88,0),COUNTA(NSA!1:1)-($C$4-T$55))","v":2583600},{"$f":"OFFSET(NSA!$C$1,MATCH($C$3,NSA!$D$2:$D$88,0),COUNTA(NSA!1:1)-($C$4-U$55))","v":2584300},{"$f":"OFFSET(NSA!$C$1,MATCH($C$3,NSA!$D$2:$D$88,0),COUNTA(NSA!1:1)-($C$4-V$55))","v":2584800},{"$f":"OFFSET(NSA!$C$1,MATCH($C$3,NSA!$D$2:$D$88,0),COUNTA(NSA!1:1)-($C$4-W$55))","v":2552200},{"$f":"OFFSET(NSA!$C$1,MATCH($C$3,NSA!$D$2:$D$88,0),COUNTA(NSA!1:1)-($C$4-X$55))","v":2559600},{"$f":"OFFSET(NSA!$C$1,MATCH($C$3,NSA!$D$2:$D$88,0),COUNTA(NSA!1:1)-($C$4-Y$55))","v":2554200},{"$f":"OFFSET(NSA!$C$1,MATCH($C$3,NSA!$D$2:$D$88,0),COUNTA(NSA!1:1)-($C$4-Z$55))","v":2541400},{"$f":"OFFSET(NSA!$C$1,MATCH($C$3,NSA!$D$2:$D$88,0),COUNTA(NSA!1:1)-($C$4-AA$55))","v":2492100},{"$f":"OFFSET(NSA!$C$1,MATCH($C$3,NSA!$D$2:$D$88,0),COUNTA(NSA!1:1)-($C$4-AB$55))","v":2494500},{"$f":"OFFSET(NSA!$C$1,MATCH($C$3,NSA!$D$2:$D$88,0),COUNTA(NSA!1:1)-($C$4-AC$55))","v":2513000},{"$f":"OFFSET(NSA!$C$1,MATCH($C$3,NSA!$D$2:$D$88,0),COUNTA(NSA!1:1)-($C$4-AD$55))","v":2531400},{"$f":"OFFSET(NSA!$C$1,MATCH($C$3,NSA!$D$2:$D$88,0),COUNTA(NSA!1:1)-($C$4-AE$55))","v":2562700},{"$f":"OFFSET(NSA!$C$1,MATCH($C$3,NSA!$D$2:$D$88,0),COUNTA(NSA!1:1)-($C$4-AF$55))","v":2614800},{"$f":"OFFSET(NSA!$C$1,MATCH($C$3,NSA!$D$2:$D$88,0),COUNTA(NSA!1:1)-($C$4-AG$55))","v":2628000},{"$f":"OFFSET(NSA!$C$1,MATCH($C$3,NSA!$D$2:$D$88,0),COUNTA(NSA!1:1)-($C$4-AH$55))","v":2624900},{"$f":"OFFSET(NSA!$C$1,MATCH($C$3,NSA!$D$2:$D$88,0),COUNTA(NSA!1:1)-($C$4-AI$55))","v":2590600},{"$f":"OFFSET(NSA!$C$1,MATCH($C$3,NSA!$D$2:$D$88,0),COUNTA(NSA!1:1)-($C$4-AJ$55))","v":2591900},{"$f":"OFFSET(NSA!$C$1,MATCH($C$3,NSA!$D$2:$D$88,0),COUNTA(NSA!1:1)-($C$4-AK$55))","v":2593600},{"$f":"OFFSET(NSA!$C$1,MATCH($C$3,NSA!$D$2:$D$88,0),COUNTA(NSA!1:1)-($C$4-AL$55))","v":2586300},{"$f":"OFFSET(NSA!$C$1,MATCH($C$3,NSA!$D$2:$D$88,0),COUNTA(NSA!1:1)-($C$4-AM$55))","v":2525600},{"$f":"OFFSET(NSA!$C$1,MATCH($C$3,NSA!$D$2:$D$88,0),COUNTA(NSA!1:1)-($C$4-AN$55))","v":2522000},{"$f":"OFFSET(NSA!$C$1,MATCH($C$3,NSA!$D$2:$D$88,0),COUNTA(NSA!1:1)-($C$4-AO$55))","v":2527400},{"$f":"OFFSET(NSA!$C$1,MATCH($C$3,NSA!$D$2:$D$88,0),COUNTA(NSA!1:1)-($C$4-AP$55))","v":2545600},{"$f":"OFFSET(NSA!$C$1,MATCH($C$3,NSA!$D$2:$D$88,0),COUNTA(NSA!1:1)-($C$4-AQ$55))","v":2582000},{"$f":"OFFSET(NSA!$C$1,MATCH($C$3,NSA!$D$2:$D$88,0),COUNTA(NSA!1:1)-($C$4-AR$55))","v":2624900},{"$f":"OFFSET(NSA!$C$1,MATCH($C$3,NSA!$D$2:$D$88,0),COUNTA(NSA!1:1)-($C$4-AS$55))","v":2627400},{"$f":"OFFSET(NSA!$C$1,MATCH($C$3,NSA!$D$2:$D$88,0),COUNTA(NSA!1:1)-($C$4-AT$55))","v":2623300},{"$f":"OFFSET(NSA!$C$1,MATCH($C$3,NSA!$D$2:$D$88,0),COUNTA(NSA!1:1)-($C$4-AU$55))","v":2589100},{"$f":"OFFSET(NSA!$C$1,MATCH($C$3,NSA!$D$2:$D$88,0),COUNTA(NSA!1:1)-($C$4-AV$55))","v":2595500},{"$f":"OFFSET(NSA!$C$1,MATCH($C$3,NSA!$D$2:$D$88,0),COUNTA(NSA!1:1)-($C$4-AW$55))","v":2588900},{"$f":"OFFSET(NSA!$C$1,MATCH($C$3,NSA!$D$2:$D$88,0),COUNTA(NSA!1:1)-($C$4-AX$55))","v":2583000},{"$f":"OFFSET(NSA!$C$1,MATCH($C$3,NSA!$D$2:$D$88,0),COUNTA(NSA!1:1)-($C$4-AY$55))","v":0},{"$f":"OFFSET(NSA!$C$1,MATCH($C$3,NSA!$D$2:$D$88,0),COUNTA(NSA!1:1)-($C$4-AZ$55))","v":0},{"$f":"OFFSET(NSA!$C$1,MATCH($C$3,NSA!$D$2:$D$88,0),COUNTA(NSA!1:1)-($C$4-BA$55))","v":0},{"$f":"OFFSET(NSA!$C$1,MATCH($C$3,NSA!$D$2:$D$88,0),COUNTA(NSA!1:1)-($C$4-BB$55))","v":0},{"$f":"OFFSET(NSA!$C$1,MATCH($C$3,NSA!$D$2:$D$88,0),COUNTA(NSA!1:1)-($C$4-BC$55))","v":0},{"$f":"OFFSET(NSA!$C$1,MATCH($C$3,NSA!$D$2:$D$88,0),COUNTA(NSA!1:1)-($C$4-BD$55))","v":0},{"$f":"OFFSET(NSA!$C$1,MATCH($C$3,NSA!$D$2:$D$88,0),COUNTA(NSA!1:1)-($C$4-BE$55))","v":0},{"$f":"OFFSET(NSA!$C$1,MATCH($C$3,NSA!$D$2:$D$88,0),COUNTA(NSA!1:1)-($C$4-BF$55))","v":0},{"$f":"OFFSET(NSA!$C$1,MATCH($C$3,NSA!$D$2:$D$88,0),COUNTA(NSA!1:1)-($C$4-BG$55))","v":0},{"$f":"OFFSET(NSA!$C$1,MATCH($C$3,NSA!$D$2:$D$88,0),COUNTA(NSA!1:1)-($C$4-BH$55))","v":0},{"$f":"OFFSET(NSA!$C$1,MATCH($C$3,NSA!$D$2:$D$88,0),COUNTA(NSA!1:1)-($C$4-BI$55))","v":0},{"$f":"OFFSET(NSA!$C$1,MATCH($C$3,NSA!$D$2:$D$88,0),COUNTA(NSA!1:1)-($C$4-BJ$55))","v":0},{"$f":"OFFSET(NSA!$C$1,MATCH($C$3,NSA!$D$2:$D$88,0),COUNTA(NSA!1:1)-($C$4-BK$55))","v":0},{"$f":"OFFSET(NSA!$C$1,MATCH($C$3,NSA!$D$2:$D$88,0),COUNTA(NSA!1:1)-($C$4-BL$55))","v":0},{"$f":"OFFSET(NSA!$C$1,MATCH($C$3,NSA!$D$2:$D$88,0),COUNTA(NSA!1:1)-($C$4-BM$55))","v":0},{"$f":"OFFSET(NSA!$C$1,MATCH($C$3,NSA!$D$2:$D$88,0),COUNTA(NSA!1:1)-($C$4-BN$55))","v":0},{"$f":"OFFSET(NSA!$C$1,MATCH($C$3,NSA!$D$2:$D$88,0),COUNTA(NSA!1:1)-($C$4-BO$55))","v":0},{"$f":"OFFSET(NSA!$C$1,MATCH($C$3,NSA!$D$2:$D$88,0),COUNTA(NSA!1:1)-($C$4-BP$55))","v":0},{"$f":"OFFSET(NSA!$C$1,MATCH($C$3,NSA!$D$2:$D$88,0),COUNTA(NSA!1:1)-($C$4-BQ$55))","v":0},{"$f":"OFFSET(NSA!$C$1,MATCH($C$3,NSA!$D$2:$D$88,0),COUNTA(NSA!1:1)-($C$4-BR$55))","v":0},{"$f":"OFFSET(NSA!$C$1,MATCH($C$3,NSA!$D$2:$D$88,0),COUNTA(NSA!1:1)-($C$4-BS$55))","v":0},{"$f":"OFFSET(NSA!$C$1,MATCH($C$3,NSA!$D$2:$D$88,0),COUNTA(NSA!1:1)-($C$4-BT$55))","v":0},{"$f":"OFFSET(NSA!$C$1,MATCH($C$3,NSA!$D$2:$D$88,0),COUNTA(NSA!1:1)-($C$4-BU$55))","v":0},{"$f":"OFFSET(NSA!$C$1,MATCH($C$3,NSA!$D$2:$D$88,0),COUNTA(NSA!1:1)-($C$4-BV$55))","v":0},{"$f":"OFFSET(NSA!$C$1,MATCH($C$3,NSA!$D$2:$D$88,0),COUNTA(NSA!1:1)-($C$4-BW$55))","v":0},{"$f":"OFFSET(NSA!$C$1,MATCH($C$3,NSA!$D$2:$D$88,0),COUNTA(NSA!1:1)-($C$4-BX$55))","v":0},{"$f":"OFFSET(NSA!$C$1,MATCH($C$3,NSA!$D$2:$D$88,0),COUNTA(NSA!1:1)-($C$4-BY$55))","v":0},{"$f":"OFFSET(NSA!$C$1,MATCH($C$3,NSA!$D$2:$D$88,0),COUNTA(NSA!1:1)-($C$4-BZ$55))","v":0},{"$f":"OFFSET(NSA!$C$1,MATCH($C$3,NSA!$D$2:$D$88,0),COUNTA(NSA!1:1)-($C$4-CA$55))","v":0},{"$f":"OFFSET(NSA!$C$1,MATCH($C$3,NSA!$D$2:$D$88,0),COUNTA(NSA!1:1)-($C$4-CB$55))","v":0},{"$f":"OFFSET(NSA!$C$1,MATCH($C$3,NSA!$D$2:$D$88,0),COUNTA(NSA!1:1)-($C$4-CC$55))","v":0},{"$f":"OFFSET(NSA!$C$1,MATCH($C$3,NSA!$D$2:$D$88,0),COUNTA(NSA!1:1)-($C$4-CD$55))","v":0},{"$f":"OFFSET(NSA!$C$1,MATCH($C$3,NSA!$D$2:$D$88,0),COUNTA(NSA!1:1)-($C$4-CE$55))","v":0},{"$f":"OFFSET(NSA!$C$1,MATCH($C$3,NSA!$D$2:$D$88,0),COUNTA(NSA!1:1)-($C$4-CF$55))","v":0},{"$f":"OFFSET(NSA!$C$1,MATCH($C$3,NSA!$D$2:$D$88,0),COUNTA(NSA!1:1)-($C$4-CG$55))","v":0},{"$f":"OFFSET(NSA!$C$1,MATCH($C$3,NSA!$D$2:$D$88,0),COUNTA(NSA!1:1)-($C$4-CH$55))","v":0},{"$f":"OFFSET(NSA!$C$1,MATCH($C$3,NSA!$D$2:$D$88,0),COUNTA(NSA!1:1)-($C$4-CI$55))","v":0},{"$f":"OFFSET(NSA!$C$1,MATCH($C$3,NSA!$D$2:$D$88,0),COUNTA(NSA!1:1)-($C$4-CJ$55))","v":0},{"$f":"OFFSET(NSA!$C$1,MATCH($C$3,NSA!$D$2:$D$88,0),COUNTA(NSA!1:1)-($C$4-CK$55))","v":0},{"$f":"OFFSET(NSA!$C$1,MATCH($C$3,NSA!$D$2:$D$88,0),COUNTA(NSA!1:1)-($C$4-CL$55))","v":0},{"$f":"OFFSET(NSA!$C$1,MATCH($C$3,NSA!$D$2:$D$88,0),COUNTA(NSA!1:1)-($C$4-CM$55))","v":0},{"$f":"OFFSET(NSA!$C$1,MATCH($C$3,NSA!$D$2:$D$88,0),COUNTA(NSA!1:1)-($C$4-CN$55))","v":0},{"$f":"OFFSET(NSA!$C$1,MATCH($C$3,NSA!$D$2:$D$88,0),COUNTA(NSA!1:1)-($C$4-CO$55))","v":0},{"$f":"OFFSET(NSA!$C$1,MATCH($C$3,NSA!$D$2:$D$88,0),COUNTA(NSA!1:1)-($C$4-CP$55))","v":0},{"$f":"OFFSET(NSA!$C$1,MATCH($C$3,NSA!$D$2:$D$88,0),COUNTA(NSA!1:1)-($C$4-CQ$55))","v":0},{"$f":"OFFSET(NSA!$C$1,MATCH($C$3,NSA!$D$2:$D$88,0),COUNTA(NSA!1:1)-($C$4-CR$55))","v":0},{"$f":"OFFSET(NSA!$C$1,MATCH($C$3,NSA!$D$2:$D$88,0),COUNTA(NSA!1:1)-($C$4-CS$55))","v":0},{"$f":"OFFSET(NSA!$C$1,MATCH($C$3,NSA!$D$2:$D$88,0),COUNTA(NSA!1:1)-($C$4-CT$55))","v":0},{"$f":"OFFSET(NSA!$C$1,MATCH($C$3,NSA!$D$2:$D$88,0),COUNTA(NSA!1:1)-($C$4-CU$55))","v":0},{"$f":"OFFSET(NSA!$C$1,MATCH($C$3,NSA!$D$2:$D$88,0),COUNTA(NSA!1:1)-($C$4-CV$55))","v":0},{"$f":"OFFSET(NSA!$C$1,MATCH($C$3,NSA!$D$2:$D$88,0),COUNTA(NSA!1:1)-($C$4-CW$55))","v":0},{"$f":"OFFSET(NSA!$C$1,MATCH($C$3,NSA!$D$2:$D$88,0),COUNTA(NSA!1:1)-($C$4-CX$55))","v":0},{"$f":"OFFSET(NSA!$C$1,MATCH($C$3,NSA!$D$2:$D$88,0),COUNTA(NSA!1:1)-($C$4-CY$55))","v":0},{"$f":"OFFSET(NSA!$C$1,MATCH($C$3,NSA!$D$2:$D$88,0),COUNTA(NSA!1:1)-($C$4-CZ$55))","v":0}]
[null,{"$f":"CONCATENATE(\"NSA \",TRIM(B60),\" / \",TRIM(B61))","v":"NSA Manufacturing / Retail Trade"}]
[null,{"$f":"G2","v":"Manufacturing"},{"$f":"OFFSET(NSA!$C$1,MATCH($G$2,NSA!$D$2:$D$88,0),COUNTA(NSA!1:1)-($C$4-C$55))","v":462000},{"$f":"OFFSET(NSA!$C$1,MATCH($G$2,NSA!$D$2:$D$88,0),COUNTA(NSA!1:1)-($C$4-D$55))","v":460000},{"$f":"OFFSET(NSA!$C$1,MATCH($G$2,NSA!$D$2:$D$88,0),COUNTA(NSA!1:1)-($C$4-E$55))","v":461000},{"$f":"OFFSET(NSA!$C$1,MATCH($G$2,NSA!$D$2:$D$88,0),COUNTA(NSA!1:1)-($C$4-F$55))","v":461500},{"$f":"OFFSET(NSA!$C$1,MATCH($G$2,NSA!$D$2:$D$88,0),COUNTA(NSA!1:1)-($C$4-G$55))","v":462800},{"$f":"OFFSET(NSA!$C$1,MATCH($G$2,NSA!$D$2:$D$88,0),COUNTA(NSA!1:1)-($C$4-H$55))","v":470600},{"$f":"OFFSET(NSA!$C$1,MATCH($G$2,NSA!$D$2:$D$88,0),COUNTA(NSA!1:1)-($C$4-I$55))","v":472600},{"$f":"OFFSET(NSA!$C$1,MATCH($G$2,NSA!$D$2:$D$88,0),COUNTA(NSA!1:1)-($C$4-J$55))","v":471700},{"$f":"OFFSET(NSA!$C$1,MATCH($G$2,NSA!$D$2:$D$88,0),COUNTA(NSA!1:1)-($C$4-K$55))","v":465400},{"$f":"OFFSET(NSA!$C$1,MATCH($G$2,NSA!$D$2:$D$88,0),COUNTA(NSA!1:1)-($C$4-L$55))","v":463300},{"$f":"OFFSET(NSA!$C$1,MATCH($G$2,NSA!$D$2:$D$88,0),COUNTA(NSA!1:1)-($C$4-M$55))","v":462600},{"$f":"OFFSET(NSA!$C$1,MATCH($G$2,NSA!$D$2:$D$88,0),COUNTA(NSA!1:1)-($C$4-N$55))","v":463500},{"$f":"OFFSET(NSA!$C$1,MATCH($G$2,NSA!$D$2:$D$88,0),COUNTA(NSA!1:1)-($C$4-O$55))","v":461100},{"$f":"OFFSET(NSA!$C$1,MATCH($G$2,NSA!$D$2:$D$88,0),COUNTA(NSA!1:1)-($C$4-P$55))","v":460300},{"$f":"OFFSET(NSA!$C$1,MATCH($G$2,NSA!$D$2:$D$88,0),COUNTA(NSA!1:1)-($C$4-Q$55))","v":462500},{"$f":"OFFSET(NSA!$C$1,MATCH($G$2,NSA!$D$2:$D$88,0),COUNTA(NSA!1:1)-($C$4-R$55))","v":462900},{"$f":"OFFSET(NSA!$C$1,MATCH($G$2,NSA!$D$2:$D$88,0),COUNTA(NSA!1:1)-($C$4-S$55))","v":464100},{"$f":"OFFSET(NSA!$C$1,MATCH($G$2,NSA!$D$2:$D$88,0),COUNTA(NSA!1:1)-($C$4-T$55))","v":473500},{"$f":"OFFSET(NSA!$C$1,MATCH($G$2,NSA!$D$2:$D$88,0),COUNTA(NSA!1:1)-($C$4-U$55))","v":476000},{"$f":"OFFSET(NSA!$C$1,MATCH($G$2,NSA!$D$2:$D$88,0),COUNTA(NSA!1:1)-($C$4-V$55))","v":475400},{"$f":"OFFSET(NSA!$C$1,MATCH($G$2,NSA!$D$2:$D$88,0),COUNTA(NSA!1:1)-($C$4-W$55))","v":469100},{"$f":"OFFSET(NSA!$C$1,MATCH($G$2,NSA!$D$2:$D$88,0),COUNTA(NSA!1:1)-($C$4-X$55))","v":470300},{"$f":"OFFSET(NSA!$C$1,MATCH($G$2,NSA!$D$2:$D$88,0),COUNTA(NSA!1:1)-($C$4-Y$55))","v":471700},{"$f":"OFFSET(NSA!$C$1,MATCH($G$2,NSA!$D$2:$D$88,0),COUNTA(NSA!1:1)-($C$4-Z$55))","v":471800},{"$f":"OFFSET(NSA!$C$1,MATCH($G$2,NSA!$D$2:$D$88,0),COUNTA(NSA!1:1)-($C$4-AA$55))","v":471300},{"$f":"OFFSET(NSA!$C$1,MATCH($G$2,NSA!$D$2:$D$88,0),COUNTA(NSA!1:1)-($C$4-AB$55))","v":473000},{"$f":"OFFSET(NSA!$C$1,MATCH($G$2,NSA!$D$2:$D$88,0),COUNTA(NSA!1:1)-($C$4-AC$55))","v":475900},{"$f":"OFFSET(NSA!$C$1,MATCH($G$2,NSA!$D$2:$D$88,0),COUNTA(NSA!1:1)-($C$4-AD$55))","v":477700},{"$f":"OFFSET(NSA!$C$1,MATCH($G$2,NSA!$D$2:$D$88,0),COUNTA(NSA!1:1)-($C$4-AE$55))","v":480400},{"$f":"OFFSET(NSA!$C$1,MATCH($G$2,NSA!$D$2:$D$88,0),COUNTA(NSA!1:1)-($C$4-AF$55))","v":491200},{"$f":"OFFSET(NSA!$C$1,MATCH($G$2,NSA!$D$2:$D$88,0),COUNTA(NSA!1:1)-($C$4-AG$55))","v":495100},{"$f":"OFFSET(NSA!$C$1,MATCH($G$2,NSA!$D$2:$D$88,0),COUNTA(NSA!1:1)-($C$4-AH$55))","v":495500},{"$f":"OFFSET(NSA!$C$1,MATCH($G$2,NSA!$D$2:$D$88,0),COUNTA(NSA!1:1)-($C$4-AI$55))","v":490600},{"$f":"OFFSET(NSA!$C$1,MATCH($G$2,NSA!$D$2:$D$88,0),COUNTA(NSA!1:1)-($C$4-AJ$55))","v":490800},{"$f":"OFFSET(NSA!$C$1,MATCH($G$2,NSA!$D$2:$D$88,0),COUNTA(NSA!1:1)-($C$4-AK$55))","v":490500},{"$f":"OFFSET(NSA!$C$1,MATCH($G$2,NSA!$D$2:$D$88,0),COUNTA(NSA!1:1)-($C$4-AL$55))","v":489300},{"$f":"OFFSET(NSA!$C$1,MATCH($G$2,NSA!$D$2:$D$88,0),COUNTA(NSA!1:1)-($C$4-AM$55))","v":472800},{"$f":"OFFSET(NSA!$C$1,MATCH($G$2,NSA!$D$2:$D$88,0),COUNTA(NSA!1:1)-($C$4-AN$55))","v":471000},{"$f":"OFFSET(NSA!$C$1,MATCH($G$2,NSA!$D$2:$D$88,0),COUNTA(NSA!1:1)-($C$4-AO$55))","v":471500},{"$f":"OFFSET(NSA!$C$1,MATCH($G$2,NSA!$D$2:$D$88,0),COUNTA(NSA!1:1)-($C$4-AP$55))","v":472000},{"$f":"OFFSET(NSA!$C$1,MATCH($G$2,NSA!$D$2:$D$88,0),COUNTA(NSA!1:1)-($C$4-AQ$55))","v":474200},{"$f":"OFFSET(NSA!$C$1,MATCH($G$2,NSA!$D$2:$D$88,0),COUNTA(NSA!1:1)-($C$4-AR$55))","v":482200},{"$f":"OFFSET(NSA!$C$1,MATCH($G$2,NSA!$D$2:$D$88,0),COUNTA(NSA!1:1)-($C$4-AS$55))","v":479100},{"$f":"OFFSET(NSA!$C$1,MATCH($G$2,NSA!$D$2:$D$88,0),COUNTA(NSA!1:1)-($C$4-AT$55))","v":478900},{"$f":"OFFSET(NSA!$C$1,MATCH($G$2,NSA!$D$2:$D$88,0),COUNTA(NSA!1:1)-($C$4-AU$55))","v":470500},{"$f":"OFFSET(NSA!$C$1,MATCH($G$2,NSA!$D$2:$D$88,0),COUNTA(NSA!1:1)-($C$4-AV$55))","v":469500},{"$f":"OFFSET(NSA!$C$1,MATCH($G$2,NSA!$D$2:$D$88,0),COUNTA(NSA!1:1)-($C$4-AW$55))","v":470900},{"$f":"OFFSET(NSA!$C$1,MATCH($G$2,NSA!$D$2:$D$88,0),COUNTA(NSA!1:1)-($C$4-AX$55))","v":472100},{"$f":"OFFSET(NSA!$C$1,MATCH($G$2,NSA!$D$2:$D$88,0),COUNTA(NSA!1:1)-($C$4-AY$55))","v":0},{"$f":"OFFSET(NSA!$C$1,MATCH($G$2,NSA!$D$2:$D$88,0),COUNTA(NSA!1:1)-($C$4-AZ$55))","v":0},{"$f":"OFFSET(NSA!$C$1,MATCH($G$2,NSA!$D$2:$D$88,0),COUNTA(NSA!1:1)-($C$4-BA$55))","v":0},{"$f":"OFFSET(NSA!$C$1,MATCH($G$2,NSA!$D$2:$D$88,0),COUNTA(NSA!1:1)-($C$4-BB$55))","v":0},{"$f":"OFFSET(NSA!$C$1,MATCH($G$2,NSA!$D$2:$D$88,0),COUNTA(NSA!1:1)-($C$4-BC$55))","v":0},{"$f":"OFFSET(NSA!$C$1,MATCH($G$2,NSA!$D$2:$D$88,0),COUNTA(NSA!1:1)-($C$4-BD$55))","v":0},{"$f":"OFFSET(NSA!$C$1,MATCH($G$2,NSA!$D$2:$D$88,0),COUNTA(NSA!1:1)-($C$4-BE$55))","v":0},{"$f":"OFFSET(NSA!$C$1,MATCH($G$2,NSA!$D$2:$D$88,0),COUNTA(NSA!1:1)-($C$4-BF$55))","v":0},{"$f":"OFFSET(NSA!$C$1,MATCH($G$2,NSA!$D$2:$D$88,0),COUNTA(NSA!1:1)-($C$4-BG$55))","v":0},{"$f":"OFFSET(NSA!$C$1,MATCH($G$2,NSA!$D$2:$D$88,0),COUNTA(NSA!1:1)-($C$4-BH$55))","v":0},{"$f":"OFFSET(NSA!$C$1,MATCH($G$2,NSA!$D$2:$D$88,0),COUNTA(NSA!1:1)-($C$4-BI$55))","v":0},{"$f":"OFFSET(NSA!$C$1,MATCH($G$2,NSA!$D$2:$D$88,0),COUNTA(NSA!1:1)-($C$4-BJ$55))","v":0},{"$f":"OFFSET(NSA!$C$1,MATCH($G$2,NSA!$D$2:$D$88,0),COUNTA(NSA!1:1)-($C$4-BK$55))","v":0},{"$f":"OFFSET(NSA!$C$1,MATCH($G$2,NSA!$D$2:$D$88,0),COUNTA(NSA!1:1)-($C$4-BL$55))","v":0},{"$f":"OFFSET(NSA!$C$1,MATCH($G$2,NSA!$D$2:$D$88,0),COUNTA(NSA!1:1)-($C$4-BM$55))","v":0},{"$f":"OFFSET(NSA!$C$1,MATCH($G$2,NSA!$D$2:$D$88,0),COUNTA(NSA!1:1)-($C$4-BN$55))","v":0},{"$f":"OFFSET(NSA!$C$1,MATCH($G$2,NSA!$D$2:$D$88,0),COUNTA(NSA!1:1)-($C$4-BO$55))","v":0},{"$f":"OFFSET(NSA!$C$1,MATCH($G$2,NSA!$D$2:$D$88,0),COUNTA(NSA!1:1)-($C$4-BP$55))","v":0},{"$f":"OFFSET(NSA!$C$1,MATCH($G$2,NSA!$D$2:$D$88,0),COUNTA(NSA!1:1)-($C$4-BQ$55))","v":0},{"$f":"OFFSET(NSA!$C$1,MATCH($G$2,NSA!$D$2:$D$88,0),COUNTA(NSA!1:1)-($C$4-BR$55))","v":0},{"$f":"OFFSET(NSA!$C$1,MATCH($G$2,NSA!$D$2:$D$88,0),COUNTA(NSA!1:1)-($C$4-BS$55))","v":0},{"$f":"OFFSET(NSA!$C$1,MATCH($G$2,NSA!$D$2:$D$88,0),COUNTA(NSA!1:1)-($C$4-BT$55))","v":0},{"$f":"OFFSET(NSA!$C$1,MATCH($G$2,NSA!$D$2:$D$88,0),COUNTA(NSA!1:1)-($C$4-BU$55))","v":0},{"$f":"OFFSET(NSA!$C$1,MATCH($G$2,NSA!$D$2:$D$88,0),COUNTA(NSA!1:1)-($C$4-BV$55))","v":0},{"$f":"OFFSET(NSA!$C$1,MATCH($G$2,NSA!$D$2:$D$88,0),COUNTA(NSA!1:1)-($C$4-BW$55))","v":0},{"$f":"OFFSET(NSA!$C$1,MATCH($G$2,NSA!$D$2:$D$88,0),COUNTA(NSA!1:1)-($C$4-BX$55))","v":0},{"$f":"OFFSET(NSA!$C$1,MATCH($G$2,NSA!$D$2:$D$88,0),COUNTA(NSA!1:1)-($C$4-BY$55))","v":0},{"$f":"OFFSET(NSA!$C$1,MATCH($G$2,NSA!$D$2:$D$88,0),COUNTA(NSA!1:1)-($C$4-BZ$55))","v":0},{"$f":"OFFSET(NSA!$C$1,MATCH($G$2,NSA!$D$2:$D$88,0),COUNTA(NSA!1:1)-($C$4-CA$55))","v":0},{"$f":"OFFSET(NSA!$C$1,MATCH($G$2,NSA!$D$2:$D$88,0),COUNTA(NSA!1:1)-($C$4-CB$55))","v":0},{"$f":"OFFSET(NSA!$C$1,MATCH($G$2,NSA!$D$2:$D$88,0),COUNTA(NSA!1:1)-($C$4-CC$55))","v":0},{"$f":"OFFSET(NSA!$C$1,MATCH($G$2,NSA!$D$2:$D$88,0),COUNTA(NSA!1:1)-($C$4-CD$55))","v":0},{"$f":"OFFSET(NSA!$C$1,MATCH($G$2,NSA!$D$2:$D$88,0),COUNTA(NSA!1:1)-($C$4-CE$55))","v":0},{"$f":"OFFSET(NSA!$C$1,MATCH($G$2,NSA!$D$2:$D$88,0),COUNTA(NSA!1:1)-($C$4-CF$55))","v":0},{"$f":"OFFSET(NSA!$C$1,MATCH($G$2,NSA!$D$2:$D$88,0),COUNTA(NSA!1:1)-($C$4-CG$55))","v":0},{"$f":"OFFSET(NSA!$C$1,MATCH($G$2,NSA!$D$2:$D$88,0),COUNTA(NSA!1:1)-($C$4-CH$55))","v":0},{"$f":"OFFSET(NSA!$C$1,MATCH($G$2,NSA!$D$2:$D$88,0),COUNTA(NSA!1:1)-($C$4-CI$55))","v":0},{"$f":"OFFSET(NSA!$C$1,MATCH($G$2,NSA!$D$2:$D$88,0),COUNTA(NSA!1:1)-($C$4-CJ$55))","v":0},{"$f":"OFFSET(NSA!$C$1,MATCH($G$2,NSA!$D$2:$D$88,0),COUNTA(NSA!1:1)-($C$4-CK$55))","v":0},{"$f":"OFFSET(NSA!$C$1,MATCH($G$2,NSA!$D$2:$D$88,0),COUNTA(NSA!1:1)-($C$4-CL$55))","v":0},{"$f":"OFFSET(NSA!$C$1,MATCH($G$2,NSA!$D$2:$D$88,0),COUNTA(NSA!1:1)-($C$4-CM$55))","v":0},{"$f":"OFFSET(NSA!$C$1,MATCH($G$2,NSA!$D$2:$D$88,0),COUNTA(NSA!1:1)-($C$4-CN$55))","v":0},{"$f":"OFFSET(NSA!$C$1,MATCH($G$2,NSA!$D$2:$D$88,0),COUNTA(NSA!1:1)-($C$4-CO$55))","v":0},{"$f":"OFFSET(NSA!$C$1,MATCH($G$2,NSA!$D$2:$D$88,0),COUNTA(NSA!1:1)-($C$4-CP$55))","v":0},{"$f":"OFFSET(NSA!$C$1,MATCH($G$2,NSA!$D$2:$D$88,0),COUNTA(NSA!1:1)-($C$4-CQ$55))","v":0},{"$f":"OFFSET(NSA!$C$1,MATCH($G$2,NSA!$D$2:$D$88,0),COUNTA(NSA!1:1)-($C$4-CR$55))","v":0},{"$f":"OFFSET(NSA!$C$1,MATCH($G$2,NSA!$D$2:$D$88,0),COUNTA(NSA!1:1)-($C$4-CS$55))","v":0},{"$f":"OFFSET(NSA!$C$1,MATCH($G$2,NSA!$D$2:$D$88,0),COUNTA(NSA!1:1)-($C$4-CT$55))","v":0},{"$f":"OFFSET(NSA!$C$1,MATCH($G$2,NSA!$D$2:$D$88,0),COUNTA(NSA!1:1)-($C$4-CU$55))","v":0},{"$f":"OFFSET(NSA!$C$1,MATCH($G$2,NSA!$D$2:$D$88,0),COUNTA(NSA!1:1)-($C$4-CV$55))","v":0},{"$f":"OFFSET(NSA!$C$1,MATCH($G$2,NSA!$D$2:$D$88,0),COUNTA(NSA!1:1)-($C$4-CW$55))","v":0},{"$f":"OFFSET(NSA!$C$1,MATCH($G$2,NSA!$D$2:$D$88,0),COUNTA(NSA!1:1)-($C$4-CX$55))","v":0},{"$f":"OFFSET(NSA!$C$1,MATCH($G$2,NSA!$D$2:$D$88,0),COUNTA(NSA!1:1)-($C$4-CY$55))","v":0},{"$f":"OFFSET(NSA!$C$1,MATCH($G$2,NSA!$D$2:$D$88,0),COUNTA(NSA!1:1)-($C$4-CZ$55))","v":0}]
[null,{"$f":"G3","v":"Retail Trade"},{"$f":"OFFSET(NSA!$C$1,MATCH($G$3,NSA!$D$2:$D$88,0),COUNTA(NSA!1:1)-($C$4-C$55))","v":302800},{"$f":"OFFSET(NSA!$C$1,MATCH($G$3,NSA!$D$2:$D$88,0),COUNTA(NSA!1:1)-($C$4-D$55))","v":299400},{"$f":"OFFSET(NSA!$C$1,MATCH($G$3,NSA!$D$2:$D$88,0),COUNTA(NSA!1:1)-($C$4-E$55))","v":300500},{"$f":"OFFSET(NSA!$C$1,MATCH($G$3,NSA!$D$2:$D$88,0),COUNTA(NSA!1:1)-($C$4-F$55))","v":304200},{"$f":"OFFSET(NSA!$C$1,MATCH($G$3,NSA!$D$2:$D$88,0),COUNTA(NSA!1:1)-($C$4-G$55))","v":307500},{"$f":"OFFSET(NSA!$C$1,MATCH($G$3,NSA!$D$2:$D$88,0),COUNTA(NSA!1:1)-($C$4-H$55))","v":309800},{"$f":"OFFSET(NSA!$C$1,MATCH($G$3,NSA!$D$2:$D$88,0),COUNTA(NSA!1:1)-($C$4-I$55))","v":311500},{"$f":"OFFSET(NSA!$C$1,MATCH($G$3,NSA!$D$2:$D$88,0),COUNTA(NSA!1:1)-($C$4-J$55))","v":311300},{"$f":"OFFSET(NSA!$C$1,MATCH($G$3,NSA!$D$2:$D$88,0),COUNTA(NSA!1:1)-($C$4-K$55))","v":306100},{"$f":"OFFSET(NSA!$C$1,MATCH($G$3,NSA!$D$2:$D$88,0),COUNTA(NSA!1:1)-($C$4-L$55))","v":309700},{"$f":"OFFSET(NSA!$C$1,MATCH($G$3,NSA!$D$2:$D$88,0),COUNTA(NSA!1:1)-($C$4-M$55))","v":317600},{"$f":"OFFSET(NSA!$C$1,MATCH($G$3,NSA!$D$2:$D$88,0),COUNTA(NSA!1:1)-($C$4-N$55))","v":318800},{"$f":"OFFSET(NSA!$C$1,MATCH($G$3,NSA!$D$2:$D$88,0),COUNTA(NSA!1:1)-($C$4-O$55))","v":306300},{"$f":"OFFSET(NSA!$C$1,MATCH($G$3,NSA!$D$2:$D$88,0),COUNTA(NSA!1:1)-($C$4-P$55))","v":302200},{"$f":"OFFSET(NSA!$C$1,MATCH($G$3,NSA!$D$2:$D$88,0),COUNTA(NSA!1:1)-($C$4-Q$55))","v":303000},{"$f":"OFFSET(NSA!$C$1,MATCH($G$3,NSA!$D$2:$D$88,0),COUNTA(NSA!1:1)-($C$4-R$55))","v":304400},{"$f":"OFFSET(NSA!$C$1,MATCH($G$3,NSA!$D$2:$D$88,0),COUNTA(NSA!1:1)-($C$4-S$55))","v":307300},{"$f":"OFFSET(NSA!$C$1,MATCH($G$3,NSA!$D$2:$D$88,0),COUNTA(NSA!1:1)-($C$4-T$55))","v":309800},{"$f":"OFFSET(NSA!$C$1,MATCH($G$3,NSA!$D$2:$D$88,0),COUNTA(NSA!1:1)-($C$4-U$55))","v":310000},{"$f":"OFFSET(NSA!$C$1,MATCH($G$3,NSA!$D$2:$D$88,0),COUNTA(NSA!1:1)-($C$4-V$55))","v":310000},{"$f":"OFFSET(NSA!$C$1,MATCH($G$3,NSA!$D$2:$D$88,0),COUNTA(NSA!1:1)-($C$4-W$55))","v":304500},{"$f":"OFFSET(NSA!$C$1,MATCH($G$3,NSA!$D$2:$D$88,0),COUNTA(NSA!1:1)-($C$4-X$55))","v":306600},{"$f":"OFFSET(NSA!$C$1,MATCH($G$3,NSA!$D$2:$D$88,0),COUNTA(NSA!1:1)-($C$4-Y$55))","v":315500},{"$f":"OFFSET(NSA!$C$1,MATCH($G$3,NSA!$D$2:$D$88,0),COUNTA(NSA!1:1)-($C$4-Z$55))","v":315300},{"$f":"OFFSET(NSA!$C$1,MATCH($G$3,NSA!$D$2:$D$88,0),COUNTA(NSA!1:1)-($C$4-AA$55))","v":301900},{"$f":"OFFSET(NSA!$C$1,MATCH($G$3,NSA!$D$2:$D$88,0),COUNTA(NSA!1:1)-($C$4-AB$55))","v":298600},{"$f":"OFFSET(NSA!$C$1,MATCH($G$3,NSA!$D$2:$D$88,0),COUNTA(NSA!1:1)-($C$4-AC$55))","v":299600},{"$f":"OFFSET(NSA!$C$1,MATCH($G$3,NSA!$D$2:$D$88,0),COUNTA(NSA!1:1)-($C$4-AD$55))","v":300900},{"$f":"OFFSET(NSA!$C$1,MATCH($G$3,NSA!$D$2:$D$88,0),COUNTA(NSA!1:1)-($C$4-AE$55))","v":303300},{"$f":"OFFSET(NSA!$C$1,MATCH($G$3,NSA!$D$2:$D$88,0),COUNTA(NSA!1:1)-($C$4-AF$55))","v":307100},{"$f":"OFFSET(NSA!$C$1,MATCH($G$3,NSA!$D$2:$D$88,0),COUNTA(NSA!1:1)-($C$4-AG$55))","v":308000},{"$f":"OFFSET(NSA!$C$1,MATCH($G$3,NSA!$D$2:$D$88,0),COUNTA(NSA!1:1)-($C$4-AH$55))","v":308200},{"$f":"OFFSET(NSA!$C$1,MATCH($G$3,NSA!$D$2:$D$88,0),COUNTA(NSA!1:1)-($C$4-AI$55))","v":301700},{"$f":"OFFSET(NSA!$C$1,MATCH($G$3,NSA!$D$2:$D$88,0),COUNTA(NSA!1:1)-($C$4-AJ$55))","v":302600},{"$f":"OFFSET(NSA!$C$1,MATCH($G$3,NSA!$D$2:$D$88,0),COUNTA(NSA!1:1)-($C$4-AK$55))","v":313000},{"$f":"OFFSET(NSA!$C$1,MATCH($G$3,NSA!$D$2:$D$88,0),COUNTA(NSA!1:1)-($C$4-AL$55))","v":313600},{"$f":"OFFSET(NSA!$C$1,MATCH($G$3,NSA!$D$2:$D$88,0),COUNTA(NSA!1:1)-($C$4-AM$55))","v":305900},{"$f":"OFFSET(NSA!$C$1,MATCH($G$3,NSA!$D$2:$D$88,0),COUNTA(NSA!1:1)-($C$4-AN$55))","v":303700},{"$f":"OFFSET(NSA!$C$1,MATCH($G$3,NSA!$D$2:$D$88,0),COUNTA(NSA!1:1)-($C$4-AO$55))","v":303100},{"$f":"OFFSET(NSA!$C$1,MATCH($G$3,NSA!$D$2:$D$88,0),COUNTA(NSA!1:1)-($C$4-AP$55))","v":302200},{"$f":"OFFSET(NSA!$C$1,MATCH($G$3,NSA!$D$2:$D$88,0),COUNTA(NSA!1:1)-($C$4-AQ$55))","v":304900},{"$f":"OFFSET(NSA!$C$1,MATCH($G$3,NSA!$D$2:$D$88,0),COUNTA(NSA!1:1)-($C$4-AR$55))","v":308000},{"$f":"OFFSET(NSA!$C$1,MATCH($G$3,NSA!$D$2:$D$88,0),COUNTA(NSA!1:1)-($C$4-AS$55))","v":309100},{"$f":"OFFSET(NSA!$C$1,MATCH($G$3,NSA!$D$2:$D$88,0),COUNTA(NSA!1:1)-($C$4-AT$55))","v":308800},{"$f":"OFFSET(NSA!$C$1,MATCH($G$3,NSA!$D$2:$D$88,0),COUNTA(NSA!1:1)-($C$4-AU$55))","v":307200},{"$f":"OFFSET(NSA!$C$1,MATCH($G$3,NSA!$D$2:$D$88,0),COUNTA(NSA!1:1)-($C$4-AV$55))","v":311100},{"$f":"OFFSET(NSA!$C$1,MATCH($G$3,NSA!$D$2:$D$88,0),COUNTA(NSA!1:1)-($C$4-AW$55))","v":319500},{"$f":"OFFSET(NSA!$C$1,MATCH($G$3,NSA!$D$2:$D$88,0),COUNTA(NSA!1:1)-($C$4-AX$55))","v":320700},{"$f":"OFFSET(NSA!$C$1,MATCH($G$3,NSA!$D$2:$D$88,0),COUNTA(NSA!1:1)-($C$4-AY$55))","v":0},{"$f":"OFFSET(NSA!$C$1,MATCH($G$3,NSA!$D$2:$D$88,0),COUNTA(NSA!1:1)-($C$4-AZ$55))","v":0},{"$f":"OFFSET(NSA!$C$1,MATCH($G$3,NSA!$D$2:$D$88,0),COUNTA(NSA!1:1)-($C$4-BA$55))","v":0},{"$f":"OFFSET(NSA!$C$1,MATCH($G$3,NSA!$D$2:$D$88,0),COUNTA(NSA!1:1)-($C$4-BB$55))","v":0},{"$f":"OFFSET(NSA!$C$1,MATCH($G$3,NSA!$D$2:$D$88,0),COUNTA(NSA!1:1)-($C$4-BC$55))","v":0},{"$f":"OFFSET(NSA!$C$1,MATCH($G$3,NSA!$D$2:$D$88,0),COUNTA(NSA!1:1)-($C$4-BD$55))","v":0},{"$f":"OFFSET(NSA!$C$1,MATCH($G$3,NSA!$D$2:$D$88,0),COUNTA(NSA!1:1)-($C$4-BE$55))","v":0},{"$f":"OFFSET(NSA!$C$1,MATCH($G$3,NSA!$D$2:$D$88,0),COUNTA(NSA!1:1)-($C$4-BF$55))","v":0},{"$f":"OFFSET(NSA!$C$1,MATCH($G$3,NSA!$D$2:$D$88,0),COUNTA(NSA!1:1)-($C$4-BG$55))","v":0},{"$f":"OFFSET(NSA!$C$1,MATCH($G$3,NSA!$D$2:$D$88,0),COUNTA(NSA!1:1)-($C$4-BH$55))","v":0},{"$f":"OFFSET(NSA!$C$1,MATCH($G$3,NSA!$D$2:$D$88,0),COUNTA(NSA!1:1)-($C$4-BI$55))","v":0},{"$f":"OFFSET(NSA!$C$1,MATCH($G$3,NSA!$D$2:$D$88,0),COUNTA(NSA!1:1)-($C$4-BJ$55))","v":0},{"$f":"OFFSET(NSA!$C$1,MATCH($G$3,NSA!$D$2:$D$88,0),COUNTA(NSA!1:1)-($C$4-BK$55))","v":0},{"$f":"OFFSET(NSA!$C$1,MATCH($G$3,NSA!$D$2:$D$88,0),COUNTA(NSA!1:1)-($C$4-BL$55))","v":0},{"$f":"OFFSET(NSA!$C$1,MATCH($G$3,NSA!$D$2:$D$88,0),COUNTA(NSA!1:1)-($C$4-BM$55))","v":0},{"$f":"OFFSET(NSA!$C$1,MATCH($G$3,NSA!$D$2:$D$88,0),COUNTA(NSA!1:1)-($C$4-BN$55))","v":0},{"$f":"OFFSET(NSA!$C$1,MATCH($G$3,NSA!$D$2:$D$88,0),COUNTA(NSA!1:1)-($C$4-BO$55))","v":0},{"$f":"OFFSET(NSA!$C$1,MATCH($G$3,NSA!$D$2:$D$88,0),COUNTA(NSA!1:1)-($C$4-BP$55))","v":0},{"$f":"OFFSET(NSA!$C$1,MATCH($G$3,NSA!$D$2:$D$88,0),COUNTA(NSA!1:1)-($C$4-BQ$55))","v":0},{"$f":"OFFSET(NSA!$C$1,MATCH($G$3,NSA!$D$2:$D$88,0),COUNTA(NSA!1:1)-($C$4-BR$55))","v":0},{"$f":"OFFSET(NSA!$C$1,MATCH($G$3,NSA!$D$2:$D$88,0),COUNTA(NSA!1:1)-($C$4-BS$55))","v":0},{"$f":"OFFSET(NSA!$C$1,MATCH($G$3,NSA!$D$2:$D$88,0),COUNTA(NSA!1:1)-($C$4-BT$55))","v":0},{"$f":"OFFSET(NSA!$C$1,MATCH($G$3,NSA!$D$2:$D$88,0),COUNTA(NSA!1:1)-($C$4-BU$55))","v":0},{"$f":"OFFSET(NSA!$C$1,MATCH($G$3,NSA!$D$2:$D$88,0),COUNTA(NSA!1:1)-($C$4-BV$55))","v":0},{"$f":"OFFSET(NSA!$C$1,MATCH($G$3,NSA!$D$2:$D$88,0),COUNTA(NSA!1:1)-($C$4-BW$55))","v":0},{"$f":"OFFSET(NSA!$C$1,MATCH($G$3,NSA!$D$2:$D$88,0),COUNTA(NSA!1:1)-($C$4-BX$55))","v":0},{"$f":"OFFSET(NSA!$C$1,MATCH($G$3,NSA!$D$2:$D$88,0),COUNTA(NSA!1:1)-($C$4-BY$55))","v":0},{"$f":"OFFSET(NSA!$C$1,MATCH($G$3,NSA!$D$2:$D$88,0),COUNTA(NSA!1:1)-($C$4-BZ$55))","v":0},{"$f":"OFFSET(NSA!$C$1,MATCH($G$3,NSA!$D$2:$D$88,0),COUNTA(NSA!1:1)-($C$4-CA$55))","v":0},{"$f":"OFFSET(NSA!$C$1,MATCH($G$3,NSA!$D$2:$D$88,0),COUNTA(NSA!1:1)-($C$4-CB$55))","v":0},{"$f":"OFFSET(NSA!$C$1,MATCH($G$3,NSA!$D$2:$D$88,0),COUNTA(NSA!1:1)-($C$4-CC$55))","v":0},{"$f":"OFFSET(NSA!$C$1,MATCH($G$3,NSA!$D$2:$D$88,0),COUNTA(NSA!1:1)-($C$4-CD$55))","v":0},{"$f":"OFFSET(NSA!$C$1,MATCH($G$3,NSA!$D$2:$D$88,0),COUNTA(NSA!1:1)-($C$4-CE$55))","v":0},{"$f":"OFFSET(NSA!$C$1,MATCH($G$3,NSA!$D$2:$D$88,0),COUNTA(NSA!1:1)-($C$4-CF$55))","v":0},{"$f":"OFFSET(NSA!$C$1,MATCH($G$3,NSA!$D$2:$D$88,0),COUNTA(NSA!1:1)-($C$4-CG$55))","v":0},{"$f":"OFFSET(NSA!$C$1,MATCH($G$3,NSA!$D$2:$D$88,0),COUNTA(NSA!1:1)-($C$4-CH$55))","v":0},{"$f":"OFFSET(NSA!$C$1,MATCH($G$3,NSA!$D$2:$D$88,0),COUNTA(NSA!1:1)-($C$4-CI$55))","v":0},{"$f":"OFFSET(NSA!$C$1,MATCH($G$3,NSA!$D$2:$D$88,0),COUNTA(NSA!1:1)-($C$4-CJ$55))","v":0},{"$f":"OFFSET(NSA!$C$1,MATCH($G$3,NSA!$D$2:$D$88,0),COUNTA(NSA!1:1)-($C$4-CK$55))","v":0},{"$f":"OFFSET(NSA!$C$1,MATCH($G$3,NSA!$D$2:$D$88,0),COUNTA(NSA!1:1)-($C$4-CL$55))","v":0},{"$f":"OFFSET(NSA!$C$1,MATCH($G$3,NSA!$D$2:$D$88,0),COUNTA(NSA!1:1)-($C$4-CM$55))","v":0},{"$f":"OFFSET(NSA!$C$1,MATCH($G$3,NSA!$D$2:$D$88,0),COUNTA(NSA!1:1)-($C$4-CN$55))","v":0},{"$f":"OFFSET(NSA!$C$1,MATCH($G$3,NSA!$D$2:$D$88,0),COUNTA(NSA!1:1)-($C$4-CO$55))","v":0},{"$f":"OFFSET(NSA!$C$1,MATCH($G$3,NSA!$D$2:$D$88,0),COUNTA(NSA!1:1)-($C$4-CP$55))","v":0},{"$f":"OFFSET(NSA!$C$1,MATCH($G$3,NSA!$D$2:$D$88,0),COUNTA(NSA!1:1)-($C$4-CQ$55))","v":0},{"$f":"OFFSET(NSA!$C$1,MATCH($G$3,NSA!$D$2:$D$88,0),COUNTA(NSA!1:1)-($C$4-CR$55))","v":0},{"$f":"OFFSET(NSA!$C$1,MATCH($G$3,NSA!$D$2:$D$88,0),COUNTA(NSA!1:1)-($C$4-CS$55))","v":0},{"$f":"OFFSET(NSA!$C$1,MATCH($G$3,NSA!$D$2:$D$88,0),COUNTA(NSA!1:1)-($C$4-CT$55))","v":0},{"$f":"OFFSET(NSA!$C$1,MATCH($G$3,NSA!$D$2:$D$88,0),COUNTA(NSA!1:1)-($C$4-CU$55))","v":0},{"$f":"OFFSET(NSA!$C$1,MATCH($G$3,NSA!$D$2:$D$88,0),COUNTA(NSA!1:1)-($C$4-CV$55))","v":0},{"$f":"OFFSET(NSA!$C$1,MATCH($G$3,NSA!$D$2:$D$88,0),COUNTA(NSA!1:1)-($C$4-CW$55))","v":0},{"$f":"OFFSET(NSA!$C$1,MATCH($G$3,NSA!$D$2:$D$88,0),COUNTA(NSA!1:1)-($C$4-CX$55))","v":0},{"$f":"OFFSET(NSA!$C$1,MATCH($G$3,NSA!$D$2:$D$88,0),COUNTA(NSA!1:1)-($C$4-CY$55))","v":0},{"$f":"OFFSET(NSA!$C$1,MATCH($G$3,NSA!$D$2:$D$88,0),COUNTA(NSA!1:1)-($C$4-CZ$55))","v":0}]
[null,"OTM 1",null,{"$f":"D57-C57","v":4900},10600,34600,26900,30300,11400,1600,-27600,-4200,-2600,-8800,-52400,4000,15900,22100,31300,40800,700,500,-32600,7400,-5400,-12800,-49300,2400,18500,18400,31300,52100,13200,-3100,-34300,{"$f":"AJ57-AI57","v":1300},1700,-7300,-60700,-3600,5400,18200,36400,42900,2500,-4100,-34200,6400,-6600,-5900,-2583000,0,0,0,0,0,0,0,0,0,0,0,0,0,0,0,0,{"$f":"BP57-BO57","v":0},0,0,0,0,0,0,0,0,0,0,0,0,0,0,0,0,0,0,0,0,0,0,0,0,0,0,0,0,0,0,0,0,0,0,0,0]
[null,"OTM 2",null,{"$f":"D58-C58","v":4900},10600,34600,26900,30300,11400,1600,-27600,-4200,-2600,-8800,-52400,4000,15900,22100,31300,40800,700,500,-32600,7400,-5400,-12800,-49300,2400,18500,18400,31300,52100,13200,-3100,-34300,{"$f":"AJ58-AI58","v":1300},1700,-7300,-60700,-3600,5400,18200,36400,42900,2500,-4100,-34200,6400,-6600,-5900,-2583000,0,0,0,0,0,0,0,0,0,0,0,0,0,0,0,0,{"$f":"BP58-BO58","v":0},0,0,0,0,0,0,0,0,0,0,0,0,0,0,0,0,0,0,0,0,0,0,0,0,0,0,0,0,0,0,0,0,0,0,0,0]
[null,"%OTM 1",null,{"$f":"D62/C57*100","v":0.20042539267015708},0.43270604563824144,1.4063325610697883,1.0781995270351517,1.2015227218653344,0.44669096038556483,6.2414667446850008E-2,-1.0759814432185881,-0.16551724137931034,-0.10263292938064975,-0.34772987710910025,-2.0777984852690432,0.16197610852399269,0.64281382656155239,0.88776411986824133,1.2462671710133386,1.6045304388862671,2.7093977395881715E-2,1.9347598962968695E-2,-1.2612194367069018,0.28994592900242927,-0.21097046413502107,-0.50113538485631504,-1.9398756590855433,9.6304321656434336E-2,0.74163158949689323,0.73219259848786311,1.2364699375839456,2.0330120575955046,0.50481872418540608,-0.11796042617960427,-1.306716446340813,{"$f":"AJ62/AI57*100","v":5.0181425152474327E-2},6.55889501909796E-2,-0.28146206045650835,-2.3469821753083555,-0.14254038644282546,0.21411578112609042,0.72010762047954413,1.4299182903834067,1.6615027110766849,9.5241723494228353E-2,-0.15604780391261325,-1.3037014447451682,0.24719014329303621,-0.2542862646888846,-0.22789601761365832,-100,{"$error":"#DIV/0!"},{"$error":"#DIV/0!"},{"$error":"#DIV/0!"},{"$error":"#DIV/0!"},{"$error":"#DIV/0!"},{"$error":"#DIV/0!"},{"$error":"#DIV/0!"},{"$error":"#DIV/0!"},{"$error":"#DIV/0!"},{"$error":"#DIV/0!"},{"$error":"#DIV/0!"},{"$error":"#DIV/0!"},{"$error":"#DIV/0!"},{"$error":"#DIV/0!"},{"$error":"#DIV/0!"},{"$error":"#DIV/0!"},{"$f":"BP62/BO57*100","v":{"$error":"#DIV/0!"}},{"$error":"#DIV/0!"},{"$error":"#DIV/0!"},{"$error":"#DIV/0!"},{"$error":"#DIV/0!"},{"$error":"#DIV/0!"},{"$error":"#DIV/0!"},{"$error":"#DIV/0!"},{"$error":"#DIV/0!"},{"$error":"#DIV/0!"},{"$error":"#DIV/0!"},{"$error":"#DIV/0!"},{"$error":"#DIV/0!"},{"$error":"#DIV/0!"},{"$error":"#DIV/0!"},{"$error":"#DIV/0!"},{"$error":"#DIV/0!"},{"$error":"#DIV/0!"},{"$error":"#DIV/0!"},{"$error":"#DIV/0!"},{"$error":"#DIV/0!"},{"$error":"#DIV/0!"},{"$error":"#DIV/0!"},{"$error":"#DIV/0!"},{"$error":"#DIV/0!"},{"$error":"#DIV/0!"},{"$error":"#DIV/0!"},{"$error":"#DIV/0!"},{"$error":"#DIV/0!"},{"$error":"#DIV/0!"},{"$error":"#DIV/0!"},{"$error":"#DIV/0!"},{"$error":"#DIV/0!"},{"$error":"#DIV/0!"},{"$error":"#DIV/0!"},{"$error":"#DIV/0!"},{"$error":"#DIV/0!"}]
[null,"%OTM 2",null,{"$f":"D63/C58*100","v":0.20042539267015708},0.43270604563824144,1.4063325610697883,1.0781995270351517,1.2015227218653344,0.44669096038556483,6.2414667446850008E-2,-1.0759814432185881,-0.16551724137931034,-0.10263292938064975,-0.34772987710910025,-2.0777984852690432,0.16197610852399269,0.64281382656155239,0.88776411986824133,1.2462671710133386,1.6045304388862671,2.7093977395881715E-2,1.9347598962968695E-2,-1.2612194367069018,0.28994592900242927,-0.21097046413502107,-0.50113538485631504,-1.9398756590855433,9.6304321656434336E-2,0.74163158949689323,0.73219259848786311,1.2364699375839456,2.0330120575955046,0.50481872418540608,-0.11796042617960427,-1.306716446340813,{"$f":"AJ63/AI58*100","v":5.0181425152474327E-2},6.55889501909796E-2,-0.28146206045650835,-2.3469821753083555,-0.14254038644282546,0.21411578112609042,0.72010762047954413,1.4299182903834067,1.6615027110766849,9.5241723494228353E-2,-0.15604780391261325,-1.3037014447451682,0.24719014329303621,-0.2542862646888846,-0.22789601761365832,-100,{"$error":"#DIV/0!"},{"$error":"#DIV/0!"},{"$error":"#DIV/0!"},{"$error":"#DIV/0!"},{"$error":"#DIV/0!"},{"$error":"#DIV/0!"},{"$error":"#DIV/0!"},{"$error":"#DIV/0!"},{"$error":"#DIV/0!"},{"$error":"#DIV/0!"},{"$error":"#DIV/0!"},{"$error":"#DIV/0!"},{"$error":"#DIV/0!"},{"$error":"#DIV/0!"},{"$error":"#DIV/0!"},{"$error":"#DIV/0!"},{"$f":"BP63/BO58*100","v":{"$error":"#DIV/0!"}},{"$error":"#DIV/0!"},{"$error":"#DIV/0!"},{"$error":"#DIV/0!"},{"$error":"#DIV/0!"},{"$error":"#DIV/0!"},{"$error":"#DIV/0!"},{"$error":"#DIV/0!"},{"$error":"#DIV/0!"},{"$error":"#DIV/0!"},{"$error":"#DIV/0!"},{"$error":"#DIV/0!"},{"$error":"#DIV/0!"},{"$error":"#DIV/0!"},{"$error":"#DIV/0!"},{"$error":"#DIV/0!"},{"$error":"#DIV/0!"},{"$error":"#DIV/0!"},{"$error":"#DIV/0!"},{"$error":"#DIV/0!"},{"$error":"#DIV/0!"},{"$error":"#DIV/0!"},{"$error":"#DIV/0!"},{"$error":"#DIV/0!"},{"$error":"#DIV/0!"},{"$error":"#DIV/0!"},{"$error":"#DIV/0!"},{"$error":"#DIV/0!"},{"$error":"#DIV/0!"},{"$error":"#DIV/0!"},{"$error":"#DIV/0!"},{"$error":"#DIV/0!"},{"$error":"#DIV/0!"},{"$error":"#DIV/0!"},{"$error":"#DIV/0!"},{"$error":"#DIV/0!"},{"$error":"#DIV/0!"}]
[null,null,"Used for pop-up menus. -->","None",null,null,null,null,null,null,null,null,null,null,null,null,null,null,null,null,null,null,null,null,null,null,null,null,null,null,null,null,null,null,null,null,null,null,null,null,null,null,null,null,null,null,null,null,null,null,null,null,null,null,null,null,null,null,null,null,null,{"$f":"(BJ57-BI57)/(BB57-BI57)","v":{"$error":"#DIV/0!"}}]
[null,null,"May need to change if",{"$f":"NSA!D2","v":"Total Nonfarm"},null,null,null,null,null,null,null,null,null,null,null,null,null,null,null,null,null,null,null,null,null,null,null,null,null,null,null,null,null,null,null,null,null,null,null,null,null,null,null,null,null,null,null,null,null,null,null,null,null,null,null,null,null,null,null,null,null,{"$f":"(BJ58-BI58)/(BB58-BI58)","v":{"$error":"#DIV/0!"}}]
[null,null,"NSA sector names change.",{"$f":"NSA!D3","v":"Total Private"},null,null,null,null,null,null,null,null,null,null,null,null,null,null,null,null,null,null,null,null,null,null,null,null,null,null,null,null,null,null,null,null,{"$f":"(AK57-AE57)/AE57*100","v":1.2057595504741094}]
[null,null,null,{"$f":"NSA!D4","v":"Goods Producing"}]
[null,null,null,{"$f":"NSA!D5","v":"Service-Providing"},null,null,null,null,null,null,null,null,"<-- Button no longer needed; relevant code called directly when parameter cells change."]
[null,null,null,{"$f":"NSA!D6","v":"Private Service Providing"}]
[null,null,null,{"$f":"NSA!D7","v":"Mining and Logging"},null,null,null,null,null,null,"Axis range calculations (referenced in axis-manipulation code)"]
[null,null,null,{"$f":"NSA!D9","v":"Construction"},null,null,null,null,null,null,"Ave","SD","Min","Max","SDMin","SDMax","AxisSDMin","AxisSDMax","AxisMin","AxisMax"]
[null,null,null,{"$f":"NSA!D10","v":"Construction of Buildings"},null,null,null,null,null,null,{"$f":"AVERAGE(OFFSET($C57,0,0,1,$C$4))","v":2549602.0833333335},{"$f":"STDEV(OFFSET($C57,0,0,1,$C$4))","v":49073.503227012756},{"$f":"MIN(OFFSET($C57,0,0,1,$C$4))-($C57*0.05)","v":2322560},{"$f":"MAX(OFFSET($C57,0,0,1,$C$4))*1.05","v":2759400},{"$f":"(M74-$K74)/$L74","v":-4.6265717424542263},{"$f":"(N74-$K74)/$L74","v":4.2751770888690537},{"$f":"IF(ISNA(O75),FLOOR(O74,0.25),FLOOR(MIN($O$74:$O$75),0.25))","v":-4.75},{"$f":"IF(ISNA(P75),CEILING(P74,0.25),CEILING(MAX($P$74:$P$75),0.25))","v":4.5},{"$f":"Q74*$L74+$K74","v":2316502.9430050231},{"$f":"R74*$L74+$K74","v":2770432.8478548909}]
[null,null,null,{"$f":"NSA!D11","v":"Heavy and Civil Engineering Construction"},null,null,null,null,null,null,{"$f":"AVERAGE(OFFSET($C58,0,0,1,$C$4))","v":2549602.0833333335},{"$f":"STDEV(OFFSET($C58,0,0,1,$C$4))","v":49073.503227012756},{"$f":"MIN(OFFSET($C58,0,0,1,$C$4))-($C58*0.05)","v":2322560},{"$f":"MAX(OFFSET($C58,0,0,1,$C$4))*1.05","v":2759400},{"$f":"(M75-$K75)/$L75","v":-4.6265717424542263},{"$f":"(N75-$K75)/$L75","v":4.2751770888690537},{"$f":"IF(ISNA(O74),FLOOR(O75,0.25),FLOOR(MIN($O$74:$O$75),0.25))","v":-4.75},{"$f":"IF(ISNA(P74),CEILING(P75,0.25),CEILING(MAX($P$74:$P$75),0.25))","v":4.5},{"$f":"Q75*$L75+$K75","v":2316502.9430050231},{"$f":"R75*$L75+$K75","v":2770432.8478548909}]
[null,null,null,{"$f":"NSA!D12","v":"Specialty Trade Contractors"}]
[null,null,null,{"$f":"NSA!D13","v":"Building Equipment Contractors"}]
[null,null,null,{"$f":"NSA!D14","v":"Manufacturing"}]
[null,null,null,{"$f":"NSA!D15","v":"Durable Goods"},null,null,null,null,null,null,"Ave","SD","Min","Max","SDMin","SDMax","AxisSDMin","AxisSDMax","AxisMin","AxisMax"]
[null,null,null,{"$f":"NSA!D16","v":"Wood Product Manufacturing"},null,null,null,null,null,null,{"$f":"AVERAGE(OFFSET($C60,0,0,1,$C$4))","v":472952.08333333331},{"$f":"STDEV(OFFSET($C60,0,0,1,$C$4))","v":9746.5321619741844},{"$f":"MIN(OFFSET($C60,0,0,1,$C$4))-($C60*0.05)","v":436900},{"$f":"MAX(OFFSET($C60,0,0,1,$C$4))*1.05","v":520275},{"$f":"(M80-$K80)/$L80","v":-3.6989652046693573},{"$f":"(N80-$K80)/$L80","v":4.8553594119655896},{"$f":"IF(ISNA(O75),FLOOR(O80,0.25),FLOOR(MIN($O$74:$O$75),0.25))","v":-4.75},{"$f":"IF(ISNA(P75),CEILING(P80,0.25),CEILING(MAX($P$74:$P$75),0.25))","v":4.5},{"$f":"Q80*$L80+$K80","v":426656.05556395592},{"$f":"R80*$L80+$K80","v":516811.47806221712}]
[null,null,null,{"$f":"NSA!D17","v":"Fabricated Metal Product Manufacturing"},null,null,null,null,null,null,{"$f":"AVERAGE(OFFSET($C61,0,0,1,$C$4))","v":307433.33333333331},{"$f":"STDEV(OFFSET($C61,0,0,1,$C$4))","v":5455.1686727567785},{"$f":"MIN(OFFSET($C61,0,0,1,$C$4))-($C61*0.05)","v":283460},{"$f":"MAX(OFFSET($C61,0,0,1,$C$4))*1.05","v":336735},{"$f":"(M81-$K81)/$L81","v":-4.3946089977119538},{"$f":"(N81-$K81)/$L81","v":5.371358508674497},{"$f":"IF(ISNA(O80),FLOOR(O81,0.25),FLOOR(MIN($O$74:$O$75),0.25))","v":-4.75},{"$f":"IF(ISNA(P80),CEILING(P81,0.25),CEILING(MAX($P$74:$P$75),0.25))","v":4.5},{"$f":"Q81*$L81+$K81","v":281521.2821377386},{"$f":"R81*$L81+$K81","v":331981.59236073884}]
[null,null,null,{"$f":"NSA!D18","v":"Machinery Manufacturing"}]
[null,null,null,{"$f":"NSA!D19","v":"Electrical Equipment, Appliance, and Component Manufacturing"}]
[null,null,null,{"$f":"NSA!D20","v":"Transportation Equipment Manufacturing"}]
[null,null,null,{"$f":"NSA!D21","v":"Non-Durable Goods"}]
[null,null,null,{"$f":"NSA!D22","v":"Food Manufacturing"}]
[null,null,null,{"$f":"NSA!D23","v":"Animal Slaughtering and Processing"}]
[null,null,null,{"$f":"NSA!D24","v":"Paper Manufacturing"}]
[null,null,null,{"$f":"NSA!D25","v":"Printing and Related Support Activities"}]
[null,null,null,{"$f":"NSA!D26","v":"Plastics and Rubber Products Manufacturing"}]
[null,null,null,{"$f":"NSA!D27","v":"Plastics Product Manufacturing"}]
[null,null,null,{"$f":"NSA!D28","v":"Trade, Transportation, and Utilities"}]
[null,null,null,{"$f":"NSA!D29","v":"Wholesale Trade"}]
[null,null,null,{"$f":"NSA!D30","v":"Merchant Wholesalers, Durable Goods"}]
[null,null,null,{"$f":"NSA!D31","v":"Merchant Wholesalers, Nondurable Goods"}]
[null,null,null,{"$f":"NSA!D32","v":"Grocery and Related Product Merchant Wholesalers"}]
[null,null,null,{"$f":"NSA!D33","v":"Retail Trade"}]
[null,null,null,{"$f":"NSA!D34","v":"Motor Vehicle and Parts Dealers"}]
[null,null,null,{"$f":"NSA!D35","v":"Building Material and Garden Equipment and Supplies Dealers"}]
[null,null,null,{"$f":"NSA!D36","v":"Food and Beverage Stores"}]
[null,null,null,{"$f":"NSA!D37","v":"Grocery Stores"}]
[null,null,null,{"$f":"NSA!D38","v":"Gasoline Stations"}]
[null,null,null,{"$f":"NSA!D39","v":"General Merchandise Stores"}]
[null,null,null,{"$f":"NSA!D40","v":"Department Stores"}]
[null,null,null,{"$f":"NSA!D41","v":"Nonstore Retailers"}]
[null,null,null,{"$f":"NSA!D42","v":"Electronic Shopping and Mail-Order Houses"}]
[null,null,null,{"$f":"NSA!D43","v":"Transportation, Warehousing, and Utilities"}]
[null,null,null,{"$f":"NSA!D44","v":"Utilities"}]
[null,null,null,{"$f":"NSA!D45","v":"Transportation and Warehousing"}]
[null,null,null,{"$f":"NSA!D46","v":"Truck Transportation"}]
[null,null,null,{"$f":"NSA!D47","v":"Information"}]
[null,null,null,{"$f":"NSA!D48","v":"Financial Activities"}]
[null,null,null,{"$f":"NSA!D49","v":"Finance and Insurance"}]
[null,null,null,{"$f":"NSA!D50","v":"Credit Intermediation and Related Activities including Monetary Authorities-Central Bank"}]
[null,null,null,{"$f":"NSA!D51","v":"Depository Credit Intermediation including Monetary Authorities-Central Bank"}]
[null,null,null,{"$f":"NSA!D52","v":"Insurance Carriers and Related Activities"}]
[null,null,null,{"$f":"NSA!D53","v":"Real Estate and Rental and Leasing"}]
[null,null,null,{"$f":"NSA!D54","v":"Professional and Business Services"}]
[null,null,null,{"$f":"NSA!D55","v":"Professional, Scientific, and Technical Services"}]
[null,null,null,{"$f":"NSA!D56","v":"Architectural, Engineering, and Related Services"}]
[null,null,null,{"$f":"NSA!D57","v":"Management of Companies and Enterprises"}]
[null,null,null,{"$f":"NSA!D58","v":"Administrative and Support and Waste Management and Remediation Services"}]
[null,null,null,{"$f":"NSA!D59","v":"Employment Services"}]
[null,null,null,{"$f":"NSA!D60","v":"Services to Buildings and Dwellings"}]
[null,null,null,{"$f":"NSA!D61","v":"Education and Health Services"}]
[null,null,null,{"$f":"NSA!D62","v":"Educational Services"}]
[null,null,null,{"$f":"NSA!D63","v":"Colleges, Universities, and Professional Schools"}]
[null,null,null,{"$f":"NSA!D64","v":"Health Care and Social Assistance"}]
[null,null,null,{"$f":"NSA!D65","v":"Ambulatory Health Care Services"}]
[null,null,null,{"$f":"NSA!D66","v":"Offices of Physicians"}]
[null,null,null,{"$f":"NSA!D67","v":"Outpatient Care Centers"}]
[null,null,null,{"$f":"NSA!D68","v":"Hospitals"}]
[null,null,null,{"$f":"NSA!D69","v":"Nursing and Residential Care Facilities"}]
[null,null,null,{"$f":"NSA!D70","v":"Nursing Care Facilities"}]
[null,null,null,{"$f":"NSA!D71","v":"Social Assistance"}]
[null,null,null,{"$f":"NSA!D72","v":"Leisure and Hospitality"}]
[null,null,null,{"$f":"NSA!D73","v":"Arts, Entertainment, and Recreation"}]
[null,null,null,{"$f":"NSA!D74","v":"Accommodation and Food Services"}]
[null,null,null,{"$f":"NSA!D75","v":"Accommodation"}]
[null,null,null,{"$f":"NSA!D76","v":"Food Services and Drinking Places"}]
[null,null,null,{"$f":"NSA!D77","v":"Drinking Places (Alcoholic Beverages)"}]
[null,null,null,{"$f":"NSA!D78","v":"Restaurants and Other Eating Places"}]
[null,null,null,{"$f":"NSA!D79","v":"Full-service restaurants"}]
[null,null,null,{"$f":"NSA!D80","v":"Limited Service Eating Places and Other Eating Places"}]
[null,null,null,{"$f":"NSA!D81","v":"Other Services"}]
[null,null,null,{"$f":"NSA!D82","v":"Repair and Maintenance"}]
[null,null,null,{"$f":"NSA!D83","v":"Personal and Laundry Services"}]
[null,null,null,{"$f":"NSA!D84","v":"Religious, Grantmaking, Civic, Professional, and Similar Organizations"}]
[null,null,null,{"$f":"NSA!D85","v":"Government"}]
[null,null,null,{"$f":"NSA!D86","v":"Federal Government"}]
[null,null,null,{"$f":"NSA!D87","v":"State Government"}]
[null,null,null,{"$f":"NSA!D88","v":"Local Government"}]
[null,null,null,{"$f":"NSA!D89","v":"Local Government Educational Services"}]

{"sheet":"Monthly","index":4,"n_rows":70,"n_cols":104,"rows_kept":70,"cut":false,"hidden":false,"merged":[]}
[]
[]
[]
[]
[]
[]
[]
[]
[]
[]
[]
[]
[]
[]
[]
[]
[]
[]
[]
[]
[]
[]
[]
[]
[]
[]
[]
[]
[]
[]
[]
[]
[]
[]
[]
[]
[]
[]
[]
["This graph is based on your selection in SA charts and shows the monthly fluctuations"]
[]
[]
[]
[]
[]
[]
[]
[]
[]
[]
[]
[]
[]
[]
[]
[]
[]
[]
[]
[]
[]
[]
[]
[]
[null,null,null,null,null,1,{"$f":"F65+1","v":2},{"$f":"G65+1","v":3},4,5,6,7,8,9,10,11,12,13,14,15,16,17,18,19,20,21,22,23,24,25,26,27,28,29,30,31,32,33,34,35,36,37,38,39,40,41,42,43,44,45]
[null,"3 Month Chg",null,null,{"$f":"AVERAGE('SA Charts'!C44:E44)","v":1600},{"$f":"AVERAGE('SA Charts'!D44:F44)","v":2533.3333333333335},{"$f":"AVERAGE('SA Charts'!E44:G44)","v":566.66666666666663},{"$f":"AVERAGE('SA Charts'!F44:H44)","v":-666.66666666666663},{"$f":"AVERAGE('SA Charts'!G44:I44)","v":533.33333333333337},{"$f":"AVERAGE('SA Charts'!H44:J44)","v":1800},{"$f":"AVERAGE('SA Charts'!I44:K44)","v":3700},{"$f":"AVERAGE('SA Charts'!J44:L44)","v":1233.3333333333333},{"$f":"AVERAGE('SA Charts'!K44:M44)","v":1366.6666666666667},{"$f":"AVERAGE('SA Charts'!L44:N44)","v":733.33333333333337},{"$f":"AVERAGE('SA Charts'!M44:O44)","v":3800},{"$f":"AVERAGE('SA Charts'!N44:P44)","v":4466.666666666667},{"$f":"AVERAGE('SA Charts'!O44:Q44)","v":5666.666666666667},{"$f":"AVERAGE('SA Charts'!P44:R44)","v":1700},{"$f":"AVERAGE('SA Charts'!Q44:S44)","v":-566.66666666666663},{"$f":"AVERAGE('SA Charts'!R44:T44)","v":100},{"$f":"AVERAGE('SA Charts'!S44:U44)","v":33.333333333333336},{"$f":"AVERAGE('SA Charts'!T44:V44)","v":1200},{"$f":"AVERAGE('SA Charts'!U44:W44)","v":-1400},{"$f":"AVERAGE('SA Charts'!V44:X44)","v":566.66666666666663},{"$f":"AVERAGE('SA Charts'!W44:Y44)","v":1433.3333333333333},{"$f":"AVERAGE('SA Charts'!X44:Z44)","v":4000},{"$f":"AVERAGE('SA Charts'!Y44:AA44)","v":5166.666666666667},{"$f":"AVERAGE('SA Charts'!Z44:AB44)","v":5466.666666666667},{"$f":"AVERAGE('SA Charts'!AA44:AC44)","v":6333.333333333333},{"$f":"AVERAGE('SA Charts'!AB44:AD44)","v":2100},{"$f":"AVERAGE('SA Charts'!AC44:AE44)","v":600},{"$f":"AVERAGE('SA Charts'!AD44:AF44)","v":100},{"$f":"AVERAGE('SA Charts'!AE44:AG44)","v":4366.666666666667},{"$f":"AVERAGE('SA Charts'!AF44:AH44)","v":4066.6666666666665},{"$f":"AVERAGE('SA Charts'!AG44:AI44)","v":1966.6666666666667},{"$f":"AVERAGE('SA Charts'!AH44:AJ44)","v":-500},{"$f":"AVERAGE('SA Charts'!AI44:AK44)","v":3666.6666666666665},{"$f":"AVERAGE('SA Charts'!AJ44:AL44)","v":6566.666666666667},{"$f":"AVERAGE('SA Charts'!AK44:AM44)","v":4200},{"$f":"AVERAGE('SA Charts'!AL44:AN44)","v":133.33333333333334},{"$f":"AVERAGE('SA Charts'!AM44:AO44)","v":-5033.333333333333},{"$f":"AVERAGE('SA Charts'!AN44:AP44)","v":-2700},{"$f":"AVERAGE('SA Charts'!AO44:AQ44)","v":-1833.3333333333333},{"$f":"AVERAGE('SA Charts'!AP44:AR44)","v":133.33333333333334},{"$f":"AVERAGE('SA Charts'!AQ44:AS44)","v":-833.33333333333337},{"$f":"AVERAGE('SA Charts'!AR44:AT44)","v":-1266.6666666666667},{"$f":"AVERAGE('SA Charts'!AS44:AU44)","v":-700},{"$f":"AVERAGE('SA Charts'!AT44:AV44)","v":1000},{"$f":"AVERAGE('SA Charts'!AU44:AW44)","v":1400},{"$f":"AVERAGE('SA Charts'!AV44:AX44)","v":4000},{"$f":"AVERAGE('SA Charts'!AW44:AY44)","v":{"$error":"#N/A"}},{"$f":"AVERAGE('SA Charts'!AX44:AZ44)","v":{"$error":"#N/A"}},{"$f":"AVERAGE('SA Charts'!AY44:BA44)","v":{"$error":"#N/A"}},{"$f":"AVERAGE('SA Charts'!AZ44:BB44)","v":{"$error":"#N/A"}},{"$f":"AVERAGE('SA Charts'!BA44:BC44)","v":{"$error":"#N/A"}},{"$f":"AVERAGE('SA Charts'!BB44:BD44)","v":{"$error":"#N/A"}},{"$f":"AVERAGE('SA Charts'!BC44:BE44)","v":{"$error":"#N/A"}},{"$f":"AVERAGE('SA Charts'!BD44:BF44)","v":{"$error":"#N/A"}},{"$f":"AVERAGE('SA Charts'!BE44:BG44)","v":{"$error":"#N/A"}},{"$f":"AVERAGE('SA Charts'!BF44:BH44)","v":{"$error":"#N/A"}},{"$f":"AVERAGE('SA Charts'!BG44:BI44)","v":{"$error":"#N/A"}},{"$f":"AVERAGE('SA Charts'!BH44:BJ44)","v":{"$error":"#N/A"}},{"$f":"AVERAGE('SA Charts'!BI44:BK44)","v":{"$error":"#N/A"}},{"$f":"AVERAGE('SA Charts'!BJ44:BL44)","v":{"$error":"#N/A"}},{"$f":"AVERAGE('SA Charts'!BK44:BM44)","v":{"$error":"#N/A"}},{"$f":"AVERAGE('SA Charts'!BL44:BN44)","v":{"$error":"#N/A"}},{"$f":"AVERAGE('SA Charts'!BM44:BO44)","v":{"$error":"#N/A"}},{"$f":"AVERAGE('SA Charts'!BN44:BP44)","v":{"$error":"#N/A"}},{"$f":"AVERAGE('SA Charts'!BO44:BQ44)","v":{"$error":"#N/A"}},{"$f":"AVERAGE('SA Charts'!BP44:BR44)","v":{"$error":"#N/A"}},{"$f":"AVERAGE('SA Charts'!BQ44:BS44)","v":{"$error":"#N/A"}},{"$f":"AVERAGE('SA Charts'!BR44:BT44)","v":{"$error":"#N/A"}},{"$f":"AVERAGE('SA Charts'!BS44:BU44)","v":{"$error":"#N/A"}},{"$f":"AVERAGE('SA Charts'!BT44:BV44)","v":{"$error":"#N/A"}},{"$f":"AVERAGE('SA Charts'!BU44:BW44)","v":{"$error":"#N/A"}},{"$f":"AVERAGE('SA Charts'!BV44:BX44)","v":{"$error":"#N/A"}},{"$f":"AVERAGE('SA Charts'!BW44:BY44)","v":{"$error":"#N/A"}},{"$f":"AVERAGE('SA Charts'!BX44:BZ44)","v":{"$error":"#N/A"}},{"$f":"AVERAGE('SA Charts'!BY44:CA44)","v":{"$error":"#N/A"}},{"$f":"AVERAGE('SA Charts'!BZ44:CB44)","v":{"$error":"#N/A"}},{"$f":"AVERAGE('SA Charts'!CA44:CC44)","v":{"$error":"#N/A"}},{"$f":"AVERAGE('SA Charts'!CB44:CD44)","v":{"$error":"#N/A"}},{"$f":"AVERAGE('SA Charts'!CC44:CE44)","v":{"$error":"#N/A"}},{"$f":"AVERAGE('SA Charts'!CD44:CF44)","v":{"$error":"#N/A"}},{"$f":"AVERAGE('SA Charts'!CE44:CG44)","v":{"$error":"#N/A"}},{"$f":"AVERAGE('SA Charts'!CF44:CH44)","v":{"$error":"#N/A"}},{"$f":"AVERAGE('SA Charts'!CG44:CI44)","v":{"$error":"#N/A"}},{"$f":"AVERAGE('SA Charts'!CH44:CJ44)","v":{"$error":"#N/A"}},{"$f":"AVERAGE('SA Charts'!CI44:CK44)","v":{"$error":"#N/A"}},{"$f":"AVERAGE('SA Charts'!CJ44:CL44)","v":{"$error":"#N/A"}},{"$f":"AVERAGE('SA Charts'!CK44:CM44)","v":{"$error":"#N/A"}},{"$f":"AVERAGE('SA Charts'!CL44:CN44)","v":{"$error":"#N/A"}},{"$f":"AVERAGE('SA Charts'!CM44:CO44)","v":{"$error":"#N/A"}},{"$f":"AVERAGE('SA Charts'!CN44:CP44)","v":{"$error":"#N/A"}},{"$f":"AVERAGE('SA Charts'!CO44:CQ44)","v":{"$error":"#N/A"}},{"$f":"AVERAGE('SA Charts'!CP44:CR44)","v":{"$error":"#N/A"}},{"$f":"AVERAGE('SA Charts'!CQ44:CS44)","v":{"$error":"#N/A"}},{"$f":"AVERAGE('SA Charts'!CR44:CT44)","v":{"$error":"#N/A"}},{"$f":"AVERAGE('SA Charts'!CS44:CU44)","v":{"$error":"#N/A"}},{"$f":"AVERAGE('SA Charts'!CT44:CV44)","v":{"$error":"#N/A"}},{"$f":"AVERAGE('SA Charts'!CU44:CW44)","v":{"$error":"#N/A"}},{"$f":"AVERAGE('SA Charts'!CV44:CX44)","v":{"$error":"#N/A"}},{"$f":"AVERAGE('SA Charts'!CW44:CY44)","v":{"$error":"#N/A"}},{"$f":"AVERAGE('SA Charts'!CX44:CZ44)","v":{"$error":"#N/A"}}]
[]
[]
[null,"6 mo trend","Current","Diff","Expected value",{"$f":"'SA Charts'!AX41","v":"2019-12-01"},{"$f":"'SA Charts'!AW41","v":"2019-11-01"},{"$f":"'SA Charts'!AL41","v":"2018-12-01"},null,"AVG 48 mo","AVG 24 mo","AVG 12 mo","AVG 6 mo","AVG 3 mo",null,"12 mo var","6 mo var","3 mo var"]
[{"$f":"'SA Charts'!C2","v":"Total Private"},null,null,null,{"$f":"(N70)-(F70+G70)","v":-6100},{"$f":"'SA Charts'!AX44","v":9000},{"$f":"'SA Charts'!AW44","v":1100},{"$f":"'SA Charts'!AL44","v":9100},null,{"$f":"AVERAGE('SA Charts'!D44:AX44)","v":1695.7446808510638},{"$f":"AVERAGE('SA Charts'!AA44:AX44)","v":1670.8333333333333},{"$f":"AVERAGE('SA Charts'!AM44:AX44)","v":-400},{"$f":"AVERAGE('SA Charts'!AS44:AX44)","v":1650},{"$f":"AVERAGE('SA Charts'!AV44:AX44)","v":4000},null,{"$f":"F70-L70","v":9400},{"$f":"F70-M70","v":7350},{"$f":"F70-N70","v":5000}]

{"sheet":"3Month","index":5,"n_rows":44,"n_cols":1,"rows_kept":44,"cut":false,"hidden":false,"merged":[]}
[]
[]
[]
[]
[]
[]
[]
[]
[]
[]
[]
[]
[]
[]
[]
[]
[]
[]
[]
[]
[]
[]
[]
[]
[]
[]
[]
[]
[]
[]
[]
[]
[]
[]
[]
[]
[]
[]
[]
[]
[]
["This graph is based on your selection in SA charts"]
[]
["This graph shows how providing a 3 month-view of the data smoothes out volatility.  Where you see no data are months where the 3 month average=0."]

{"sheet":"Historical","index":6,"n_rows":145,"n_cols":195,"rows_kept":145,"cut":false,"hidden":false,"merged":[[0,154,1,154],[0,155,0,162],[1,155,1,162],[2,154,2,162],[5,108,5,112],[39,108,39,112],[74,108,74,112],[75,46,75,54],[40,46,40,54],[4,13,4,15],[39,25,39,27],[39,13,39,15],[74,13,74,15],[4,46,4,54],[4,73,4,77],[4,90,4,95],[39,90,39,95],[74,90,74,95],[39,73,39,77],[74,73,74,77]]}
["CES Historical Analysis","Key","<15%","15 to 30%","31 to 45%","46 to 55%","56 to 70%","71 to 85%",">85%",null,null,null,null,null,null,null,null,null,null,null,null,null,null,null,null,null,null,null,null,null,null,null,null,null,null,null,null,null,null,null,null,null,null,null,null,null,null,null,null,null,null,null,null,null,null,null,null,null,null,null,null,null,null,null,null,null,null,null,null,null,null,null,null,null,null,null,null,null,null,null,null,null,null,null,null,null,null,null,null,null,null,null,null,null,null,null,null,"Key","<15%","15 to 30%","31 to 45%","46 to 55%","56 to 70%","71 to 85%",">85%",null,null,null,null,null,null,null,null,null,null,null,null,null,null,null,null,null,null,null,null,null,null,null,null,null,null,null,null,null,null,null,null,null,null,null,null,null,null,null,null,null,null,null,null,null,null,null,null,null,"Key","Significantly Higher Change (bolded italicized black text)"]
[null,null,"Bottom 15%",null,null,null,null,null,"Top 15%",null,null,null,null,null,null,null,null,null,null,null,null,null,null,null,null,null,null,null,null,null,null,null,null,null,null,null,null,null,null,null,null,null,null,null,null,null,null,null,null,null,null,null,null,null,null,null,null,null,null,null,null,null,null,null,null,null,null,null,null,null,null,null,null,null,null,null,null,null,null,null,null,null,null,null,null,null,null,null,null,null,null,null,null,null,null,null,null,null,"Bottom 15%",null,null,null,null,null,"Top 15%",null,null,null,null,null,null,null,null,null,null,null,null,null,null,null,null,null,null,null,null,null,null,null,null,null,null,null,null,null,null,null,null,null,null,null,null,null,null,null,null,null,null,null,null,null,null,null,null,null,null,"Significantly Lower Change (bolded italicized red text)"]
[null,null,null,null,null,null,null,null,null,null,null,null,null,null,null,null,null,null,null,null,null,null,null,null,null,null,null,null,null,null,null,null,null,null,null,null,null,null,null,null,null,null,null,null,null,null,null,null,"GM Closes",null,null,null,null,null,null,null,null,null,null,null,null,null,null,null,null,null,null,null,null,null,null,null,null,null,null,null,null,null,null,null,null,null,null,null,null,null,null,null,null,null,null,null,null,null,null,null,null,null,null,null,null,null,null,null,null,null,null,null,null,null,null,null,null,null,null,null,null,null,null,null,null,null,null,null,null,null,null,null,null,null,null,null,null,null,null,null,null,null,null,null,null,null,null,null,null,null,null,null,null,null,null,null,null,null,"Above Key applies to values starting October 2017 (non-benchmarked data)"]
[null,null,null,null,null,null,null,null,null,null,null,null,null,null,null,null,null,null,null,null,null,null,null,null,null,null,null,null,null,null,null,null,null,null,null,null,null,null,null,null,null,null,null,null,null,null,null,null,null,null,null,null,null,null,null,null,null,null,null,null,null,null,null,null,null,null,null,null,null,null,null,null,null,null,null,null,null,null,null,null,null,null,null,null,null,null,null,null,null,null,null,null,null,null,null,null,null,null,null,null,null,null,null,null,null,null,null,null,null,null,null,null,null,null,null,null,null,null,null,null,null,null,null,null,null,null,null,null,null,null,null,null,null,null,null,null,null,null,null,null,null,null,null,null,null,null,null,null,null,null,null,null,null,null,null,null,null,null,null,null,null,null,null,null,null,null,null,null,null,null,null,null,null,null,null,null,null,null,null,null,null,null,null,"Dark Red Shaded:  low performance for sector over time frame"]
[null,"Scroll to the right",null,null,null,null,null,null,null,null,null,null,null,"Housing Market Prices Peaks",null,null,null,null,null,null,null,null,null,null,null,"Housing Market Price Declines Begin",null,null,null,null,"Peak","Decline begins",null,"Floods",null,null,null,null,null,null,null,null,null,null,null,null,"Great Recession",null,null,null,null,null,null,null,null,null,null,null,null,null,null,null,null,null,null,null,null,null,null,null,null,null,null,"Act 10 Protests",null,null,null,null,"Act 10 Passes",null,null,"Education Cuts begin",null,null,null,null,null,null,null,null,"Severe Drought",null,null,null,null,null,null,null,null,null,null,null,null,null,null,null,null,null,null,"Dodd Frank",null,null,null,null,null,null,null,null,null,null,null,null,null,null,null,null,null,null,null,null,null,null,null,null,null,null,null,null,null,null,null,null,null,null,null,null,null,null,null,null,null,null,null,null,null,null,null,null,null,null,null,null,null,null,null,null,null,null,null,null,null,null,null,null,null,null,null,null,null,null,null,null,null,"Dark Blue Shaded:  high performance for sector over time frame"]
[null,null,null,null,null,null,null,null,null,null,null,null,null,null,null,null,null,null,null,null,null,null,null,null,null,null,null,null,null,null,null,null,null,null,null,null,null,null,null,null,null,null,null,null,null,null,null,null,null,null,null,null,null,null,null,null,null,null,null,null,null,null,null,null,null,null,null,null,null,null,null,null,null,null,null,null,null,null,null,null,null,null,null,null,null,null,null,null,null,null,null,null,null,null,null,null,null,null,null,null,null,null,null,null,null,null,null,null,"Severe Winter Weather/Late Spring",null,null,null,null,null,null,null,null,null,null,null,null,null,null,null,null,null,null,null,null,null,null,null,null,null,null,null,null,null,null,null,null,null,null,null,null,null,null,null,null,null,null,null,null,null,"Post Benchmark Re-estimates",null,null,null,null,null,"Long Winter!"]
["Year over Year Change","2005-01-01","2005-02-01","2005-03-01","2005-04-01","2005-05-01","2005-06-01","2005-07-01","2005-08-01","2005-09-01","2005-10-01","2005-11-01","2005-12-01","2006-01-01","2006-02-01","2006-03-01","2006-04-01","2006-05-01","2006-06-01","2006-07-01","2006-08-01","2006-09-01","2006-10-01","2006-11-01","2006-12-01","2007-01-01","2007-02-01","2007-03-01","2007-04-01","2007-05-01","2007-06-01","2007-07-01","2007-08-01","2007-09-01","2007-10-01","2007-11-01","2007-12-01","2008-01-01","2008-02-01","2008-03-01","2008-04-01","2008-05-01","2008-06-01","2008-07-01","2008-08-01","2008-09-01","2008-10-01","2008-11-01","2008-12-01","2009-01-01","2009-02-01","2009-03-01","2009-04-01","2009-05-01","2009-06-01","2009-07-01","2009-08-01","2009-09-01","2009-10-01","2009-11-01","2009-12-01","2010-01-01","2010-02-01","2010-03-01","2010-04-01","2010-05-01","2010-06-01","2010-07-01","2010-08-01","2010-09-01","2010-10-01","2010-11-01","2010-12-01","2011-01-01","2011-02-01","2011-03-01","2011-04-01","2011-05-01","2011-06-01","2011-07-01","2011-08-01","2011-09-01","2011-10-01","2011-11-01","2011-12-01","2012-01-01","2012-02-01","2012-03-01","2012-04-01","2012-05-01","2012-06-01","2012-07-01","2012-08-01","2012-09-01","2012-10-01","2012-11-01","2012-12-01","2013-01-01","2013-02-01","2013-03-01","2013-04-01","2013-05-01","2013-06-01","2013-07-01","2013-08-01","2013-09-01","2013-10-01","2013-11-01","2013-12-01","2014-01-01","2014-02-01","2014-03-01","2014-04-01","2014-05-01","2014-06-01",{"$f":"EDATE(DK7, 1)","v":"2014-07-01"},{"$f":"EDATE(DL7, 1)","v":"2014-08-01"},"2014-09-01","2014-10-01","2014-11-01","2014-12-01","2015-01-01","2015-02-01","2015-03-01","2015-04-01","2015-05-01","2015-06-01","2015-07-01","2015-08-01","2015-09-01","2015-10-01","2015-11-01","2015-12-01","2016-01-01",{"$f":"EDATE(ED7, 1)","v":"2016-02-01"},{"$f":"EDATE(EE7, 1)","v":"2016-03-01"},{"$f":"EDATE(EF7, 1)","v":"2016-04-01"},{"$f":"EDATE(EG7, 1)","v":"2016-05-01"},{"$f":"EDATE(EH7, 1)","v":"2016-06-01"},{"$f":"EDATE(EI7, 1)","v":"2016-07-01"},{"$f":"EDATE(EJ7, 1)","v":"2016-08-01"},{"$f":"EDATE(EK7, 1)","v":"2016-09-01"},"2016-10-01","2016-11-01",{"$f":"EDATE(EN7, 1)","v":"2016-12-01"},{"$f":"EDATE(EO7, 1)","v":"2017-01-01"},{"$f":"EDATE(EP7, 1)","v":"2017-02-01"},{"$f":"EDATE(EQ7, 1)","v":"2017-03-01"},"2017-04-01","2017-05-01","2017-06-01","2017-07-01","2017-08-01","2017-09-01","2017-10-01","2017-11-01",{"$f":"EDATE(EZ7, 1)","v":"2017-12-01"},{"$f":"EDATE(FA7, 1)","v":"2018-01-01"},"2018-02-01","2018-03-01","2018-04-01","2018-05-01","2018-06-01","2018-07-01","2018-08-01","2018-09-01","2018-10-01","2018-11-01","2018-12-01",{"$f":"EDATE(FM7, 1)","v":"2019-01-01"},{"$f":"EDATE(FN7, 1)","v":"2019-02-01"},{"$f":"EDATE(FO7, 1)","v":"2019-03-01"},{"$f":"EDATE(FP7, 1)","v":"2019-04-01"},{"$f":"EDATE(FQ7, 1)","v":"2019-05-01"},{"$f":"EDATE(FR7, 1)","v":"2019-06-01"},{"$f":"EDATE(FS7, 1)","v":"2019-07-01"},{"$f":"EDATE(FT7, 1)","v":"2019-08-01"},{"$f":"EDATE(FU7, 1)","v":"2019-09-01"},{"$f":"EDATE(FV7, 1)","v":"2019-10-01"},{"$f":"EDATE(FW7, 1)","v":"2019-11-01"},{"$f":"EDATE(FX7, 1)","v":"2019-12-01"},{"$f":"EDATE(FY7, 1)","v":"2020-01-01"},"Y/Y Sig","# Positive Sig Changes since October 2017","12 mo Trend","Year over Year Change","Min",0.15,0.3,0.45,0.55000000000000004,0.7,0.85,"Max","Std Deviation"]
["Total Non Farm",{"$f":"SA!BN2-SA!BB2","v":37600},{"$f":"SA!BO2-SA!BC2","v":40000},{"$f":"SA!BP2-SA!BD2","v":38800},{"$f":"SA!BQ2-SA!BE2","v":46200},{"$f":"SA!BR2-SA!BF2","v":35600},{"$f":"SA!BS2-SA!BG2","v":28900},{"$f":"SA!BT2-SA!BH2","v":28200},{"$f":"SA!BU2-SA!BI2","v":24100},{"$f":"SA!BV2-SA!BJ2","v":39200},{"$f":"SA!BW2-SA!BK2","v":25600},{"$f":"SA!BX2-SA!BL2","v":27200},{"$f":"SA!BY2-SA!BM2","v":32700},{"$f":"SA!BZ2-SA!BN2","v":30900},{"$f":"SA!CA2-SA!BO2","v":27800},{"$f":"SA!CB2-SA!BP2","v":27900},{"$f":"SA!CC2-SA!BQ2","v":26100},{"$f":"SA!CD2-SA!BR2","v":23800},{"$f":"SA!CE2-SA!BS2","v":34600},{"$f":"SA!CF2-SA!BT2","v":23500},{"$f":"SA!CG2-SA!BU2","v":21300},{"$f":"SA!CH2-SA!BV2","v":18200},{"$f":"SA!CI2-SA!BW2","v":19600},{"$f":"SA!CJ2-SA!BX2","v":17100},{"$f":"SA!CK2-SA!BY2","v":15500},{"$f":"SA!CL2-SA!BZ2","v":21200},{"$f":"SA!CM2-SA!CA2","v":15700},{"$f":"SA!CN2-SA!CB2","v":18100},{"$f":"SA!CO2-SA!CC2","v":11300},{"$f":"SA!CP2-SA!CD2","v":23600},{"$f":"SA!CQ2-SA!CE2","v":24600},{"$f":"SA!CR2-SA!CF2","v":20200},{"$f":"SA!CS2-SA!CG2","v":18400},{"$f":"SA!CT2-SA!CH2","v":14800},{"$f":"SA!CU2-SA!CI2","v":10700},{"$f":"SA!CV2-SA!CJ2","v":10200},{"$f":"SA!CW2-SA!CK2","v":12200},{"$f":"SA!CX2-SA!CL2","v":12000},{"$f":"SA!CY2-SA!CM2","v":13400},{"$f":"SA!CZ2-SA!CN2","v":5600},{"$f":"SA!DA2-SA!CO2","v":1100},{"$f":"SA!DB2-SA!CP2","v":-1700},{"$f":"SA!DC2-SA!CQ2","v":-12600},{"$f":"SA!DD2-SA!CR2","v":-9100},{"$f":"SA!DE2-SA!CS2","v":-12600},{"$f":"SA!DF2-SA!CT2","v":-9200},{"$f":"SA!DG2-SA!CU2","v":-14800},{"$f":"SA!DH2-SA!CV2","v":-23700},{"$f":"SA!DI2-SA!CW2","v":-42800},{"$f":"SA!DJ2-SA!CX2","v":-73400},{"$f":"SA!DK2-SA!CY2","v":-89600},{"$f":"SA!DL2-SA!CZ2","v":-107900},{"$f":"SA!DM2-SA!DA2","v":-125600},{"$f":"SA!DN2-SA!DB2","v":-128800},{"$f":"SA!DO2-SA!DC2","v":-139500},{"$f":"SA!DP2-SA!DD2","v":-148500},{"$f":"SA!DQ2-SA!DE2","v":-150800},{"$f":"SA!DR2-SA!DF2","v":-155300},{"$f":"SA!DS2-SA!DG2","v":-143400},{"$f":"SA!DT2-SA!DH2","v":-137600},{"$f":"SA!DU2-SA!DI2","v":-124400},{"$f":"SA!DV2-SA!DJ2","v":-99000},{"$f":"SA!DW2-SA!DK2","v":-82200},{"$f":"SA!DX2-SA!DL2","v":-59000},{"$f":"SA!DY2-SA!DM2","v":-25900},{"$f":"SA!DZ2-SA!DN2","v":-22600},{"$f":"SA!EA2-SA!DO2","v":-11500},{"$f":"SA!EB2-SA!DP2","v":3300},{"$f":"SA!EC2-SA!DQ2","v":13500},{"$f":"SA!ED2-SA!DR2","v":13500},{"$f":"SA!EE2-SA!DS2","v":22500},{"$f":"SA!EF2-SA!DT2","v":27000},{"$f":"SA!EG2-SA!DU2","v":26000},{"$f":"SA!EH2-SA!DV2","v":30700},{"$f":"SA!EI2-SA!DW2","v":32400},{"$f":"SA!EJ2-SA!DX2","v":33100},{"$f":"SA!EK2-SA!DY2","v":25800},{"$f":"SA!EL2-SA!DZ2","v":23900},{"$f":"SA!EM2-SA!EA2","v":23000},{"$f":"SA!EN2-SA!EB2","v":33100},{"$f":"SA!EO2-SA!EC2","v":26800},{"$f":"SA!EP2-SA!ED2","v":31500},{"$f":"SA!EQ2-SA!EE2","v":17700},{"$f":"SA!ER2-SA!EF2","v":17000},{"$f":"SA!ES2-SA!EG2","v":25100},{"$f":"SA!ET2-SA!EH2","v":16400},{"$f":"SA!EU2-SA!EI2","v":21000},{"$f":"SA!EV2-SA!EJ2","v":33000},{"$f":"SA!EW2-SA!EK2","v":37200},{"$f":"SA!EX2-SA!EL2","v":34700},{"$f":"SA!EY2-SA!EM2","v":36900},{"$f":"SA!EZ2-SA!EN2","v":14600},{"$f":"SA!FA2-SA!EO2","v":22100},{"$f":"SA!FB2-SA!EP2","v":24600},{"$f":"SA!FC2-SA!EQ2","v":33900},{"$f":"SA!FD2-SA!ER2","v":41600},{"$f":"SA!FE2-SA!ES2","v":32200},{"$f":"SA!FF2-SA!ET2","v":27800},{"$f":"SA!FG2-SA!EU2","v":38400},{"$f":"SA!FH2-SA!EV2","v":25300},{"$f":"SA!FI2-SA!EW2","v":6400},{"$f":"SA!FJ2-SA!EX2","v":19300},{"$f":"SA!FK2-SA!EY2","v":24300},{"$f":"SA!FL2-SA!EZ2","v":34200},{"$f":"SA!FM2-SA!FA2","v":35800},{"$f":"SA!FN2-SA!FB2","v":36900},{"$f":"SA!FO2-SA!FC2","v":32800},{"$f":"SA!FP2-SA!FD2","v":25100},{"$f":"SA!FQ2-SA!FE2","v":33100},{"$f":"SA!FR2-SA!FF2","v":46000},{"$f":"SA!FS2-SA!FG2","v":30300},{"$f":"SA!FT2-SA!FH2","v":31600},{"$f":"SA!FU2-SA!FI2","v":47700},{"$f":"SA!FV2-SA!FJ2","v":41300},{"$f":"SA!FW2-SA!FK2","v":43600},{"$f":"SA!FX2-SA!FL2","v":44000},{"$f":"SA!FY2-SA!FM2","v":50000},{"$f":"SA!FZ2-SA!FN2","v":42000},{"$f":"SA!GA2-SA!FO2","v":43200},{"$f":"SA!GB2-SA!FP2","v":53500},{"$f":"SA!GC2-SA!FQ2","v":44300},{"$f":"SA!GD2-SA!FR2","v":43600},{"$f":"SA!GE2-SA!FS2","v":44900},{"$f":"SA!GF2-SA!FT2","v":45700},{"$f":"SA!GG2-SA!FU2","v":43000},{"$f":"SA!GH2-SA!FV2","v":44300},{"$f":"SA!GI2-SA!FW2","v":39000},{"$f":"SA!GJ2-SA!FX2","v":42800},{"$f":"SA!GK2-SA!FY2","v":32600},{"$f":"SA!GL2-SA!FZ2","v":35500},{"$f":"SA!GM2-SA!GA2","v":38600},{"$f":"SA!GN2-SA!GB2","v":26100},{"$f":"SA!GO2-SA!GC2","v":38800},{"$f":"SA!GP2-SA!GD2","v":43600},{"$f":"SA!GQ2-SA!GE2","v":44200},{"$f":"SA!GR2-SA!GF2","v":39700},{"$f":"SA!GS2-SA!GG2","v":43600},{"$f":"SA!GT2-SA!GH2","v":31900},{"$f":"SA!GU2-SA!GI2","v":28900},{"$f":"SA!GV2-SA!GJ2","v":33000},{"$f":"SA!GW2-SA!GK2","v":39100},{"$f":"SA!GX2-SA!GL2","v":32300},{"$f":"SA!GY2-SA!GM2","v":27300},{"$f":"SA!GZ2-SA!GN2","v":35700},{"$f":"SA!HA2-SA!GO2","v":23400},{"$f":"SA!HB2-SA!GP2","v":22600},{"$f":"SA!HC2-SA!GQ2","v":22600},{"$f":"SA!HD2-SA!GR2","v":23900},{"$f":"SA!HE2-SA!GS2","v":17900},{"$f":"SA!HF2-SA!GT2","v":22700},{"$f":"SA!HG2-SA!GU2","v":26700},{"$f":"SA!HH2-SA!GV2","v":17600},{"$f":"SA!HI2-SA!GW2","v":7200},{"$f":"SA!HJ2-SA!GX2","v":12400},{"$f":"SA!HK2-SA!GY2","v":16300},{"$f":"SA!HL2-SA!GZ2","v":8600},{"$f":"SA!HM2-SA!HA2","v":19900},{"$f":"SA!HN2-SA!HB2","v":20900},{"$f":"SA!HO2-SA!HC2","v":23300},{"$f":"SA!HP2-SA!HD2","v":29300},{"$f":"SA!HQ2-SA!HE2","v":24000},{"$f":"SA!HR2-SA!HF2","v":25000},{"$f":"SA!HS2-SA!HG2","v":30200},{"$f":"SA!HT2-SA!HH2","v":38500},{"$f":"SA!HU2-SA!HI2","v":42800},{"$f":"SA!HV2-SA!HJ2","v":38700},{"$f":"SA!HW2-SA!HK2","v":32200},{"$f":"SA!HX2-SA!HL2","v":46300},{"$f":"SA!HY2-SA!HM2","v":48300},{"$f":"SA!HZ2-SA!HN2","v":27100},{"$f":"SA!IA2-SA!HO2","v":17800},{"$f":"SA!IB2-SA!HP2","v":7300},{"$f":"SA!IC2-SA!HQ2","v":11700},{"$f":"SA!ID2-SA!HR2","v":14300},{"$f":"SA!IE2-SA!HS2","v":10000},{"$f":"SA!IF2-SA!HT2","v":-3100},{"$f":"SA!IG2-SA!HU2","v":-7600},{"$f":"SA!IH2-SA!HV2","v":-1700},{"$f":"SA!II2-SA!HW2","v":3000},{"$f":"SA!IJ2-SA!HX2","v":-10800},{"$f":"SA!IK2-SA!HY2","v":-10100},{"$f":"SA!IL2-SA!HZ2","v":-2988600},28484.82,{"$f":"COUNTIF(EY8:FY8, \">\" &GA8)","v":8},null,"Total Non Farm",{"$f":"MIN(B8:FN8)","v":-155300},{"$f":"_xlfn.PERCENTILE.EXC($B8:$FN8,0.15)","v":-5400},{"$f":"_xlfn.PERCENTILE.EXC($B8:$FN8,0.3)","v":17700},{"$f":"_xlfn.PERCENTILE.EXC($B8:$FN8,0.45)","v":23950},{"$f":"_xlfn.PERCENTILE.EXC($B8:$FN8,0.55)","v":27050},{"$f":"_xlfn.PERCENTILE.EXC($B8:$FN8,0.7)","v":33000},{"$f":"_xlfn.PERCENTILE.EXC($B8:$FN8,0.85)","v":39850},{"$f":"MAX(B8:FN8)","v":53500},{"$f":"STDEVP(B8:FN8)","v":44373.87465699279}]
["Total Private",{"$f":"SA!BN3-SA!BB3","v":29300},{"$f":"SA!BO3-SA!BC3","v":35500},{"$f":"SA!BP3-SA!BD3","v":36700},{"$f":"SA!BQ3-SA!BE3","v":41500},{"$f":"SA!BR3-SA!BF3","v":32200},{"$f":"SA!BS3-SA!BG3","v":29600},{"$f":"SA!BT3-SA!BH3","v":26900},{"$f":"SA!BU3-SA!BI3","v":24200},{"$f":"SA!BV3-SA!BJ3","v":31200},{"$f":"SA!BW3-SA!BK3","v":23100},{"$f":"SA!BX3-SA!BL3","v":27900},{"$f":"SA!BY3-SA!BM3","v":27800},{"$f":"SA!BZ3-SA!BN3","v":31900},{"$f":"SA!CA3-SA!BO3","v":29400},{"$f":"SA!CB3-SA!BP3","v":26600},{"$f":"SA!CC3-SA!BQ3","v":25300},{"$f":"SA!CD3-SA!BR3","v":24200},{"$f":"SA!CE3-SA!BS3","v":30500},{"$f":"SA!CF3-SA!BT3","v":21900},{"$f":"SA!CG3-SA!BU3","v":19300},{"$f":"SA!CH3-SA!BV3","v":18500},{"$f":"SA!CI3-SA!BW3","v":21300},{"$f":"SA!CJ3-SA!BX3","v":16200},{"$f":"SA!CK3-SA!BY3","v":17800},{"$f":"SA!CL3-SA!BZ3","v":22700},{"$f":"SA!CM3-SA!CA3","v":17300},{"$f":"SA!CN3-SA!CB3","v":19800},{"$f":"SA!CO3-SA!CC3","v":11700},{"$f":"SA!CP3-SA!CD3","v":21500},{"$f":"SA!CQ3-SA!CE3","v":21000},{"$f":"SA!CR3-SA!CF3","v":18900},{"$f":"SA!CS3-SA!CG3","v":15900},{"$f":"SA!CT3-SA!CH3","v":11700},{"$f":"SA!CU3-SA!CI3","v":9300},{"$f":"SA!CV3-SA!CJ3","v":11200},{"$f":"SA!CW3-SA!CK3","v":9100},{"$f":"SA!CX3-SA!CL3","v":5500},{"$f":"SA!CY3-SA!CM3","v":6900},{"$f":"SA!CZ3-SA!CN3","v":1000},{"$f":"SA!DA3-SA!CO3","v":-1000},{"$f":"SA!DB3-SA!CP3","v":-5800},{"$f":"SA!DC3-SA!CQ3","v":-11600},{"$f":"SA!DD3-SA!CR3","v":-14000},{"$f":"SA!DE3-SA!CS3","v":-14900},{"$f":"SA!DF3-SA!CT3","v":-19700},{"$f":"SA!DG3-SA!CU3","v":-24000},{"$f":"SA!DH3-SA!CV3","v":-38200},{"$f":"SA!DI3-SA!CW3","v":-50100},{"$f":"SA!DJ3-SA!CX3","v":-75500},{"$f":"SA!DK3-SA!CY3","v":-93500},{"$f":"SA!DL3-SA!CZ3","v":-112500},{"$f":"SA!DM3-SA!DA3","v":-130800},{"$f":"SA!DN3-SA!DB3","v":-132600},{"$f":"SA!DO3-SA!DC3","v":-140700},{"$f":"SA!DP3-SA!DD3","v":-147800},{"$f":"SA!DQ3-SA!DE3","v":-148800},{"$f":"SA!DR3-SA!DF3","v":-140700},{"$f":"SA!DS3-SA!DG3","v":-138400},{"$f":"SA!DT3-SA!DH3","v":-127400},{"$f":"SA!DU3-SA!DI3","v":-119800},{"$f":"SA!DV3-SA!DJ3","v":-95500},{"$f":"SA!DW3-SA!DK3","v":-76100},{"$f":"SA!DX3-SA!DL3","v":-54200},{"$f":"SA!DY3-SA!DM3","v":-25200},{"$f":"SA!DZ3-SA!DN3","v":-24500},{"$f":"SA!EA3-SA!DO3","v":-13700},{"$f":"SA!EB3-SA!DP3","v":5400},{"$f":"SA!EC3-SA!DQ3","v":14800},{"$f":"SA!ED3-SA!DR3","v":12300},{"$f":"SA!EE3-SA!DS3","v":23700},{"$f":"SA!EF3-SA!DT3","v":25500},{"$f":"SA!EG3-SA!DU3","v":31500},{"$f":"SA!EH3-SA!DV3","v":32800},{"$f":"SA!EI3-SA!DW3","v":31100},{"$f":"SA!EJ3-SA!DX3","v":32600},{"$f":"SA!EK3-SA!DY3","v":31400},{"$f":"SA!EL3-SA!DZ3","v":32100},{"$f":"SA!EM3-SA!EA3","v":31300},{"$f":"SA!EN3-SA!EB3","v":33200},{"$f":"SA!EO3-SA!EC3","v":30200},{"$f":"SA!EP3-SA!ED3","v":37500},{"$f":"SA!EQ3-SA!EE3","v":27500},{"$f":"SA!ER3-SA!EF3","v":30300},{"$f":"SA!ES3-SA!EG3","v":28900},{"$f":"SA!ET3-SA!EH3","v":32200},{"$f":"SA!EU3-SA!EI3","v":35400},{"$f":"SA!EV3-SA!EJ3","v":41000},{"$f":"SA!EW3-SA!EK3","v":39000},{"$f":"SA!EX3-SA!EL3","v":34000},{"$f":"SA!EY3-SA!EM3","v":38800},{"$f":"SA!EZ3-SA!EN3","v":23800},{"$f":"SA!FA3-SA!EO3","v":23300},{"$f":"SA!FB3-SA!EP3","v":26100},{"$f":"SA!FC3-SA!EQ3","v":31300},{"$f":"SA!FD3-SA!ER3","v":32200},{"$f":"SA!FE3-SA!ES3","v":31900},{"$f":"SA!FF3-SA!ET3","v":28500},{"$f":"SA!FG3-SA!EU3","v":30700},{"$f":"SA!FH3-SA!EV3","v":26100},{"$f":"SA!FI3-SA!EW3","v":12900},{"$f":"SA!FJ3-SA!EX3","v":29500},{"$f":"SA!FK3-SA!EY3","v":27500},{"$f":"SA!FL3-SA!EZ3","v":34800},{"$f":"SA!FM3-SA!FA3","v":40300},{"$f":"SA!FN3-SA!FB3","v":35400},{"$f":"SA!FO3-SA!FC3","v":32600},{"$f":"SA!FP3-SA!FD3","v":32800},{"$f":"SA!FQ3-SA!FE3","v":33700},{"$f":"SA!FR3-SA!FF3","v":35300},{"$f":"SA!FS3-SA!FG3","v":32700},{"$f":"SA!FT3-SA!FH3","v":31700},{"$f":"SA!FU3-SA!FI3","v":45800},{"$f":"SA!FV3-SA!FJ3","v":39100},{"$f":"SA!FW3-SA!FK3","v":41400},{"$f":"SA!FX3-SA!FL3","v":42100},{"$f":"SA!FY3-SA!FM3","v":41100},{"$f":"SA!FZ3-SA!FN3","v":41100},{"$f":"SA!GA3-SA!FO3","v":42800},{"$f":"SA!GB3-SA!FP3","v":46600},{"$f":"SA!GC3-SA!FQ3","v":44000},{"$f":"SA!GD3-SA!FR3","v":45100},{"$f":"SA!GE3-SA!FS3","v":43000},{"$f":"SA!GF3-SA!FT3","v":45200},{"$f":"SA!GG3-SA!FU3","v":41100},{"$f":"SA!GH3-SA!FV3","v":44000},{"$f":"SA!GI3-SA!FW3","v":39900},{"$f":"SA!GJ3-SA!FX3","v":44300},{"$f":"SA!GK3-SA!FY3","v":41100},{"$f":"SA!GL3-SA!FZ3","v":40100},{"$f":"SA!GM3-SA!GA3","v":42300},{"$f":"SA!GN3-SA!GB3","v":38500},{"$f":"SA!GO3-SA!GC3","v":41000},{"$f":"SA!GP3-SA!GD3","v":42900},{"$f":"SA!GQ3-SA!GE3","v":45000},{"$f":"SA!GR3-SA!GF3","v":40300},{"$f":"SA!GS3-SA!GG3","v":43400},{"$f":"SA!GT3-SA!GH3","v":33700},{"$f":"SA!GU3-SA!GI3","v":28900},{"$f":"SA!GV3-SA!GJ3","v":30700},{"$f":"SA!GW3-SA!GK3","v":29200},{"$f":"SA!GX3-SA!GL3","v":29500},{"$f":"SA!GY3-SA!GM3","v":25200},{"$f":"SA!GZ3-SA!GN3","v":22600},{"$f":"SA!HA3-SA!GO3","v":20700},{"$f":"SA!HB3-SA!GP3","v":24300},{"$f":"SA!HC3-SA!GQ3","v":24600},{"$f":"SA!HD3-SA!GR3","v":28300},{"$f":"SA!HE3-SA!GS3","v":21800},{"$f":"SA!HF3-SA!GT3","v":21200},{"$f":"SA!HG3-SA!GU3","v":30600},{"$f":"SA!HH3-SA!GV3","v":20300},{"$f":"SA!HI3-SA!GW3","v":19400},{"$f":"SA!HJ3-SA!GX3","v":15300},{"$f":"SA!HK3-SA!GY3","v":18300},{"$f":"SA!HL3-SA!GZ3","v":19600},{"$f":"SA!HM3-SA!HA3","v":25100},{"$f":"SA!HN3-SA!HB3","v":22400},{"$f":"SA!HO3-SA!HC3","v":22600},{"$f":"SA!HP3-SA!HD3","v":27100},{"$f":"SA!HQ3-SA!HE3","v":23600},{"$f":"SA!HR3-SA!HF3","v":26100},{"$f":"SA!HS3-SA!HG3","v":27100},{"$f":"SA!HT3-SA!HH3","v":36600},{"$f":"SA!HU3-SA!HI3","v":34700},{"$f":"SA!HV3-SA!HJ3","v":37200},{"$f":"SA!HW3-SA!HK3","v":33400},{"$f":"SA!HX3-SA!HL3","v":41400},{"$f":"SA!HY3-SA!HM3","v":44900},{"$f":"SA!HZ3-SA!HN3","v":30500},{"$f":"SA!IA3-SA!HO3","v":25400},{"$f":"SA!IB3-SA!HP3","v":10800},{"$f":"SA!IC3-SA!HQ3","v":16100},{"$f":"SA!ID3-SA!HR3","v":18100},{"$f":"SA!IE3-SA!HS3","v":10900},{"$f":"SA!IF3-SA!HT3","v":500},{"$f":"SA!IG3-SA!HU3","v":2100},{"$f":"SA!IH3-SA!HV3","v":2900},{"$f":"SA!II3-SA!HW3","v":5000},{"$f":"SA!IJ3-SA!HX3","v":-4700},{"$f":"SA!IK3-SA!HY3","v":-4800},{"$f":"SA!IL3-SA!HZ3","v":-2584600},27395.83,{"$f":"COUNTIF(EY9:FY9, \">\" &GA9)","v":7},null,"Total Private",-148800,-8700,19800,25800,29350,32600,40300,46600,43998.401183985792]
["Goods Producing",{"$f":"SA!BN4-SA!BB4","v":3700},{"$f":"SA!BO4-SA!BC4","v":7500},{"$f":"SA!BP4-SA!BD4","v":6200},{"$f":"SA!BQ4-SA!BE4","v":5200},{"$f":"SA!BR4-SA!BF4","v":3100},{"$f":"SA!BS4-SA!BG4","v":4600},{"$f":"SA!BT4-SA!BH4","v":3200},{"$f":"SA!BU4-SA!BI4","v":1400},{"$f":"SA!BV4-SA!BJ4","v":800},{"$f":"SA!BW4-SA!BK4","v":600},{"$f":"SA!BX4-SA!BL4","v":200},{"$f":"SA!BY4-SA!BM4","v":-1300},{"$f":"SA!BZ4-SA!BN4","v":6500},{"$f":"SA!CA4-SA!BO4","v":2200},{"$f":"SA!CB4-SA!BP4","v":2100},{"$f":"SA!CC4-SA!BQ4","v":3600},{"$f":"SA!CD4-SA!BR4","v":2000},{"$f":"SA!CE4-SA!BS4","v":4100},{"$f":"SA!CF4-SA!BT4","v":700},{"$f":"SA!CG4-SA!BU4","v":300},{"$f":"SA!CH4-SA!BV4","v":-400},{"$f":"SA!CI4-SA!BW4","v":-1700},{"$f":"SA!CJ4-SA!BX4","v":-4300},{"$f":"SA!CK4-SA!BY4","v":-2500},{"$f":"SA!CL4-SA!BZ4","v":-4900},{"$f":"SA!CM4-SA!CA4","v":-7100},{"$f":"SA!CN4-SA!CB4","v":-5200},{"$f":"SA!CO4-SA!CC4","v":-8200},{"$f":"SA!CP4-SA!CD4","v":-4600},{"$f":"SA!CQ4-SA!CE4","v":-6500},{"$f":"SA!CR4-SA!CF4","v":-5900},{"$f":"SA!CS4-SA!CG4","v":-6900},{"$f":"SA!CT4-SA!CH4","v":-7900},{"$f":"SA!CU4-SA!CI4","v":-7000},{"$f":"SA!CV4-SA!CJ4","v":-4900},{"$f":"SA!CW4-SA!CK4","v":-7200},{"$f":"SA!CX4-SA!CL4","v":-7900},{"$f":"SA!CY4-SA!CM4","v":-6100},{"$f":"SA!CZ4-SA!CN4","v":-8800},{"$f":"SA!DA4-SA!CO4","v":-10900},{"$f":"SA!DB4-SA!CP4","v":-12900},{"$f":"SA!DC4-SA!CQ4","v":-13100},{"$f":"SA!DD4-SA!CR4","v":-16900},{"$f":"SA!DE4-SA!CS4","v":-18200},{"$f":"SA!DF4-SA!CT4","v":-19700},{"$f":"SA!DG4-SA!CU4","v":-21800},{"$f":"SA!DH4-SA!CV4","v":-27100},{"$f":"SA!DI4-SA!CW4","v":-32800},{"$f":"SA!DJ4-SA!CX4","v":-44600},{"$f":"SA!DK4-SA!CY4","v":-55600},{"$f":"SA!DL4-SA!CZ4","v":-65900},{"$f":"SA!DM4-SA!DA4","v":-75300},{"$f":"SA!DN4-SA!DB4","v":-80100},{"$f":"SA!DO4-SA!DC4","v":-86500},{"$f":"SA!DP4-SA!DD4","v":-87300},{"$f":"SA!DQ4-SA!DE4","v":-86200},{"$f":"SA!DR4-SA!DF4","v":-78700},{"$f":"SA!DS4-SA!DG4","v":-78600},{"$f":"SA!DT4-SA!DH4","v":-74300},{"$f":"SA!DU4-SA!DI4","v":-68600},{"$f":"SA!DV4-SA!DJ4","v":-58200},{"$f":"SA!DW4-SA!DK4","v":-46800},{"$f":"SA!DX4-SA!DL4","v":-34200},{"$f":"SA!DY4-SA!DM4","v":-18800},{"$f":"SA!DZ4-SA!DN4","v":-14000},{"$f":"SA!EA4-SA!DO4","v":-6500},{"$f":"SA!EB4-SA!DP4","v":700},{"$f":"SA!EC4-SA!DQ4","v":3800},{"$f":"SA!ED4-SA!DR4","v":900},{"$f":"SA!EE4-SA!DS4","v":4500},{"$f":"SA!EF4-SA!DT4","v":5800},{"$f":"SA!EG4-SA!DU4","v":7700},{"$f":"SA!EH4-SA!DV4","v":10300},{"$f":"SA!EI4-SA!DW4","v":11600},{"$f":"SA!EJ4-SA!DX4","v":11600},{"$f":"SA!EK4-SA!DY4","v":11700},{"$f":"SA!EL4-SA!DZ4","v":13700},{"$f":"SA!EM4-SA!EA4","v":13000},{"$f":"SA!EN4-SA!EB4","v":13900},{"$f":"SA!EO4-SA!EC4","v":13700},{"$f":"SA!EP4-SA!ED4","v":13400},{"$f":"SA!EQ4-SA!EE4","v":11800},{"$f":"SA!ER4-SA!EF4","v":13400},{"$f":"SA!ES4-SA!EG4","v":14000},{"$f":"SA!ET4-SA!EH4","v":14400},{"$f":"SA!EU4-SA!EI4","v":14400},{"$f":"SA!EV4-SA!EJ4","v":15300},{"$f":"SA!EW4-SA!EK4","v":15500},{"$f":"SA!EX4-SA!EL4","v":10900},{"$f":"SA!EY4-SA!EM4","v":12400},{"$f":"SA!EZ4-SA!EN4","v":9700},{"$f":"SA!FA4-SA!EO4","v":8400},{"$f":"SA!FB4-SA!EP4","v":9200},{"$f":"SA!FC4-SA!EQ4","v":11600},{"$f":"SA!FD4-SA!ER4","v":9600},{"$f":"SA!FE4-SA!ES4","v":10900},{"$f":"SA!FF4-SA!ET4","v":10100},{"$f":"SA!FG4-SA!EU4","v":9600},{"$f":"SA!FH4-SA!EV4","v":7300},{"$f":"SA!FI4-SA!EW4","v":100},{"$f":"SA!FJ4-SA!EX4","v":6800},{"$f":"SA!FK4-SA!EY4","v":6500},{"$f":"SA!FL4-SA!EZ4","v":5800},{"$f":"SA!FM4-SA!FA4","v":8100},{"$f":"SA!FN4-SA!FB4","v":7900},{"$f":"SA!FO4-SA!FC4","v":7400},{"$f":"SA!FP4-SA!FD4","v":9300},{"$f":"SA!FQ4-SA!FE4","v":5400},{"$f":"SA!FR4-SA!FF4","v":6900},{"$f":"SA!FS4-SA!FG4","v":6300},{"$f":"SA!FT4-SA!FH4","v":7900},{"$f":"SA!FU4-SA!FI4","v":13300},{"$f":"SA!FV4-SA!FJ4","v":11900},{"$f":"SA!FW4-SA!FK4","v":12700},{"$f":"SA!FX4-SA!FL4","v":15500},{"$f":"SA!FY4-SA!FM4","v":15100},{"$f":"SA!FZ4-SA!FN4","v":15300},{"$f":"SA!GA4-SA!FO4","v":15200},{"$f":"SA!GB4-SA!FP4","v":14400},{"$f":"SA!GC4-SA!FQ4","v":16400},{"$f":"SA!GD4-SA!FR4","v":15400},{"$f":"SA!GE4-SA!FS4","v":15500},{"$f":"SA!GF4-SA!FT4","v":13600},{"$f":"SA!GG4-SA!FU4","v":12700},{"$f":"SA!GH4-SA!FV4","v":11500},{"$f":"SA!GI4-SA!FW4","v":9200},{"$f":"SA!GJ4-SA!FX4","v":7500},{"$f":"SA!GK4-SA!FY4","v":4800},{"$f":"SA!GL4-SA!FZ4","v":4100},{"$f":"SA!GM4-SA!GA4","v":3200},{"$f":"SA!GN4-SA!GB4","v":2800},{"$f":"SA!GO4-SA!GC4","v":3000},{"$f":"SA!GP4-SA!GD4","v":1800},{"$f":"SA!GQ4-SA!GE4","v":1000},{"$f":"SA!GR4-SA!GF4","v":1800},{"$f":"SA!GS4-SA!GG4","v":900},{"$f":"SA!GT4-SA!GH4","v":-800},{"$f":"SA!GU4-SA!GI4","v":-1600},{"$f":"SA!GV4-SA!GJ4","v":-2200},{"$f":"SA!GW4-SA!GK4","v":-400},{"$f":"SA!GX4-SA!GL4","v":-700},{"$f":"SA!GY4-SA!GM4","v":300},{"$f":"SA!GZ4-SA!GN4","v":1100},{"$f":"SA!HA4-SA!GO4","v":1300},{"$f":"SA!HB4-SA!GP4","v":2600},{"$f":"SA!HC4-SA!GQ4","v":4500},{"$f":"SA!HD4-SA!GR4","v":5100},{"$f":"SA!HE4-SA!GS4","v":6100},{"$f":"SA!HF4-SA!GT4","v":7100},{"$f":"SA!HG4-SA!GU4","v":8900},{"$f":"SA!HH4-SA!GV4","v":9400},{"$f":"SA!HI4-SA!GW4","v":9200},{"$f":"SA!HJ4-SA!GX4","v":9200},{"$f":"SA!HK4-SA!GY4","v":9700},{"$f":"SA!HL4-SA!GZ4","v":10600},{"$f":"SA!HM4-SA!HA4","v":11200},{"$f":"SA!HN4-SA!HB4","v":13500},{"$f":"SA!HO4-SA!HC4","v":16100},{"$f":"SA!HP4-SA!HD4","v":18800},{"$f":"SA!HQ4-SA!HE4","v":17500},{"$f":"SA!HR4-SA!HF4","v":20300},{"$f":"SA!HS4-SA!HG4","v":24800},{"$f":"SA!HT4-SA!HH4","v":27000},{"$f":"SA!HU4-SA!HI4","v":28700},{"$f":"SA!HV4-SA!HJ4","v":30300},{"$f":"SA!HW4-SA!HK4","v":29300},{"$f":"SA!HX4-SA!HL4","v":27500},{"$f":"SA!HY4-SA!HM4","v":26400},{"$f":"SA!HZ4-SA!HN4","v":10100},{"$f":"SA!IA4-SA!HO4","v":4400},{"$f":"SA!IB4-SA!HP4","v":-700},{"$f":"SA!IC4-SA!HQ4","v":-2700},{"$f":"SA!ID4-SA!HR4","v":-3200},{"$f":"SA!IE4-SA!HS4","v":-7700},{"$f":"SA!IF4-SA!HT4","v":-13100},{"$f":"SA!IG4-SA!HU4","v":-14200},{"$f":"SA!IH4-SA!HV4","v":-17100},{"$f":"SA!II4-SA!HW4","v":-18200},{"$f":"SA!IJ4-SA!HX4","v":-17100},{"$f":"SA!IK4-SA!HY4","v":-14800},{"$f":"SA!IL4-SA!HZ4","v":-608100},13801.55,{"$f":"COUNTIF(EY10:FY10, \">\" &GA10)","v":11},null,"Goods Producing",-87300,-11900,-400,3200,6250.0000000000018,9700,13800,30300,23571.193234962455]
["Service-Providing",{"$f":"SA!BN5-SA!BB5","v":33900},{"$f":"SA!BO5-SA!BC5","v":32500},{"$f":"SA!BP5-SA!BD5","v":32600},{"$f":"SA!BQ5-SA!BE5","v":41000},{"$f":"SA!BR5-SA!BF5","v":32500},{"$f":"SA!BS5-SA!BG5","v":24300},{"$f":"SA!BT5-SA!BH5","v":25000},{"$f":"SA!BU5-SA!BI5","v":22700},{"$f":"SA!BV5-SA!BJ5","v":38400},{"$f":"SA!BW5-SA!BK5","v":25000},{"$f":"SA!BX5-SA!BL5","v":27000},{"$f":"SA!BY5-SA!BM5","v":34000},{"$f":"SA!BZ5-SA!BN5","v":24400},{"$f":"SA!CA5-SA!BO5","v":25600},{"$f":"SA!CB5-SA!BP5","v":25800},{"$f":"SA!CC5-SA!BQ5","v":22500},{"$f":"SA!CD5-SA!BR5","v":21800},{"$f":"SA!CE5-SA!BS5","v":30500},{"$f":"SA!CF5-SA!BT5","v":22800},{"$f":"SA!CG5-SA!BU5","v":21000},{"$f":"SA!CH5-SA!BV5","v":18600},{"$f":"SA!CI5-SA!BW5","v":21300},{"$f":"SA!CJ5-SA!BX5","v":21400},{"$f":"SA!CK5-SA!BY5","v":18000},{"$f":"SA!CL5-SA!BZ5","v":26100},{"$f":"SA!CM5-SA!CA5","v":22800},{"$f":"SA!CN5-SA!CB5","v":23300},{"$f":"SA!CO5-SA!CC5","v":19500},{"$f":"SA!CP5-SA!CD5","v":28200},{"$f":"SA!CQ5-SA!CE5","v":31100},{"$f":"SA!CR5-SA!CF5","v":26100},{"$f":"SA!CS5-SA!CG5","v":25300},{"$f":"SA!CT5-SA!CH5","v":22700},{"$f":"SA!CU5-SA!CI5","v":17700},{"$f":"SA!CV5-SA!CJ5","v":15100},{"$f":"SA!CW5-SA!CK5","v":19400},{"$f":"SA!CX5-SA!CL5","v":19900},{"$f":"SA!CY5-SA!CM5","v":19500},{"$f":"SA!CZ5-SA!CN5","v":14400},{"$f":"SA!DA5-SA!CO5","v":12000},{"$f":"SA!DB5-SA!CP5","v":11200},{"$f":"SA!DC5-SA!CQ5","v":500},{"$f":"SA!DD5-SA!CR5","v":7800},{"$f":"SA!DE5-SA!CS5","v":5600},{"$f":"SA!DF5-SA!CT5","v":10500},{"$f":"SA!DG5-SA!CU5","v":7000},{"$f":"SA!DH5-SA!CV5","v":3400},{"$f":"SA!DI5-SA!CW5","v":-10000},{"$f":"SA!DJ5-SA!CX5","v":-28800},{"$f":"SA!DK5-SA!CY5","v":-34000},{"$f":"SA!DL5-SA!CZ5","v":-42000},{"$f":"SA!DM5-SA!DA5","v":-50300},{"$f":"SA!DN5-SA!DB5","v":-48700},{"$f":"SA!DO5-SA!DC5","v":-53000},{"$f":"SA!DP5-SA!DD5","v":-61200},{"$f":"SA!DQ5-SA!DE5","v":-64600},{"$f":"SA!DR5-SA!DF5","v":-76600},{"$f":"SA!DS5-SA!DG5","v":-64800},{"$f":"SA!DT5-SA!DH5","v":-63300},{"$f":"SA!DU5-SA!DI5","v":-55800},{"$f":"SA!DV5-SA!DJ5","v":-40800},{"$f":"SA!DW5-SA!DK5","v":-35400},{"$f":"SA!DX5-SA!DL5","v":-24800},{"$f":"SA!DY5-SA!DM5","v":-7100},{"$f":"SA!DZ5-SA!DN5","v":-8600},{"$f":"SA!EA5-SA!DO5","v":-5000},{"$f":"SA!EB5-SA!DP5","v":2600},{"$f":"SA!EC5-SA!DQ5","v":9700},{"$f":"SA!ED5-SA!DR5","v":12600},{"$f":"SA!EE5-SA!DS5","v":18000},{"$f":"SA!EF5-SA!DT5","v":21200},{"$f":"SA!EG5-SA!DU5","v":18300},{"$f":"SA!EH5-SA!DV5","v":20400},{"$f":"SA!EI5-SA!DW5","v":20800},{"$f":"SA!EJ5-SA!DX5","v":21500},{"$f":"SA!EK5-SA!DY5","v":14100},{"$f":"SA!EL5-SA!DZ5","v":10200},{"$f":"SA!EM5-SA!EA5","v":10000},{"$f":"SA!EN5-SA!EB5","v":19200},{"$f":"SA!EO5-SA!EC5","v":13100},{"$f":"SA!EP5-SA!ED5","v":18100},{"$f":"SA!EQ5-SA!EE5","v":5900},{"$f":"SA!ER5-SA!EF5","v":3600},{"$f":"SA!ES5-SA!EG5","v":11100},{"$f":"SA!ET5-SA!EH5","v":2000},{"$f":"SA!EU5-SA!EI5","v":6600},{"$f":"SA!EV5-SA!EJ5","v":17700},{"$f":"SA!EW5-SA!EK5","v":21700},{"$f":"SA!EX5-SA!EL5","v":23800},{"$f":"SA!EY5-SA!EM5","v":24500},{"$f":"SA!EZ5-SA!EN5","v":4900},{"$f":"SA!FA5-SA!EO5","v":13700},{"$f":"SA!FB5-SA!EP5","v":15400},{"$f":"SA!FC5-SA!EQ5","v":22300},{"$f":"SA!FD5-SA!ER5","v":32000},{"$f":"SA!FE5-SA!ES5","v":21300},{"$f":"SA!FF5-SA!ET5","v":17700},{"$f":"SA!FG5-SA!EU5","v":28800},{"$f":"SA!FH5-SA!EV5","v":18000},{"$f":"SA!FI5-SA!EW5","v":6300},{"$f":"SA!FJ5-SA!EX5","v":12500},{"$f":"SA!FK5-SA!EY5","v":17800},{"$f":"SA!FL5-SA!EZ5","v":28400},{"$f":"SA!FM5-SA!FA5","v":27700},{"$f":"SA!FN5-SA!FB5","v":29000},{"$f":"SA!FO5-SA!FC5","v":25400},{"$f":"SA!FP5-SA!FD5","v":15800},{"$f":"SA!FQ5-SA!FE5","v":27700},{"$f":"SA!FR5-SA!FF5","v":39100},{"$f":"SA!FS5-SA!FG5","v":24000},{"$f":"SA!FT5-SA!FH5","v":23700},{"$f":"SA!FU5-SA!FI5","v":34400},{"$f":"SA!FV5-SA!FJ5","v":29400},{"$f":"SA!FW5-SA!FK5","v":30900},{"$f":"SA!FX5-SA!FL5","v":28500},{"$f":"SA!FY5-SA!FM5","v":34900},{"$f":"SA!FZ5-SA!FN5","v":26700},{"$f":"SA!GA5-SA!FO5","v":28000},{"$f":"SA!GB5-SA!FP5","v":39100},{"$f":"SA!GC5-SA!FQ5","v":27900},{"$f":"SA!GD5-SA!FR5","v":28200},{"$f":"SA!GE5-SA!FS5","v":29400},{"$f":"SA!GF5-SA!FT5","v":32100},{"$f":"SA!GG5-SA!FU5","v":30300},{"$f":"SA!GH5-SA!FV5","v":32800},{"$f":"SA!GI5-SA!FW5","v":29800},{"$f":"SA!GJ5-SA!FX5","v":35300},{"$f":"SA!GK5-SA!FY5","v":27800},{"$f":"SA!GL5-SA!FZ5","v":31400},{"$f":"SA!GM5-SA!GA5","v":35400},{"$f":"SA!GN5-SA!GB5","v":23300},{"$f":"SA!GO5-SA!GC5","v":35800},{"$f":"SA!GP5-SA!GD5","v":41800},{"$f":"SA!GQ5-SA!GE5","v":43200},{"$f":"SA!GR5-SA!GF5","v":37900},{"$f":"SA!GS5-SA!GG5","v":42700},{"$f":"SA!GT5-SA!GH5","v":32700},{"$f":"SA!GU5-SA!GI5","v":30500},{"$f":"SA!GV5-SA!GJ5","v":35200},{"$f":"SA!GW5-SA!GK5","v":39500},{"$f":"SA!GX5-SA!GL5","v":33000},{"$f":"SA!GY5-SA!GM5","v":27000},{"$f":"SA!GZ5-SA!GN5","v":34600},{"$f":"SA!HA5-SA!GO5","v":22100},{"$f":"SA!HB5-SA!GP5","v":20000},{"$f":"SA!HC5-SA!GQ5","v":18100},{"$f":"SA!HD5-SA!GR5","v":18800},{"$f":"SA!HE5-SA!GS5","v":11800},{"$f":"SA!HF5-SA!GT5","v":15600},{"$f":"SA!HG5-SA!GU5","v":17800},{"$f":"SA!HH5-SA!GV5","v":8200},{"$f":"SA!HI5-SA!GW5","v":-2000},{"$f":"SA!HJ5-SA!GX5","v":3200},{"$f":"SA!HK5-SA!GY5","v":6600},{"$f":"SA!HL5-SA!GZ5","v":-2000},{"$f":"SA!HM5-SA!HA5","v":8700},{"$f":"SA!HN5-SA!HB5","v":7400},{"$f":"SA!HO5-SA!HC5","v":7200},{"$f":"SA!HP5-SA!HD5","v":10500},{"$f":"SA!HQ5-SA!HE5","v":6500},{"$f":"SA!HR5-SA!HF5","v":4700},{"$f":"SA!HS5-SA!HG5","v":5400},{"$f":"SA!HT5-SA!HH5","v":11500},{"$f":"SA!HU5-SA!HI5","v":14100},{"$f":"SA!HV5-SA!HJ5","v":8400},{"$f":"SA!HW5-SA!HK5","v":2900},{"$f":"SA!HX5-SA!HL5","v":18800},{"$f":"SA!HY5-SA!HM5","v":21900},{"$f":"SA!HZ5-SA!HN5","v":17000},{"$f":"SA!IA5-SA!HO5","v":13400},{"$f":"SA!IB5-SA!HP5","v":8000},{"$f":"SA!IC5-SA!HQ5","v":14400},{"$f":"SA!ID5-SA!HR5","v":17500},{"$f":"SA!IE5-SA!HS5","v":17700},{"$f":"SA!IF5-SA!HT5","v":10000},{"$f":"SA!IG5-SA!HU5","v":6600},{"$f":"SA!IH5-SA!HV5","v":15400},{"$f":"SA!II5-SA!HW5","v":21200},{"$f":"SA!IJ5-SA!HX5","v":6300},{"$f":"SA!IK5-SA!HY5","v":4700},{"$f":"SA!IL5-SA!HZ5","v":-2380500}," n/a ",{"$f":"COUNTIF(EY11:FY11, \">\" &GA11)","v":0},null,"Service-Providing",-76600,3050,11200,18200,21450,26099.999999999996,32050,43200,23028.167461204263]
["Private Service Providing",{"$f":"SA!BN6-SA!BB6","v":25600},{"$f":"SA!BO6-SA!BC6","v":28000},{"$f":"SA!BP6-SA!BD6","v":30500},{"$f":"SA!BQ6-SA!BE6","v":36300},{"$f":"SA!BR6-SA!BF6","v":29100},{"$f":"SA!BS6-SA!BG6","v":25000},{"$f":"SA!BT6-SA!BH6","v":23700},{"$f":"SA!BU6-SA!BI6","v":22800},{"$f":"SA!BV6-SA!BJ6","v":30400},{"$f":"SA!BW6-SA!BK6","v":22500},{"$f":"SA!BX6-SA!BL6","v":27700},{"$f":"SA!BY6-SA!BM6","v":29100},{"$f":"SA!BZ6-SA!BN6","v":25400},{"$f":"SA!CA6-SA!BO6","v":27200},{"$f":"SA!CB6-SA!BP6","v":24500},{"$f":"SA!CC6-SA!BQ6","v":21700},{"$f":"SA!CD6-SA!BR6","v":22200},{"$f":"SA!CE6-SA!BS6","v":26400},{"$f":"SA!CF6-SA!BT6","v":21200},{"$f":"SA!CG6-SA!BU6","v":19000},{"$f":"SA!CH6-SA!BV6","v":18900},{"$f":"SA!CI6-SA!BW6","v":23000},{"$f":"SA!CJ6-SA!BX6","v":20500},{"$f":"SA!CK6-SA!BY6","v":20300},{"$f":"SA!CL6-SA!BZ6","v":27600},{"$f":"SA!CM6-SA!CA6","v":24400},{"$f":"SA!CN6-SA!CB6","v":25000},{"$f":"SA!CO6-SA!CC6","v":19900},{"$f":"SA!CP6-SA!CD6","v":26100},{"$f":"SA!CQ6-SA!CE6","v":27500},{"$f":"SA!CR6-SA!CF6","v":24800},{"$f":"SA!CS6-SA!CG6","v":22800},{"$f":"SA!CT6-SA!CH6","v":19600},{"$f":"SA!CU6-SA!CI6","v":16300},{"$f":"SA!CV6-SA!CJ6","v":16100},{"$f":"SA!CW6-SA!CK6","v":16300},{"$f":"SA!CX6-SA!CL6","v":13400},{"$f":"SA!CY6-SA!CM6","v":13000},{"$f":"SA!CZ6-SA!CN6","v":9800},{"$f":"SA!DA6-SA!CO6","v":9900},{"$f":"SA!DB6-SA!CP6","v":7100},{"$f":"SA!DC6-SA!CQ6","v":1500},{"$f":"SA!DD6-SA!CR6","v":2900},{"$f":"SA!DE6-SA!CS6","v":3300},{"$f":"SA!DF6-SA!CT6","v":0},{"$f":"SA!DG6-SA!CU6","v":-2200},{"$f":"SA!DH6-SA!CV6","v":-11100},{"$f":"SA!DI6-SA!CW6","v":-17300},{"$f":"SA!DJ6-SA!CX6","v":-30900},{"$f":"SA!DK6-SA!CY6","v":-37900},{"$f":"SA!DL6-SA!CZ6","v":-46600},{"$f":"SA!DM6-SA!DA6","v":-55500},{"$f":"SA!DN6-SA!DB6","v":-52500},{"$f":"SA!DO6-SA!DC6","v":-54200},{"$f":"SA!DP6-SA!DD6","v":-60500},{"$f":"SA!DQ6-SA!DE6","v":-62600},{"$f":"SA!DR6-SA!DF6","v":-62000},{"$f":"SA!DS6-SA!DG6","v":-59800},{"$f":"SA!DT6-SA!DH6","v":-53100},{"$f":"SA!DU6-SA!DI6","v":-51200},{"$f":"SA!DV6-SA!DJ6","v":-37300},{"$f":"SA!DW6-SA!DK6","v":-29300},{"$f":"SA!DX6-SA!DL6","v":-20000},{"$f":"SA!DY6-SA!DM6","v":-6400},{"$f":"SA!DZ6-SA!DN6","v":-10500},{"$f":"SA!EA6-SA!DO6","v":-7200},{"$f":"SA!EB6-SA!DP6","v":4700},{"$f":"SA!EC6-SA!DQ6","v":11000},{"$f":"SA!ED6-SA!DR6","v":11400},{"$f":"SA!EE6-SA!DS6","v":19200},{"$f":"SA!EF6-SA!DT6","v":19700},{"$f":"SA!EG6-SA!DU6","v":23800},{"$f":"SA!EH6-SA!DV6","v":22500},{"$f":"SA!EI6-SA!DW6","v":19500},{"$f":"SA!EJ6-SA!DX6","v":21000},{"$f":"SA!EK6-SA!DY6","v":19700},{"$f":"SA!EL6-SA!DZ6","v":18400},{"$f":"SA!EM6-SA!EA6","v":18300},{"$f":"SA!EN6-SA!EB6","v":19300},{"$f":"SA!EO6-SA!EC6","v":16500},{"$f":"SA!EP6-SA!ED6","v":24100},{"$f":"SA!EQ6-SA!EE6","v":15700},{"$f":"SA!ER6-SA!EF6","v":16900},{"$f":"SA!ES6-SA!EG6","v":14900},{"$f":"SA!ET6-SA!EH6","v":17800},{"$f":"SA!EU6-SA!EI6","v":21000},{"$f":"SA!EV6-SA!EJ6","v":25700},{"$f":"SA!EW6-SA!EK6","v":23500},{"$f":"SA!EX6-SA!EL6","v":23100},{"$f":"SA!EY6-SA!EM6","v":26400},{"$f":"SA!EZ6-SA!EN6","v":14100},{"$f":"SA!FA6-SA!EO6","v":14900},{"$f":"SA!FB6-SA!EP6","v":16900},{"$f":"SA!FC6-SA!EQ6","v":19700},{"$f":"SA!FD6-SA!ER6","v":22600},{"$f":"SA!FE6-SA!ES6","v":21000},{"$f":"SA!FF6-SA!ET6","v":18400},{"$f":"SA!FG6-SA!EU6","v":21100},{"$f":"SA!FH6-SA!EV6","v":18800},{"$f":"SA!FI6-SA!EW6","v":12800},{"$f":"SA!FJ6-SA!EX6","v":22700},{"$f":"SA!FK6-SA!EY6","v":21000},{"$f":"SA!FL6-SA!EZ6","v":29000},{"$f":"SA!FM6-SA!FA6","v":32200},{"$f":"SA!FN6-SA!FB6","v":27500},{"$f":"SA!FO6-SA!FC6","v":25200},{"$f":"SA!FP6-SA!FD6","v":23500},{"$f":"SA!FQ6-SA!FE6","v":28300},{"$f":"SA!FR6-SA!FF6","v":28400},{"$f":"SA!FS6-SA!FG6","v":26400},{"$f":"SA!FT6-SA!FH6","v":23800},{"$f":"SA!FU6-SA!FI6","v":32500},{"$f":"SA!FV6-SA!FJ6","v":27200},{"$f":"SA!FW6-SA!FK6","v":28700},{"$f":"SA!FX6-SA!FL6","v":26600},{"$f":"SA!FY6-SA!FM6","v":26000},{"$f":"SA!FZ6-SA!FN6","v":25800},{"$f":"SA!GA6-SA!FO6","v":27600},{"$f":"SA!GB6-SA!FP6","v":32200},{"$f":"SA!GC6-SA!FQ6","v":27600},{"$f":"SA!GD6-SA!FR6","v":29700},{"$f":"SA!GE6-SA!FS6","v":27500},{"$f":"SA!GF6-SA!FT6","v":31600},{"$f":"SA!GG6-SA!FU6","v":28400},{"$f":"SA!GH6-SA!FV6","v":32500},{"$f":"SA!GI6-SA!FW6","v":30700},{"$f":"SA!GJ6-SA!FX6","v":36800},{"$f":"SA!GK6-SA!FY6","v":36300},{"$f":"SA!GL6-SA!FZ6","v":36000},{"$f":"SA!GM6-SA!GA6","v":39100},{"$f":"SA!GN6-SA!GB6","v":35700},{"$f":"SA!GO6-SA!GC6","v":38000},{"$f":"SA!GP6-SA!GD6","v":41100},{"$f":"SA!GQ6-SA!GE6","v":44000},{"$f":"SA!GR6-SA!GF6","v":38500},{"$f":"SA!GS6-SA!GG6","v":42500},{"$f":"SA!GT6-SA!GH6","v":34500},{"$f":"SA!GU6-SA!GI6","v":30500},{"$f":"SA!GV6-SA!GJ6","v":32900},{"$f":"SA!GW6-SA!GK6","v":29600},{"$f":"SA!GX6-SA!GL6","v":30200},{"$f":"SA!GY6-SA!GM6","v":24900},{"$f":"SA!GZ6-SA!GN6","v":21500},{"$f":"SA!HA6-SA!GO6","v":19400},{"$f":"SA!HB6-SA!GP6","v":21700},{"$f":"SA!HC6-SA!GQ6","v":20100},{"$f":"SA!HD6-SA!GR6","v":23200},{"$f":"SA!HE6-SA!GS6","v":15700},{"$f":"SA!HF6-SA!GT6","v":14100},{"$f":"SA!HG6-SA!GU6","v":21700},{"$f":"SA!HH6-SA!GV6","v":10900},{"$f":"SA!HI6-SA!GW6","v":10200},{"$f":"SA!HJ6-SA!GX6","v":6100},{"$f":"SA!HK6-SA!GY6","v":8600},{"$f":"SA!HL6-SA!GZ6","v":9000},{"$f":"SA!HM6-SA!HA6","v":13900},{"$f":"SA!HN6-SA!HB6","v":8900},{"$f":"SA!HO6-SA!HC6","v":6500},{"$f":"SA!HP6-SA!HD6","v":8300},{"$f":"SA!HQ6-SA!HE6","v":6100},{"$f":"SA!HR6-SA!HF6","v":5800},{"$f":"SA!HS6-SA!HG6","v":2300},{"$f":"SA!HT6-SA!HH6","v":9600},{"$f":"SA!HU6-SA!HI6","v":6000},{"$f":"SA!HV6-SA!HJ6","v":6900},{"$f":"SA!HW6-SA!HK6","v":4100},{"$f":"SA!HX6-SA!HL6","v":13900},{"$f":"SA!HY6-SA!HM6","v":18500},{"$f":"SA!HZ6-SA!HN6","v":20400},{"$f":"SA!IA6-SA!HO6","v":21000},{"$f":"SA!IB6-SA!HP6","v":11500},{"$f":"SA!IC6-SA!HQ6","v":18800},{"$f":"SA!ID6-SA!HR6","v":21300},{"$f":"SA!IE6-SA!HS6","v":18600},{"$f":"SA!IF6-SA!HT6","v":13600},{"$f":"SA!IG6-SA!HU6","v":16300},{"$f":"SA!IH6-SA!HV6","v":20000},{"$f":"SA!II6-SA!HW6","v":23200},{"$f":"SA!IJ6-SA!HX6","v":12400},{"$f":"SA!IK6-SA!HY6","v":10000},{"$f":"SA!IL6-SA!HZ6","v":-1976500},23664.97,{"$f":"COUNTIF(EY12:FY12, \">\" &GA12)","v":0},null,"Private Service Providing",-62600,3100,13900,19650,21700,25599.999999999996,29350,44000,22205.310172725611]
["Mining and Logging",{"$f":"SA!BN7-SA!BB7","v":100},{"$f":"SA!BO7-SA!BC7","v":100},{"$f":"SA!BP7-SA!BD7","v":200},{"$f":"SA!BQ7-SA!BE7","v":100},{"$f":"SA!BR7-SA!BF7","v":100},{"$f":"SA!BS7-SA!BG7","v":200},{"$f":"SA!BT7-SA!BH7","v":200},{"$f":"SA!BU7-SA!BI7","v":200},{"$f":"SA!BV7-SA!BJ7","v":200},{"$f":"SA!BW7-SA!BK7","v":0},{"$f":"SA!BX7-SA!BL7","v":0},{"$f":"SA!BY7-SA!BM7","v":-100},{"$f":"SA!BZ7-SA!BN7","v":100},{"$f":"SA!CA7-SA!BO7","v":100},{"$f":"SA!CB7-SA!BP7","v":0},{"$f":"SA!CC7-SA!BQ7","v":100},{"$f":"SA!CD7-SA!BR7","v":100},{"$f":"SA!CE7-SA!BS7","v":0},{"$f":"SA!CF7-SA!BT7","v":-100},{"$f":"SA!CG7-SA!BU7","v":-100},{"$f":"SA!CH7-SA!BV7","v":-100},{"$f":"SA!CI7-SA!BW7","v":0},{"$f":"SA!CJ7-SA!BX7","v":-200},{"$f":"SA!CK7-SA!BY7","v":-100},{"$f":"SA!CL7-SA!BZ7","v":-200},{"$f":"SA!CM7-SA!CA7","v":-200},{"$f":"SA!CN7-SA!CB7","v":-200},{"$f":"SA!CO7-SA!CC7","v":-200},{"$f":"SA!CP7-SA!CD7","v":-300},{"$f":"SA!CQ7-SA!CE7","v":-400},{"$f":"SA!CR7-SA!CF7","v":-200},{"$f":"SA!CS7-SA!CG7","v":-300},{"$f":"SA!CT7-SA!CH7","v":-300},{"$f":"SA!CU7-SA!CI7","v":-300},{"$f":"SA!CV7-SA!CJ7","v":-200},{"$f":"SA!CW7-SA!CK7","v":-400},{"$f":"SA!CX7-SA!CL7","v":-300},{"$f":"SA!CY7-SA!CM7","v":-300},{"$f":"SA!CZ7-SA!CN7","v":-400},{"$f":"SA!DA7-SA!CO7","v":-400},{"$f":"SA!DB7-SA!CP7","v":-400},{"$f":"SA!DC7-SA!CQ7","v":-200},{"$f":"SA!DD7-SA!CR7","v":-300},{"$f":"SA!DE7-SA!CS7","v":-200},{"$f":"SA!DF7-SA!CT7","v":-200},{"$f":"SA!DG7-SA!CU7","v":-300},{"$f":"SA!DH7-SA!CV7","v":-300},{"$f":"SA!DI7-SA!CW7","v":-200},{"$f":"SA!DJ7-SA!CX7","v":-300},{"$f":"SA!DK7-SA!CY7","v":-400},{"$f":"SA!DL7-SA!CZ7","v":-400},{"$f":"SA!DM7-SA!DA7","v":-500},{"$f":"SA!DN7-SA!DB7","v":-300},{"$f":"SA!DO7-SA!DC7","v":-500},{"$f":"SA!DP7-SA!DD7","v":-400},{"$f":"SA!DQ7-SA!DE7","v":-400},{"$f":"SA!DR7-SA!DF7","v":-400},{"$f":"SA!DS7-SA!DG7","v":-300},{"$f":"SA!DT7-SA!DH7","v":-400},{"$f":"SA!DU7-SA!DI7","v":-200},{"$f":"SA!DV7-SA!DJ7","v":-300},{"$f":"SA!DW7-SA!DK7","v":-200},{"$f":"SA!DX7-SA!DL7","v":-100},{"$f":"SA!DY7-SA!DM7","v":100},{"$f":"SA!DZ7-SA!DN7","v":0},{"$f":"SA!EA7-SA!DO7","v":0},{"$f":"SA!EB7-SA!DP7","v":0},{"$f":"SA!EC7-SA!DQ7","v":0},{"$f":"SA!ED7-SA!DR7","v":-100},{"$f":"SA!EE7-SA!DS7","v":0},{"$f":"SA!EF7-SA!DT7","v":0},{"$f":"SA!EG7-SA!DU7","v":-100},{"$f":"SA!EH7-SA!DV7","v":100},{"$f":"SA!EI7-SA!DW7","v":100},{"$f":"SA!EJ7-SA!DX7","v":100},{"$f":"SA!EK7-SA!DY7","v":-100},{"$f":"SA!EL7-SA!DZ7","v":-100},{"$f":"SA!EM7-SA!EA7","v":200},{"$f":"SA!EN7-SA!EB7","v":0},{"$f":"SA!EO7-SA!EC7","v":0},{"$f":"SA!EP7-SA!ED7","v":200},{"$f":"SA!EQ7-SA!EE7","v":200},{"$f":"SA!ER7-SA!EF7","v":400},{"$f":"SA!ES7-SA!EG7","v":400},{"$f":"SA!ET7-SA!EH7","v":300},{"$f":"SA!EU7-SA!EI7","v":400},{"$f":"SA!EV7-SA!EJ7","v":500},{"$f":"SA!EW7-SA!EK7","v":700},{"$f":"SA!EX7-SA!EL7","v":600},{"$f":"SA!EY7-SA!EM7","v":400},{"$f":"SA!EZ7-SA!EN7","v":500},{"$f":"SA!FA7-SA!EO7","v":500},{"$f":"SA!FB7-SA!EP7","v":400},{"$f":"SA!FC7-SA!EQ7","v":300},{"$f":"SA!FD7-SA!ER7","v":200},{"$f":"SA!FE7-SA!ES7","v":300},{"$f":"SA!FF7-SA!ET7","v":300},{"$f":"SA!FG7-SA!EU7","v":200},{"$f":"SA!FH7-SA!EV7","v":0},{"$f":"SA!FI7-SA!EW7","v":-100},{"$f":"SA!FJ7-SA!EX7","v":200},{"$f":"SA!FK7-SA!EY7","v":200},{"$f":"SA!FL7-SA!EZ7","v":200},{"$f":"SA!FM7-SA!FA7","v":300},{"$f":"SA!FN7-SA!FB7","v":300},{"$f":"SA!FO7-SA!FC7","v":300},{"$f":"SA!FP7-SA!FD7","v":300},{"$f":"SA!FQ7-SA!FE7","v":200},{"$f":"SA!FR7-SA!FF7","v":300},{"$f":"SA!FS7-SA!FG7","v":300},{"$f":"SA!FT7-SA!FH7","v":300},{"$f":"SA!FU7-SA!FI7","v":400},{"$f":"SA!FV7-SA!FJ7","v":300},{"$f":"SA!FW7-SA!FK7","v":300},{"$f":"SA!FX7-SA!FL7","v":400},{"$f":"SA!FY7-SA!FM7","v":400},{"$f":"SA!FZ7-SA!FN7","v":400},{"$f":"SA!GA7-SA!FO7","v":500},{"$f":"SA!GB7-SA!FP7","v":500},{"$f":"SA!GC7-SA!FQ7","v":600},{"$f":"SA!GD7-SA!FR7","v":500},{"$f":"SA!GE7-SA!FS7","v":500},{"$f":"SA!GF7-SA!FT7","v":500},{"$f":"SA!GG7-SA!FU7","v":400},{"$f":"SA!GH7-SA!FV7","v":300},{"$f":"SA!GI7-SA!FW7","v":200},{"$f":"SA!GJ7-SA!FX7","v":0},{"$f":"SA!GK7-SA!FY7","v":-100},{"$f":"SA!GL7-SA!FZ7","v":-200},{"$f":"SA!GM7-SA!GA7","v":-300},{"$f":"SA!GN7-SA!GB7","v":-300},{"$f":"SA!GO7-SA!GC7","v":-300},{"$f":"SA!GP7-SA!GD7","v":-400},{"$f":"SA!GQ7-SA!GE7","v":-500},{"$f":"SA!GR7-SA!GF7","v":-400},{"$f":"SA!GS7-SA!GG7","v":-500},{"$f":"SA!GT7-SA!GH7","v":-500},{"$f":"SA!GU7-SA!GI7","v":-500},{"$f":"SA!GV7-SA!GJ7","v":-500},{"$f":"SA!GW7-SA!GK7","v":-400},{"$f":"SA!GX7-SA!GL7","v":-400},{"$f":"SA!GY7-SA!GM7","v":-300},{"$f":"SA!GZ7-SA!GN7","v":-300},{"$f":"SA!HA7-SA!GO7","v":-300},{"$f":"SA!HB7-SA!GP7","v":-100},{"$f":"SA!HC7-SA!GQ7","v":100},{"$f":"SA!HD7-SA!GR7","v":300},{"$f":"SA!HE7-SA!GS7","v":500},{"$f":"SA!HF7-SA!GT7","v":500},{"$f":"SA!HG7-SA!GU7","v":700},{"$f":"SA!HH7-SA!GV7","v":800},{"$f":"SA!HI7-SA!GW7","v":900},{"$f":"SA!HJ7-SA!GX7","v":1000},{"$f":"SA!HK7-SA!GY7","v":800},{"$f":"SA!HL7-SA!GZ7","v":900},{"$f":"SA!HM7-SA!HA7","v":700},{"$f":"SA!HN7-SA!HB7","v":700},{"$f":"SA!HO7-SA!HC7","v":600},{"$f":"SA!HP7-SA!HD7","v":400},{"$f":"SA!HQ7-SA!HE7","v":300},{"$f":"SA!HR7-SA!HF7","v":200},{"$f":"SA!HS7-SA!HG7","v":200},{"$f":"SA!HT7-SA!HH7","v":200},{"$f":"SA!HU7-SA!HI7","v":0},{"$f":"SA!HV7-SA!HJ7","v":0},{"$f":"SA!HW7-SA!HK7","v":100},{"$f":"SA!HX7-SA!HL7","v":0},{"$f":"SA!HY7-SA!HM7","v":100},{"$f":"SA!HZ7-SA!HN7","v":100},{"$f":"SA!IA7-SA!HO7","v":200},{"$f":"SA!IB7-SA!HP7","v":200},{"$f":"SA!IC7-SA!HQ7","v":200},{"$f":"SA!ID7-SA!HR7","v":300},{"$f":"SA!IE7-SA!HS7","v":200},{"$f":"SA!IF7-SA!HT7","v":100},{"$f":"SA!IG7-SA!HU7","v":100},{"$f":"SA!IH7-SA!HV7","v":0},{"$f":"SA!II7-SA!HW7","v":100},{"$f":"SA!IJ7-SA!HX7","v":100},{"$f":"SA!IK7-SA!HY7","v":0},{"$f":"SA!IL7-SA!HZ7","v":-4700},1018.255,{"$f":"COUNTIF(EY13:FY13, \">\" &GA13)","v":0},null,"Mining and Logging",-500,-300,-200,0,100,200,400,1000,340.37918292057827]
["Construction",{"$f":"SA!BN9-SA!BB9","v":1100},{"$f":"SA!BO9-SA!BC9","v":1700},{"$f":"SA!BP9-SA!BD9","v":800},{"$f":"SA!BQ9-SA!BE9","v":1100},{"$f":"SA!BR9-SA!BF9","v":900},{"$f":"SA!BS9-SA!BG9","v":600},{"$f":"SA!BT9-SA!BH9","v":600},{"$f":"SA!BU9-SA!BI9","v":400},{"$f":"SA!BV9-SA!BJ9","v":500},{"$f":"SA!BW9-SA!BK9","v":600},{"$f":"SA!BX9-SA!BL9","v":600},{"$f":"SA!BY9-SA!BM9","v":-200},{"$f":"SA!BZ9-SA!BN9","v":2199.9999999999854},{"$f":"SA!CA9-SA!BO9","v":2299.9999999999854},{"$f":"SA!CB9-SA!BP9","v":1400},{"$f":"SA!CC9-SA!BQ9","v":2300},{"$f":"SA!CD9-SA!BR9","v":500},{"$f":"SA!CE9-SA!BS9","v":1500},{"$f":"SA!CF9-SA!BT9","v":-600},{"$f":"SA!CG9-SA!BU9","v":-600},{"$f":"SA!CH9-SA!BV9","v":-1300},{"$f":"SA!CI9-SA!BW9","v":-1800},{"$f":"SA!CJ9-SA!BX9","v":-3200},{"$f":"SA!CK9-SA!BY9","v":-1100},{"$f":"SA!CL9-SA!BZ9","v":-1899.9999999999854},{"$f":"SA!CM9-SA!CA9","v":-4399.9999999999854},{"$f":"SA!CN9-SA!CB9","v":-600},{"$f":"SA!CO9-SA!CC9","v":-3600},{"$f":"SA!CP9-SA!CD9","v":-700},{"$f":"SA!CQ9-SA!CE9","v":-1900},{"$f":"SA!CR9-SA!CF9","v":-1100},{"$f":"SA!CS9-SA!CG9","v":-1100},{"$f":"SA!CT9-SA!CH9","v":-1000},{"$f":"SA!CU9-SA!CI9","v":-300},{"$f":"SA!CV9-SA!CJ9","v":300},{"$f":"SA!CW9-SA!CK9","v":-2300},{"$f":"SA!CX9-SA!CL9","v":-4600},{"$f":"SA!CY9-SA!CM9","v":-3300},{"$f":"SA!CZ9-SA!CN9","v":-6500},{"$f":"SA!DA9-SA!CO9","v":-7000},{"$f":"SA!DB9-SA!CP9","v":-7500},{"$f":"SA!DC9-SA!CQ9","v":-7100},{"$f":"SA!DD9-SA!CR9","v":-7200},{"$f":"SA!DE9-SA!CS9","v":-7700},{"$f":"SA!DF9-SA!CT9","v":-8200},{"$f":"SA!DG9-SA!CU9","v":-9500},{"$f":"SA!DH9-SA!CV9","v":-11300},{"$f":"SA!DI9-SA!CW9","v":-12200},{"$f":"SA!DJ9-SA!CX9","v":-14200},{"$f":"SA!DK9-SA!CY9","v":-14300},{"$f":"SA!DL9-SA!CZ9","v":-16300},{"$f":"SA!DM9-SA!DA9","v":-16700},{"$f":"SA!DN9-SA!DB9","v":-16900},{"$f":"SA!DO9-SA!DC9","v":-18000},{"$f":"SA!DP9-SA!DD9","v":-18500},{"$f":"SA!DQ9-SA!DE9","v":-19000},{"$f":"SA!DR9-SA!DF9","v":-18200},{"$f":"SA!DS9-SA!DG9","v":-17700},{"$f":"SA!DT9-SA!DH9","v":-16000},{"$f":"SA!DU9-SA!DI9","v":-14800},{"$f":"SA!DV9-SA!DJ9","v":-12000},{"$f":"SA!DW9-SA!DK9","v":-11800},{"$f":"SA!DX9-SA!DL9","v":-9800},{"$f":"SA!DY9-SA!DM9","v":-5900},{"$f":"SA!DZ9-SA!DN9","v":-8500},{"$f":"SA!EA9-SA!DO9","v":-7600},{"$f":"SA!EB9-SA!DP9","v":-6800},{"$f":"SA!EC9-SA!DQ9","v":-5400},{"$f":"SA!ED9-SA!DR9","v":-5100},{"$f":"SA!EE9-SA!DS9","v":-3500},{"$f":"SA!EF9-SA!DT9","v":-4100},{"$f":"SA!EG9-SA!DU9","v":-3800},{"$f":"SA!EH9-SA!DV9","v":-3500},{"$f":"SA!EI9-SA!DW9","v":-3300},{"$f":"SA!EJ9-SA!DX9","v":-2800},{"$f":"SA!EK9-SA!DY9","v":-4500},{"$f":"SA!EL9-SA!DZ9","v":-1600},{"$f":"SA!EM9-SA!EA9","v":-1400},{"$f":"SA!EN9-SA!EB9","v":-500},{"$f":"SA!EO9-SA!EC9","v":-700},{"$f":"SA!EP9-SA!ED9","v":-700},{"$f":"SA!EQ9-SA!EE9","v":-2000},{"$f":"SA!ER9-SA!EF9","v":-600},{"$f":"SA!ES9-SA!EG9","v":-100},{"$f":"SA!ET9-SA!EH9","v":100},{"$f":"SA!EU9-SA!EI9","v":1000},{"$f":"SA!EV9-SA!EJ9","v":1900},{"$f":"SA!EW9-SA!EK9","v":4100},{"$f":"SA!EX9-SA!EL9","v":100},{"$f":"SA!EY9-SA!EM9","v":0},{"$f":"SA!EZ9-SA!EN9","v":-1000},{"$f":"SA!FA9-SA!EO9","v":-1200},{"$f":"SA!FB9-SA!EP9","v":-400},{"$f":"SA!FC9-SA!EQ9","v":1200},{"$f":"SA!FD9-SA!ER9","v":900},{"$f":"SA!FE9-SA!ES9","v":3000},{"$f":"SA!FF9-SA!ET9","v":3700},{"$f":"SA!FG9-SA!EU9","v":4200},{"$f":"SA!FH9-SA!EV9","v":3400},{"$f":"SA!FI9-SA!EW9","v":-1500},{"$f":"SA!FJ9-SA!EX9","v":5500},{"$f":"SA!FK9-SA!EY9","v":5800},{"$f":"SA!FL9-SA!EZ9","v":6900},{"$f":"SA!FM9-SA!FA9","v":8000},{"$f":"SA!FN9-SA!FB9","v":7400},{"$f":"SA!FO9-SA!FC9","v":6400},{"$f":"SA!FP9-SA!FD9","v":6900},{"$f":"SA!FQ9-SA!FE9","v":3300},{"$f":"SA!FR9-SA!FF9","v":3800},{"$f":"SA!FS9-SA!FG9","v":3000},{"$f":"SA!FT9-SA!FH9","v":3600},{"$f":"SA!FU9-SA!FI9","v":6400},{"$f":"SA!FV9-SA!FJ9","v":4100},{"$f":"SA!FW9-SA!FK9","v":5300},{"$f":"SA!FX9-SA!FL9","v":5100},{"$f":"SA!FY9-SA!FM9","v":5000},{"$f":"SA!FZ9-SA!FN9","v":5600},{"$f":"SA!GA9-SA!FO9","v":5700},{"$f":"SA!GB9-SA!FP9","v":5600},{"$f":"SA!GC9-SA!FQ9","v":7300},{"$f":"SA!GD9-SA!FR9","v":7200},{"$f":"SA!GE9-SA!FS9","v":6800},{"$f":"SA!GF9-SA!FT9","v":6100},{"$f":"SA!GG9-SA!FU9","v":7500},{"$f":"SA!GH9-SA!FV9","v":7400},{"$f":"SA!GI9-SA!FW9","v":6000},{"$f":"SA!GJ9-SA!FX9","v":5700},{"$f":"SA!GK9-SA!FY9","v":4700},{"$f":"SA!GL9-SA!FZ9","v":3900},{"$f":"SA!GM9-SA!GA9","v":4100},{"$f":"SA!GN9-SA!GB9","v":4100},{"$f":"SA!GO9-SA!GC9","v":5100},{"$f":"SA!GP9-SA!GD9","v":3900},{"$f":"SA!GQ9-SA!GE9","v":4600},{"$f":"SA!GR9-SA!GF9","v":5200},{"$f":"SA!GS9-SA!GG9","v":3300},{"$f":"SA!GT9-SA!GH9","v":2000},{"$f":"SA!GU9-SA!GI9","v":2000},{"$f":"SA!GV9-SA!GJ9","v":2300},{"$f":"SA!GW9-SA!GK9","v":3100},{"$f":"SA!GX9-SA!GL9","v":3500},{"$f":"SA!GY9-SA!GM9","v":3200},{"$f":"SA!GZ9-SA!GN9","v":3700},{"$f":"SA!HA9-SA!GO9","v":2500},{"$f":"SA!HB9-SA!GP9","v":3300},{"$f":"SA!HC9-SA!GQ9","v":4100},{"$f":"SA!HD9-SA!GR9","v":3400},{"$f":"SA!HE9-SA!GS9","v":4800},{"$f":"SA!HF9-SA!GT9","v":5200},{"$f":"SA!HG9-SA!GU9","v":5500},{"$f":"SA!HH9-SA!GV9","v":5200},{"$f":"SA!HI9-SA!GW9","v":4700},{"$f":"SA!HJ9-SA!GX9","v":4500},{"$f":"SA!HK9-SA!GY9","v":3000},{"$f":"SA!HL9-SA!GZ9","v":2300},{"$f":"SA!HM9-SA!HA9","v":3100},{"$f":"SA!HN9-SA!HB9","v":3100},{"$f":"SA!HO9-SA!HC9","v":3400},{"$f":"SA!HP9-SA!HD9","v":5600},{"$f":"SA!HQ9-SA!HE9","v":3200},{"$f":"SA!HR9-SA!HF9","v":4700},{"$f":"SA!HS9-SA!HG9","v":5900},{"$f":"SA!HT9-SA!HH9","v":5700},{"$f":"SA!HU9-SA!HI9","v":6600},{"$f":"SA!HV9-SA!HJ9","v":7300},{"$f":"SA!HW9-SA!HK9","v":9000},{"$f":"SA!HX9-SA!HL9","v":8600},{"$f":"SA!HY9-SA!HM9","v":8500},{"$f":"SA!HZ9-SA!HN9","v":7800},{"$f":"SA!IA9-SA!HO9","v":6100},{"$f":"SA!IB9-SA!HP9","v":2800},{"$f":"SA!IC9-SA!HQ9","v":1800},{"$f":"SA!ID9-SA!HR9","v":2600},{"$f":"SA!IE9-SA!HS9","v":1700},{"$f":"SA!IF9-SA!HT9","v":2100},{"$f":"SA!IG9-SA!HU9","v":1700},{"$f":"SA!IH9-SA!HV9","v":2500},{"$f":"SA!II9-SA!HW9","v":2400},{"$f":"SA!IJ9-SA!HX9","v":2800},{"$f":"SA!IK9-SA!HY9","v":2200},{"$f":"SA!IL9-SA!HZ9","v":-125900},8374.6949999999997,{"$f":"COUNTIF(EY14:FY14, \">\" &GA14)","v":3},null,"Construction",-19000,-7050,-1400,500,2000,3799.9999999999986,5600,9000,6448.2749624412581]
["Manufacturing",{"$f":"SA!BN10-SA!BB10","v":2500},{"$f":"SA!BO10-SA!BC10","v":5700},{"$f":"SA!BP10-SA!BD10","v":5200},{"$f":"SA!BQ10-SA!BE10","v":4000},{"$f":"SA!BR10-SA!BF10","v":2100},{"$f":"SA!BS10-SA!BG10","v":3800},{"$f":"SA!BT10-SA!BH10","v":2400},{"$f":"SA!BU10-SA!BI10","v":800},{"$f":"SA!BV10-SA!BJ10","v":100},{"$f":"SA!BW10-SA!BK10","v":0},{"$f":"SA!BX10-SA!BL10","v":-400},{"$f":"SA!BY10-SA!BM10","v":-1000},{"$f":"SA!BZ10-SA!BN10","v":4200},{"$f":"SA!CA10-SA!BO10","v":-200},{"$f":"SA!CB10-SA!BP10","v":700},{"$f":"SA!CC10-SA!BQ10","v":1200},{"$f":"SA!CD10-SA!BR10","v":1400},{"$f":"SA!CE10-SA!BS10","v":2600},{"$f":"SA!CF10-SA!BT10","v":1400},{"$f":"SA!CG10-SA!BU10","v":1000},{"$f":"SA!CH10-SA!BV10","v":1000},{"$f":"SA!CI10-SA!BW10","v":100},{"$f":"SA!CJ10-SA!BX10","v":-900},{"$f":"SA!CK10-SA!BY10","v":-1300},{"$f":"SA!CL10-SA!BZ10","v":-2800},{"$f":"SA!CM10-SA!CA10","v":-2500},{"$f":"SA!CN10-SA!CB10","v":-4400},{"$f":"SA!CO10-SA!CC10","v":-4400},{"$f":"SA!CP10-SA!CD10","v":-3600},{"$f":"SA!CQ10-SA!CE10","v":-4200},{"$f":"SA!CR10-SA!CF10","v":-4600},{"$f":"SA!CS10-SA!CG10","v":-5500},{"$f":"SA!CT10-SA!CH10","v":-6600},{"$f":"SA!CU10-SA!CI10","v":-6400},{"$f":"SA!CV10-SA!CJ10","v":-5000},{"$f":"SA!CW10-SA!CK10","v":-4500},{"$f":"SA!CX10-SA!CL10","v":-3000},{"$f":"SA!CY10-SA!CM10","v":-2500},{"$f":"SA!CZ10-SA!CN10","v":-1900},{"$f":"SA!DA10-SA!CO10","v":-3500},{"$f":"SA!DB10-SA!CP10","v":-5000},{"$f":"SA!DC10-SA!CQ10","v":-5800},{"$f":"SA!DD10-SA!CR10","v":-9400},{"$f":"SA!DE10-SA!CS10","v":-10300},{"$f":"SA!DF10-SA!CT10","v":-11300},{"$f":"SA!DG10-SA!CU10","v":-12000},{"$f":"SA!DH10-SA!CV10","v":-15500},{"$f":"SA!DI10-SA!CW10","v":-20400},{"$f":"SA!DJ10-SA!CX10","v":-30100},{"$f":"SA!DK10-SA!CY10","v":-40900},{"$f":"SA!DL10-SA!CZ10","v":-49200},{"$f":"SA!DM10-SA!DA10","v":-58100},{"$f":"SA!DN10-SA!DB10","v":-62900},{"$f":"SA!DO10-SA!DC10","v":-68000},{"$f":"SA!DP10-SA!DD10","v":-68400},{"$f":"SA!DQ10-SA!DE10","v":-66800},{"$f":"SA!DR10-SA!DF10","v":-60100},{"$f":"SA!DS10-SA!DG10","v":-60600},{"$f":"SA!DT10-SA!DH10","v":-57900},{"$f":"SA!DU10-SA!DI10","v":-53600},{"$f":"SA!DV10-SA!DJ10","v":-45900},{"$f":"SA!DW10-SA!DK10","v":-34800},{"$f":"SA!DX10-SA!DL10","v":-24300},{"$f":"SA!DY10-SA!DM10","v":-13000},{"$f":"SA!DZ10-SA!DN10","v":-5500},{"$f":"SA!EA10-SA!DO10","v":1100},{"$f":"SA!EB10-SA!DP10","v":7500},{"$f":"SA!EC10-SA!DQ10","v":9200},{"$f":"SA!ED10-SA!DR10","v":6100},{"$f":"SA!EE10-SA!DS10","v":8000},{"$f":"SA!EF10-SA!DT10","v":9900},{"$f":"SA!EG10-SA!DU10","v":11600},{"$f":"SA!EH10-SA!DV10","v":13700},{"$f":"SA!EI10-SA!DW10","v":14800},{"$f":"SA!EJ10-SA!DX10","v":14300},{"$f":"SA!EK10-SA!DY10","v":16300},{"$f":"SA!EL10-SA!DZ10","v":15400},{"$f":"SA!EM10-SA!EA10","v":14200},{"$f":"SA!EN10-SA!EB10","v":14400},{"$f":"SA!EO10-SA!EC10","v":14400},{"$f":"SA!EP10-SA!ED10","v":13900},{"$f":"SA!EQ10-SA!EE10","v":13600},{"$f":"SA!ER10-SA!EF10","v":13600},{"$f":"SA!ES10-SA!EG10","v":13700},{"$f":"SA!ET10-SA!EH10","v":14000},{"$f":"SA!EU10-SA!EI10","v":13000},{"$f":"SA!EV10-SA!EJ10","v":12900},{"$f":"SA!EW10-SA!EK10","v":10700},{"$f":"SA!EX10-SA!EL10","v":10200},{"$f":"SA!EY10-SA!EM10","v":12000},{"$f":"SA!EZ10-SA!EN10","v":10200},{"$f":"SA!FA10-SA!EO10","v":9100},{"$f":"SA!FB10-SA!EP10","v":9200},{"$f":"SA!FC10-SA!EQ10","v":10100},{"$f":"SA!FD10-SA!ER10","v":8500},{"$f":"SA!FE10-SA!ES10","v":7600},{"$f":"SA!FF10-SA!ET10","v":6100},{"$f":"SA!FG10-SA!EU10","v":5200},{"$f":"SA!FH10-SA!EV10","v":3900},{"$f":"SA!FI10-SA!EW10","v":1700},{"$f":"SA!FJ10-SA!EX10","v":1100},{"$f":"SA!FK10-SA!EY10","v":500},{"$f":"SA!FL10-SA!EZ10","v":-1300},{"$f":"SA!FM10-SA!FA10","v":-200},{"$f":"SA!FN10-SA!FB10","v":200},{"$f":"SA!FO10-SA!FC10","v":700},{"$f":"SA!FP10-SA!FD10","v":2100},{"$f":"SA!FQ10-SA!FE10","v":1900},{"$f":"SA!FR10-SA!FF10","v":2800},{"$f":"SA!FS10-SA!FG10","v":3000},{"$f":"SA!FT10-SA!FH10","v":4000},{"$f":"SA!FU10-SA!FI10","v":6500},{"$f":"SA!FV10-SA!FJ10","v":7500},{"$f":"SA!FW10-SA!FK10","v":7100},{"$f":"SA!FX10-SA!FL10","v":10000},{"$f":"SA!FY10-SA!FM10","v":9700},{"$f":"SA!FZ10-SA!FN10","v":9300},{"$f":"SA!GA10-SA!FO10","v":9000},{"$f":"SA!GB10-SA!FP10","v":8300},{"$f":"SA!GC10-SA!FQ10","v":8500},{"$f":"SA!GD10-SA!FR10","v":7700},{"$f":"SA!GE10-SA!FS10","v":8200},{"$f":"SA!GF10-SA!FT10","v":7000},{"$f":"SA!GG10-SA!FU10","v":4800},{"$f":"SA!GH10-SA!FV10","v":3800},{"$f":"SA!GI10-SA!FW10","v":3000},{"$f":"SA!GJ10-SA!FX10","v":1800},{"$f":"SA!GK10-SA!FY10","v":200},{"$f":"SA!GL10-SA!FZ10","v":400},{"$f":"SA!GM10-SA!GA10","v":-600},{"$f":"SA!GN10-SA!GB10","v":-1000},{"$f":"SA!GO10-SA!GC10","v":-1800},{"$f":"SA!GP10-SA!GD10","v":-1700},{"$f":"SA!GQ10-SA!GE10","v":-3100},{"$f":"SA!GR10-SA!GF10","v":-3000},{"$f":"SA!GS10-SA!GG10","v":-1900},{"$f":"SA!GT10-SA!GH10","v":-2300},{"$f":"SA!GU10-SA!GI10","v":-3100},{"$f":"SA!GV10-SA!GJ10","v":-4000},{"$f":"SA!GW10-SA!GK10","v":-3100},{"$f":"SA!GX10-SA!GL10","v":-3800},{"$f":"SA!GY10-SA!GM10","v":-2600},{"$f":"SA!GZ10-SA!GN10","v":-2300},{"$f":"SA!HA10-SA!GO10","v":-900},{"$f":"SA!HB10-SA!GP10","v":-600},{"$f":"SA!HC10-SA!GQ10","v":300},{"$f":"SA!HD10-SA!GR10","v":1400},{"$f":"SA!HE10-SA!GS10","v":800},{"$f":"SA!HF10-SA!GT10","v":1400},{"$f":"SA!HG10-SA!GU10","v":2700},{"$f":"SA!HH10-SA!GV10","v":3400},{"$f":"SA!HI10-SA!GW10","v":3600},{"$f":"SA!HJ10-SA!GX10","v":3700},{"$f":"SA!HK10-SA!GY10","v":5900},{"$f":"SA!HL10-SA!GZ10","v":7400},{"$f":"SA!HM10-SA!HA10","v":7400},{"$f":"SA!HN10-SA!HB10","v":9700},{"$f":"SA!HO10-SA!HC10","v":12100},{"$f":"SA!HP10-SA!HD10","v":12800},{"$f":"SA!HQ10-SA!HE10","v":14000},{"$f":"SA!HR10-SA!HF10","v":15400},{"$f":"SA!HS10-SA!HG10","v":18700},{"$f":"SA!HT10-SA!HH10","v":21100},{"$f":"SA!HU10-SA!HI10","v":22100},{"$f":"SA!HV10-SA!HJ10","v":23000},{"$f":"SA!HW10-SA!HK10","v":20200},{"$f":"SA!HX10-SA!HL10","v":18900},{"$f":"SA!HY10-SA!HM10","v":17800},{"$f":"SA!HZ10-SA!HN10","v":2200},{"$f":"SA!IA10-SA!HO10","v":-1900},{"$f":"SA!IB10-SA!HP10","v":-3700},{"$f":"SA!IC10-SA!HQ10","v":-4700},{"$f":"SA!ID10-SA!HR10","v":-6100},{"$f":"SA!IE10-SA!HS10","v":-9600},{"$f":"SA!IF10-SA!HT10","v":-15300},{"$f":"SA!IG10-SA!HU10","v":-16000},{"$f":"SA!IH10-SA!HV10","v":-19600},{"$f":"SA!II10-SA!HW10","v":-20700},{"$f":"SA!IJ10-SA!HX10","v":-20000},{"$f":"SA!IK10-SA!HY10","v":-17000},{"$f":"SA!IL10-SA!HZ10","v":-477500},10922.8,{"$f":"COUNTIF(EY15:FY15, \">\" &GA15)","v":11},null,"Manufacturing",-68400,-5650,-1900,900,2550.0000000000014,7400,12450,23000,17950.952534458065]
["  Durable Goods",{"$f":"SA!BN11-SA!BB11","v":4600},{"$f":"SA!BO11-SA!BC11","v":8100},{"$f":"SA!BP11-SA!BD11","v":7800},{"$f":"SA!BQ11-SA!BE11","v":7600},{"$f":"SA!BR11-SA!BF11","v":5700},{"$f":"SA!BS11-SA!BG11","v":6900},{"$f":"SA!BT11-SA!BH11","v":4600},{"$f":"SA!BU11-SA!BI11","v":3500},{"$f":"SA!BV11-SA!BJ11","v":3000},{"$f":"SA!BW11-SA!BK11","v":3100},{"$f":"SA!BX11-SA!BL11","v":2000},{"$f":"SA!BY11-SA!BM11","v":1200},{"$f":"SA!BZ11-SA!BN11","v":6200},{"$f":"SA!CA11-SA!BO11","v":1700},{"$f":"SA!CB11-SA!BP11","v":2600},{"$f":"SA!CC11-SA!BQ11","v":2300},{"$f":"SA!CD11-SA!BR11","v":3000},{"$f":"SA!CE11-SA!BS11","v":3900},{"$f":"SA!CF11-SA!BT11","v":3400},{"$f":"SA!CG11-SA!BU11","v":2900},{"$f":"SA!CH11-SA!BV11","v":2800},{"$f":"SA!CI11-SA!BW11","v":1700},{"$f":"SA!CJ11-SA!BX11","v":1000},{"$f":"SA!CK11-SA!BY11","v":700},{"$f":"SA!CL11-SA!BZ11","v":-1300},{"$f":"SA!CM11-SA!CA11","v":-1300},{"$f":"SA!CN11-SA!CB11","v":-3400},{"$f":"SA!CO11-SA!CC11","v":-2600},{"$f":"SA!CP11-SA!CD11","v":-2800},{"$f":"SA!CQ11-SA!CE11","v":-4300},{"$f":"SA!CR11-SA!CF11","v":-4400},{"$f":"SA!CS11-SA!CG11","v":-5300},{"$f":"SA!CT11-SA!CH11","v":-6300},{"$f":"SA!CU11-SA!CI11","v":-6000},{"$f":"SA!CV11-SA!CJ11","v":-5100},{"$f":"SA!CW11-SA!CK11","v":-4900},{"$f":"SA!CX11-SA!CL11","v":-3200},{"$f":"SA!CY11-SA!CM11","v":-2800},{"$f":"SA!CZ11-SA!CN11","v":-2000},{"$f":"SA!DA11-SA!CO11","v":-4000},{"$f":"SA!DB11-SA!CP11","v":-4600},{"$f":"SA!DC11-SA!CQ11","v":-4700},{"$f":"SA!DD11-SA!CR11","v":-6500},{"$f":"SA!DE11-SA!CS11","v":-7800},{"$f":"SA!DF11-SA!CT11","v":-8400},{"$f":"SA!DG11-SA!CU11","v":-9500},{"$f":"SA!DH11-SA!CV11","v":-11600},{"$f":"SA!DI11-SA!CW11","v":-15300},{"$f":"SA!DJ11-SA!CX11","v":-23300},{"$f":"SA!DK11-SA!CY11","v":-32200},{"$f":"SA!DL11-SA!CZ11","v":-39400},{"$f":"SA!DM11-SA!DA11","v":-46900},{"$f":"SA!DN11-SA!DB11","v":-51000.000000000029},{"$f":"SA!DO11-SA!DC11","v":-54900.000000000029},{"$f":"SA!DP11-SA!DD11","v":-55500},{"$f":"SA!DQ11-SA!DE11","v":-54700},{"$f":"SA!DR11-SA!DF11","v":-49800},{"$f":"SA!DS11-SA!DG11","v":-48700},{"$f":"SA!DT11-SA!DH11","v":-47300},{"$f":"SA!DU11-SA!DI11","v":-44000},{"$f":"SA!DV11-SA!DJ11","v":-37800},{"$f":"SA!DW11-SA!DK11","v":-28500},{"$f":"SA!DX11-SA!DL11","v":-19600},{"$f":"SA!DY11-SA!DM11","v":-10100},{"$f":"SA!DZ11-SA!DN11","v":-4299.9999999999418},{"$f":"SA!EA11-SA!DO11","v":700.00000000005821},{"$f":"SA!EB11-SA!DP11","v":4199.9999999999709},{"$f":"SA!EC11-SA!DQ11","v":7100},{"$f":"SA!ED11-SA!DR11","v":5200},{"$f":"SA!EE11-SA!DS11","v":5799.9999999999709},{"$f":"SA!EF11-SA!DT11","v":7500},{"$f":"SA!EG11-SA!DU11","v":9400},{"$f":"SA!EH11-SA!DV11","v":11100},{"$f":"SA!EI11-SA!DW11","v":12200},{"$f":"SA!EJ11-SA!DX11","v":11700},{"$f":"SA!EK11-SA!DY11","v":12900},{"$f":"SA!EL11-SA!DZ11","v":12299.999999999971},{"$f":"SA!EM11-SA!EA11","v":12399.999999999971},{"$f":"SA!EN11-SA!EB11","v":13100.000000000029},{"$f":"SA!EO11-SA!EC11","v":12000},{"$f":"SA!EP11-SA!ED11","v":11300},{"$f":"SA!EQ11-SA!EE11","v":11100.000000000029},{"$f":"SA!ER11-SA!EF11","v":11500},{"$f":"SA!ES11-SA!EG11","v":11100},{"$f":"SA!ET11-SA!EH11","v":11700},{"$f":"SA!EU11-SA!EI11","v":10700},{"$f":"SA!EV11-SA!EJ11","v":10900},{"$f":"SA!EW11-SA!EK11","v":9100},{"$f":"SA!EX11-SA!EL11","v":9000},{"$f":"SA!EY11-SA!EM11","v":9800},{"$f":"SA!EZ11-SA!EN11","v":8400},{"$f":"SA!FA11-SA!EO11","v":7800},{"$f":"SA!FB11-SA!EP11","v":7700},{"$f":"SA!FC11-SA!EQ11","v":8200},{"$f":"SA!FD11-SA!ER11","v":6600},{"$f":"SA!FE11-SA!ES11","v":5800},{"$f":"SA!FF11-SA!ET11","v":4400},{"$f":"SA!FG11-SA!EU11","v":3500},{"$f":"SA!FH11-SA!EV11","v":2300},{"$f":"SA!FI11-SA!EW11","v":800},{"$f":"SA!FJ11-SA!EX11","v":0},{"$f":"SA!FK11-SA!EY11","v":-400},{"$f":"SA!FL11-SA!EZ11","v":-2300},{"$f":"SA!FM11-SA!FA11","v":-1400},{"$f":"SA!FN11-SA!FB11","v":-900},{"$f":"SA!FO11-SA!FC11","v":-600},{"$f":"SA!FP11-SA!FD11","v":400},{"$f":"SA!FQ11-SA!FE11","v":100},{"$f":"SA!FR11-SA!FF11","v":400},{"$f":"SA!FS11-SA!FG11","v":200},{"$f":"SA!FT11-SA!FH11","v":900},{"$f":"SA!FU11-SA!FI11","v":3100},{"$f":"SA!FV11-SA!FJ11","v":4000},{"$f":"SA!FW11-SA!FK11","v":3800},{"$f":"SA!FX11-SA!FL11","v":6100},{"$f":"SA!FY11-SA!FM11","v":5900},{"$f":"SA!FZ11-SA!FN11","v":5600},{"$f":"SA!GA11-SA!FO11","v":5700},{"$f":"SA!GB11-SA!FP11","v":5300},{"$f":"SA!GC11-SA!FQ11","v":6100},{"$f":"SA!GD11-SA!FR11","v":5500},{"$f":"SA!GE11-SA!FS11","v":6000},{"$f":"SA!GF11-SA!FT11","v":5300},{"$f":"SA!GG11-SA!FU11","v":3200},{"$f":"SA!GH11-SA!FV11","v":2000},{"$f":"SA!GI11-SA!FW11","v":1100},{"$f":"SA!GJ11-SA!FX11","v":400},{"$f":"SA!GK11-SA!FY11","v":-1100},{"$f":"SA!GL11-SA!FZ11","v":-800},{"$f":"SA!GM11-SA!GA11","v":-2200},{"$f":"SA!GN11-SA!GB11","v":-2700},{"$f":"SA!GO11-SA!GC11","v":-4000},{"$f":"SA!GP11-SA!GD11","v":-3700},{"$f":"SA!GQ11-SA!GE11","v":-4500},{"$f":"SA!GR11-SA!GF11","v":-5000},{"$f":"SA!GS11-SA!GG11","v":-4300},{"$f":"SA!GT11-SA!GH11","v":-4200},{"$f":"SA!GU11-SA!GI11","v":-5100},{"$f":"SA!GV11-SA!GJ11","v":-5700},{"$f":"SA!GW11-SA!GK11","v":-5000},{"$f":"SA!GX11-SA!GL11","v":-5800},{"$f":"SA!GY11-SA!GM11","v":-4500},{"$f":"SA!GZ11-SA!GN11","v":-4200},{"$f":"SA!HA11-SA!GO11","v":-3100},{"$f":"SA!HB11-SA!GP11","v":-2900},{"$f":"SA!HC11-SA!GQ11","v":-2300},{"$f":"SA!HD11-SA!GR11","v":-1400},{"$f":"SA!HE11-SA!GS11","v":-1100},{"$f":"SA!HF11-SA!GT11","v":-500},{"$f":"SA!HG11-SA!GU11","v":800},{"$f":"SA!HH11-SA!GV11","v":1800},{"$f":"SA!HI11-SA!GW11","v":2000},{"$f":"SA!HJ11-SA!GX11","v":1900},{"$f":"SA!HK11-SA!GY11","v":4900},{"$f":"SA!HL11-SA!GZ11","v":6200},{"$f":"SA!HM11-SA!HA11","v":5900},{"$f":"SA!HN11-SA!HB11","v":8500},{"$f":"SA!HO11-SA!HC11","v":10700},{"$f":"SA!HP11-SA!HD11","v":11200},{"$f":"SA!HQ11-SA!HE11","v":11200},{"$f":"SA!HR11-SA!HF11","v":11700},{"$f":"SA!HS11-SA!HG11","v":14500},{"$f":"SA!HT11-SA!HH11","v":16300},{"$f":"SA!HU11-SA!HI11","v":16400},{"$f":"SA!HV11-SA!HJ11","v":16800},{"$f":"SA!HW11-SA!HK11","v":13000},{"$f":"SA!HX11-SA!HL11","v":10800},{"$f":"SA!HY11-SA!HM11","v":11000},{"$f":"SA!HZ11-SA!HN11","v":-100},{"$f":"SA!IA11-SA!HO11","v":-4000},{"$f":"SA!IB11-SA!HP11","v":-5100},{"$f":"SA!IC11-SA!HQ11","v":-5500},{"$f":"SA!ID11-SA!HR11","v":-6400},{"$f":"SA!IE11-SA!HS11","v":-10000},{"$f":"SA!IF11-SA!HT11","v":-14000},{"$f":"SA!IG11-SA!HU11","v":-14400},{"$f":"SA!IH11-SA!HV11","v":-15300},{"$f":"SA!II11-SA!HW11","v":-15700},{"$f":"SA!IJ11-SA!HX11","v":-14500},{"$f":"SA!IK11-SA!HY11","v":-14000},{"$f":"SA!IL11-SA!HZ11","v":-287700},7777.56,{"$f":"COUNTIF(EY16:FY16, \">\" &GA16)","v":12},null,"  Durable Goods",-55500,-5750,-2800,700.0000000000291,2700.0000000000027,5799.9999999999691,10700,16800,14525.217806029421]
["  Non-Durable Goods",{"$f":"SA!BN12-SA!BB12","v":-2100},{"$f":"SA!BO12-SA!BC12","v":-2400},{"$f":"SA!BP12-SA!BD12","v":-2600},{"$f":"SA!BQ12-SA!BE12","v":-3600},{"$f":"SA!BR12-SA!BF12","v":-3600},{"$f":"SA!BS12-SA!BG12","v":-3100},{"$f":"SA!BT12-SA!BH12","v":-2200},{"$f":"SA!BU12-SA!BI12","v":-2700},{"$f":"SA!BV12-SA!BJ12","v":-2900},{"$f":"SA!BW12-SA!BK12","v":-3100},{"$f":"SA!BX12-SA!BL12","v":-2400},{"$f":"SA!BY12-SA!BM12","v":-2200},{"$f":"SA!BZ12-SA!BN12","v":-2000},{"$f":"SA!CA12-SA!BO12","v":-1900},{"$f":"SA!CB12-SA!BP12","v":-1900},{"$f":"SA!CC12-SA!BQ12","v":-1100},{"$f":"SA!CD12-SA!BR12","v":-1600},{"$f":"SA!CE12-SA!BS12","v":-1300},{"$f":"SA!CF12-SA!BT12","v":-2000},{"$f":"SA!CG12-SA!BU12","v":-1900},{"$f":"SA!CH12-SA!BV12","v":-1800},{"$f":"SA!CI12-SA!BW12","v":-1600},{"$f":"SA!CJ12-SA!BX12","v":-1900},{"$f":"SA!CK12-SA!BY12","v":-2000},{"$f":"SA!CL12-SA!BZ12","v":-1500},{"$f":"SA!CM12-SA!CA12","v":-1200},{"$f":"SA!CN12-SA!CB12","v":-1000},{"$f":"SA!CO12-SA!CC12","v":-1800},{"$f":"SA!CP12-SA!CD12","v":-800},{"$f":"SA!CQ12-SA!CE12","v":100},{"$f":"SA!CR12-SA!CF12","v":-200},{"$f":"SA!CS12-SA!CG12","v":-200},{"$f":"SA!CT12-SA!CH12","v":-300},{"$f":"SA!CU12-SA!CI12","v":-400},{"$f":"SA!CV12-SA!CJ12","v":100},{"$f":"SA!CW12-SA!CK12","v":400},{"$f":"SA!CX12-SA!CL12","v":200},{"$f":"SA!CY12-SA!CM12","v":300},{"$f":"SA!CZ12-SA!CN12","v":100},{"$f":"SA!DA12-SA!CO12","v":500},{"$f":"SA!DB12-SA!CP12","v":-400},{"$f":"SA!DC12-SA!CQ12","v":-1100},{"$f":"SA!DD12-SA!CR12","v":-2900},{"$f":"SA!DE12-SA!CS12","v":-2500},{"$f":"SA!DF12-SA!CT12","v":-2900},{"$f":"SA!DG12-SA!CU12","v":-2500},{"$f":"SA!DH12-SA!CV12","v":-3900},{"$f":"SA!DI12-SA!CW12","v":-5100},{"$f":"SA!DJ12-SA!CX12","v":-6800},{"$f":"SA!DK12-SA!CY12","v":-8700},{"$f":"SA!DL12-SA!CZ12","v":-9800},{"$f":"SA!DM12-SA!DA12","v":-11200},{"$f":"SA!DN12-SA!DB12","v":-11900},{"$f":"SA!DO12-SA!DC12","v":-13100},{"$f":"SA!DP12-SA!DD12","v":-12900},{"$f":"SA!DQ12-SA!DE12","v":-12100},{"$f":"SA!DR12-SA!DF12","v":-10300},{"$f":"SA!DS12-SA!DG12","v":-11900},{"$f":"SA!DT12-SA!DH12","v":-10600},{"$f":"SA!DU12-SA!DI12","v":-9600},{"$f":"SA!DV12-SA!DJ12","v":-8100},{"$f":"SA!DW12-SA!DK12","v":-6300},{"$f":"SA!DX12-SA!DL12","v":-4700},{"$f":"SA!DY12-SA!DM12","v":-2900},{"$f":"SA!DZ12-SA!DN12","v":-1200},{"$f":"SA!EA12-SA!DO12","v":400},{"$f":"SA!EB12-SA!DP12","v":3300},{"$f":"SA!EC12-SA!DQ12","v":2100},{"$f":"SA!ED12-SA!DR12","v":900},{"$f":"SA!EE12-SA!DS12","v":2200},{"$f":"SA!EF12-SA!DT12","v":2400},{"$f":"SA!EG12-SA!DU12","v":2200},{"$f":"SA!EH12-SA!DV12","v":2600},{"$f":"SA!EI12-SA!DW12","v":2600},{"$f":"SA!EJ12-SA!DX12","v":2600},{"$f":"SA!EK12-SA!DY12","v":3400},{"$f":"SA!EL12-SA!DZ12","v":3100},{"$f":"SA!EM12-SA!EA12","v":1800},{"$f":"SA!EN12-SA!EB12","v":1300},{"$f":"SA!EO12-SA!EC12","v":2400},{"$f":"SA!EP12-SA!ED12","v":2600},{"$f":"SA!EQ12-SA!EE12","v":2500},{"$f":"SA!ER12-SA!EF12","v":2100},{"$f":"SA!ES12-SA!EG12","v":2600},{"$f":"SA!ET12-SA!EH12","v":2300},{"$f":"SA!EU12-SA!EI12","v":2300},{"$f":"SA!EV12-SA!EJ12","v":2000},{"$f":"SA!EW12-SA!EK12","v":1600},{"$f":"SA!EX12-SA!EL12","v":1200},{"$f":"SA!EY12-SA!EM12","v":2200},{"$f":"SA!EZ12-SA!EN12","v":1800},{"$f":"SA!FA12-SA!EO12","v":1300},{"$f":"SA!FB12-SA!EP12","v":1500},{"$f":"SA!FC12-SA!EQ12","v":1900},{"$f":"SA!FD12-SA!ER12","v":1900},{"$f":"SA!FE12-SA!ES12","v":1800},{"$f":"SA!FF12-SA!ET12","v":1700},{"$f":"SA!FG12-SA!EU12","v":1700},{"$f":"SA!FH12-SA!EV12","v":1600},{"$f":"SA!FI12-SA!EW12","v":900},{"$f":"SA!FJ12-SA!EX12","v":1100},{"$f":"SA!FK12-SA!EY12","v":900},{"$f":"SA!FL12-SA!EZ12","v":1000},{"$f":"SA!FM12-SA!FA12","v":1200},{"$f":"SA!FN12-SA!FB12","v":1100},{"$f":"SA!FO12-SA!FC12","v":1300},{"$f":"SA!FP12-SA!FD12","v":1700},{"$f":"SA!FQ12-SA!FE12","v":1800},{"$f":"SA!FR12-SA!FF12","v":2400},{"$f":"SA!FS12-SA!FG12","v":2800},{"$f":"SA!FT12-SA!FH12","v":3100},{"$f":"SA!FU12-SA!FI12","v":3400},{"$f":"SA!FV12-SA!FJ12","v":3500},{"$f":"SA!FW12-SA!FK12","v":3300},{"$f":"SA!FX12-SA!FL12","v":3900},{"$f":"SA!FY12-SA!FM12","v":3800},{"$f":"SA!FZ12-SA!FN12","v":3700},{"$f":"SA!GA12-SA!FO12","v":3300},{"$f":"SA!GB12-SA!FP12","v":3000},{"$f":"SA!GC12-SA!FQ12","v":2400},{"$f":"SA!GD12-SA!FR12","v":2200},{"$f":"SA!GE12-SA!FS12","v":2200},{"$f":"SA!GF12-SA!FT12","v":1700},{"$f":"SA!GG12-SA!FU12","v":1600},{"$f":"SA!GH12-SA!FV12","v":1800},{"$f":"SA!GI12-SA!FW12","v":1900},{"$f":"SA!GJ12-SA!FX12","v":1400},{"$f":"SA!GK12-SA!FY12","v":1300},{"$f":"SA!GL12-SA!FZ12","v":1200},{"$f":"SA!GM12-SA!GA12","v":1600},{"$f":"SA!GN12-SA!GB12","v":1700},{"$f":"SA!GO12-SA!GC12","v":2200},{"$f":"SA!GP12-SA!GD12","v":2000},{"$f":"SA!GQ12-SA!GE12","v":1400},{"$f":"SA!GR12-SA!GF12","v":2000},{"$f":"SA!GS12-SA!GG12","v":2400},{"$f":"SA!GT12-SA!GH12","v":1900},{"$f":"SA!GU12-SA!GI12","v":2000},{"$f":"SA!GV12-SA!GJ12","v":1700},{"$f":"SA!GW12-SA!GK12","v":1900},{"$f":"SA!GX12-SA!GL12","v":2000},{"$f":"SA!GY12-SA!GM12","v":1900},{"$f":"SA!GZ12-SA!GN12","v":1900},{"$f":"SA!HA12-SA!GO12","v":2200},{"$f":"SA!HB12-SA!GP12","v":2300},{"$f":"SA!HC12-SA!GQ12","v":2600},{"$f":"SA!HD12-SA!GR12","v":2800},{"$f":"SA!HE12-SA!GS12","v":1900},{"$f":"SA!HF12-SA!GT12","v":1900},{"$f":"SA!HG12-SA!GU12","v":1900},{"$f":"SA!HH12-SA!GV12","v":1600},{"$f":"SA!HI12-SA!GW12","v":1600},{"$f":"SA!HJ12-SA!GX12","v":1800},{"$f":"SA!HK12-SA!GY12","v":1000},{"$f":"SA!HL12-SA!GZ12","v":1200},{"$f":"SA!HM12-SA!HA12","v":1500},{"$f":"SA!HN12-SA!HB12","v":1200},{"$f":"SA!HO12-SA!HC12","v":1400},{"$f":"SA!HP12-SA!HD12","v":1600},{"$f":"SA!HQ12-SA!HE12","v":2800},{"$f":"SA!HR12-SA!HF12","v":3700},{"$f":"SA!HS12-SA!HG12","v":4200},{"$f":"SA!HT12-SA!HH12","v":4800},{"$f":"SA!HU12-SA!HI12","v":5700},{"$f":"SA!HV12-SA!HJ12","v":6200},{"$f":"SA!HW12-SA!HK12","v":7200},{"$f":"SA!HX12-SA!HL12","v":8100},{"$f":"SA!HY12-SA!HM12","v":6800},{"$f":"SA!HZ12-SA!HN12","v":2300},{"$f":"SA!IA12-SA!HO12","v":2100},{"$f":"SA!IB12-SA!HP12","v":1400},{"$f":"SA!IC12-SA!HQ12","v":800},{"$f":"SA!ID12-SA!HR12","v":300},{"$f":"SA!IE12-SA!HS12","v":400},{"$f":"SA!IF12-SA!HT12","v":-1300},{"$f":"SA!IG12-SA!HU12","v":-1600},{"$f":"SA!IH12-SA!HV12","v":-4300},{"$f":"SA!II12-SA!HW12","v":-5000},{"$f":"SA!IJ12-SA!HX12","v":-5500},{"$f":"SA!IK12-SA!HY12","v":-3000},{"$f":"SA!IL12-SA!HZ12","v":-189800},7668.99,{"$f":"COUNTIF(EY17:FY17, \">\" &GA17)","v":1},null,"  Non-Durable Goods",-13100,-2800,-1100,1200,1600,2000,2600,8100,3849.6000946363697]
["Trade, Transportation, and Utilities",{"$f":"SA!BN13-SA!BB13","v":2400},{"$f":"SA!BO13-SA!BC13","v":4100},{"$f":"SA!BP13-SA!BD13","v":4300},{"$f":"SA!BQ13-SA!BE13","v":6100},{"$f":"SA!BR13-SA!BF13","v":4100},{"$f":"SA!BS13-SA!BG13","v":1500},{"$f":"SA!BT13-SA!BH13","v":1600},{"$f":"SA!BU13-SA!BI13","v":3200},{"$f":"SA!BV13-SA!BJ13","v":4400},{"$f":"SA!BW13-SA!BK13","v":6400},{"$f":"SA!BX13-SA!BL13","v":6100},{"$f":"SA!BY13-SA!BM13","v":7700},{"$f":"SA!BZ13-SA!BN13","v":3700},{"$f":"SA!CA13-SA!BO13","v":3500},{"$f":"SA!CB13-SA!BP13","v":3500},{"$f":"SA!CC13-SA!BQ13","v":1900},{"$f":"SA!CD13-SA!BR13","v":1500},{"$f":"SA!CE13-SA!BS13","v":3900},{"$f":"SA!CF13-SA!BT13","v":300},{"$f":"SA!CG13-SA!BU13","v":0},{"$f":"SA!CH13-SA!BV13","v":300},{"$f":"SA!CI13-SA!BW13","v":-2100},{"$f":"SA!CJ13-SA!BX13","v":-1100},{"$f":"SA!CK13-SA!BY13","v":-600},{"$f":"SA!CL13-SA!BZ13","v":5100},{"$f":"SA!CM13-SA!CA13","v":3800},{"$f":"SA!CN13-SA!CB13","v":3700},{"$f":"SA!CO13-SA!CC13","v":1900},{"$f":"SA!CP13-SA!CD13","v":4700},{"$f":"SA!CQ13-SA!CE13","v":4100},{"$f":"SA!CR13-SA!CF13","v":4300},{"$f":"SA!CS13-SA!CG13","v":1500},{"$f":"SA!CT13-SA!CH13","v":1500},{"$f":"SA!CU13-SA!CI13","v":600},{"$f":"SA!CV13-SA!CJ13","v":-200},{"$f":"SA!CW13-SA!CK13","v":-2000},{"$f":"SA!CX13-SA!CL13","v":-1700},{"$f":"SA!CY13-SA!CM13","v":-2200},{"$f":"SA!CZ13-SA!CN13","v":-2800},{"$f":"SA!DA13-SA!CO13","v":-1600},{"$f":"SA!DB13-SA!CP13","v":-5100},{"$f":"SA!DC13-SA!CQ13","v":-6900},{"$f":"SA!DD13-SA!CR13","v":-6400},{"$f":"SA!DE13-SA!CS13","v":-5700},{"$f":"SA!DF13-SA!CT13","v":-7900},{"$f":"SA!DG13-SA!CU13","v":-9300},{"$f":"SA!DH13-SA!CV13","v":-12900},{"$f":"SA!DI13-SA!CW13","v":-14400},{"$f":"SA!DJ13-SA!CX13","v":-18800},{"$f":"SA!DK13-SA!CY13","v":-20300},{"$f":"SA!DL13-SA!CZ13","v":-23400},{"$f":"SA!DM13-SA!DA13","v":-25600},{"$f":"SA!DN13-SA!DB13","v":-23799.999999999942},{"$f":"SA!DO13-SA!DC13","v":-23199.999999999942},{"$f":"SA!DP13-SA!DD13","v":-25600.000000000058},{"$f":"SA!DQ13-SA!DE13","v":-25400},{"$f":"SA!DR13-SA!DF13","v":-25099.999999999942},{"$f":"SA!DS13-SA!DG13","v":-23699.999999999942},{"$f":"SA!DT13-SA!DH13","v":-22600},{"$f":"SA!DU13-SA!DI13","v":-22400},{"$f":"SA!DV13-SA!DJ13","v":-19400},{"$f":"SA!DW13-SA!DK13","v":-17600},{"$f":"SA!DX13-SA!DL13","v":-14100},{"$f":"SA!DY13-SA!DM13","v":-11000},{"$f":"SA!DZ13-SA!DN13","v":-11400.000000000058},{"$f":"SA!EA13-SA!DO13","v":-10800.000000000058},{"$f":"SA!EB13-SA!DP13","v":-7699.9999999999418},{"$f":"SA!EC13-SA!DQ13","v":-6900},{"$f":"SA!ED13-SA!DR13","v":-5800.0000000000582},{"$f":"SA!EE13-SA!DS13","v":-2300.0000000000582},{"$f":"SA!EF13-SA!DT13","v":-1700},{"$f":"SA!EG13-SA!DU13","v":200},{"$f":"SA!EH13-SA!DV13","v":600},{"$f":"SA!EI13-SA!DW13","v":900},{"$f":"SA!EJ13-SA!DX13","v":1300},{"$f":"SA!EK13-SA!DY13","v":2200},{"$f":"SA!EL13-SA!DZ13","v":1000},{"$f":"SA!EM13-SA!EA13","v":800},{"$f":"SA!EN13-SA!EB13","v":2700},{"$f":"SA!EO13-SA!EC13","v":3600},{"$f":"SA!EP13-SA!ED13","v":5100},{"$f":"SA!EQ13-SA!EE13","v":2200},{"$f":"SA!ER13-SA!EF13","v":4200.0000000000582},{"$f":"SA!ES13-SA!EG13","v":3700},{"$f":"SA!ET13-SA!EH13","v":3600},{"$f":"SA!EU13-SA!EI13","v":3400.0000000000582},{"$f":"SA!EV13-SA!EJ13","v":2700},{"$f":"SA!EW13-SA!EK13","v":300},{"$f":"SA!EX13-SA!EL13","v":2400},{"$f":"SA!EY13-SA!EM13","v":2700},{"$f":"SA!EZ13-SA!EN13","v":0},{"$f":"SA!FA13-SA!EO13","v":-800},{"$f":"SA!FB13-SA!EP13","v":-400},{"$f":"SA!FC13-SA!EQ13","v":1100.0000000000582},{"$f":"SA!FD13-SA!ER13","v":2299.9999999999418},{"$f":"SA!FE13-SA!ES13","v":1799.9999999999418},{"$f":"SA!FF13-SA!ET13","v":2200.0000000000582},{"$f":"SA!FG13-SA!EU13","v":3599.9999999998836},{"$f":"SA!FH13-SA!EV13","v":3700.0000000000582},{"$f":"SA!FI13-SA!EW13","v":5100},{"$f":"SA!FJ13-SA!EX13","v":5099.9999999999418},{"$f":"SA!FK13-SA!EY13","v":6100},{"$f":"SA!FL13-SA!EZ13","v":6900.0000000000582},{"$f":"SA!FM13-SA!FA13","v":7700},{"$f":"SA!FN13-SA!FB13","v":6400},{"$f":"SA!FO13-SA!FC13","v":5899.9999999999418},{"$f":"SA!FP13-SA!FD13","v":4500},{"$f":"SA!FQ13-SA!FE13","v":6500},{"$f":"SA!FR13-SA!FF13","v":6500},{"$f":"SA!FS13-SA!FG13","v":6300.0000000000582},{"$f":"SA!FT13-SA!FH13","v":7199.9999999999418},{"$f":"SA!FU13-SA!FI13","v":8500},{"$f":"SA!FV13-SA!FJ13","v":7200.0000000000582},{"$f":"SA!FW13-SA!FK13","v":7100},{"$f":"SA!FX13-SA!FL13","v":7299.9999999999418},{"$f":"SA!FY13-SA!FM13","v":6500},{"$f":"SA!FZ13-SA!FN13","v":6900},{"$f":"SA!GA13-SA!FO13","v":6000},{"$f":"SA!GB13-SA!FP13","v":7800},{"$f":"SA!GC13-SA!FQ13","v":5900.0000000000582},{"$f":"SA!GD13-SA!FR13","v":5899.9999999999418},{"$f":"SA!GE13-SA!FS13","v":4700},{"$f":"SA!GF13-SA!FT13","v":5200},{"$f":"SA!GG13-SA!FU13","v":3000},{"$f":"SA!GH13-SA!FV13","v":5600},{"$f":"SA!GI13-SA!FW13","v":5700},{"$f":"SA!GJ13-SA!FX13","v":7900},{"$f":"SA!GK13-SA!FY13","v":9400},{"$f":"SA!GL13-SA!FZ13","v":10800},{"$f":"SA!GM13-SA!GA13","v":11200},{"$f":"SA!GN13-SA!GB13","v":8900},{"$f":"SA!GO13-SA!GC13","v":8000},{"$f":"SA!GP13-SA!GD13","v":10600},{"$f":"SA!GQ13-SA!GE13","v":12500},{"$f":"SA!GR13-SA!GF13","v":10800},{"$f":"SA!GS13-SA!GG13","v":13200},{"$f":"SA!GT13-SA!GH13","v":10500},{"$f":"SA!GU13-SA!GI13","v":9400},{"$f":"SA!GV13-SA!GJ13","v":8400},{"$f":"SA!GW13-SA!GK13","v":6800},{"$f":"SA!GX13-SA!GL13","v":4900},{"$f":"SA!GY13-SA!GM13","v":4700},{"$f":"SA!GZ13-SA!GN13","v":4300},{"$f":"SA!HA13-SA!GO13","v":5500},{"$f":"SA!HB13-SA!GP13","v":5500},{"$f":"SA!HC13-SA!GQ13","v":5100},{"$f":"SA!HD13-SA!GR13","v":4500},{"$f":"SA!HE13-SA!GS13","v":1900},{"$f":"SA!HF13-SA!GT13","v":2100},{"$f":"SA!HG13-SA!GU13","v":2300},{"$f":"SA!HH13-SA!GV13","v":400},{"$f":"SA!HI13-SA!GW13","v":1000},{"$f":"SA!HJ13-SA!GX13","v":900},{"$f":"SA!HK13-SA!GY13","v":-3700},{"$f":"SA!HL13-SA!GZ13","v":-1900},{"$f":"SA!HM13-SA!HA13","v":-600},{"$f":"SA!HN13-SA!HB13","v":-1800},{"$f":"SA!HO13-SA!HC13","v":-2100},{"$f":"SA!HP13-SA!HD13","v":1400},{"$f":"SA!HQ13-SA!HE13","v":0},{"$f":"SA!HR13-SA!HF13","v":-500},{"$f":"SA!HS13-SA!HG13","v":800},{"$f":"SA!HT13-SA!HH13","v":3000},{"$f":"SA!HU13-SA!HI13","v":1900},{"$f":"SA!HV13-SA!HJ13","v":-1800},{"$f":"SA!HW13-SA!HK13","v":-100},{"$f":"SA!HX13-SA!HL13","v":1500},{"$f":"SA!HY13-SA!HM13","v":2600},{"$f":"SA!HZ13-SA!HN13","v":7200},{"$f":"SA!IA13-SA!HO13","v":7000},{"$f":"SA!IB13-SA!HP13","v":4000},{"$f":"SA!IC13-SA!HQ13","v":3700},{"$f":"SA!ID13-SA!HR13","v":4000},{"$f":"SA!IE13-SA!HS13","v":3800},{"$f":"SA!IF13-SA!HT13","v":2500},{"$f":"SA!IG13-SA!HU13","v":3800},{"$f":"SA!IH13-SA!HV13","v":9300},{"$f":"SA!II13-SA!HW13","v":11400},{"$f":"SA!IJ13-SA!HX13","v":7400},{"$f":"SA!IK13-SA!HY13","v":6000},{"$f":"SA!IL13-SA!HZ13","v":-548600},11564.35,{"$f":"COUNTIF(EY18:FY18, \">\" &GA18)","v":0},null,"Trade, Transportation, and Utilities",-25600.000000000058,-6650,0,1849.9999999999709,3000,4700,6650,13200,8450.4761552084237]
["  Wholesale Trade",{"$f":"SA!BN14-SA!BB14","v":2600},{"$f":"SA!BO14-SA!BC14","v":3000},{"$f":"SA!BP14-SA!BD14","v":2600},{"$f":"SA!BQ14-SA!BE14","v":4000},{"$f":"SA!BR14-SA!BF14","v":4200},{"$f":"SA!BS14-SA!BG14","v":4200},{"$f":"SA!BT14-SA!BH14","v":3000},{"$f":"SA!BU14-SA!BI14","v":2600},{"$f":"SA!BV14-SA!BJ14","v":3500},{"$f":"SA!BW14-SA!BK14","v":3300},{"$f":"SA!BX14-SA!BL14","v":3100},{"$f":"SA!BY14-SA!BM14","v":3300},{"$f":"SA!BZ14-SA!BN14","v":3600},{"$f":"SA!CA14-SA!BO14","v":3500},{"$f":"SA!CB14-SA!BP14","v":4000},{"$f":"SA!CC14-SA!BQ14","v":3100},{"$f":"SA!CD14-SA!BR14","v":2800},{"$f":"SA!CE14-SA!BS14","v":3100},{"$f":"SA!CF14-SA!BT14","v":2800},{"$f":"SA!CG14-SA!BU14","v":2800},{"$f":"SA!CH14-SA!BV14","v":2800},{"$f":"SA!CI14-SA!BW14","v":2400},{"$f":"SA!CJ14-SA!BX14","v":2200},{"$f":"SA!CK14-SA!BY14","v":2100},{"$f":"SA!CL14-SA!BZ14","v":1600},{"$f":"SA!CM14-SA!CA14","v":1700},{"$f":"SA!CN14-SA!CB14","v":1400},{"$f":"SA!CO14-SA!CC14","v":1400},{"$f":"SA!CP14-SA!CD14","v":1700},{"$f":"SA!CQ14-SA!CE14","v":1500},{"$f":"SA!CR14-SA!CF14","v":1600},{"$f":"SA!CS14-SA!CG14","v":1100},{"$f":"SA!CT14-SA!CH14","v":1100},{"$f":"SA!CU14-SA!CI14","v":1000},{"$f":"SA!CV14-SA!CJ14","v":1200},{"$f":"SA!CW14-SA!CK14","v":1100},{"$f":"SA!CX14-SA!CL14","v":1200},{"$f":"SA!CY14-SA!CM14","v":800},{"$f":"SA!CZ14-SA!CN14","v":1000},{"$f":"SA!DA14-SA!CO14","v":800},{"$f":"SA!DB14-SA!CP14","v":800},{"$f":"SA!DC14-SA!CQ14","v":300},{"$f":"SA!DD14-SA!CR14","v":-200},{"$f":"SA!DE14-SA!CS14","v":0},{"$f":"SA!DF14-SA!CT14","v":-700},{"$f":"SA!DG14-SA!CU14","v":-1400},{"$f":"SA!DH14-SA!CV14","v":-1800},{"$f":"SA!DI14-SA!CW14","v":-2600},{"$f":"SA!DJ14-SA!CX14","v":-3200},{"$f":"SA!DK14-SA!CY14","v":-3900},{"$f":"SA!DL14-SA!CZ14","v":-4900},{"$f":"SA!DM14-SA!DA14","v":-6400},{"$f":"SA!DN14-SA!DB14","v":-6900},{"$f":"SA!DO14-SA!DC14","v":-7300},{"$f":"SA!DP14-SA!DD14","v":-7800},{"$f":"SA!DQ14-SA!DE14","v":-8200},{"$f":"SA!DR14-SA!DF14","v":-8100},{"$f":"SA!DS14-SA!DG14","v":-7300},{"$f":"SA!DT14-SA!DH14","v":-7500},{"$f":"SA!DU14-SA!DI14","v":-7100},{"$f":"SA!DV14-SA!DJ14","v":-7100},{"$f":"SA!DW14-SA!DK14","v":-6500},{"$f":"SA!DX14-SA!DL14","v":-5900},{"$f":"SA!DY14-SA!DM14","v":-3900},{"$f":"SA!DZ14-SA!DN14","v":-3500},{"$f":"SA!EA14-SA!DO14","v":-2900},{"$f":"SA!EB14-SA!DP14","v":-1700},{"$f":"SA!EC14-SA!DQ14","v":-900},{"$f":"SA!ED14-SA!DR14","v":-800},{"$f":"SA!EE14-SA!DS14","v":-300},{"$f":"SA!EF14-SA!DT14","v":100},{"$f":"SA!EG14-SA!DU14","v":500},{"$f":"SA!EH14-SA!DV14","v":1100},{"$f":"SA!EI14-SA!DW14","v":1500},{"$f":"SA!EJ14-SA!DX14","v":1800},{"$f":"SA!EK14-SA!DY14","v":1600},{"$f":"SA!EL14-SA!DZ14","v":1900},{"$f":"SA!EM14-SA!EA14","v":1900},{"$f":"SA!EN14-SA!EB14","v":2400},{"$f":"SA!EO14-SA!EC14","v":2300},{"$f":"SA!EP14-SA!ED14","v":3100},{"$f":"SA!EQ14-SA!EE14","v":2500},{"$f":"SA!ER14-SA!EF14","v":2700},{"$f":"SA!ES14-SA!EG14","v":2700},{"$f":"SA!ET14-SA!EH14","v":2700},{"$f":"SA!EU14-SA!EI14","v":2700},{"$f":"SA!EV14-SA!EJ14","v":2800},{"$f":"SA!EW14-SA!EK14","v":2800},{"$f":"SA!EX14-SA!EL14","v":2200},{"$f":"SA!EY14-SA!EM14","v":2300},{"$f":"SA!EZ14-SA!EN14","v":1200},{"$f":"SA!FA14-SA!EO14","v":900},{"$f":"SA!FB14-SA!EP14","v":600},{"$f":"SA!FC14-SA!EQ14","v":1000},{"$f":"SA!FD14-SA!ER14","v":1100},{"$f":"SA!FE14-SA!ES14","v":1000},{"$f":"SA!FF14-SA!ET14","v":2100},{"$f":"SA!FG14-SA!EU14","v":2100},{"$f":"SA!FH14-SA!EV14","v":1700},{"$f":"SA!FI14-SA!EW14","v":1500},{"$f":"SA!FJ14-SA!EX14","v":1900},{"$f":"SA!FK14-SA!EY14","v":2100},{"$f":"SA!FL14-SA!EZ14","v":2100},{"$f":"SA!FM14-SA!FA14","v":2300},{"$f":"SA!FN14-SA!FB14","v":2200},{"$f":"SA!FO14-SA!FC14","v":2000},{"$f":"SA!FP14-SA!FD14","v":1800},{"$f":"SA!FQ14-SA!FE14","v":1900},{"$f":"SA!FR14-SA!FF14","v":500},{"$f":"SA!FS14-SA!FG14","v":500},{"$f":"SA!FT14-SA!FH14","v":1000},{"$f":"SA!FU14-SA!FI14","v":1000},{"$f":"SA!FV14-SA!FJ14","v":1000},{"$f":"SA!FW14-SA!FK14","v":1000},{"$f":"SA!FX14-SA!FL14","v":1400},{"$f":"SA!FY14-SA!FM14","v":1600},{"$f":"SA!FZ14-SA!FN14","v":1400},{"$f":"SA!GA14-SA!FO14","v":1100},{"$f":"SA!GB14-SA!FP14","v":1300},{"$f":"SA!GC14-SA!FQ14","v":1300},{"$f":"SA!GD14-SA!FR14","v":2100},{"$f":"SA!GE14-SA!FS14","v":1800},{"$f":"SA!GF14-SA!FT14","v":1700},{"$f":"SA!GG14-SA!FU14","v":2000},{"$f":"SA!GH14-SA!FV14","v":2200},{"$f":"SA!GI14-SA!FW14","v":2200},{"$f":"SA!GJ14-SA!FX14","v":2300},{"$f":"SA!GK14-SA!FY14","v":2100},{"$f":"SA!GL14-SA!FZ14","v":2200},{"$f":"SA!GM14-SA!GA14","v":3000},{"$f":"SA!GN14-SA!GB14","v":3100},{"$f":"SA!GO14-SA!GC14","v":3000},{"$f":"SA!GP14-SA!GD14","v":2500},{"$f":"SA!GQ14-SA!GE14","v":2800},{"$f":"SA!GR14-SA!GF14","v":2700},{"$f":"SA!GS14-SA!GG14","v":2500},{"$f":"SA!GT14-SA!GH14","v":2000},{"$f":"SA!GU14-SA!GI14","v":1500},{"$f":"SA!GV14-SA!GJ14","v":1700},{"$f":"SA!GW14-SA!GK14","v":1600},{"$f":"SA!GX14-SA!GL14","v":1800},{"$f":"SA!GY14-SA!GM14","v":900},{"$f":"SA!GZ14-SA!GN14","v":500},{"$f":"SA!HA14-SA!GO14","v":800},{"$f":"SA!HB14-SA!GP14","v":700},{"$f":"SA!HC14-SA!GQ14","v":700},{"$f":"SA!HD14-SA!GR14","v":700},{"$f":"SA!HE14-SA!GS14","v":300},{"$f":"SA!HF14-SA!GT14","v":800},{"$f":"SA!HG14-SA!GU14","v":1300},{"$f":"SA!HH14-SA!GV14","v":700},{"$f":"SA!HI14-SA!GW14","v":1100},{"$f":"SA!HJ14-SA!GX14","v":1100},{"$f":"SA!HK14-SA!GY14","v":400},{"$f":"SA!HL14-SA!GZ14","v":900},{"$f":"SA!HM14-SA!HA14","v":-400},{"$f":"SA!HN14-SA!HB14","v":300},{"$f":"SA!HO14-SA!HC14","v":500},{"$f":"SA!HP14-SA!HD14","v":100},{"$f":"SA!HQ14-SA!HE14","v":300},{"$f":"SA!HR14-SA!HF14","v":100},{"$f":"SA!HS14-SA!HG14","v":300},{"$f":"SA!HT14-SA!HH14","v":600},{"$f":"SA!HU14-SA!HI14","v":0},{"$f":"SA!HV14-SA!HJ14","v":-1600},{"$f":"SA!HW14-SA!HK14","v":-1500},{"$f":"SA!HX14-SA!HL14","v":-1400},{"$f":"SA!HY14-SA!HM14","v":900},{"$f":"SA!HZ14-SA!HN14","v":3500},{"$f":"SA!IA14-SA!HO14","v":2200},{"$f":"SA!IB14-SA!HP14","v":2300},{"$f":"SA!IC14-SA!HQ14","v":1400},{"$f":"SA!ID14-SA!HR14","v":1300},{"$f":"SA!IE14-SA!HS14","v":1600},{"$f":"SA!IF14-SA!HT14","v":1400},{"$f":"SA!IG14-SA!HU14","v":2300},{"$f":"SA!IH14-SA!HV14","v":3400},{"$f":"SA!II14-SA!HW14","v":3200},{"$f":"SA!IJ14-SA!HX14","v":1300},{"$f":"SA!IK14-SA!HY14","v":1700},{"$f":"SA!IL14-SA!HZ14","v":-128700},5754.21,{"$f":"COUNTIF(EY19:FY19, \">\" &GA19)","v":0},null,"  Wholesale Trade",-8200,-1150,700,1100,1600,2100,2800,4200,2679.4041521227814]
["  Retail Trade",{"$f":"SA!BN15-SA!BB15","v":-2600},{"$f":"SA!BO15-SA!BC15","v":-1200},{"$f":"SA!BP15-SA!BD15","v":-800},{"$f":"SA!BQ15-SA!BE15","v":-400},{"$f":"SA!BR15-SA!BF15","v":-1800},{"$f":"SA!BS15-SA!BG15","v":-4000},{"$f":"SA!BT15-SA!BH15","v":-2600},{"$f":"SA!BU15-SA!BI15","v":-900},{"$f":"SA!BV15-SA!BJ15","v":-800},{"$f":"SA!BW15-SA!BK15","v":3100},{"$f":"SA!BX15-SA!BL15","v":2500},{"$f":"SA!BY15-SA!BM15","v":3300},{"$f":"SA!BZ15-SA!BN15","v":-1600},{"$f":"SA!CA15-SA!BO15","v":-1900},{"$f":"SA!CB15-SA!BP15","v":-2100},{"$f":"SA!CC15-SA!BQ15","v":-2500},{"$f":"SA!CD15-SA!BR15","v":-2800},{"$f":"SA!CE15-SA!BS15","v":-1100},{"$f":"SA!CF15-SA!BT15","v":-3600},{"$f":"SA!CG15-SA!BU15","v":-3900},{"$f":"SA!CH15-SA!BV15","v":-3900},{"$f":"SA!CI15-SA!BW15","v":-6300},{"$f":"SA!CJ15-SA!BX15","v":-4400},{"$f":"SA!CK15-SA!BY15","v":-4100},{"$f":"SA!CL15-SA!BZ15","v":2900},{"$f":"SA!CM15-SA!CA15","v":1600},{"$f":"SA!CN15-SA!CB15","v":2000},{"$f":"SA!CO15-SA!CC15","v":400},{"$f":"SA!CP15-SA!CD15","v":2400},{"$f":"SA!CQ15-SA!CE15","v":1600},{"$f":"SA!CR15-SA!CF15","v":2700},{"$f":"SA!CS15-SA!CG15","v":0},{"$f":"SA!CT15-SA!CH15","v":400},{"$f":"SA!CU15-SA!CI15","v":-800},{"$f":"SA!CV15-SA!CJ15","v":-2200},{"$f":"SA!CW15-SA!CK15","v":-3200},{"$f":"SA!CX15-SA!CL15","v":-3400},{"$f":"SA!CY15-SA!CM15","v":-3100},{"$f":"SA!CZ15-SA!CN15","v":-3600},{"$f":"SA!DA15-SA!CO15","v":-2000},{"$f":"SA!DB15-SA!CP15","v":-4600},{"$f":"SA!DC15-SA!CQ15","v":-4600},{"$f":"SA!DD15-SA!CR15","v":-4800},{"$f":"SA!DE15-SA!CS15","v":-3400},{"$f":"SA!DF15-SA!CT15","v":-4300},{"$f":"SA!DG15-SA!CU15","v":-4700},{"$f":"SA!DH15-SA!CV15","v":-7300},{"$f":"SA!DI15-SA!CW15","v":-7600},{"$f":"SA!DJ15-SA!CX15","v":-10300},{"$f":"SA!DK15-SA!CY15","v":-10900},{"$f":"SA!DL15-SA!CZ15","v":-12700},{"$f":"SA!DM15-SA!DA15","v":-13900},{"$f":"SA!DN15-SA!DB15","v":-12600},{"$f":"SA!DO15-SA!DC15","v":-12300},{"$f":"SA!DP15-SA!DD15","v":-13400},{"$f":"SA!DQ15-SA!DE15","v":-13200},{"$f":"SA!DR15-SA!DF15","v":-13300},{"$f":"SA!DS15-SA!DG15","v":-12300},{"$f":"SA!DT15-SA!DH15","v":-10800},{"$f":"SA!DU15-SA!DI15","v":-11100},{"$f":"SA!DV15-SA!DJ15","v":-9000},{"$f":"SA!DW15-SA!DK15","v":-8500},{"$f":"SA!DX15-SA!DL15","v":-6200},{"$f":"SA!DY15-SA!DM15","v":-5300},{"$f":"SA!DZ15-SA!DN15","v":-5200},{"$f":"SA!EA15-SA!DO15","v":-5300},{"$f":"SA!EB15-SA!DP15","v":-4400},{"$f":"SA!EC15-SA!DQ15","v":-3700},{"$f":"SA!ED15-SA!DR15","v":-2900},{"$f":"SA!EE15-SA!DS15","v":-800},{"$f":"SA!EF15-SA!DT15","v":-800},{"$f":"SA!EG15-SA!DU15","v":300},{"$f":"SA!EH15-SA!DV15","v":200},{"$f":"SA!EI15-SA!DW15","v":600},{"$f":"SA!EJ15-SA!DX15","v":700},{"$f":"SA!EK15-SA!DY15","v":2200},{"$f":"SA!EL15-SA!DZ15","v":600},{"$f":"SA!EM15-SA!EA15","v":700},{"$f":"SA!EN15-SA!EB15","v":1900},{"$f":"SA!EO15-SA!EC15","v":2300},{"$f":"SA!EP15-SA!ED15","v":2700},{"$f":"SA!EQ15-SA!EE15","v":900},{"$f":"SA!ER15-SA!EF15","v":2400},{"$f":"SA!ES15-SA!EG15","v":2000},{"$f":"SA!ET15-SA!EH15","v":1900},{"$f":"SA!EU15-SA!EI15","v":1500},{"$f":"SA!EV15-SA!EJ15","v":900},{"$f":"SA!EW15-SA!EK15","v":-1300},{"$f":"SA!EX15-SA!EL15","v":500},{"$f":"SA!EY15-SA!EM15","v":500},{"$f":"SA!EZ15-SA!EN15","v":-1000},{"$f":"SA!FA15-SA!EO15","v":-1200},{"$f":"SA!FB15-SA!EP15","v":-700},{"$f":"SA!FC15-SA!EQ15","v":300},{"$f":"SA!FD15-SA!ER15","v":1600},{"$f":"SA!FE15-SA!ES15","v":1000},{"$f":"SA!FF15-SA!ET15","v":300},{"$f":"SA!FG15-SA!EU15","v":1500},{"$f":"SA!FH15-SA!EV15","v":1500},{"$f":"SA!FI15-SA!EW15","v":3000},{"$f":"SA!FJ15-SA!EX15","v":3400},{"$f":"SA!FK15-SA!EY15","v":4800},{"$f":"SA!FL15-SA!EZ15","v":5500},{"$f":"SA!FM15-SA!FA15","v":5400},{"$f":"SA!FN15-SA!FB15","v":4800},{"$f":"SA!FO15-SA!FC15","v":4200},{"$f":"SA!FP15-SA!FD15","v":2700},{"$f":"SA!FQ15-SA!FE15","v":5000},{"$f":"SA!FR15-SA!FF15","v":5700},{"$f":"SA!FS15-SA!FG15","v":5300},{"$f":"SA!FT15-SA!FH15","v":5900},{"$f":"SA!FU15-SA!FI15","v":6300},{"$f":"SA!FV15-SA!FJ15","v":5100},{"$f":"SA!FW15-SA!FK15","v":4500},{"$f":"SA!FX15-SA!FL15","v":4500},{"$f":"SA!FY15-SA!FM15","v":3800},{"$f":"SA!FZ15-SA!FN15","v":3900},{"$f":"SA!GA15-SA!FO15","v":3300},{"$f":"SA!GB15-SA!FP15","v":4300},{"$f":"SA!GC15-SA!FQ15","v":2100},{"$f":"SA!GD15-SA!FR15","v":1900},{"$f":"SA!GE15-SA!FS15","v":1300},{"$f":"SA!GF15-SA!FT15","v":1500},{"$f":"SA!GG15-SA!FU15","v":-300},{"$f":"SA!GH15-SA!FV15","v":1500},{"$f":"SA!GI15-SA!FW15","v":1100},{"$f":"SA!GJ15-SA!FX15","v":1200},{"$f":"SA!GK15-SA!FY15","v":2600},{"$f":"SA!GL15-SA!FZ15","v":3800},{"$f":"SA!GM15-SA!GA15","v":3600},{"$f":"SA!GN15-SA!GB15","v":2100},{"$f":"SA!GO15-SA!GC15","v":1100},{"$f":"SA!GP15-SA!GD15","v":4300},{"$f":"SA!GQ15-SA!GE15","v":5500},{"$f":"SA!GR15-SA!GF15","v":4500},{"$f":"SA!GS15-SA!GG15","v":6800},{"$f":"SA!GT15-SA!GH15","v":4900},{"$f":"SA!GU15-SA!GI15","v":4600},{"$f":"SA!GV15-SA!GJ15","v":5100},{"$f":"SA!GW15-SA!GK15","v":3900},{"$f":"SA!GX15-SA!GL15","v":2100},{"$f":"SA!GY15-SA!GM15","v":2700},{"$f":"SA!GZ15-SA!GN15","v":2100},{"$f":"SA!HA15-SA!GO15","v":3100},{"$f":"SA!HB15-SA!GP15","v":2800},{"$f":"SA!HC15-SA!GQ15","v":3100},{"$f":"SA!HD15-SA!GR15","v":2200},{"$f":"SA!HE15-SA!GS15","v":100},{"$f":"SA!HF15-SA!GT15","v":-200},{"$f":"SA!HG15-SA!GU15","v":0},{"$f":"SA!HH15-SA!GV15","v":-1400},{"$f":"SA!HI15-SA!GW15","v":-1300},{"$f":"SA!HJ15-SA!GX15","v":-1400},{"$f":"SA!HK15-SA!GY15","v":-5400},{"$f":"SA!HL15-SA!GZ15","v":-3500},{"$f":"SA!HM15-SA!HA15","v":-3400},{"$f":"SA!HN15-SA!HB15","v":-5200},{"$f":"SA!HO15-SA!HC15","v":-4500},{"$f":"SA!HP15-SA!HD15","v":-2200},{"$f":"SA!HQ15-SA!HE15","v":-2600},{"$f":"SA!HR15-SA!HF15","v":-2800},{"$f":"SA!HS15-SA!HG15","v":-2200},{"$f":"SA!HT15-SA!HH15","v":-1700},{"$f":"SA!HU15-SA!HI15","v":-2000},{"$f":"SA!HV15-SA!HJ15","v":-4100},{"$f":"SA!HW15-SA!HK15","v":-2900},{"$f":"SA!HX15-SA!HL15","v":-1600},{"$f":"SA!HY15-SA!HM15","v":-700},{"$f":"SA!HZ15-SA!HN15","v":3200},{"$f":"SA!IA15-SA!HO15","v":4100},{"$f":"SA!IB15-SA!HP15","v":1800},{"$f":"SA!IC15-SA!HQ15","v":1200},{"$f":"SA!ID15-SA!HR15","v":1900},{"$f":"SA!IE15-SA!HS15","v":600},{"$f":"SA!IF15-SA!HT15","v":700},{"$f":"SA!IG15-SA!HU15","v":1600},{"$f":"SA!IH15-SA!HV15","v":5900},{"$f":"SA!II15-SA!HW15","v":9000},{"$f":"SA!IJ15-SA!HX15","v":7400},{"$f":"SA!IK15-SA!HY15","v":7900},{"$f":"SA!IL15-SA!HZ15","v":-308000},7473.2349999999997,{"$f":"COUNTIF(EY20:FY20, \">\" &GA20)","v":2},null,"  Retail Trade",-13900,-4650,-2600,-800,500,2099.9999999999986,3700,6800,4557.9918144533704]
["  Transportation, Warehousing, and Utilities",{"$f":"SA!BN16-SA!BB16","v":2400},{"$f":"SA!BO16-SA!BC16","v":2300},{"$f":"SA!BP16-SA!BD16","v":2500},{"$f":"SA!BQ16-SA!BE16","v":2500},{"$f":"SA!BR16-SA!BF16","v":1700},{"$f":"SA!BS16-SA!BG16","v":1300},{"$f":"SA!BT16-SA!BH16","v":1200},{"$f":"SA!BU16-SA!BI16","v":1500},{"$f":"SA!BV16-SA!BJ16","v":1700},{"$f":"SA!BW16-SA!BK16","v":0},{"$f":"SA!BX16-SA!BL16","v":500},{"$f":"SA!BY16-SA!BM16","v":1100},{"$f":"SA!BZ16-SA!BN16","v":1700},{"$f":"SA!CA16-SA!BO16","v":1900},{"$f":"SA!CB16-SA!BP16","v":1600},{"$f":"SA!CC16-SA!BQ16","v":1300},{"$f":"SA!CD16-SA!BR16","v":1500},{"$f":"SA!CE16-SA!BS16","v":1900},{"$f":"SA!CF16-SA!BT16","v":1100},{"$f":"SA!CG16-SA!BU16","v":1100},{"$f":"SA!CH16-SA!BV16","v":1400},{"$f":"SA!CI16-SA!BW16","v":1800},{"$f":"SA!CJ16-SA!BX16","v":1100},{"$f":"SA!CK16-SA!BY16","v":1400},{"$f":"SA!CL16-SA!BZ16","v":600},{"$f":"SA!CM16-SA!CA16","v":500},{"$f":"SA!CN16-SA!CB16","v":300},{"$f":"SA!CO16-SA!CC16","v":100},{"$f":"SA!CP16-SA!CD16","v":600},{"$f":"SA!CQ16-SA!CE16","v":1000},{"$f":"SA!CR16-SA!CF16","v":0},{"$f":"SA!CS16-SA!CG16","v":400},{"$f":"SA!CT16-SA!CH16","v":0},{"$f":"SA!CU16-SA!CI16","v":400},{"$f":"SA!CV16-SA!CJ16","v":800},{"$f":"SA!CW16-SA!CK16","v":100},{"$f":"SA!CX16-SA!CL16","v":500},{"$f":"SA!CY16-SA!CM16","v":100},{"$f":"SA!CZ16-SA!CN16","v":-200},{"$f":"SA!DA16-SA!CO16","v":-400},{"$f":"SA!DB16-SA!CP16","v":-1300},{"$f":"SA!DC16-SA!CQ16","v":-2600},{"$f":"SA!DD16-SA!CR16","v":-1400},{"$f":"SA!DE16-SA!CS16","v":-2300},{"$f":"SA!DF16-SA!CT16","v":-2900},{"$f":"SA!DG16-SA!CU16","v":-3200},{"$f":"SA!DH16-SA!CV16","v":-3800},{"$f":"SA!DI16-SA!CW16","v":-4200},{"$f":"SA!DJ16-SA!CX16","v":-5300},{"$f":"SA!DK16-SA!CY16","v":-5500},{"$f":"SA!DL16-SA!CZ16","v":-5800},{"$f":"SA!DM16-SA!DA16","v":-5300},{"$f":"SA!DN16-SA!DB16","v":-4300},{"$f":"SA!DO16-SA!DC16","v":-3600},{"$f":"SA!DP16-SA!DD16","v":-4400},{"$f":"SA!DQ16-SA!DE16","v":-4000},{"$f":"SA!DR16-SA!DF16","v":-3700},{"$f":"SA!DS16-SA!DG16","v":-4100},{"$f":"SA!DT16-SA!DH16","v":-4300},{"$f":"SA!DU16-SA!DI16","v":-4200},{"$f":"SA!DV16-SA!DJ16","v":-3300},{"$f":"SA!DW16-SA!DK16","v":-2600},{"$f":"SA!DX16-SA!DL16","v":-2000},{"$f":"SA!DY16-SA!DM16","v":-1800},{"$f":"SA!DZ16-SA!DN16","v":-2700},{"$f":"SA!EA16-SA!DO16","v":-2600},{"$f":"SA!EB16-SA!DP16","v":-1600},{"$f":"SA!EC16-SA!DQ16","v":-2300},{"$f":"SA!ED16-SA!DR16","v":-2100},{"$f":"SA!EE16-SA!DS16","v":-1200},{"$f":"SA!EF16-SA!DT16","v":-1000},{"$f":"SA!EG16-SA!DU16","v":-600},{"$f":"SA!EH16-SA!DV16","v":-700},{"$f":"SA!EI16-SA!DW16","v":-1200},{"$f":"SA!EJ16-SA!DX16","v":-1200},{"$f":"SA!EK16-SA!DY16","v":-1600},{"$f":"SA!EL16-SA!DZ16","v":-1500},{"$f":"SA!EM16-SA!EA16","v":-1800},{"$f":"SA!EN16-SA!EB16","v":-1600},{"$f":"SA!EO16-SA!EC16","v":-1000},{"$f":"SA!EP16-SA!ED16","v":-700},{"$f":"SA!EQ16-SA!EE16","v":-1200},{"$f":"SA!ER16-SA!EF16","v":-900},{"$f":"SA!ES16-SA!EG16","v":-1000},{"$f":"SA!ET16-SA!EH16","v":-1000},{"$f":"SA!EU16-SA!EI16","v":-800},{"$f":"SA!EV16-SA!EJ16","v":-1000},{"$f":"SA!EW16-SA!EK16","v":-1200},{"$f":"SA!EX16-SA!EL16","v":-300},{"$f":"SA!EY16-SA!EM16","v":-100},{"$f":"SA!EZ16-SA!EN16","v":-200},{"$f":"SA!FA16-SA!EO16","v":-500},{"$f":"SA!FB16-SA!EP16","v":-300},{"$f":"SA!FC16-SA!EQ16","v":-200},{"$f":"SA!FD16-SA!ER16","v":-400},{"$f":"SA!FE16-SA!ES16","v":-200},{"$f":"SA!FF16-SA!ET16","v":-200},{"$f":"SA!FG16-SA!EU16","v":0},{"$f":"SA!FH16-SA!EV16","v":500},{"$f":"SA!FI16-SA!EW16","v":600},{"$f":"SA!FJ16-SA!EX16","v":-200},{"$f":"SA!FK16-SA!EY16","v":-800},{"$f":"SA!FL16-SA!EZ16","v":-700},{"$f":"SA!FM16-SA!FA16","v":0},{"$f":"SA!FN16-SA!FB16","v":-600},{"$f":"SA!FO16-SA!FC16","v":-300},{"$f":"SA!FP16-SA!FD16","v":0},{"$f":"SA!FQ16-SA!FE16","v":-400},{"$f":"SA!FR16-SA!FF16","v":300},{"$f":"SA!FS16-SA!FG16","v":500},{"$f":"SA!FT16-SA!FH16","v":300},{"$f":"SA!FU16-SA!FI16","v":1200},{"$f":"SA!FV16-SA!FJ16","v":1100},{"$f":"SA!FW16-SA!FK16","v":1600},{"$f":"SA!FX16-SA!FL16","v":1400},{"$f":"SA!FY16-SA!FM16","v":1100},{"$f":"SA!FZ16-SA!FN16","v":1600},{"$f":"SA!GA16-SA!FO16","v":1600},{"$f":"SA!GB16-SA!FP16","v":2200},{"$f":"SA!GC16-SA!FQ16","v":2500},{"$f":"SA!GD16-SA!FR16","v":1900},{"$f":"SA!GE16-SA!FS16","v":1600},{"$f":"SA!GF16-SA!FT16","v":2000},{"$f":"SA!GG16-SA!FU16","v":1300},{"$f":"SA!GH16-SA!FV16","v":1900},{"$f":"SA!GI16-SA!FW16","v":2400},{"$f":"SA!GJ16-SA!FX16","v":4400},{"$f":"SA!GK16-SA!FY16","v":4700},{"$f":"SA!GL16-SA!FZ16","v":4800},{"$f":"SA!GM16-SA!GA16","v":4600},{"$f":"SA!GN16-SA!GB16","v":3700},{"$f":"SA!GO16-SA!GC16","v":3900},{"$f":"SA!GP16-SA!GD16","v":3800},{"$f":"SA!GQ16-SA!GE16","v":4200},{"$f":"SA!GR16-SA!GF16","v":3600},{"$f":"SA!GS16-SA!GG16","v":3900},{"$f":"SA!GT16-SA!GH16","v":3600},{"$f":"SA!GU16-SA!GI16","v":3300},{"$f":"SA!GV16-SA!GJ16","v":1600},{"$f":"SA!GW16-SA!GK16","v":1300},{"$f":"SA!GX16-SA!GL16","v":1000},{"$f":"SA!GY16-SA!GM16","v":1100},{"$f":"SA!GZ16-SA!GN16","v":1700},{"$f":"SA!HA16-SA!GO16","v":1600},{"$f":"SA!HB16-SA!GP16","v":2000},{"$f":"SA!HC16-SA!GQ16","v":1300},{"$f":"SA!HD16-SA!GR16","v":1600},{"$f":"SA!HE16-SA!GS16","v":1500},{"$f":"SA!HF16-SA!GT16","v":1500},{"$f":"SA!HG16-SA!GU16","v":1000},{"$f":"SA!HH16-SA!GV16","v":1100},{"$f":"SA!HI16-SA!GW16","v":1200},{"$f":"SA!HJ16-SA!GX16","v":1200},{"$f":"SA!HK16-SA!GY16","v":1300},{"$f":"SA!HL16-SA!GZ16","v":700},{"$f":"SA!HM16-SA!HA16","v":3200},{"$f":"SA!HN16-SA!HB16","v":3100},{"$f":"SA!HO16-SA!HC16","v":1900},{"$f":"SA!HP16-SA!HD16","v":3500},{"$f":"SA!HQ16-SA!HE16","v":2300},{"$f":"SA!HR16-SA!HF16","v":2200},{"$f":"SA!HS16-SA!HG16","v":2700},{"$f":"SA!HT16-SA!HH16","v":4100},{"$f":"SA!HU16-SA!HI16","v":3900},{"$f":"SA!HV16-SA!HJ16","v":3900},{"$f":"SA!HW16-SA!HK16","v":4300},{"$f":"SA!HX16-SA!HL16","v":4500},{"$f":"SA!HY16-SA!HM16","v":2400},{"$f":"SA!HZ16-SA!HN16","v":500},{"$f":"SA!IA16-SA!HO16","v":700},{"$f":"SA!IB16-SA!HP16","v":-100},{"$f":"SA!IC16-SA!HQ16","v":1100},{"$f":"SA!ID16-SA!HR16","v":800},{"$f":"SA!IE16-SA!HS16","v":1600},{"$f":"SA!IF16-SA!HT16","v":400},{"$f":"SA!IG16-SA!HU16","v":-100},{"$f":"SA!IH16-SA!HV16","v":0},{"$f":"SA!II16-SA!HW16","v":-800},{"$f":"SA!IJ16-SA!HX16","v":-1300},{"$f":"SA!IK16-SA!HY16","v":-3600},{"$f":"SA!IL16-SA!HZ16","v":-111900},6691.86,{"$f":"COUNTIF(EY21:FY21, \">\" &GA21)","v":0},null,"  Transportation, Warehousing, and Utilities",-5800,-1900,-600,300,1050.0000000000014,1599.9999999999986,2400,4800,2266.8720141829735]
["Information",{"$f":"SA!BN17-SA!BB17","v":-700},{"$f":"SA!BO17-SA!BC17","v":-400},{"$f":"SA!BP17-SA!BD17","v":-600},{"$f":"SA!BQ17-SA!BE17","v":0},{"$f":"SA!BR17-SA!BF17","v":100},{"$f":"SA!BS17-SA!BG17","v":300},{"$f":"SA!BT17-SA!BH17","v":-400},{"$f":"SA!BU17-SA!BI17","v":-300},{"$f":"SA!BV17-SA!BJ17","v":-100},{"$f":"SA!BW17-SA!BK17","v":-100},{"$f":"SA!BX17-SA!BL17","v":0},{"$f":"SA!BY17-SA!BM17","v":100},{"$f":"SA!BZ17-SA!BN17","v":0},{"$f":"SA!CA17-SA!BO17","v":-100},{"$f":"SA!CB17-SA!BP17","v":-100},{"$f":"SA!CC17-SA!BQ17","v":-800},{"$f":"SA!CD17-SA!BR17","v":-800},{"$f":"SA!CE17-SA!BS17","v":-1000},{"$f":"SA!CF17-SA!BT17","v":-600},{"$f":"SA!CG17-SA!BU17","v":-600},{"$f":"SA!CH17-SA!BV17","v":-700},{"$f":"SA!CI17-SA!BW17","v":-300},{"$f":"SA!CJ17-SA!BX17","v":-200},{"$f":"SA!CK17-SA!BY17","v":-100},{"$f":"SA!CL17-SA!BZ17","v":200},{"$f":"SA!CM17-SA!CA17","v":200},{"$f":"SA!CN17-SA!CB17","v":300},{"$f":"SA!CO17-SA!CC17","v":800},{"$f":"SA!CP17-SA!CD17","v":1000},{"$f":"SA!CQ17-SA!CE17","v":1300},{"$f":"SA!CR17-SA!CF17","v":1400},{"$f":"SA!CS17-SA!CG17","v":1400},{"$f":"SA!CT17-SA!CH17","v":1400},{"$f":"SA!CU17-SA!CI17","v":1200},{"$f":"SA!CV17-SA!CJ17","v":1000},{"$f":"SA!CW17-SA!CK17","v":900},{"$f":"SA!CX17-SA!CL17","v":500},{"$f":"SA!CY17-SA!CM17","v":500},{"$f":"SA!CZ17-SA!CN17","v":500},{"$f":"SA!DA17-SA!CO17","v":500},{"$f":"SA!DB17-SA!CP17","v":1100},{"$f":"SA!DC17-SA!CQ17","v":400},{"$f":"SA!DD17-SA!CR17","v":-200},{"$f":"SA!DE17-SA!CS17","v":-400},{"$f":"SA!DF17-SA!CT17","v":-600},{"$f":"SA!DG17-SA!CU17","v":-800},{"$f":"SA!DH17-SA!CV17","v":-1000},{"$f":"SA!DI17-SA!CW17","v":-1100},{"$f":"SA!DJ17-SA!CX17","v":-1100},{"$f":"SA!DK17-SA!CY17","v":-1000},{"$f":"SA!DL17-SA!CZ17","v":-1500},{"$f":"SA!DM17-SA!DA17","v":-2200},{"$f":"SA!DN17-SA!DB17","v":-2800},{"$f":"SA!DO17-SA!DC17","v":-2500},{"$f":"SA!DP17-SA!DD17","v":-2500},{"$f":"SA!DQ17-SA!DE17","v":-2500},{"$f":"SA!DR17-SA!DF17","v":-2400},{"$f":"SA!DS17-SA!DG17","v":-2800},{"$f":"SA!DT17-SA!DH17","v":-2400},{"$f":"SA!DU17-SA!DI17","v":-2200},{"$f":"SA!DV17-SA!DJ17","v":-2400},{"$f":"SA!DW17-SA!DK17","v":-2800},{"$f":"SA!DX17-SA!DL17","v":-2200},{"$f":"SA!DY17-SA!DM17","v":-1900},{"$f":"SA!DZ17-SA!DN17","v":-1900},{"$f":"SA!EA17-SA!DO17","v":-1500},{"$f":"SA!EB17-SA!DP17","v":-1100},{"$f":"SA!EC17-SA!DQ17","v":-800},{"$f":"SA!ED17-SA!DR17","v":-700},{"$f":"SA!EE17-SA!DS17","v":-400},{"$f":"SA!EF17-SA!DT17","v":-100},{"$f":"SA!EG17-SA!DU17","v":-200},{"$f":"SA!EH17-SA!DV17","v":100},{"$f":"SA!EI17-SA!DW17","v":500},{"$f":"SA!EJ17-SA!DX17","v":300},{"$f":"SA!EK17-SA!DY17","v":700},{"$f":"SA!EL17-SA!DZ17","v":400},{"$f":"SA!EM17-SA!EA17","v":-200},{"$f":"SA!EN17-SA!EB17","v":100},{"$f":"SA!EO17-SA!EC17","v":-100},{"$f":"SA!EP17-SA!ED17","v":0},{"$f":"SA!EQ17-SA!EE17","v":200},{"$f":"SA!ER17-SA!EF17","v":-200},{"$f":"SA!ES17-SA!EG17","v":-300},{"$f":"SA!ET17-SA!EH17","v":-500},{"$f":"SA!EU17-SA!EI17","v":-600},{"$f":"SA!EV17-SA!EJ17","v":-600},{"$f":"SA!EW17-SA!EK17","v":-700},{"$f":"SA!EX17-SA!EL17","v":-600},{"$f":"SA!EY17-SA!EM17","v":100},{"$f":"SA!EZ17-SA!EN17","v":-400},{"$f":"SA!FA17-SA!EO17","v":-200},{"$f":"SA!FB17-SA!EP17","v":-200},{"$f":"SA!FC17-SA!EQ17","v":-100},{"$f":"SA!FD17-SA!ER17","v":0},{"$f":"SA!FE17-SA!ES17","v":-100},{"$f":"SA!FF17-SA!ET17","v":500},{"$f":"SA!FG17-SA!EU17","v":600},{"$f":"SA!FH17-SA!EV17","v":800},{"$f":"SA!FI17-SA!EW17","v":800},{"$f":"SA!FJ17-SA!EX17","v":1000},{"$f":"SA!FK17-SA!EY17","v":700},{"$f":"SA!FL17-SA!EZ17","v":900},{"$f":"SA!FM17-SA!FA17","v":800},{"$f":"SA!FN17-SA!FB17","v":700},{"$f":"SA!FO17-SA!FC17","v":800},{"$f":"SA!FP17-SA!FD17","v":700},{"$f":"SA!FQ17-SA!FE17","v":1000},{"$f":"SA!FR17-SA!FF17","v":600},{"$f":"SA!FS17-SA!FG17","v":600},{"$f":"SA!FT17-SA!FH17","v":600},{"$f":"SA!FU17-SA!FI17","v":400},{"$f":"SA!FV17-SA!FJ17","v":400},{"$f":"SA!FW17-SA!FK17","v":500},{"$f":"SA!FX17-SA!FL17","v":700},{"$f":"SA!FY17-SA!FM17","v":800},{"$f":"SA!FZ17-SA!FN17","v":600},{"$f":"SA!GA17-SA!FO17","v":800},{"$f":"SA!GB17-SA!FP17","v":900},{"$f":"SA!GC17-SA!FQ17","v":900},{"$f":"SA!GD17-SA!FR17","v":1100},{"$f":"SA!GE17-SA!FS17","v":800},{"$f":"SA!GF17-SA!FT17","v":700},{"$f":"SA!GG17-SA!FU17","v":900},{"$f":"SA!GH17-SA!FV17","v":1000},{"$f":"SA!GI17-SA!FW17","v":800},{"$f":"SA!GJ17-SA!FX17","v":1000},{"$f":"SA!GK17-SA!FY17","v":1300},{"$f":"SA!GL17-SA!FZ17","v":1400},{"$f":"SA!GM17-SA!GA17","v":1200},{"$f":"SA!GN17-SA!GB17","v":1100},{"$f":"SA!GO17-SA!GC17","v":900},{"$f":"SA!GP17-SA!GD17","v":700},{"$f":"SA!GQ17-SA!GE17","v":900},{"$f":"SA!GR17-SA!GF17","v":1000},{"$f":"SA!GS17-SA!GG17","v":900},{"$f":"SA!GT17-SA!GH17","v":700},{"$f":"SA!GU17-SA!GI17","v":400},{"$f":"SA!GV17-SA!GJ17","v":100},{"$f":"SA!GW17-SA!GK17","v":-200},{"$f":"SA!GX17-SA!GL17","v":-400},{"$f":"SA!GY17-SA!GM17","v":-600},{"$f":"SA!GZ17-SA!GN17","v":-700},{"$f":"SA!HA17-SA!GO17","v":-700},{"$f":"SA!HB17-SA!GP17","v":-700},{"$f":"SA!HC17-SA!GQ17","v":-700},{"$f":"SA!HD17-SA!GR17","v":-800},{"$f":"SA!HE17-SA!GS17","v":-1200},{"$f":"SA!HF17-SA!GT17","v":-1400},{"$f":"SA!HG17-SA!GU17","v":-1200},{"$f":"SA!HH17-SA!GV17","v":-1500},{"$f":"SA!HI17-SA!GW17","v":-1800},{"$f":"SA!HJ17-SA!GX17","v":-1600},{"$f":"SA!HK17-SA!GY17","v":-1700},{"$f":"SA!HL17-SA!GZ17","v":-1900},{"$f":"SA!HM17-SA!HA17","v":-1600},{"$f":"SA!HN17-SA!HB17","v":-1800},{"$f":"SA!HO17-SA!HC17","v":-1900},{"$f":"SA!HP17-SA!HD17","v":-1900},{"$f":"SA!HQ17-SA!HE17","v":-1500},{"$f":"SA!HR17-SA!HF17","v":-1400},{"$f":"SA!HS17-SA!HG17","v":-1500},{"$f":"SA!HT17-SA!HH17","v":-1400},{"$f":"SA!HU17-SA!HI17","v":-1200},{"$f":"SA!HV17-SA!HJ17","v":-700},{"$f":"SA!HW17-SA!HK17","v":-100},{"$f":"SA!HX17-SA!HL17","v":700},{"$f":"SA!HY17-SA!HM17","v":600},{"$f":"SA!HZ17-SA!HN17","v":900},{"$f":"SA!IA17-SA!HO17","v":800},{"$f":"SA!IB17-SA!HP17","v":900},{"$f":"SA!IC17-SA!HQ17","v":1200},{"$f":"SA!ID17-SA!HR17","v":1100},{"$f":"SA!IE17-SA!HS17","v":1600},{"$f":"SA!IF17-SA!HT17","v":2200},{"$f":"SA!IG17-SA!HU17","v":2300},{"$f":"SA!IH17-SA!HV17","v":1900},{"$f":"SA!II17-SA!HW17","v":1400},{"$f":"SA!IJ17-SA!HX17","v":1000},{"$f":"SA!IK17-SA!HY17","v":1000},{"$f":"SA!IL17-SA!HZ17","v":-47700},2880.395,{"$f":"COUNTIF(EY22:FY22, \">\" &GA22)","v":0},null,"Information",-2800,-1500,-700,-200,0,599.99999999999864,900,1400,1049.8959151853787]
["Financial Activities",{"$f":"SA!BN18-SA!BB18","v":1700},{"$f":"SA!BO18-SA!BC18","v":1100},{"$f":"SA!BP18-SA!BD18","v":1400},{"$f":"SA!BQ18-SA!BE18","v":1000},{"$f":"SA!BR18-SA!BF18","v":800},{"$f":"SA!BS18-SA!BG18","v":900},{"$f":"SA!BT18-SA!BH18","v":700},{"$f":"SA!BU18-SA!BI18","v":600},{"$f":"SA!BV18-SA!BJ18","v":1400},{"$f":"SA!BW18-SA!BK18","v":600},{"$f":"SA!BX18-SA!BL18","v":700},{"$f":"SA!BY18-SA!BM18","v":400},{"$f":"SA!BZ18-SA!BN18","v":900},{"$f":"SA!CA18-SA!BO18","v":1300},{"$f":"SA!CB18-SA!BP18","v":1000},{"$f":"SA!CC18-SA!BQ18","v":1700},{"$f":"SA!CD18-SA!BR18","v":2200},{"$f":"SA!CE18-SA!BS18","v":1900},{"$f":"SA!CF18-SA!BT18","v":2200},{"$f":"SA!CG18-SA!BU18","v":1900},{"$f":"SA!CH18-SA!BV18","v":2100},{"$f":"SA!CI18-SA!BW18","v":2200},{"$f":"SA!CJ18-SA!BX18","v":2100},{"$f":"SA!CK18-SA!BY18","v":2300},{"$f":"SA!CL18-SA!BZ18","v":2300},{"$f":"SA!CM18-SA!CA18","v":2400},{"$f":"SA!CN18-SA!CB18","v":2000},{"$f":"SA!CO18-SA!CC18","v":1400},{"$f":"SA!CP18-SA!CD18","v":700},{"$f":"SA!CQ18-SA!CE18","v":1100},{"$f":"SA!CR18-SA!CF18","v":200},{"$f":"SA!CS18-SA!CG18","v":0},{"$f":"SA!CT18-SA!CH18","v":-100},{"$f":"SA!CU18-SA!CI18","v":1100},{"$f":"SA!CV18-SA!CJ18","v":1000},{"$f":"SA!CW18-SA!CK18","v":900},{"$f":"SA!CX18-SA!CL18","v":1000},{"$f":"SA!CY18-SA!CM18","v":1600},{"$f":"SA!CZ18-SA!CN18","v":1500},{"$f":"SA!DA18-SA!CO18","v":1600},{"$f":"SA!DB18-SA!CP18","v":2200},{"$f":"SA!DC18-SA!CQ18","v":1500},{"$f":"SA!DD18-SA!CR18","v":1900},{"$f":"SA!DE18-SA!CS18","v":2100},{"$f":"SA!DF18-SA!CT18","v":1200},{"$f":"SA!DG18-SA!CU18","v":-400},{"$f":"SA!DH18-SA!CV18","v":-500},{"$f":"SA!DI18-SA!CW18","v":-1000},{"$f":"SA!DJ18-SA!CX18","v":-1100},{"$f":"SA!DK18-SA!CY18","v":-2100},{"$f":"SA!DL18-SA!CZ18","v":-2300},{"$f":"SA!DM18-SA!DA18","v":-2500},{"$f":"SA!DN18-SA!DB18","v":-3000},{"$f":"SA!DO18-SA!DC18","v":-3000},{"$f":"SA!DP18-SA!DD18","v":-3700},{"$f":"SA!DQ18-SA!DE18","v":-3600},{"$f":"SA!DR18-SA!DF18","v":-3700},{"$f":"SA!DS18-SA!DG18","v":-3500},{"$f":"SA!DT18-SA!DH18","v":-3700},{"$f":"SA!DU18-SA!DI18","v":-3800},{"$f":"SA!DV18-SA!DJ18","v":-4200},{"$f":"SA!DW18-SA!DK18","v":-3900},{"$f":"SA!DX18-SA!DL18","v":-3300},{"$f":"SA!DY18-SA!DM18","v":-3800},{"$f":"SA!DZ18-SA!DN18","v":-3800},{"$f":"SA!EA18-SA!DO18","v":-3800},{"$f":"SA!EB18-SA!DP18","v":-3200},{"$f":"SA!EC18-SA!DQ18","v":-3500},{"$f":"SA!ED18-SA!DR18","v":-2900},{"$f":"SA!EE18-SA!DS18","v":-2500},{"$f":"SA!EF18-SA!DT18","v":-2300},{"$f":"SA!EG18-SA!DU18","v":-2000},{"$f":"SA!EH18-SA!DV18","v":-2000},{"$f":"SA!EI18-SA!DW18","v":-1800},{"$f":"SA!EJ18-SA!DX18","v":-2000},{"$f":"SA!EK18-SA!DY18","v":-1500},{"$f":"SA!EL18-SA!DZ18","v":-1700},{"$f":"SA!EM18-SA!EA18","v":-1500},{"$f":"SA!EN18-SA!EB18","v":-1300},{"$f":"SA!EO18-SA!EC18","v":-1300},{"$f":"SA!EP18-SA!ED18","v":-600},{"$f":"SA!EQ18-SA!EE18","v":-1000},{"$f":"SA!ER18-SA!EF18","v":-1000},{"$f":"SA!ES18-SA!EG18","v":-1000},{"$f":"SA!ET18-SA!EH18","v":100},{"$f":"SA!EU18-SA!EI18","v":0},{"$f":"SA!EV18-SA!EJ18","v":100},{"$f":"SA!EW18-SA!EK18","v":-100},{"$f":"SA!EX18-SA!EL18","v":300},{"$f":"SA!EY18-SA!EM18","v":300},{"$f":"SA!EZ18-SA!EN18","v":100},{"$f":"SA!FA18-SA!EO18","v":500},{"$f":"SA!FB18-SA!EP18","v":-100},{"$f":"SA!FC18-SA!EQ18","v":100},{"$f":"SA!FD18-SA!ER18","v":0},{"$f":"SA!FE18-SA!ES18","v":200},{"$f":"SA!FF18-SA!ET18","v":-700},{"$f":"SA!FG18-SA!EU18","v":-500},{"$f":"SA!FH18-SA!EV18","v":-500},{"$f":"SA!FI18-SA!EW18","v":-600},{"$f":"SA!FJ18-SA!EX18","v":-300},{"$f":"SA!FK18-SA!EY18","v":-200},{"$f":"SA!FL18-SA!EZ18","v":-100},{"$f":"SA!FM18-SA!FA18","v":-200},{"$f":"SA!FN18-SA!FB18","v":-200},{"$f":"SA!FO18-SA!FC18","v":-500},{"$f":"SA!FP18-SA!FD18","v":-300},{"$f":"SA!FQ18-SA!FE18","v":-500},{"$f":"SA!FR18-SA!FF18","v":-1500},{"$f":"SA!FS18-SA!FG18","v":-1200},{"$f":"SA!FT18-SA!FH18","v":-1200},{"$f":"SA!FU18-SA!FI18","v":-400},{"$f":"SA!FV18-SA!FJ18","v":-600},{"$f":"SA!FW18-SA!FK18","v":-500},{"$f":"SA!FX18-SA!FL18","v":-700},{"$f":"SA!FY18-SA!FM18","v":-200},{"$f":"SA!FZ18-SA!FN18","v":200},{"$f":"SA!GA18-SA!FO18","v":0},{"$f":"SA!GB18-SA!FP18","v":100},{"$f":"SA!GC18-SA!FQ18","v":500},{"$f":"SA!GD18-SA!FR18","v":1700},{"$f":"SA!GE18-SA!FS18","v":1600},{"$f":"SA!GF18-SA!FT18","v":1600},{"$f":"SA!GG18-SA!FU18","v":1000},{"$f":"SA!GH18-SA!FV18","v":1300},{"$f":"SA!GI18-SA!FW18","v":1300},{"$f":"SA!GJ18-SA!FX18","v":1400},{"$f":"SA!GK18-SA!FY18","v":700},{"$f":"SA!GL18-SA!FZ18","v":400},{"$f":"SA!GM18-SA!GA18","v":1200},{"$f":"SA!GN18-SA!GB18","v":1000},{"$f":"SA!GO18-SA!GC18","v":700},{"$f":"SA!GP18-SA!GD18","v":500},{"$f":"SA!GQ18-SA!GE18","v":400},{"$f":"SA!GR18-SA!GF18","v":300},{"$f":"SA!GS18-SA!GG18","v":600},{"$f":"SA!GT18-SA!GH18","v":100},{"$f":"SA!GU18-SA!GI18","v":100},{"$f":"SA!GV18-SA!GJ18","v":800},{"$f":"SA!GW18-SA!GK18","v":1100},{"$f":"SA!GX18-SA!GL18","v":1000},{"$f":"SA!GY18-SA!GM18","v":900},{"$f":"SA!GZ18-SA!GN18","v":1200},{"$f":"SA!HA18-SA!GO18","v":900},{"$f":"SA!HB18-SA!GP18","v":1800},{"$f":"SA!HC18-SA!GQ18","v":1800},{"$f":"SA!HD18-SA!GR18","v":2100},{"$f":"SA!HE18-SA!GS18","v":1700},{"$f":"SA!HF18-SA!GT18","v":1500},{"$f":"SA!HG18-SA!GU18","v":1500},{"$f":"SA!HH18-SA!GV18","v":700},{"$f":"SA!HI18-SA!GW18","v":600},{"$f":"SA!HJ18-SA!GX18","v":300},{"$f":"SA!HK18-SA!GY18","v":0},{"$f":"SA!HL18-SA!GZ18","v":-1000},{"$f":"SA!HM18-SA!HA18","v":-1500},{"$f":"SA!HN18-SA!HB18","v":-1900},{"$f":"SA!HO18-SA!HC18","v":-1700},{"$f":"SA!HP18-SA!HD18","v":-2800},{"$f":"SA!HQ18-SA!HE18","v":-2500},{"$f":"SA!HR18-SA!HF18","v":-2600},{"$f":"SA!HS18-SA!HG18","v":-3000},{"$f":"SA!HT18-SA!HH18","v":-2700},{"$f":"SA!HU18-SA!HI18","v":-3000},{"$f":"SA!HV18-SA!HJ18","v":-2900},{"$f":"SA!HW18-SA!HK18","v":-1700},{"$f":"SA!HX18-SA!HL18","v":-1200},{"$f":"SA!HY18-SA!HM18","v":400},{"$f":"SA!HZ18-SA!HN18","v":2500},{"$f":"SA!IA18-SA!HO18","v":1900},{"$f":"SA!IB18-SA!HP18","v":3100},{"$f":"SA!IC18-SA!HQ18","v":2800},{"$f":"SA!ID18-SA!HR18","v":3000},{"$f":"SA!IE18-SA!HS18","v":4400},{"$f":"SA!IF18-SA!HT18","v":4100},{"$f":"SA!IG18-SA!HU18","v":4000},{"$f":"SA!IH18-SA!HV18","v":3100},{"$f":"SA!II18-SA!HW18","v":1600},{"$f":"SA!IJ18-SA!HX18","v":2700},{"$f":"SA!IK18-SA!HY18","v":2000},{"$f":"SA!IL18-SA!HZ18","v":-153600},4997.51,{"$f":"COUNTIF(EY23:FY23, \">\" &GA23)","v":0},null,"Financial Activities",-4200,-2500,-1000,0,300,999.99999999999864,1600,2500,1718.6575665612829]
["Real Estate and Rental and Leasing",{"$f":"SA!BN20-SA!BB20","v":700},{"$f":"SA!BO20-SA!BC20","v":500},{"$f":"SA!BP20-SA!BD20","v":600},{"$f":"SA!BQ20-SA!BE20","v":600},{"$f":"SA!BR20-SA!BF20","v":400},{"$f":"SA!BS20-SA!BG20","v":400},{"$f":"SA!BT20-SA!BH20","v":300},{"$f":"SA!BU20-SA!BI20","v":100},{"$f":"SA!BV20-SA!BJ20","v":300},{"$f":"SA!BW20-SA!BK20","v":100},{"$f":"SA!BX20-SA!BL20","v":200},{"$f":"SA!BY20-SA!BM20","v":400},{"$f":"SA!BZ20-SA!BN20","v":200},{"$f":"SA!CA20-SA!BO20","v":300},{"$f":"SA!CB20-SA!BP20","v":100},{"$f":"SA!CC20-SA!BQ20","v":100},{"$f":"SA!CD20-SA!BR20","v":200},{"$f":"SA!CE20-SA!BS20","v":400},{"$f":"SA!CF20-SA!BT20","v":300},{"$f":"SA!CG20-SA!BU20","v":300},{"$f":"SA!CH20-SA!BV20","v":100},{"$f":"SA!CI20-SA!BW20","v":200},{"$f":"SA!CJ20-SA!BX20","v":100},{"$f":"SA!CK20-SA!BY20","v":0},{"$f":"SA!CL20-SA!BZ20","v":0},{"$f":"SA!CM20-SA!CA20","v":100},{"$f":"SA!CN20-SA!CB20","v":100},{"$f":"SA!CO20-SA!CC20","v":0},{"$f":"SA!CP20-SA!CD20","v":0},{"$f":"SA!CQ20-SA!CE20","v":-100},{"$f":"SA!CR20-SA!CF20","v":-400},{"$f":"SA!CS20-SA!CG20","v":-300},{"$f":"SA!CT20-SA!CH20","v":-300},{"$f":"SA!CU20-SA!CI20","v":-100},{"$f":"SA!CV20-SA!CJ20","v":-300},{"$f":"SA!CW20-SA!CK20","v":-300},{"$f":"SA!CX20-SA!CL20","v":-500},{"$f":"SA!CY20-SA!CM20","v":-400},{"$f":"SA!CZ20-SA!CN20","v":-500},{"$f":"SA!DA20-SA!CO20","v":-600},{"$f":"SA!DB20-SA!CP20","v":-700},{"$f":"SA!DC20-SA!CQ20","v":-800},{"$f":"SA!DD20-SA!CR20","v":-800},{"$f":"SA!DE20-SA!CS20","v":-900},{"$f":"SA!DF20-SA!CT20","v":-1100},{"$f":"SA!DG20-SA!CU20","v":-1100},{"$f":"SA!DH20-SA!CV20","v":-1000},{"$f":"SA!DI20-SA!CW20","v":-1100},{"$f":"SA!DJ20-SA!CX20","v":-1400},{"$f":"SA!DK20-SA!CY20","v":-1700},{"$f":"SA!DL20-SA!CZ20","v":-1800},{"$f":"SA!DM20-SA!DA20","v":-2000},{"$f":"SA!DN20-SA!DB20","v":-1800},{"$f":"SA!DO20-SA!DC20","v":-1700},{"$f":"SA!DP20-SA!DD20","v":-1800},{"$f":"SA!DQ20-SA!DE20","v":-1600},{"$f":"SA!DR20-SA!DF20","v":-1500},{"$f":"SA!DS20-SA!DG20","v":-1700},{"$f":"SA!DT20-SA!DH20","v":-1800},{"$f":"SA!DU20-SA!DI20","v":-1700},{"$f":"SA!DV20-SA!DJ20","v":-1000},{"$f":"SA!DW20-SA!DK20","v":-900},{"$f":"SA!DX20-SA!DL20","v":-800},{"$f":"SA!DY20-SA!DM20","v":-700},{"$f":"SA!DZ20-SA!DN20","v":-900},{"$f":"SA!EA20-SA!DO20","v":-1100},{"$f":"SA!EB20-SA!DP20","v":-900},{"$f":"SA!EC20-SA!DQ20","v":-1000},{"$f":"SA!ED20-SA!DR20","v":-1000},{"$f":"SA!EE20-SA!DS20","v":-700},{"$f":"SA!EF20-SA!DT20","v":-600},{"$f":"SA!EG20-SA!DU20","v":-600},{"$f":"SA!EH20-SA!DV20","v":-900},{"$f":"SA!EI20-SA!DW20","v":-800},{"$f":"SA!EJ20-SA!DX20","v":-600},{"$f":"SA!EK20-SA!DY20","v":-400},{"$f":"SA!EL20-SA!DZ20","v":-600},{"$f":"SA!EM20-SA!EA20","v":-300},{"$f":"SA!EN20-SA!EB20","v":-400},{"$f":"SA!EO20-SA!EC20","v":-400},{"$f":"SA!EP20-SA!ED20","v":-200},{"$f":"SA!EQ20-SA!EE20","v":-500},{"$f":"SA!ER20-SA!EF20","v":-400},{"$f":"SA!ES20-SA!EG20","v":-400},{"$f":"SA!ET20-SA!EH20","v":-200},{"$f":"SA!EU20-SA!EI20","v":-300},{"$f":"SA!EV20-SA!EJ20","v":-400},{"$f":"SA!EW20-SA!EK20","v":-400},{"$f":"SA!EX20-SA!EL20","v":0},{"$f":"SA!EY20-SA!EM20","v":-100},{"$f":"SA!EZ20-SA!EN20","v":100},{"$f":"SA!FA20-SA!EO20","v":100},{"$f":"SA!FB20-SA!EP20","v":-100},{"$f":"SA!FC20-SA!EQ20","v":100},{"$f":"SA!FD20-SA!ER20","v":0},{"$f":"SA!FE20-SA!ES20","v":100},{"$f":"SA!FF20-SA!ET20","v":100},{"$f":"SA!FG20-SA!EU20","v":200},{"$f":"SA!FH20-SA!EV20","v":300},{"$f":"SA!FI20-SA!EW20","v":200},{"$f":"SA!FJ20-SA!EX20","v":300},{"$f":"SA!FK20-SA!EY20","v":200},{"$f":"SA!FL20-SA!EZ20","v":200},{"$f":"SA!FM20-SA!FA20","v":200},{"$f":"SA!FN20-SA!FB20","v":400},{"$f":"SA!FO20-SA!FC20","v":100},{"$f":"SA!FP20-SA!FD20","v":200},{"$f":"SA!FQ20-SA!FE20","v":100},{"$f":"SA!FR20-SA!FF20","v":-100},{"$f":"SA!FS20-SA!FG20","v":0},{"$f":"SA!FT20-SA!FH20","v":0},{"$f":"SA!FU20-SA!FI20","v":200},{"$f":"SA!FV20-SA!FJ20","v":-100},{"$f":"SA!FW20-SA!FK20","v":100},{"$f":"SA!FX20-SA!FL20","v":-100},{"$f":"SA!FY20-SA!FM20","v":0},{"$f":"SA!FZ20-SA!FN20","v":100},{"$f":"SA!GA20-SA!FO20","v":100},{"$f":"SA!GB20-SA!FP20","v":0},{"$f":"SA!GC20-SA!FQ20","v":0},{"$f":"SA!GD20-SA!FR20","v":200},{"$f":"SA!GE20-SA!FS20","v":200},{"$f":"SA!GF20-SA!FT20","v":200},{"$f":"SA!GG20-SA!FU20","v":100},{"$f":"SA!GH20-SA!FV20","v":500},{"$f":"SA!GI20-SA!FW20","v":400},{"$f":"SA!GJ20-SA!FX20","v":700},{"$f":"SA!GK20-SA!FY20","v":700},{"$f":"SA!GL20-SA!FZ20","v":600},{"$f":"SA!GM20-SA!GA20","v":900},{"$f":"SA!GN20-SA!GB20","v":1000},{"$f":"SA!GO20-SA!GC20","v":1000},{"$f":"SA!GP20-SA!GD20","v":700},{"$f":"SA!GQ20-SA!GE20","v":900},{"$f":"SA!GR20-SA!GF20","v":700},{"$f":"SA!GS20-SA!GG20","v":800},{"$f":"SA!GT20-SA!GH20","v":500},{"$f":"SA!GU20-SA!GI20","v":400},{"$f":"SA!GV20-SA!GJ20","v":500},{"$f":"SA!GW20-SA!GK20","v":600},{"$f":"SA!GX20-SA!GL20","v":500},{"$f":"SA!GY20-SA!GM20","v":600},{"$f":"SA!GZ20-SA!GN20","v":700},{"$f":"SA!HA20-SA!GO20","v":700},{"$f":"SA!HB20-SA!GP20","v":1000},{"$f":"SA!HC20-SA!GQ20","v":800},{"$f":"SA!HD20-SA!GR20","v":1000},{"$f":"SA!HE20-SA!GS20","v":900},{"$f":"SA!HF20-SA!GT20","v":800},{"$f":"SA!HG20-SA!GU20","v":1200},{"$f":"SA!HH20-SA!GV20","v":800},{"$f":"SA!HI20-SA!GW20","v":600},{"$f":"SA!HJ20-SA!GX20","v":600},{"$f":"SA!HK20-SA!GY20","v":600},{"$f":"SA!HL20-SA!GZ20","v":600},{"$f":"SA!HM20-SA!HA20","v":400},{"$f":"SA!HN20-SA!HB20","v":400},{"$f":"SA!HO20-SA!HC20","v":400},{"$f":"SA!HP20-SA!HD20","v":300},{"$f":"SA!HQ20-SA!HE20","v":200},{"$f":"SA!HR20-SA!HF20","v":400},{"$f":"SA!HS20-SA!HG20","v":0},{"$f":"SA!HT20-SA!HH20","v":300},{"$f":"SA!HU20-SA!HI20","v":400},{"$f":"SA!HV20-SA!HJ20","v":400},{"$f":"SA!HW20-SA!HK20","v":300},{"$f":"SA!HX20-SA!HL20","v":200},{"$f":"SA!HY20-SA!HM20","v":500},{"$f":"SA!HZ20-SA!HN20","v":500},{"$f":"SA!IA20-SA!HO20","v":700},{"$f":"SA!IB20-SA!HP20","v":400},{"$f":"SA!IC20-SA!HQ20","v":300},{"$f":"SA!ID20-SA!HR20","v":100},{"$f":"SA!IE20-SA!HS20","v":300},{"$f":"SA!IF20-SA!HT20","v":200},{"$f":"SA!IG20-SA!HU20","v":200},{"$f":"SA!IH20-SA!HV20","v":100},{"$f":"SA!II20-SA!HW20","v":0},{"$f":"SA!IJ20-SA!HX20","v":0},{"$f":"SA!IK20-SA!HY20","v":0},{"$f":"SA!IL20-SA!HZ20","v":-27000},3370.605,{"$f":"COUNTIF(EY24:FY24, \">\" &GA24)","v":0},null,"Real Estate and Rental and Leasing",-2000,-850,-300,50,100,300,600,1200,682.70024099963314]
["Professional and Business Services",{"$f":"SA!BN21-SA!BB21","v":9800},{"$f":"SA!BO21-SA!BC21","v":10400},{"$f":"SA!BP21-SA!BD21","v":11600},{"$f":"SA!BQ21-SA!BE21","v":13100},{"$f":"SA!BR21-SA!BF21","v":10700},{"$f":"SA!BS21-SA!BG21","v":8600},{"$f":"SA!BT21-SA!BH21","v":10999.999999999971},{"$f":"SA!BU21-SA!BI21","v":8600},{"$f":"SA!BV21-SA!BJ21","v":11600},{"$f":"SA!BW21-SA!BK21","v":7199.9999999999709},{"$f":"SA!BX21-SA!BL21","v":9000},{"$f":"SA!BY21-SA!BM21","v":9799.9999999999709},{"$f":"SA!BZ21-SA!BN21","v":7600},{"$f":"SA!CA21-SA!BO21","v":8400},{"$f":"SA!CB21-SA!BP21","v":7300},{"$f":"SA!CC21-SA!BQ21","v":9200},{"$f":"SA!CD21-SA!BR21","v":9500},{"$f":"SA!CE21-SA!BS21","v":10100},{"$f":"SA!CF21-SA!BT21","v":7100},{"$f":"SA!CG21-SA!BU21","v":6200},{"$f":"SA!CH21-SA!BV21","v":6600},{"$f":"SA!CI21-SA!BW21","v":9200},{"$f":"SA!CJ21-SA!BX21","v":7700},{"$f":"SA!CK21-SA!BY21","v":5600},{"$f":"SA!CL21-SA!BZ21","v":8200},{"$f":"SA!CM21-SA!CA21","v":7100},{"$f":"SA!CN21-SA!CB21","v":8100},{"$f":"SA!CO21-SA!CC21","v":6400},{"$f":"SA!CP21-SA!CD21","v":7900},{"$f":"SA!CQ21-SA!CE21","v":9000},{"$f":"SA!CR21-SA!CF21","v":9000},{"$f":"SA!CS21-SA!CG21","v":9500},{"$f":"SA!CT21-SA!CH21","v":8300},{"$f":"SA!CU21-SA!CI21","v":6900},{"$f":"SA!CV21-SA!CJ21","v":7600},{"$f":"SA!CW21-SA!CK21","v":10100},{"$f":"SA!CX21-SA!CL21","v":8600},{"$f":"SA!CY21-SA!CM21","v":9300},{"$f":"SA!CZ21-SA!CN21","v":6900},{"$f":"SA!DA21-SA!CO21","v":4100},{"$f":"SA!DB21-SA!CP21","v":3900},{"$f":"SA!DC21-SA!CQ21","v":2700},{"$f":"SA!DD21-SA!CR21","v":2800},{"$f":"SA!DE21-SA!CS21","v":3100},{"$f":"SA!DF21-SA!CT21","v":1800},{"$f":"SA!DG21-SA!CU21","v":-1300},{"$f":"SA!DH21-SA!CV21","v":-5400},{"$f":"SA!DI21-SA!CW21","v":-8900},{"$f":"SA!DJ21-SA!CX21","v":-14800},{"$f":"SA!DK21-SA!CY21","v":-20600},{"$f":"SA!DL21-SA!CZ21","v":-24199.999999999971},{"$f":"SA!DM21-SA!DA21","v":-25800},{"$f":"SA!DN21-SA!DB21","v":-26100},{"$f":"SA!DO21-SA!DC21","v":-28299.999999999971},{"$f":"SA!DP21-SA!DD21","v":-28200},{"$f":"SA!DQ21-SA!DE21","v":-29499.999999999971},{"$f":"SA!DR21-SA!DF21","v":-27500},{"$f":"SA!DS21-SA!DG21","v":-21700.000000000029},{"$f":"SA!DT21-SA!DH21","v":-16200},{"$f":"SA!DU21-SA!DI21","v":-13200},{"$f":"SA!DV21-SA!DJ21","v":-7300},{"$f":"SA!DW21-SA!DK21","v":500},{"$f":"SA!DX21-SA!DL21","v":3899.9999999999709},{"$f":"SA!DY21-SA!DM21","v":11800},{"$f":"SA!DZ21-SA!DN21","v":12600},{"$f":"SA!EA21-SA!DO21","v":14699.999999999971},{"$f":"SA!EB21-SA!DP21","v":17300},{"$f":"SA!EC21-SA!DQ21","v":20499.999999999971},{"$f":"SA!ED21-SA!DR21","v":20200},{"$f":"SA!EE21-SA!DS21","v":21100.000000000029},{"$f":"SA!EF21-SA!DT21","v":20100},{"$f":"SA!EG21-SA!DU21","v":21000},{"$f":"SA!EH21-SA!DV21","v":21500},{"$f":"SA!EI21-SA!DW21","v":18200},{"$f":"SA!EJ21-SA!DX21","v":21500},{"$f":"SA!EK21-SA!DY21","v":14600},{"$f":"SA!EL21-SA!DZ21","v":13500},{"$f":"SA!EM21-SA!EA21","v":13900},{"$f":"SA!EN21-SA!EB21","v":12900},{"$f":"SA!EO21-SA!EC21","v":10500},{"$f":"SA!EP21-SA!ED21","v":12200},{"$f":"SA!EQ21-SA!EE21","v":8300},{"$f":"SA!ER21-SA!EF21","v":7600},{"$f":"SA!ES21-SA!EG21","v":5400},{"$f":"SA!ET21-SA!EH21","v":5600},{"$f":"SA!EU21-SA!EI21","v":6400},{"$f":"SA!EV21-SA!EJ21","v":7600},{"$f":"SA!EW21-SA!EK21","v":9400},{"$f":"SA!EX21-SA!EL21","v":8200},{"$f":"SA!EY21-SA!EM21","v":8100},{"$f":"SA!EZ21-SA!EN21","v":5600},{"$f":"SA!FA21-SA!EO21","v":5200},{"$f":"SA!FB21-SA!EP21","v":5000},{"$f":"SA!FC21-SA!EQ21","v":6200},{"$f":"SA!FD21-SA!ER21","v":7400},{"$f":"SA!FE21-SA!ES21","v":5400},{"$f":"SA!FF21-SA!ET21","v":5200},{"$f":"SA!FG21-SA!EU21","v":7000},{"$f":"SA!FH21-SA!EV21","v":6500},{"$f":"SA!FI21-SA!EW21","v":3400},{"$f":"SA!FJ21-SA!EX21","v":6700},{"$f":"SA!FK21-SA!EY21","v":7000},{"$f":"SA!FL21-SA!EZ21","v":9100},{"$f":"SA!FM21-SA!FA21","v":10400},{"$f":"SA!FN21-SA!FB21","v":8800},{"$f":"SA!FO21-SA!FC21","v":7800},{"$f":"SA!FP21-SA!FD21","v":6400},{"$f":"SA!FQ21-SA!FE21","v":10400},{"$f":"SA!FR21-SA!FF21","v":9500},{"$f":"SA!FS21-SA!FG21","v":7200},{"$f":"SA!FT21-SA!FH21","v":4100},{"$f":"SA!FU21-SA!FI21","v":7400},{"$f":"SA!FV21-SA!FJ21","v":6400},{"$f":"SA!FW21-SA!FK21","v":5100},{"$f":"SA!FX21-SA!FL21","v":4300},{"$f":"SA!FY21-SA!FM21","v":4600},{"$f":"SA!FZ21-SA!FN21","v":4700},{"$f":"SA!GA21-SA!FO21","v":6800},{"$f":"SA!GB21-SA!FP21","v":8200},{"$f":"SA!GC21-SA!FQ21","v":4100},{"$f":"SA!GD21-SA!FR21","v":4700},{"$f":"SA!GE21-SA!FS21","v":4000},{"$f":"SA!GF21-SA!FT21","v":5300},{"$f":"SA!GG21-SA!FU21","v":5700},{"$f":"SA!GH21-SA!FV21","v":6100},{"$f":"SA!GI21-SA!FW21","v":6700},{"$f":"SA!GJ21-SA!FX21","v":8700},{"$f":"SA!GK21-SA!FY21","v":9200},{"$f":"SA!GL21-SA!FZ21","v":7900},{"$f":"SA!GM21-SA!GA21","v":7300},{"$f":"SA!GN21-SA!GB21","v":6500},{"$f":"SA!GO21-SA!GC21","v":10300},{"$f":"SA!GP21-SA!GD21","v":11900},{"$f":"SA!GQ21-SA!GE21","v":12400},{"$f":"SA!GR21-SA!GF21","v":11200},{"$f":"SA!GS21-SA!GG21","v":10600},{"$f":"SA!GT21-SA!GH21","v":8300},{"$f":"SA!GU21-SA!GI21","v":7700},{"$f":"SA!GV21-SA!GJ21","v":6300},{"$f":"SA!GW21-SA!GK21","v":4300},{"$f":"SA!GX21-SA!GL21","v":6400},{"$f":"SA!GY21-SA!GM21","v":4500},{"$f":"SA!GZ21-SA!GN21","v":3700},{"$f":"SA!HA21-SA!GO21","v":2400},{"$f":"SA!HB21-SA!GP21","v":900},{"$f":"SA!HC21-SA!GQ21","v":-200},{"$f":"SA!HD21-SA!GR21","v":2300},{"$f":"SA!HE21-SA!GS21","v":2400},{"$f":"SA!HF21-SA!GT21","v":2800},{"$f":"SA!HG21-SA!GU21","v":3300},{"$f":"SA!HH21-SA!GV21","v":2700},{"$f":"SA!HI21-SA!GW21","v":2000},{"$f":"SA!HJ21-SA!GX21","v":500},{"$f":"SA!HK21-SA!GY21","v":3400},{"$f":"SA!HL21-SA!GZ21","v":4200},{"$f":"SA!HM21-SA!HA21","v":5400},{"$f":"SA!HN21-SA!HB21","v":2600},{"$f":"SA!HO21-SA!HC21","v":4000},{"$f":"SA!HP21-SA!HD21","v":5100},{"$f":"SA!HQ21-SA!HE21","v":5000},{"$f":"SA!HR21-SA!HF21","v":3900},{"$f":"SA!HS21-SA!HG21","v":-100},{"$f":"SA!HT21-SA!HH21","v":-2300},{"$f":"SA!HU21-SA!HI21","v":-1600},{"$f":"SA!HV21-SA!HJ21","v":0},{"$f":"SA!HW21-SA!HK21","v":-3200},{"$f":"SA!HX21-SA!HL21","v":-4400},{"$f":"SA!HY21-SA!HM21","v":-6200},{"$f":"SA!HZ21-SA!HN21","v":-2000},{"$f":"SA!IA21-SA!HO21","v":-600},{"$f":"SA!IB21-SA!HP21","v":-4300},{"$f":"SA!IC21-SA!HQ21","v":-1700},{"$f":"SA!ID21-SA!HR21","v":-2200},{"$f":"SA!IE21-SA!HS21","v":-1100},{"$f":"SA!IF21-SA!HT21","v":-800},{"$f":"SA!IG21-SA!HU21","v":600},{"$f":"SA!IH21-SA!HV21","v":700},{"$f":"SA!II21-SA!HW21","v":4500},{"$f":"SA!IJ21-SA!HX21","v":4300},{"$f":"SA!IK21-SA!HY21","v":4200},{"$f":"SA!IL21-SA!HZ21","v":-324000},10898.125,{"$f":"COUNTIF(EY25:FY25, \">\" &GA25)","v":0},null,"Professional and Business Services",-29499.999999999971,250,4100,6350,7149.9999999999873,8600,10650,21500,9332.9215281095749]
["  Professional, Scientific, and Technical Services",{"$f":"SA!BN22-SA!BB22","v":3100},{"$f":"SA!BO22-SA!BC22","v":3100},{"$f":"SA!BP22-SA!BD22","v":3200},{"$f":"SA!BQ22-SA!BE22","v":2800},{"$f":"SA!BR22-SA!BF22","v":2500},{"$f":"SA!BS22-SA!BG22","v":2700},{"$f":"SA!BT22-SA!BH22","v":3000},{"$f":"SA!BU22-SA!BI22","v":3200},{"$f":"SA!BV22-SA!BJ22","v":3600},{"$f":"SA!BW22-SA!BK22","v":3400},{"$f":"SA!BX22-SA!BL22","v":3300},{"$f":"SA!BY22-SA!BM22","v":3700},{"$f":"SA!BZ22-SA!BN22","v":3200},{"$f":"SA!CA22-SA!BO22","v":3200},{"$f":"SA!CB22-SA!BP22","v":3000},{"$f":"SA!CC22-SA!BQ22","v":3900},{"$f":"SA!CD22-SA!BR22","v":3600},{"$f":"SA!CE22-SA!BS22","v":3600},{"$f":"SA!CF22-SA!BT22","v":3100},{"$f":"SA!CG22-SA!BU22","v":2700},{"$f":"SA!CH22-SA!BV22","v":2500},{"$f":"SA!CI22-SA!BW22","v":2600},{"$f":"SA!CJ22-SA!BX22","v":2300},{"$f":"SA!CK22-SA!BY22","v":1700},{"$f":"SA!CL22-SA!BZ22","v":2300},{"$f":"SA!CM22-SA!CA22","v":2200},{"$f":"SA!CN22-SA!CB22","v":2600},{"$f":"SA!CO22-SA!CC22","v":2300},{"$f":"SA!CP22-SA!CD22","v":2800},{"$f":"SA!CQ22-SA!CE22","v":2800},{"$f":"SA!CR22-SA!CF22","v":3000},{"$f":"SA!CS22-SA!CG22","v":3200},{"$f":"SA!CT22-SA!CH22","v":3200},{"$f":"SA!CU22-SA!CI22","v":3000},{"$f":"SA!CV22-SA!CJ22","v":3200},{"$f":"SA!CW22-SA!CK22","v":3400},{"$f":"SA!CX22-SA!CL22","v":2900},{"$f":"SA!CY22-SA!CM22","v":3100},{"$f":"SA!CZ22-SA!CN22","v":2700},{"$f":"SA!DA22-SA!CO22","v":3400},{"$f":"SA!DB22-SA!CP22","v":2700},{"$f":"SA!DC22-SA!CQ22","v":2500},{"$f":"SA!DD22-SA!CR22","v":2100},{"$f":"SA!DE22-SA!CS22","v":2100},{"$f":"SA!DF22-SA!CT22","v":2100},{"$f":"SA!DG22-SA!CU22","v":1700},{"$f":"SA!DH22-SA!CV22","v":1000},{"$f":"SA!DI22-SA!CW22","v":600},{"$f":"SA!DJ22-SA!CX22","v":-400},{"$f":"SA!DK22-SA!CY22","v":-1400},{"$f":"SA!DL22-SA!CZ22","v":-2300},{"$f":"SA!DM22-SA!DA22","v":-4800},{"$f":"SA!DN22-SA!DB22","v":-5600},{"$f":"SA!DO22-SA!DC22","v":-6100},{"$f":"SA!DP22-SA!DD22","v":-6900},{"$f":"SA!DQ22-SA!DE22","v":-7700},{"$f":"SA!DR22-SA!DF22","v":-8000},{"$f":"SA!DS22-SA!DG22","v":-7700},{"$f":"SA!DT22-SA!DH22","v":-6800},{"$f":"SA!DU22-SA!DI22","v":-7000},{"$f":"SA!DV22-SA!DJ22","v":-6200},{"$f":"SA!DW22-SA!DK22","v":-5600},{"$f":"SA!DX22-SA!DL22","v":-4600},{"$f":"SA!DY22-SA!DM22","v":-3400},{"$f":"SA!DZ22-SA!DN22","v":-2200},{"$f":"SA!EA22-SA!DO22","v":-1800},{"$f":"SA!EB22-SA!DP22","v":-400},{"$f":"SA!EC22-SA!DQ22","v":300},{"$f":"SA!ED22-SA!DR22","v":300},{"$f":"SA!EE22-SA!DS22","v":1200},{"$f":"SA!EF22-SA!DT22","v":1000},{"$f":"SA!EG22-SA!DU22","v":2000},{"$f":"SA!EH22-SA!DV22","v":2300},{"$f":"SA!EI22-SA!DW22","v":2700},{"$f":"SA!EJ22-SA!DX22","v":2500},{"$f":"SA!EK22-SA!DY22","v":3300},{"$f":"SA!EL22-SA!DZ22","v":3000},{"$f":"SA!EM22-SA!EA22","v":2700},{"$f":"SA!EN22-SA!EB22","v":2500},{"$f":"SA!EO22-SA!EC22","v":2600},{"$f":"SA!EP22-SA!ED22","v":3200},{"$f":"SA!EQ22-SA!EE22","v":2300},{"$f":"SA!ER22-SA!EF22","v":2800},{"$f":"SA!ES22-SA!EG22","v":1800},{"$f":"SA!ET22-SA!EH22","v":1800},{"$f":"SA!EU22-SA!EI22","v":1700},{"$f":"SA!EV22-SA!EJ22","v":2100},{"$f":"SA!EW22-SA!EK22","v":1600},{"$f":"SA!EX22-SA!EL22","v":1900},{"$f":"SA!EY22-SA!EM22","v":2700},{"$f":"SA!EZ22-SA!EN22","v":1900},{"$f":"SA!FA22-SA!EO22","v":1800},{"$f":"SA!FB22-SA!EP22","v":1500},{"$f":"SA!FC22-SA!EQ22","v":2100},{"$f":"SA!FD22-SA!ER22","v":2900},{"$f":"SA!FE22-SA!ES22","v":1800},{"$f":"SA!FF22-SA!ET22","v":1900},{"$f":"SA!FG22-SA!EU22","v":2000},{"$f":"SA!FH22-SA!EV22","v":1800},{"$f":"SA!FI22-SA!EW22","v":1500},{"$f":"SA!FJ22-SA!EX22","v":1600},{"$f":"SA!FK22-SA!EY22","v":900},{"$f":"SA!FL22-SA!EZ22","v":2300},{"$f":"SA!FM22-SA!FA22","v":2000},{"$f":"SA!FN22-SA!FB22","v":2100},{"$f":"SA!FO22-SA!FC22","v":1700},{"$f":"SA!FP22-SA!FD22","v":-500},{"$f":"SA!FQ22-SA!FE22","v":2500},{"$f":"SA!FR22-SA!FF22","v":1500},{"$f":"SA!FS22-SA!FG22","v":1300},{"$f":"SA!FT22-SA!FH22","v":1500},{"$f":"SA!FU22-SA!FI22","v":1500},{"$f":"SA!FV22-SA!FJ22","v":1400},{"$f":"SA!FW22-SA!FK22","v":2000},{"$f":"SA!FX22-SA!FL22","v":1100},{"$f":"SA!FY22-SA!FM22","v":1500},{"$f":"SA!FZ22-SA!FN22","v":1100},{"$f":"SA!GA22-SA!FO22","v":1000},{"$f":"SA!GB22-SA!FP22","v":2000},{"$f":"SA!GC22-SA!FQ22","v":1100},{"$f":"SA!GD22-SA!FR22","v":2700},{"$f":"SA!GE22-SA!FS22","v":2500},{"$f":"SA!GF22-SA!FT22","v":2700},{"$f":"SA!GG22-SA!FU22","v":2900},{"$f":"SA!GH22-SA!FV22","v":3300},{"$f":"SA!GI22-SA!FW22","v":3200},{"$f":"SA!GJ22-SA!FX22","v":3400},{"$f":"SA!GK22-SA!FY22","v":3400},{"$f":"SA!GL22-SA!FZ22","v":3900},{"$f":"SA!GM22-SA!GA22","v":4500},{"$f":"SA!GN22-SA!GB22","v":4500},{"$f":"SA!GO22-SA!GC22","v":4200},{"$f":"SA!GP22-SA!GD22","v":3400},{"$f":"SA!GQ22-SA!GE22","v":3700},{"$f":"SA!GR22-SA!GF22","v":3300},{"$f":"SA!GS22-SA!GG22","v":3600},{"$f":"SA!GT22-SA!GH22","v":3100},{"$f":"SA!GU22-SA!GI22","v":2400},{"$f":"SA!GV22-SA!GJ22","v":3000},{"$f":"SA!GW22-SA!GK22","v":3000},{"$f":"SA!GX22-SA!GL22","v":3000},{"$f":"SA!GY22-SA!GM22","v":2100},{"$f":"SA!GZ22-SA!GN22","v":1800},{"$f":"SA!HA22-SA!GO22","v":1600},{"$f":"SA!HB22-SA!GP22","v":1500},{"$f":"SA!HC22-SA!GQ22","v":1400},{"$f":"SA!HD22-SA!GR22","v":1500},{"$f":"SA!HE22-SA!GS22","v":1000},{"$f":"SA!HF22-SA!GT22","v":1200},{"$f":"SA!HG22-SA!GU22","v":2100},{"$f":"SA!HH22-SA!GV22","v":1000},{"$f":"SA!HI22-SA!GW22","v":800},{"$f":"SA!HJ22-SA!GX22","v":600},{"$f":"SA!HK22-SA!GY22","v":1200},{"$f":"SA!HL22-SA!GZ22","v":1300},{"$f":"SA!HM22-SA!HA22","v":2200},{"$f":"SA!HN22-SA!HB22","v":2500},{"$f":"SA!HO22-SA!HC22","v":1600},{"$f":"SA!HP22-SA!HD22","v":1500},{"$f":"SA!HQ22-SA!HE22","v":1600},{"$f":"SA!HR22-SA!HF22","v":600},{"$f":"SA!HS22-SA!HG22","v":-1700},{"$f":"SA!HT22-SA!HH22","v":-1900},{"$f":"SA!HU22-SA!HI22","v":-1900},{"$f":"SA!HV22-SA!HJ22","v":-1500},{"$f":"SA!HW22-SA!HK22","v":-2100},{"$f":"SA!HX22-SA!HL22","v":-2000},{"$f":"SA!HY22-SA!HM22","v":-2800},{"$f":"SA!HZ22-SA!HN22","v":1000},{"$f":"SA!IA22-SA!HO22","v":2500},{"$f":"SA!IB22-SA!HP22","v":2400},{"$f":"SA!IC22-SA!HQ22","v":2600},{"$f":"SA!ID22-SA!HR22","v":2900},{"$f":"SA!IE22-SA!HS22","v":4000},{"$f":"SA!IF22-SA!HT22","v":5700},{"$f":"SA!IG22-SA!HU22","v":5900},{"$f":"SA!IH22-SA!HV22","v":5500},{"$f":"SA!II22-SA!HW22","v":6800},{"$f":"SA!IJ22-SA!HX22","v":6800},{"$f":"SA!IK22-SA!HY22","v":6200},{"$f":"SA!IL22-SA!HZ22","v":-111600},5512.3950000000004,{"$f":"COUNTIF(EY26:FY26, \">\" &GA26)","v":5},null,"  Professional, Scientific, and Technical Services",-8000,-450,1500,1900,2300,2700,3200,4500,2600.8218624391507]
["  Administrative and Support and Waste Management and Remediation Services",{"$f":"SA!BN24-SA!BB24","v":6000},{"$f":"SA!BO24-SA!BC24","v":6400},{"$f":"SA!BP24-SA!BD24","v":7299.9999999999854},{"$f":"SA!BQ24-SA!BE24","v":9000},{"$f":"SA!BR24-SA!BF24","v":7200},{"$f":"SA!BS24-SA!BG24","v":4999.9999999999854},{"$f":"SA!BT24-SA!BH24","v":7000},{"$f":"SA!BU24-SA!BI24","v":4500.0000000000146},{"$f":"SA!BV24-SA!BJ24","v":7000},{"$f":"SA!BW24-SA!BK24","v":3299.9999999999854},{"$f":"SA!BX24-SA!BL24","v":5199.9999999999854},{"$f":"SA!BY24-SA!BM24","v":5500},{"$f":"SA!BZ24-SA!BN24","v":4200},{"$f":"SA!CA24-SA!BO24","v":5300},{"$f":"SA!CB24-SA!BP24","v":4500.0000000000146},{"$f":"SA!CC24-SA!BQ24","v":5100},{"$f":"SA!CD24-SA!BR24","v":5600},{"$f":"SA!CE24-SA!BS24","v":6000.0000000000146},{"$f":"SA!CF24-SA!BT24","v":3400},{"$f":"SA!CG24-SA!BU24","v":2899.9999999999854},{"$f":"SA!CH24-SA!BV24","v":3300},{"$f":"SA!CI24-SA!BW24","v":5200.0000000000146},{"$f":"SA!CJ24-SA!BX24","v":4000.0000000000146},{"$f":"SA!CK24-SA!BY24","v":2500},{"$f":"SA!CL24-SA!BZ24","v":3600},{"$f":"SA!CM24-SA!CA24","v":2300},{"$f":"SA!CN24-SA!CB24","v":2800},{"$f":"SA!CO24-SA!CC24","v":1600},{"$f":"SA!CP24-SA!CD24","v":2600},{"$f":"SA!CQ24-SA!CE24","v":4000},{"$f":"SA!CR24-SA!CF24","v":4300},{"$f":"SA!CS24-SA!CG24","v":4800},{"$f":"SA!CT24-SA!CH24","v":3800},{"$f":"SA!CU24-SA!CI24","v":2700},{"$f":"SA!CV24-SA!CJ24","v":3200},{"$f":"SA!CW24-SA!CK24","v":5600},{"$f":"SA!CX24-SA!CL24","v":4800},{"$f":"SA!CY24-SA!CM24","v":5300},{"$f":"SA!CZ24-SA!CN24","v":3500},{"$f":"SA!DA24-SA!CO24","v":100},{"$f":"SA!DB24-SA!CP24","v":200},{"$f":"SA!DC24-SA!CQ24","v":-900},{"$f":"SA!DD24-SA!CR24","v":-1300},{"$f":"SA!DE24-SA!CS24","v":-1200},{"$f":"SA!DF24-SA!CT24","v":-2700},{"$f":"SA!DG24-SA!CU24","v":-5100},{"$f":"SA!DH24-SA!CV24","v":-8599.9999999999854},{"$f":"SA!DI24-SA!CW24","v":-11800},{"$f":"SA!DJ24-SA!CX24","v":-16000},{"$f":"SA!DK24-SA!CY24","v":-20600},{"$f":"SA!DL24-SA!CZ24","v":-23100},{"$f":"SA!DM24-SA!DA24","v":-21800},{"$f":"SA!DN24-SA!DB24","v":-21000},{"$f":"SA!DO24-SA!DC24","v":-22700},{"$f":"SA!DP24-SA!DD24","v":-21500},{"$f":"SA!DQ24-SA!DE24","v":-21900},{"$f":"SA!DR24-SA!DF24","v":-19600},{"$f":"SA!DS24-SA!DG24","v":-14200},{"$f":"SA!DT24-SA!DH24","v":-9500.0000000000146},{"$f":"SA!DU24-SA!DI24","v":-6500},{"$f":"SA!DV24-SA!DJ24","v":-1100},{"$f":"SA!DW24-SA!DK24","v":5500},{"$f":"SA!DX24-SA!DL24","v":7400},{"$f":"SA!DY24-SA!DM24","v":13400.000000000015},{"$f":"SA!DZ24-SA!DN24","v":13000},{"$f":"SA!EA24-SA!DO24","v":14500},{"$f":"SA!EB24-SA!DP24","v":16000},{"$f":"SA!EC24-SA!DQ24","v":17700},{"$f":"SA!ED24-SA!DR24","v":17500},{"$f":"SA!EE24-SA!DS24","v":17100},{"$f":"SA!EF24-SA!DT24","v":16000},{"$f":"SA!EG24-SA!DU24","v":15800},{"$f":"SA!EH24-SA!DV24","v":15300},{"$f":"SA!EI24-SA!DW24","v":11900},{"$f":"SA!EJ24-SA!DX24","v":15500},{"$f":"SA!EK24-SA!DY24","v":7999.9999999999854},{"$f":"SA!EL24-SA!DZ24","v":7100},{"$f":"SA!EM24-SA!EA24","v":7900},{"$f":"SA!EN24-SA!EB24","v":6800},{"$f":"SA!EO24-SA!EC24","v":4800},{"$f":"SA!EP24-SA!ED24","v":5600},{"$f":"SA!EQ24-SA!EE24","v":2800},{"$f":"SA!ER24-SA!EF24","v":1900},{"$f":"SA!ES24-SA!EG24","v":900},{"$f":"SA!ET24-SA!EH24","v":900},{"$f":"SA!EU24-SA!EI24","v":2000},{"$f":"SA!EV24-SA!EJ24","v":2700},{"$f":"SA!EW24-SA!EK24","v":5100},{"$f":"SA!EX24-SA!EL24","v":3700},{"$f":"SA!EY24-SA!EM24","v":2700},{"$f":"SA!EZ24-SA!EN24","v":1200},{"$f":"SA!FA24-SA!EO24","v":1200},{"$f":"SA!FB24-SA!EP24","v":1700},{"$f":"SA!FC24-SA!EQ24","v":2300},{"$f":"SA!FD24-SA!ER24","v":2500},{"$f":"SA!FE24-SA!ES24","v":1500},{"$f":"SA!FF24-SA!ET24","v":1100},{"$f":"SA!FG24-SA!EU24","v":2800},{"$f":"SA!FH24-SA!EV24","v":2300},{"$f":"SA!FI24-SA!EW24","v":-100},{"$f":"SA!FJ24-SA!EX24","v":3000},{"$f":"SA!FK24-SA!EY24","v":4000},{"$f":"SA!FL24-SA!EZ24","v":4800},{"$f":"SA!FM24-SA!FA24","v":6100},{"$f":"SA!FN24-SA!FB24","v":4400},{"$f":"SA!FO24-SA!FC24","v":3700},{"$f":"SA!FP24-SA!FD24","v":4600},{"$f":"SA!FQ24-SA!FE24","v":5800},{"$f":"SA!FR24-SA!FF24","v":7000},{"$f":"SA!FS24-SA!FG24","v":4800},{"$f":"SA!FT24-SA!FH24","v":1900},{"$f":"SA!FU24-SA!FI24","v":4900},{"$f":"SA!FV24-SA!FJ24","v":4000},{"$f":"SA!FW24-SA!FK24","v":2300},{"$f":"SA!FX24-SA!FL24","v":2300},{"$f":"SA!FY24-SA!FM24","v":2100},{"$f":"SA!FZ24-SA!FN24","v":2600},{"$f":"SA!GA24-SA!FO24","v":5200},{"$f":"SA!GB24-SA!FP24","v":5700},{"$f":"SA!GC24-SA!FQ24","v":2500},{"$f":"SA!GD24-SA!FR24","v":-300},{"$f":"SA!GE24-SA!FS24","v":-900},{"$f":"SA!GF24-SA!FT24","v":-100},{"$f":"SA!GG24-SA!FU24","v":-200},{"$f":"SA!GH24-SA!FV24","v":-600},{"$f":"SA!GI24-SA!FW24","v":-200},{"$f":"SA!GJ24-SA!FX24","v":600},{"$f":"SA!GK24-SA!FY24","v":600},{"$f":"SA!GL24-SA!FZ24","v":-1500},{"$f":"SA!GM24-SA!GA24","v":-3400},{"$f":"SA!GN24-SA!GB24","v":-4600},{"$f":"SA!GO24-SA!GC24","v":-1000},{"$f":"SA!GP24-SA!GD24","v":1900},{"$f":"SA!GQ24-SA!GE24","v":2300},{"$f":"SA!GR24-SA!GF24","v":1200},{"$f":"SA!GS24-SA!GG24","v":600},{"$f":"SA!GT24-SA!GH24","v":-500},{"$f":"SA!GU24-SA!GI24","v":-100},{"$f":"SA!GV24-SA!GJ24","v":-1300},{"$f":"SA!GW24-SA!GK24","v":-2300},{"$f":"SA!GX24-SA!GL24","v":100},{"$f":"SA!GY24-SA!GM24","v":-200},{"$f":"SA!GZ24-SA!GN24","v":-100},{"$f":"SA!HA24-SA!GO24","v":-500},{"$f":"SA!HB24-SA!GP24","v":-2500},{"$f":"SA!HC24-SA!GQ24","v":-3300},{"$f":"SA!HD24-SA!GR24","v":-100},{"$f":"SA!HE24-SA!GS24","v":600},{"$f":"SA!HF24-SA!GT24","v":900},{"$f":"SA!HG24-SA!GU24","v":700},{"$f":"SA!HH24-SA!GV24","v":1700},{"$f":"SA!HI24-SA!GW24","v":1100},{"$f":"SA!HJ24-SA!GX24","v":-100},{"$f":"SA!HK24-SA!GY24","v":1900},{"$f":"SA!HL24-SA!GZ24","v":2400},{"$f":"SA!HM24-SA!HA24","v":2000},{"$f":"SA!HN24-SA!HB24","v":1000},{"$f":"SA!HO24-SA!HC24","v":2800},{"$f":"SA!HP24-SA!HD24","v":3700},{"$f":"SA!HQ24-SA!HE24","v":3000},{"$f":"SA!HR24-SA!HF24","v":3000},{"$f":"SA!HS24-SA!HG24","v":1400},{"$f":"SA!HT24-SA!HH24","v":-100},{"$f":"SA!HU24-SA!HI24","v":900},{"$f":"SA!HV24-SA!HJ24","v":1900},{"$f":"SA!HW24-SA!HK24","v":-700},{"$f":"SA!HX24-SA!HL24","v":-2100},{"$f":"SA!HY24-SA!HM24","v":-2400},{"$f":"SA!HZ24-SA!HN24","v":-700},{"$f":"SA!IA24-SA!HO24","v":-700},{"$f":"SA!IB24-SA!HP24","v":-3800},{"$f":"SA!IC24-SA!HQ24","v":-1000},{"$f":"SA!ID24-SA!HR24","v":-2100},{"$f":"SA!IE24-SA!HS24","v":-2100},{"$f":"SA!IF24-SA!HT24","v":-4600},{"$f":"SA!IG24-SA!HU24","v":-3700},{"$f":"SA!IH24-SA!HV24","v":-2900},{"$f":"SA!II24-SA!HW24","v":-200},{"$f":"SA!IJ24-SA!HX24","v":100},{"$f":"SA!IK24-SA!HY24","v":600},{"$f":"SA!IL24-SA!HZ24","v":-146000},8993.2150000000001,{"$f":"COUNTIF(EY27:FY27, \">\" &GA27)","v":0},null,"  Administrative and Support and Waste Management and Remediation Services",-23100,-1300,600,2000,2750.0000000000014,4500.0000000000127,6050.0000000000073,17700,7225.7092087111168]
["Education and Health Services",{"$f":"SA!BN25-SA!BB25","v":7600},{"$f":"SA!BO25-SA!BC25","v":6600},{"$f":"SA!BP25-SA!BD25","v":7200},{"$f":"SA!BQ25-SA!BE25","v":6900},{"$f":"SA!BR25-SA!BF25","v":6900},{"$f":"SA!BS25-SA!BG25","v":7500},{"$f":"SA!BT25-SA!BH25","v":7300},{"$f":"SA!BU25-SA!BI25","v":6900},{"$f":"SA!BV25-SA!BJ25","v":8400},{"$f":"SA!BW25-SA!BK25","v":7500},{"$f":"SA!BX25-SA!BL25","v":7900},{"$f":"SA!BY25-SA!BM25","v":7300},{"$f":"SA!BZ25-SA!BN25","v":7600},{"$f":"SA!CA25-SA!BO25","v":8400},{"$f":"SA!CB25-SA!BP25","v":7100},{"$f":"SA!CC25-SA!BQ25","v":7500},{"$f":"SA!CD25-SA!BR25","v":7400},{"$f":"SA!CE25-SA!BS25","v":7300},{"$f":"SA!CF25-SA!BT25","v":8000},{"$f":"SA!CG25-SA!BU25","v":7600},{"$f":"SA!CH25-SA!BV25","v":7300},{"$f":"SA!CI25-SA!BW25","v":8400},{"$f":"SA!CJ25-SA!BX25","v":7800},{"$f":"SA!CK25-SA!BY25","v":7400},{"$f":"SA!CL25-SA!BZ25","v":6300},{"$f":"SA!CM25-SA!CA25","v":5800},{"$f":"SA!CN25-SA!CB25","v":6500},{"$f":"SA!CO25-SA!CC25","v":6000},{"$f":"SA!CP25-SA!CD25","v":6000},{"$f":"SA!CQ25-SA!CE25","v":6400},{"$f":"SA!CR25-SA!CF25","v":6100},{"$f":"SA!CS25-SA!CG25","v":6600},{"$f":"SA!CT25-SA!CH25","v":6800},{"$f":"SA!CU25-SA!CI25","v":3500},{"$f":"SA!CV25-SA!CJ25","v":2800},{"$f":"SA!CW25-SA!CK25","v":4000},{"$f":"SA!CX25-SA!CL25","v":4600},{"$f":"SA!CY25-SA!CM25","v":4400},{"$f":"SA!CZ25-SA!CN25","v":4600},{"$f":"SA!DA25-SA!CO25","v":5400},{"$f":"SA!DB25-SA!CP25","v":5400},{"$f":"SA!DC25-SA!CQ25","v":5500},{"$f":"SA!DD25-SA!CR25","v":5700},{"$f":"SA!DE25-SA!CS25","v":5800},{"$f":"SA!DF25-SA!CT25","v":5800},{"$f":"SA!DG25-SA!CU25","v":9700},{"$f":"SA!DH25-SA!CV25","v":11400},{"$f":"SA!DI25-SA!CW25","v":12000},{"$f":"SA!DJ25-SA!CX25","v":10700},{"$f":"SA!DK25-SA!CY25","v":11100},{"$f":"SA!DL25-SA!CZ25","v":10700},{"$f":"SA!DM25-SA!DA25","v":8700},{"$f":"SA!DN25-SA!DB25","v":8800},{"$f":"SA!DO25-SA!DC25","v":9200},{"$f":"SA!DP25-SA!DD25","v":7700},{"$f":"SA!DQ25-SA!DE25","v":7400},{"$f":"SA!DR25-SA!DF25","v":4700},{"$f":"SA!DS25-SA!DG25","v":3900},{"$f":"SA!DT25-SA!DH25","v":2100},{"$f":"SA!DU25-SA!DI25","v":-400},{"$f":"SA!DV25-SA!DJ25","v":2300},{"$f":"SA!DW25-SA!DK25","v":1900},{"$f":"SA!DX25-SA!DL25","v":2200},{"$f":"SA!DY25-SA!DM25","v":300},{"$f":"SA!DZ25-SA!DN25","v":-700},{"$f":"SA!EA25-SA!DO25","v":-1000},{"$f":"SA!EB25-SA!DP25","v":1000},{"$f":"SA!EC25-SA!DQ25","v":1400},{"$f":"SA!ED25-SA!DR25","v":1200},{"$f":"SA!EE25-SA!DS25","v":900},{"$f":"SA!EF25-SA!DT25","v":1500},{"$f":"SA!EG25-SA!DU25","v":2400},{"$f":"SA!EH25-SA!DV25","v":600},{"$f":"SA!EI25-SA!DW25","v":0},{"$f":"SA!EJ25-SA!DX25","v":-1500},{"$f":"SA!EK25-SA!DY25","v":3700},{"$f":"SA!EL25-SA!DZ25","v":4600},{"$f":"SA!EM25-SA!EA25","v":3700},{"$f":"SA!EN25-SA!EB25","v":3200},{"$f":"SA!EO25-SA!EC25","v":2300},{"$f":"SA!EP25-SA!ED25","v":5400},{"$f":"SA!EQ25-SA!EE25","v":5200},{"$f":"SA!ER25-SA!EF25","v":5600},{"$f":"SA!ES25-SA!EG25","v":6300},{"$f":"SA!ET25-SA!EH25","v":6600},{"$f":"SA!EU25-SA!EI25","v":7600},{"$f":"SA!EV25-SA!EJ25","v":9500},{"$f":"SA!EW25-SA!EK25","v":7600},{"$f":"SA!EX25-SA!EL25","v":7200},{"$f":"SA!EY25-SA!EM25","v":7600},{"$f":"SA!EZ25-SA!EN25","v":3800},{"$f":"SA!FA25-SA!EO25","v":6200},{"$f":"SA!FB25-SA!EP25","v":7300},{"$f":"SA!FC25-SA!EQ25","v":8800},{"$f":"SA!FD25-SA!ER25","v":8500},{"$f":"SA!FE25-SA!ES25","v":8300},{"$f":"SA!FF25-SA!ET25","v":6800},{"$f":"SA!FG25-SA!EU25","v":6600},{"$f":"SA!FH25-SA!EV25","v":6100},{"$f":"SA!FI25-SA!EW25","v":5500},{"$f":"SA!FJ25-SA!EX25","v":6300},{"$f":"SA!FK25-SA!EY25","v":5400},{"$f":"SA!FL25-SA!EZ25","v":8400},{"$f":"SA!FM25-SA!FA25","v":7500},{"$f":"SA!FN25-SA!FB25","v":5500},{"$f":"SA!FO25-SA!FC25","v":4200},{"$f":"SA!FP25-SA!FD25","v":4500},{"$f":"SA!FQ25-SA!FE25","v":3400},{"$f":"SA!FR25-SA!FF25","v":6300},{"$f":"SA!FS25-SA!FG25","v":5900},{"$f":"SA!FT25-SA!FH25","v":5900},{"$f":"SA!FU25-SA!FI25","v":6500},{"$f":"SA!FV25-SA!FJ25","v":6000},{"$f":"SA!FW25-SA!FK25","v":7100},{"$f":"SA!FX25-SA!FL25","v":7100},{"$f":"SA!FY25-SA!FM25","v":6300},{"$f":"SA!FZ25-SA!FN25","v":6400},{"$f":"SA!GA25-SA!FO25","v":5700},{"$f":"SA!GB25-SA!FP25","v":6400},{"$f":"SA!GC25-SA!FQ25","v":7200},{"$f":"SA!GD25-SA!FR25","v":4800},{"$f":"SA!GE25-SA!FS25","v":5500},{"$f":"SA!GF25-SA!FT25","v":6000},{"$f":"SA!GG25-SA!FU25","v":5200},{"$f":"SA!GH25-SA!FV25","v":6100},{"$f":"SA!GI25-SA!FW25","v":5300},{"$f":"SA!GJ25-SA!FX25","v":6200},{"$f":"SA!GK25-SA!FY25","v":5100},{"$f":"SA!GL25-SA!FZ25","v":4800},{"$f":"SA!GM25-SA!GA25","v":6500},{"$f":"SA!GN25-SA!GB25","v":6200},{"$f":"SA!GO25-SA!GC25","v":6800},{"$f":"SA!GP25-SA!GD25","v":8400},{"$f":"SA!GQ25-SA!GE25","v":8400},{"$f":"SA!GR25-SA!GF25","v":7900},{"$f":"SA!GS25-SA!GG25","v":9500},{"$f":"SA!GT25-SA!GH25","v":8500},{"$f":"SA!GU25-SA!GI25","v":8200},{"$f":"SA!GV25-SA!GJ25","v":9600},{"$f":"SA!GW25-SA!GK25","v":9800},{"$f":"SA!GX25-SA!GL25","v":10200},{"$f":"SA!GY25-SA!GM25","v":8600},{"$f":"SA!GZ25-SA!GN25","v":8100},{"$f":"SA!HA25-SA!GO25","v":6900},{"$f":"SA!HB25-SA!GP25","v":7300},{"$f":"SA!HC25-SA!GQ25","v":7000},{"$f":"SA!HD25-SA!GR25","v":6800},{"$f":"SA!HE25-SA!GS25","v":5600},{"$f":"SA!HF25-SA!GT25","v":4600},{"$f":"SA!HG25-SA!GU25","v":7400},{"$f":"SA!HH25-SA!GV25","v":4100},{"$f":"SA!HI25-SA!GW25","v":4600},{"$f":"SA!HJ25-SA!GX25","v":4200},{"$f":"SA!HK25-SA!GY25","v":6800},{"$f":"SA!HL25-SA!GZ25","v":5100},{"$f":"SA!HM25-SA!HA25","v":6000},{"$f":"SA!HN25-SA!HB25","v":5100},{"$f":"SA!HO25-SA!HC25","v":4600},{"$f":"SA!HP25-SA!HD25","v":3700},{"$f":"SA!HQ25-SA!HE25","v":2600},{"$f":"SA!HR25-SA!HF25","v":2800},{"$f":"SA!HS25-SA!HG25","v":600},{"$f":"SA!HT25-SA!HH25","v":4900},{"$f":"SA!HU25-SA!HI25","v":4800},{"$f":"SA!HV25-SA!HJ25","v":6700},{"$f":"SA!HW25-SA!HK25","v":4900},{"$f":"SA!HX25-SA!HL25","v":7600},{"$f":"SA!HY25-SA!HM25","v":8400},{"$f":"SA!HZ25-SA!HN25","v":5100},{"$f":"SA!IA25-SA!HO25","v":3000},{"$f":"SA!IB25-SA!HP25","v":2100},{"$f":"SA!IC25-SA!HQ25","v":6400},{"$f":"SA!ID25-SA!HR25","v":8600},{"$f":"SA!IE25-SA!HS25","v":7200},{"$f":"SA!IF25-SA!HT25","v":2600},{"$f":"SA!IG25-SA!HU25","v":2500},{"$f":"SA!IH25-SA!HV25","v":600},{"$f":"SA!II25-SA!HW25","v":1000},{"$f":"SA!IJ25-SA!HX25","v":500},{"$f":"SA!IK25-SA!HY25","v":-400},{"$f":"SA!IL25-SA!HZ25","v":-458600},9011.31,{"$f":"COUNTIF(EY28:FY28, \">\" &GA28)","v":0},null,"Education and Health Services",-1500,3600,5100,6000,6500,7300,8350,12000,2495.0440706315699]
["Educational Services",{"$f":"SA!BN26-SA!BB26","v":1600},{"$f":"SA!BO26-SA!BC26","v":900},{"$f":"SA!BP26-SA!BD26","v":1200},{"$f":"SA!BQ26-SA!BE26","v":900},{"$f":"SA!BR26-SA!BF26","v":1100},{"$f":"SA!BS26-SA!BG26","v":1000},{"$f":"SA!BT26-SA!BH26","v":800},{"$f":"SA!BU26-SA!BI26","v":700},{"$f":"SA!BV26-SA!BJ26","v":1100},{"$f":"SA!BW26-SA!BK26","v":700},{"$f":"SA!BX26-SA!BL26","v":1000},{"$f":"SA!BY26-SA!BM26","v":600},{"$f":"SA!BZ26-SA!BN26","v":700},{"$f":"SA!CA26-SA!BO26","v":900},{"$f":"SA!CB26-SA!BP26","v":600},{"$f":"SA!CC26-SA!BQ26","v":1000},{"$f":"SA!CD26-SA!BR26","v":1200},{"$f":"SA!CE26-SA!BS26","v":800},{"$f":"SA!CF26-SA!BT26","v":1300},{"$f":"SA!CG26-SA!BU26","v":700},{"$f":"SA!CH26-SA!BV26","v":1000},{"$f":"SA!CI26-SA!BW26","v":1300},{"$f":"SA!CJ26-SA!BX26","v":1400},{"$f":"SA!CK26-SA!BY26","v":1100},{"$f":"SA!CL26-SA!BZ26","v":800},{"$f":"SA!CM26-SA!CA26","v":700},{"$f":"SA!CN26-SA!CB26","v":1000},{"$f":"SA!CO26-SA!CC26","v":300},{"$f":"SA!CP26-SA!CD26","v":400},{"$f":"SA!CQ26-SA!CE26","v":400},{"$f":"SA!CR26-SA!CF26","v":400},{"$f":"SA!CS26-SA!CG26","v":900},{"$f":"SA!CT26-SA!CH26","v":800},{"$f":"SA!CU26-SA!CI26","v":-1700},{"$f":"SA!CV26-SA!CJ26","v":-2900},{"$f":"SA!CW26-SA!CK26","v":-2100},{"$f":"SA!CX26-SA!CL26","v":-2000},{"$f":"SA!CY26-SA!CM26","v":-2100},{"$f":"SA!CZ26-SA!CN26","v":-2400},{"$f":"SA!DA26-SA!CO26","v":-1300},{"$f":"SA!DB26-SA!CP26","v":-1800},{"$f":"SA!DC26-SA!CQ26","v":-1100},{"$f":"SA!DD26-SA!CR26","v":-900},{"$f":"SA!DE26-SA!CS26","v":-1000},{"$f":"SA!DF26-SA!CT26","v":-500},{"$f":"SA!DG26-SA!CU26","v":2900},{"$f":"SA!DH26-SA!CV26","v":4000},{"$f":"SA!DI26-SA!CW26","v":4400},{"$f":"SA!DJ26-SA!CX26","v":3900},{"$f":"SA!DK26-SA!CY26","v":3900},{"$f":"SA!DL26-SA!CZ26","v":4000},{"$f":"SA!DM26-SA!DA26","v":2300},{"$f":"SA!DN26-SA!DB26","v":2500},{"$f":"SA!DO26-SA!DC26","v":3200},{"$f":"SA!DP26-SA!DD26","v":2600},{"$f":"SA!DQ26-SA!DE26","v":2600},{"$f":"SA!DR26-SA!DF26","v":800},{"$f":"SA!DS26-SA!DG26","v":-300},{"$f":"SA!DT26-SA!DH26","v":-800},{"$f":"SA!DU26-SA!DI26","v":-1900},{"$f":"SA!DV26-SA!DJ26","v":-1100},{"$f":"SA!DW26-SA!DK26","v":-1000},{"$f":"SA!DX26-SA!DL26","v":-900},{"$f":"SA!DY26-SA!DM26","v":-800},{"$f":"SA!DZ26-SA!DN26","v":-1500},{"$f":"SA!EA26-SA!DO26","v":-1500},{"$f":"SA!EB26-SA!DP26","v":-400},{"$f":"SA!EC26-SA!DQ26","v":200},{"$f":"SA!ED26-SA!DR26","v":300},{"$f":"SA!EE26-SA!DS26","v":-300},{"$f":"SA!EF26-SA!DT26","v":-400},{"$f":"SA!EG26-SA!DU26","v":-100},{"$f":"SA!EH26-SA!DV26","v":-300},{"$f":"SA!EI26-SA!DW26","v":-800},{"$f":"SA!EJ26-SA!DX26","v":-1800},{"$f":"SA!EK26-SA!DY26","v":400},{"$f":"SA!EL26-SA!DZ26","v":1500},{"$f":"SA!EM26-SA!EA26","v":100},{"$f":"SA!EN26-SA!EB26","v":-400},{"$f":"SA!EO26-SA!EC26","v":-900},{"$f":"SA!EP26-SA!ED26","v":200},{"$f":"SA!EQ26-SA!EE26","v":1000},{"$f":"SA!ER26-SA!EF26","v":1500},{"$f":"SA!ES26-SA!EG26","v":1400},{"$f":"SA!ET26-SA!EH26","v":100},{"$f":"SA!EU26-SA!EI26","v":600},{"$f":"SA!EV26-SA!EJ26","v":1900},{"$f":"SA!EW26-SA!EK26","v":600},{"$f":"SA!EX26-SA!EL26","v":400},{"$f":"SA!EY26-SA!EM26","v":300},{"$f":"SA!EZ26-SA!EN26","v":-4200},{"$f":"SA!FA26-SA!EO26","v":-2500},{"$f":"SA!FB26-SA!EP26","v":-1200},{"$f":"SA!FC26-SA!EQ26","v":-600},{"$f":"SA!FD26-SA!ER26","v":-800},{"$f":"SA!FE26-SA!ES26","v":-500},{"$f":"SA!FF26-SA!ET26","v":-100},{"$f":"SA!FG26-SA!EU26","v":-100},{"$f":"SA!FH26-SA!EV26","v":-400},{"$f":"SA!FI26-SA!EW26","v":-700},{"$f":"SA!FJ26-SA!EX26","v":-900},{"$f":"SA!FK26-SA!EY26","v":-700},{"$f":"SA!FL26-SA!EZ26","v":3200},{"$f":"SA!FM26-SA!FA26","v":1600},{"$f":"SA!FN26-SA!FB26","v":300},{"$f":"SA!FO26-SA!FC26","v":-200},{"$f":"SA!FP26-SA!FD26","v":-200},{"$f":"SA!FQ26-SA!FE26","v":-600},{"$f":"SA!FR26-SA!FF26","v":400},{"$f":"SA!FS26-SA!FG26","v":0},{"$f":"SA!FT26-SA!FH26","v":-100},{"$f":"SA!FU26-SA!FI26","v":200},{"$f":"SA!FV26-SA!FJ26","v":500},{"$f":"SA!FW26-SA!FK26","v":300},{"$f":"SA!FX26-SA!FL26","v":600},{"$f":"SA!FY26-SA!FM26","v":400},{"$f":"SA!FZ26-SA!FN26","v":400},{"$f":"SA!GA26-SA!FO26","v":0},{"$f":"SA!GB26-SA!FP26","v":-100},{"$f":"SA!GC26-SA!FQ26","v":500},{"$f":"SA!GD26-SA!FR26","v":0},{"$f":"SA!GE26-SA!FS26","v":500},{"$f":"SA!GF26-SA!FT26","v":600},{"$f":"SA!GG26-SA!FU26","v":300},{"$f":"SA!GH26-SA!FV26","v":100},{"$f":"SA!GI26-SA!FW26","v":300},{"$f":"SA!GJ26-SA!FX26","v":500},{"$f":"SA!GK26-SA!FY26","v":-200},{"$f":"SA!GL26-SA!FZ26","v":0},{"$f":"SA!GM26-SA!GA26","v":400},{"$f":"SA!GN26-SA!GB26","v":600},{"$f":"SA!GO26-SA!GC26","v":100},{"$f":"SA!GP26-SA!GD26","v":300},{"$f":"SA!GQ26-SA!GE26","v":-100},{"$f":"SA!GR26-SA!GF26","v":0},{"$f":"SA!GS26-SA!GG26","v":500},{"$f":"SA!GT26-SA!GH26","v":400},{"$f":"SA!GU26-SA!GI26","v":600},{"$f":"SA!GV26-SA!GJ26","v":400},{"$f":"SA!GW26-SA!GK26","v":800},{"$f":"SA!GX26-SA!GL26","v":500},{"$f":"SA!GY26-SA!GM26","v":300},{"$f":"SA!GZ26-SA!GN26","v":200},{"$f":"SA!HA26-SA!GO26","v":300},{"$f":"SA!HB26-SA!GP26","v":400},{"$f":"SA!HC26-SA!GQ26","v":800},{"$f":"SA!HD26-SA!GR26","v":500},{"$f":"SA!HE26-SA!GS26","v":300},{"$f":"SA!HF26-SA!GT26","v":-300},{"$f":"SA!HG26-SA!GU26","v":300},{"$f":"SA!HH26-SA!GV26","v":-200},{"$f":"SA!HI26-SA!GW26","v":-100},{"$f":"SA!HJ26-SA!GX26","v":600},{"$f":"SA!HK26-SA!GY26","v":400},{"$f":"SA!HL26-SA!GZ26","v":500},{"$f":"SA!HM26-SA!HA26","v":600},{"$f":"SA!HN26-SA!HB26","v":500},{"$f":"SA!HO26-SA!HC26","v":900},{"$f":"SA!HP26-SA!HD26","v":800},{"$f":"SA!HQ26-SA!HE26","v":400},{"$f":"SA!HR26-SA!HF26","v":700},{"$f":"SA!HS26-SA!HG26","v":-300},{"$f":"SA!HT26-SA!HH26","v":0},{"$f":"SA!HU26-SA!HI26","v":-100},{"$f":"SA!HV26-SA!HJ26","v":800},{"$f":"SA!HW26-SA!HK26","v":1700},{"$f":"SA!HX26-SA!HL26","v":1900},{"$f":"SA!HY26-SA!HM26","v":1900},{"$f":"SA!HZ26-SA!HN26","v":2100},{"$f":"SA!IA26-SA!HO26","v":700},{"$f":"SA!IB26-SA!HP26","v":900},{"$f":"SA!IC26-SA!HQ26","v":1400},{"$f":"SA!ID26-SA!HR26","v":1900},{"$f":"SA!IE26-SA!HS26","v":2400},{"$f":"SA!IF26-SA!HT26","v":2600},{"$f":"SA!IG26-SA!HU26","v":2700},{"$f":"SA!IH26-SA!HV26","v":900},{"$f":"SA!II26-SA!HW26","v":-400},{"$f":"SA!IJ26-SA!HX26","v":-600},{"$f":"SA!IK26-SA!HY26","v":-700},{"$f":"SA!IL26-SA!HZ26","v":-53300},5612.74,{"$f":"COUNTIF(EY29:FY29, \">\" &GA29)","v":0},null,"Educational Services",-4200,-800,-100,300,400,700,1250,4400,1264.2609698424419]
["Health Care and Social Assistance",{"$f":"SA!BN27-SA!BB27","v":6000},{"$f":"SA!BO27-SA!BC27","v":5700},{"$f":"SA!BP27-SA!BD27","v":6000},{"$f":"SA!BQ27-SA!BE27","v":6000},{"$f":"SA!BR27-SA!BF27","v":5800},{"$f":"SA!BS27-SA!BG27","v":6500},{"$f":"SA!BT27-SA!BH27","v":6500},{"$f":"SA!BU27-SA!BI27","v":6200},{"$f":"SA!BV27-SA!BJ27","v":7300},{"$f":"SA!BW27-SA!BK27","v":6800},{"$f":"SA!BX27-SA!BL27","v":6900},{"$f":"SA!BY27-SA!BM27","v":6700},{"$f":"SA!BZ27-SA!BN27","v":6900},{"$f":"SA!CA27-SA!BO27","v":7500},{"$f":"SA!CB27-SA!BP27","v":6500},{"$f":"SA!CC27-SA!BQ27","v":6500},{"$f":"SA!CD27-SA!BR27","v":6200},{"$f":"SA!CE27-SA!BS27","v":6500},{"$f":"SA!CF27-SA!BT27","v":6700},{"$f":"SA!CG27-SA!BU27","v":6900},{"$f":"SA!CH27-SA!BV27","v":6300},{"$f":"SA!CI27-SA!BW27","v":7100},{"$f":"SA!CJ27-SA!BX27","v":6400},{"$f":"SA!CK27-SA!BY27","v":6300},{"$f":"SA!CL27-SA!BZ27","v":5500},{"$f":"SA!CM27-SA!CA27","v":5100},{"$f":"SA!CN27-SA!CB27","v":5500},{"$f":"SA!CO27-SA!CC27","v":5700},{"$f":"SA!CP27-SA!CD27","v":5600},{"$f":"SA!CQ27-SA!CE27","v":6000},{"$f":"SA!CR27-SA!CF27","v":5700},{"$f":"SA!CS27-SA!CG27","v":5700},{"$f":"SA!CT27-SA!CH27","v":6000},{"$f":"SA!CU27-SA!CI27","v":5200},{"$f":"SA!CV27-SA!CJ27","v":5700},{"$f":"SA!CW27-SA!CK27","v":6100},{"$f":"SA!CX27-SA!CL27","v":6600},{"$f":"SA!CY27-SA!CM27","v":6500},{"$f":"SA!CZ27-SA!CN27","v":7000},{"$f":"SA!DA27-SA!CO27","v":6700},{"$f":"SA!DB27-SA!CP27","v":7200},{"$f":"SA!DC27-SA!CQ27","v":6600},{"$f":"SA!DD27-SA!CR27","v":6600},{"$f":"SA!DE27-SA!CS27","v":6800},{"$f":"SA!DF27-SA!CT27","v":6300},{"$f":"SA!DG27-SA!CU27","v":6800},{"$f":"SA!DH27-SA!CV27","v":7400},{"$f":"SA!DI27-SA!CW27","v":7600},{"$f":"SA!DJ27-SA!CX27","v":6800},{"$f":"SA!DK27-SA!CY27","v":7200},{"$f":"SA!DL27-SA!CZ27","v":6700},{"$f":"SA!DM27-SA!DA27","v":6400},{"$f":"SA!DN27-SA!DB27","v":6300},{"$f":"SA!DO27-SA!DC27","v":6000},{"$f":"SA!DP27-SA!DD27","v":5100},{"$f":"SA!DQ27-SA!DE27","v":4800},{"$f":"SA!DR27-SA!DF27","v":3900},{"$f":"SA!DS27-SA!DG27","v":4200},{"$f":"SA!DT27-SA!DH27","v":2900},{"$f":"SA!DU27-SA!DI27","v":1500},{"$f":"SA!DV27-SA!DJ27","v":3400},{"$f":"SA!DW27-SA!DK27","v":2900},{"$f":"SA!DX27-SA!DL27","v":3100},{"$f":"SA!DY27-SA!DM27","v":1100},{"$f":"SA!DZ27-SA!DN27","v":800},{"$f":"SA!EA27-SA!DO27","v":500},{"$f":"SA!EB27-SA!DP27","v":1400},{"$f":"SA!EC27-SA!DQ27","v":1200},{"$f":"SA!ED27-SA!DR27","v":900},{"$f":"SA!EE27-SA!DS27","v":1200},{"$f":"SA!EF27-SA!DT27","v":1900},{"$f":"SA!EG27-SA!DU27","v":2500},{"$f":"SA!EH27-SA!DV27","v":900},{"$f":"SA!EI27-SA!DW27","v":800},{"$f":"SA!EJ27-SA!DX27","v":300},{"$f":"SA!EK27-SA!DY27","v":3300},{"$f":"SA!EL27-SA!DZ27","v":3100},{"$f":"SA!EM27-SA!EA27","v":3600},{"$f":"SA!EN27-SA!EB27","v":3600},{"$f":"SA!EO27-SA!EC27","v":3200},{"$f":"SA!EP27-SA!ED27","v":5200},{"$f":"SA!EQ27-SA!EE27","v":4200},{"$f":"SA!ER27-SA!EF27","v":4100},{"$f":"SA!ES27-SA!EG27","v":4900},{"$f":"SA!ET27-SA!EH27","v":6500},{"$f":"SA!EU27-SA!EI27","v":7000},{"$f":"SA!EV27-SA!EJ27","v":7600},{"$f":"SA!EW27-SA!EK27","v":7000},{"$f":"SA!EX27-SA!EL27","v":6800},{"$f":"SA!EY27-SA!EM27","v":7300},{"$f":"SA!EZ27-SA!EN27","v":8000},{"$f":"SA!FA27-SA!EO27","v":8700},{"$f":"SA!FB27-SA!EP27","v":8500},{"$f":"SA!FC27-SA!EQ27","v":9400},{"$f":"SA!FD27-SA!ER27","v":9300},{"$f":"SA!FE27-SA!ES27","v":8800},{"$f":"SA!FF27-SA!ET27","v":6900},{"$f":"SA!FG27-SA!EU27","v":6700},{"$f":"SA!FH27-SA!EV27","v":6500},{"$f":"SA!FI27-SA!EW27","v":6200},{"$f":"SA!FJ27-SA!EX27","v":7200},{"$f":"SA!FK27-SA!EY27","v":6100},{"$f":"SA!FL27-SA!EZ27","v":5200},{"$f":"SA!FM27-SA!FA27","v":5900},{"$f":"SA!FN27-SA!FB27","v":5200},{"$f":"SA!FO27-SA!FC27","v":4400},{"$f":"SA!FP27-SA!FD27","v":4700},{"$f":"SA!FQ27-SA!FE27","v":4000},{"$f":"SA!FR27-SA!FF27","v":5900},{"$f":"SA!FS27-SA!FG27","v":5900},{"$f":"SA!FT27-SA!FH27","v":6000},{"$f":"SA!FU27-SA!FI27","v":6300},{"$f":"SA!FV27-SA!FJ27","v":5500},{"$f":"SA!FW27-SA!FK27","v":6800},{"$f":"SA!FX27-SA!FL27","v":6500},{"$f":"SA!FY27-SA!FM27","v":5900},{"$f":"SA!FZ27-SA!FN27","v":6000},{"$f":"SA!GA27-SA!FO27","v":5700},{"$f":"SA!GB27-SA!FP27","v":6500},{"$f":"SA!GC27-SA!FQ27","v":6700},{"$f":"SA!GD27-SA!FR27","v":4800},{"$f":"SA!GE27-SA!FS27","v":5000},{"$f":"SA!GF27-SA!FT27","v":5400},{"$f":"SA!GG27-SA!FU27","v":4900},{"$f":"SA!GH27-SA!FV27","v":6000},{"$f":"SA!GI27-SA!FW27","v":5000},{"$f":"SA!GJ27-SA!FX27","v":5700},{"$f":"SA!GK27-SA!FY27","v":5300},{"$f":"SA!GL27-SA!FZ27","v":4800},{"$f":"SA!GM27-SA!GA27","v":6100},{"$f":"SA!GN27-SA!GB27","v":5600},{"$f":"SA!GO27-SA!GC27","v":6700},{"$f":"SA!GP27-SA!GD27","v":8100},{"$f":"SA!GQ27-SA!GE27","v":8500},{"$f":"SA!GR27-SA!GF27","v":7900},{"$f":"SA!GS27-SA!GG27","v":9000},{"$f":"SA!GT27-SA!GH27","v":8100},{"$f":"SA!GU27-SA!GI27","v":7600},{"$f":"SA!GV27-SA!GJ27","v":9200},{"$f":"SA!GW27-SA!GK27","v":9000},{"$f":"SA!GX27-SA!GL27","v":9700},{"$f":"SA!GY27-SA!GM27","v":8300},{"$f":"SA!GZ27-SA!GN27","v":7900},{"$f":"SA!HA27-SA!GO27","v":6600},{"$f":"SA!HB27-SA!GP27","v":6900},{"$f":"SA!HC27-SA!GQ27","v":6200},{"$f":"SA!HD27-SA!GR27","v":6300},{"$f":"SA!HE27-SA!GS27","v":5300},{"$f":"SA!HF27-SA!GT27","v":4900},{"$f":"SA!HG27-SA!GU27","v":7100},{"$f":"SA!HH27-SA!GV27","v":4300},{"$f":"SA!HI27-SA!GW27","v":4700},{"$f":"SA!HJ27-SA!GX27","v":3600},{"$f":"SA!HK27-SA!GY27","v":6400},{"$f":"SA!HL27-SA!GZ27","v":4600},{"$f":"SA!HM27-SA!HA27","v":5400},{"$f":"SA!HN27-SA!HB27","v":4600},{"$f":"SA!HO27-SA!HC27","v":3700},{"$f":"SA!HP27-SA!HD27","v":2900},{"$f":"SA!HQ27-SA!HE27","v":2200},{"$f":"SA!HR27-SA!HF27","v":2100},{"$f":"SA!HS27-SA!HG27","v":900},{"$f":"SA!HT27-SA!HH27","v":4900},{"$f":"SA!HU27-SA!HI27","v":4900},{"$f":"SA!HV27-SA!HJ27","v":5900},{"$f":"SA!HW27-SA!HK27","v":3200},{"$f":"SA!HX27-SA!HL27","v":5700},{"$f":"SA!HY27-SA!HM27","v":6500},{"$f":"SA!HZ27-SA!HN27","v":3000},{"$f":"SA!IA27-SA!HO27","v":2300},{"$f":"SA!IB27-SA!HP27","v":1200},{"$f":"SA!IC27-SA!HQ27","v":5000},{"$f":"SA!ID27-SA!HR27","v":6700},{"$f":"SA!IE27-SA!HS27","v":4800},{"$f":"SA!IF27-SA!HT27","v":0},{"$f":"SA!IG27-SA!HU27","v":-200},{"$f":"SA!IH27-SA!HV27","v":-300},{"$f":"SA!II27-SA!HW27","v":1400},{"$f":"SA!IJ27-SA!HX27","v":1100},{"$f":"SA!IK27-SA!HY27","v":300},{"$f":"SA!IL27-SA!HZ27","v":-405300},7050.47,{"$f":"COUNTIF(EY30:FY30, \">\" &GA30)","v":0},null,"Health Care and Social Assistance",300,3350,5000,5900,6200,6600,7200,9700,1967.6201381587739]
["Leisure and Hospitality",{"$f":"SA!BN28-SA!BB28","v":3100},{"$f":"SA!BO28-SA!BC28","v":4600},{"$f":"SA!BP28-SA!BD28","v":5200},{"$f":"SA!BQ28-SA!BE28","v":7700},{"$f":"SA!BR28-SA!BF28","v":5200},{"$f":"SA!BS28-SA!BG28","v":5600},{"$f":"SA!BT28-SA!BH28","v":2800},{"$f":"SA!BU28-SA!BI28","v":3300},{"$f":"SA!BV28-SA!BJ28","v":4199.9999999999709},{"$f":"SA!BW28-SA!BK28","v":2100},{"$f":"SA!BX28-SA!BL28","v":4000},{"$f":"SA!BY28-SA!BM28","v":3100},{"$f":"SA!BZ28-SA!BN28","v":5500},{"$f":"SA!CA28-SA!BO28","v":6000},{"$f":"SA!CB28-SA!BP28","v":5900},{"$f":"SA!CC28-SA!BQ28","v":2699.9999999999709},{"$f":"SA!CD28-SA!BR28","v":2800},{"$f":"SA!CE28-SA!BS28","v":4100.0000000000291},{"$f":"SA!CF28-SA!BT28","v":4199.9999999999709},{"$f":"SA!CG28-SA!BU28","v":4000},{"$f":"SA!CH28-SA!BV28","v":3200.0000000000582},{"$f":"SA!CI28-SA!BW28","v":5400},{"$f":"SA!CJ28-SA!BX28","v":3800},{"$f":"SA!CK28-SA!BY28","v":5099.9999999999709},{"$f":"SA!CL28-SA!BZ28","v":4300},{"$f":"SA!CM28-SA!CA28","v":3600},{"$f":"SA!CN28-SA!CB28","v":2900},{"$f":"SA!CO28-SA!CC28","v":1600.0000000000291},{"$f":"SA!CP28-SA!CD28","v":3900},{"$f":"SA!CQ28-SA!CE28","v":3799.9999999999709},{"$f":"SA!CR28-SA!CF28","v":2000},{"$f":"SA!CS28-SA!CG28","v":2300},{"$f":"SA!CT28-SA!CH28","v":699.9999999999709},{"$f":"SA!CU28-SA!CI28","v":1300},{"$f":"SA!CV28-SA!CJ28","v":2200},{"$f":"SA!CW28-SA!CK28","v":900.0000000000291},{"$f":"SA!CX28-SA!CL28","v":-500},{"$f":"SA!CY28-SA!CM28","v":-1499.9999999999709},{"$f":"SA!CZ28-SA!CN28","v":-1800.0000000000291},{"$f":"SA!DA28-SA!CO28","v":-1200},{"$f":"SA!DB28-SA!CP28","v":-1599.9999999999709},{"$f":"SA!DC28-SA!CQ28","v":-2900},{"$f":"SA!DD28-SA!CR28","v":-2099.9999999999709},{"$f":"SA!DE28-SA!CS28","v":-3300},{"$f":"SA!DF28-SA!CT28","v":-2199.9999999999709},{"$f":"SA!DG28-SA!CU28","v":-3399.9999999999709},{"$f":"SA!DH28-SA!CV28","v":-4800.0000000000291},{"$f":"SA!DI28-SA!CW28","v":-5300},{"$f":"SA!DJ28-SA!CX28","v":-7000},{"$f":"SA!DK28-SA!CY28","v":-5900.0000000000291},{"$f":"SA!DL28-SA!CZ28","v":-6699.9999999999709},{"$f":"SA!DM28-SA!DA28","v":-7800},{"$f":"SA!DN28-SA!DB28","v":-5000.0000000000291},{"$f":"SA!DO28-SA!DC28","v":-5600},{"$f":"SA!DP28-SA!DD28","v":-7000},{"$f":"SA!DQ28-SA!DE28","v":-7400},{"$f":"SA!DR28-SA!DF28","v":-6500.0000000000291},{"$f":"SA!DS28-SA!DG28","v":-8300.0000000000291},{"$f":"SA!DT28-SA!DH28","v":-7699.9999999999709},{"$f":"SA!DU28-SA!DI28","v":-7000},{"$f":"SA!DV28-SA!DJ28","v":-4000},{"$f":"SA!DW28-SA!DK28","v":-5300},{"$f":"SA!DX28-SA!DL28","v":-4500},{"$f":"SA!DY28-SA!DM28","v":-700},{"$f":"SA!DZ28-SA!DN28","v":-3900},{"$f":"SA!EA28-SA!DO28","v":-3400},{"$f":"SA!EB28-SA!DP28","v":-700},{"$f":"SA!EC28-SA!DQ28","v":1000},{"$f":"SA!ED28-SA!DR28","v":200},{"$f":"SA!EE28-SA!DS28","v":2400},{"$f":"SA!EF28-SA!DT28","v":2700},{"$f":"SA!EG28-SA!DU28","v":2800},{"$f":"SA!EH28-SA!DV28","v":1500},{"$f":"SA!EI28-SA!DW28","v":1600},{"$f":"SA!EJ28-SA!DX28","v":1300},{"$f":"SA!EK28-SA!DY28","v":0},{"$f":"SA!EL28-SA!DZ28","v":300},{"$f":"SA!EM28-SA!EA28","v":1400},{"$f":"SA!EN28-SA!EB28","v":1100},{"$f":"SA!EO28-SA!EC28","v":1100},{"$f":"SA!EP28-SA!ED28","v":1600},{"$f":"SA!EQ28-SA!EE28","v":1200},{"$f":"SA!ER28-SA!EF28","v":500},{"$f":"SA!ES28-SA!EG28","v":100},{"$f":"SA!ET28-SA!EH28","v":1900},{"$f":"SA!EU28-SA!EI28","v":3300},{"$f":"SA!EV28-SA!EJ28","v":5800},{"$f":"SA!EW28-SA!EK28","v":6400},{"$f":"SA!EX28-SA!EL28","v":5100.0000000000291},{"$f":"SA!EY28-SA!EM28","v":5700.0000000000291},{"$f":"SA!EZ28-SA!EN28","v":4699.9999999999709},{"$f":"SA!FA28-SA!EO28","v":3499.9999999999709},{"$f":"SA!FB28-SA!EP28","v":4800},{"$f":"SA!FC28-SA!EQ28","v":3100},{"$f":"SA!FD28-SA!ER28","v":3900},{"$f":"SA!FE28-SA!ES28","v":5400},{"$f":"SA!FF28-SA!ET28","v":4600},{"$f":"SA!FG28-SA!EU28","v":4400},{"$f":"SA!FH28-SA!EV28","v":2500},{"$f":"SA!FI28-SA!EW28","v":-900},{"$f":"SA!FJ28-SA!EX28","v":4000},{"$f":"SA!FK28-SA!EY28","v":2899.9999999999709},{"$f":"SA!FL28-SA!EZ28","v":4000},{"$f":"SA!FM28-SA!FA28","v":5900.0000000000291},{"$f":"SA!FN28-SA!FB28","v":5200},{"$f":"SA!FO28-SA!FC28","v":6200},{"$f":"SA!FP28-SA!FD28","v":6100},{"$f":"SA!FQ28-SA!FE28","v":5400},{"$f":"SA!FR28-SA!FF28","v":4100},{"$f":"SA!FS28-SA!FG28","v":3900},{"$f":"SA!FT28-SA!FH28","v":3400},{"$f":"SA!FU28-SA!FI28","v":5500},{"$f":"SA!FV28-SA!FJ28","v":3099.9999999999709},{"$f":"SA!FW28-SA!FK28","v":4300},{"$f":"SA!FX28-SA!FL28","v":1700.0000000000291},{"$f":"SA!FY28-SA!FM28","v":1200},{"$f":"SA!FZ28-SA!FN28","v":800},{"$f":"SA!GA28-SA!FO28","v":1500},{"$f":"SA!GB28-SA!FP28","v":2300},{"$f":"SA!GC28-SA!FQ28","v":2700},{"$f":"SA!GD28-SA!FR28","v":4700},{"$f":"SA!GE28-SA!FS28","v":4400},{"$f":"SA!GF28-SA!FT28","v":6200},{"$f":"SA!GG28-SA!FU28","v":6500},{"$f":"SA!GH28-SA!FV28","v":6300},{"$f":"SA!GI28-SA!FW28","v":5700},{"$f":"SA!GJ28-SA!FX28","v":7000},{"$f":"SA!GK28-SA!FY28","v":7100},{"$f":"SA!GL28-SA!FZ28","v":7500},{"$f":"SA!GM28-SA!GA28","v":8500},{"$f":"SA!GN28-SA!GB28","v":9300},{"$f":"SA!GO28-SA!GC28","v":8400},{"$f":"SA!GP28-SA!GD28","v":7200},{"$f":"SA!GQ28-SA!GE28","v":8100},{"$f":"SA!GR28-SA!GF28","v":6200},{"$f":"SA!GS28-SA!GG28","v":6100},{"$f":"SA!GT28-SA!GH28","v":5300},{"$f":"SA!GU28-SA!GI28","v":3700},{"$f":"SA!GV28-SA!GJ28","v":5800},{"$f":"SA!GW28-SA!GK28","v":5600},{"$f":"SA!GX28-SA!GL28","v":5500},{"$f":"SA!GY28-SA!GM28","v":4600},{"$f":"SA!GZ28-SA!GN28","v":2400},{"$f":"SA!HA28-SA!GO28","v":2600},{"$f":"SA!HB28-SA!GP28","v":5200},{"$f":"SA!HC28-SA!GQ28","v":4900},{"$f":"SA!HD28-SA!GR28","v":6000},{"$f":"SA!HE28-SA!GS28","v":4000},{"$f":"SA!HF28-SA!GT28","v":3300},{"$f":"SA!HG28-SA!GU28","v":6800},{"$f":"SA!HH28-SA!GV28","v":4400},{"$f":"SA!HI28-SA!GW28","v":3600},{"$f":"SA!HJ28-SA!GX28","v":2000},{"$f":"SA!HK28-SA!GY28","v":2200},{"$f":"SA!HL28-SA!GZ28","v":4100},{"$f":"SA!HM28-SA!HA28","v":5900},{"$f":"SA!HN28-SA!HB28","v":3600},{"$f":"SA!HO28-SA!HC28","v":2000},{"$f":"SA!HP28-SA!HD28","v":1300},{"$f":"SA!HQ28-SA!HE28","v":1800},{"$f":"SA!HR28-SA!HF28","v":2500},{"$f":"SA!HS28-SA!HG28","v":4400},{"$f":"SA!HT28-SA!HH28","v":6800},{"$f":"SA!HU28-SA!HI28","v":4300},{"$f":"SA!HV28-SA!HJ28","v":4800},{"$f":"SA!HW28-SA!HK28","v":4800},{"$f":"SA!HX28-SA!HL28","v":9000},{"$f":"SA!HY28-SA!HM28","v":11900},{"$f":"SA!HZ28-SA!HN28","v":6100},{"$f":"SA!IA28-SA!HO28","v":7500},{"$f":"SA!IB28-SA!HP28","v":3800},{"$f":"SA!IC28-SA!HQ28","v":3800},{"$f":"SA!ID28-SA!HR28","v":3900},{"$f":"SA!IE28-SA!HS28","v":900},{"$f":"SA!IF28-SA!HT28","v":200},{"$f":"SA!IG28-SA!HU28","v":200},{"$f":"SA!IH28-SA!HV28","v":1000},{"$f":"SA!II28-SA!HW28","v":900},{"$f":"SA!IJ28-SA!HX28","v":-4200},{"$f":"SA!IK28-SA!HY28","v":-5300},{"$f":"SA!IL28-SA!HZ28","v":-289700},11600.54,{"$f":"COUNTIF(EY31:FY31, \">\" &GA31)","v":1},null,"Leisure and Hospitality",-8300.0000000000291,-1700,1500,2849.9999999999854,3799.9999999999854,4700,5900.0000000000146,11900,3917.8122054475962]
["Arts, Entertainment, and Recreation",{"$f":"SA!BN29-SA!BB29","v":-600},{"$f":"SA!BO29-SA!BC29","v":-800},{"$f":"SA!BP29-SA!BD29","v":-200},{"$f":"SA!BQ29-SA!BE29","v":700},{"$f":"SA!BR29-SA!BF29","v":0},{"$f":"SA!BS29-SA!BG29","v":300},{"$f":"SA!BT29-SA!BH29","v":-100},{"$f":"SA!BU29-SA!BI29","v":100},{"$f":"SA!BV29-SA!BJ29","v":400},{"$f":"SA!BW29-SA!BK29","v":100},{"$f":"SA!BX29-SA!BL29","v":100},{"$f":"SA!BY29-SA!BM29","v":-200},{"$f":"SA!BZ29-SA!BN29","v":100},{"$f":"SA!CA29-SA!BO29","v":900},{"$f":"SA!CB29-SA!BP29","v":700},{"$f":"SA!CC29-SA!BQ29","v":600},{"$f":"SA!CD29-SA!BR29","v":500},{"$f":"SA!CE29-SA!BS29","v":500},{"$f":"SA!CF29-SA!BT29","v":500},{"$f":"SA!CG29-SA!BU29","v":600},{"$f":"SA!CH29-SA!BV29","v":500},{"$f":"SA!CI29-SA!BW29","v":400},{"$f":"SA!CJ29-SA!BX29","v":100},{"$f":"SA!CK29-SA!BY29","v":500},{"$f":"SA!CL29-SA!BZ29","v":900},{"$f":"SA!CM29-SA!CA29","v":800},{"$f":"SA!CN29-SA!CB29","v":1000},{"$f":"SA!CO29-SA!CC29","v":-400},{"$f":"SA!CP29-SA!CD29","v":1300},{"$f":"SA!CQ29-SA!CE29","v":1400},{"$f":"SA!CR29-SA!CF29","v":1100},{"$f":"SA!CS29-SA!CG29","v":900},{"$f":"SA!CT29-SA!CH29","v":700},{"$f":"SA!CU29-SA!CI29","v":1000},{"$f":"SA!CV29-SA!CJ29","v":1500},{"$f":"SA!CW29-SA!CK29","v":1300},{"$f":"SA!CX29-SA!CL29","v":900},{"$f":"SA!CY29-SA!CM29","v":400},{"$f":"SA!CZ29-SA!CN29","v":-100},{"$f":"SA!DA29-SA!CO29","v":-100},{"$f":"SA!DB29-SA!CP29","v":-300},{"$f":"SA!DC29-SA!CQ29","v":-500},{"$f":"SA!DD29-SA!CR29","v":-300},{"$f":"SA!DE29-SA!CS29","v":-100},{"$f":"SA!DF29-SA!CT29","v":-800},{"$f":"SA!DG29-SA!CU29","v":-200},{"$f":"SA!DH29-SA!CV29","v":-1300},{"$f":"SA!DI29-SA!CW29","v":-1000},{"$f":"SA!DJ29-SA!CX29","v":-1400},{"$f":"SA!DK29-SA!CY29","v":-1600},{"$f":"SA!DL29-SA!CZ29","v":-1300},{"$f":"SA!DM29-SA!DA29","v":-1600},{"$f":"SA!DN29-SA!DB29","v":-500},{"$f":"SA!DO29-SA!DC29","v":-700},{"$f":"SA!DP29-SA!DD29","v":-1200},{"$f":"SA!DQ29-SA!DE29","v":-1500},{"$f":"SA!DR29-SA!DF29","v":-300},{"$f":"SA!DS29-SA!DG29","v":-1900},{"$f":"SA!DT29-SA!DH29","v":-800},{"$f":"SA!DU29-SA!DI29","v":-1400},{"$f":"SA!DV29-SA!DJ29","v":-900},{"$f":"SA!DW29-SA!DK29","v":-600},{"$f":"SA!DX29-SA!DL29","v":-200},{"$f":"SA!DY29-SA!DM29","v":1700},{"$f":"SA!DZ29-SA!DN29","v":-600},{"$f":"SA!EA29-SA!DO29","v":-1300},{"$f":"SA!EB29-SA!DP29","v":200},{"$f":"SA!EC29-SA!DQ29","v":500},{"$f":"SA!ED29-SA!DR29","v":-200},{"$f":"SA!EE29-SA!DS29","v":600},{"$f":"SA!EF29-SA!DT29","v":300},{"$f":"SA!EG29-SA!DU29","v":700},{"$f":"SA!EH29-SA!DV29","v":400},{"$f":"SA!EI29-SA!DW29","v":700},{"$f":"SA!EJ29-SA!DX29","v":-100},{"$f":"SA!EK29-SA!DY29","v":-700},{"$f":"SA!EL29-SA!DZ29","v":-500},{"$f":"SA!EM29-SA!EA29","v":800},{"$f":"SA!EN29-SA!EB29","v":500},{"$f":"SA!EO29-SA!EC29","v":300},{"$f":"SA!EP29-SA!ED29","v":600},{"$f":"SA!EQ29-SA!EE29","v":1000},{"$f":"SA!ER29-SA!EF29","v":900},{"$f":"SA!ES29-SA!EG29","v":800},{"$f":"SA!ET29-SA!EH29","v":1000},{"$f":"SA!EU29-SA!EI29","v":500},{"$f":"SA!EV29-SA!EJ29","v":2100},{"$f":"SA!EW29-SA!EK29","v":2700},{"$f":"SA!EX29-SA!EL29","v":1400},{"$f":"SA!EY29-SA!EM29","v":900},{"$f":"SA!EZ29-SA!EN29","v":300},{"$f":"SA!FA29-SA!EO29","v":100},{"$f":"SA!FB29-SA!EP29","v":800},{"$f":"SA!FC29-SA!EQ29","v":-100},{"$f":"SA!FD29-SA!ER29","v":-200},{"$f":"SA!FE29-SA!ES29","v":100},{"$f":"SA!FF29-SA!ET29","v":300},{"$f":"SA!FG29-SA!EU29","v":500},{"$f":"SA!FH29-SA!EV29","v":-900},{"$f":"SA!FI29-SA!EW29","v":-3600},{"$f":"SA!FJ29-SA!EX29","v":700},{"$f":"SA!FK29-SA!EY29","v":400},{"$f":"SA!FL29-SA!EZ29","v":300},{"$f":"SA!FM29-SA!FA29","v":800},{"$f":"SA!FN29-SA!FB29","v":400},{"$f":"SA!FO29-SA!FC29","v":800},{"$f":"SA!FP29-SA!FD29","v":1300},{"$f":"SA!FQ29-SA!FE29","v":1500},{"$f":"SA!FR29-SA!FF29","v":700},{"$f":"SA!FS29-SA!FG29","v":1000},{"$f":"SA!FT29-SA!FH29","v":900},{"$f":"SA!FU29-SA!FI29","v":1600},{"$f":"SA!FV29-SA!FJ29","v":200},{"$f":"SA!FW29-SA!FK29","v":700},{"$f":"SA!FX29-SA!FL29","v":1100},{"$f":"SA!FY29-SA!FM29","v":600},{"$f":"SA!FZ29-SA!FN29","v":300},{"$f":"SA!GA29-SA!FO29","v":300},{"$f":"SA!GB29-SA!FP29","v":600},{"$f":"SA!GC29-SA!FQ29","v":400},{"$f":"SA!GD29-SA!FR29","v":1000},{"$f":"SA!GE29-SA!FS29","v":500},{"$f":"SA!GF29-SA!FT29","v":1200},{"$f":"SA!GG29-SA!FU29","v":2300},{"$f":"SA!GH29-SA!FV29","v":1400},{"$f":"SA!GI29-SA!FW29","v":1500},{"$f":"SA!GJ29-SA!FX29","v":200},{"$f":"SA!GK29-SA!FY29","v":1100},{"$f":"SA!GL29-SA!FZ29","v":1300},{"$f":"SA!GM29-SA!GA29","v":2100},{"$f":"SA!GN29-SA!GB29","v":2300},{"$f":"SA!GO29-SA!GC29","v":1300},{"$f":"SA!GP29-SA!GD29","v":1500},{"$f":"SA!GQ29-SA!GE29","v":2100},{"$f":"SA!GR29-SA!GF29","v":1800},{"$f":"SA!GS29-SA!GG29","v":1800},{"$f":"SA!GT29-SA!GH29","v":1700},{"$f":"SA!GU29-SA!GI29","v":1200},{"$f":"SA!GV29-SA!GJ29","v":2700},{"$f":"SA!GW29-SA!GK29","v":2200},{"$f":"SA!GX29-SA!GL29","v":2100},{"$f":"SA!GY29-SA!GM29","v":1500},{"$f":"SA!GZ29-SA!GN29","v":400},{"$f":"SA!HA29-SA!GO29","v":700},{"$f":"SA!HB29-SA!GP29","v":2100},{"$f":"SA!HC29-SA!GQ29","v":1400},{"$f":"SA!HD29-SA!GR29","v":1300},{"$f":"SA!HE29-SA!GS29","v":900},{"$f":"SA!HF29-SA!GT29","v":700},{"$f":"SA!HG29-SA!GU29","v":1800},{"$f":"SA!HH29-SA!GV29","v":700},{"$f":"SA!HI29-SA!GW29","v":700},{"$f":"SA!HJ29-SA!GX29","v":-200},{"$f":"SA!HK29-SA!GY29","v":2500},{"$f":"SA!HL29-SA!GZ29","v":2900},{"$f":"SA!HM29-SA!HA29","v":3500},{"$f":"SA!HN29-SA!HB29","v":800},{"$f":"SA!HO29-SA!HC29","v":1800},{"$f":"SA!HP29-SA!HD29","v":1100},{"$f":"SA!HQ29-SA!HE29","v":-400},{"$f":"SA!HR29-SA!HF29","v":-400},{"$f":"SA!HS29-SA!HG29","v":-800},{"$f":"SA!HT29-SA!HH29","v":100},{"$f":"SA!HU29-SA!HI29","v":-300},{"$f":"SA!HV29-SA!HJ29","v":100},{"$f":"SA!HW29-SA!HK29","v":-1000},{"$f":"SA!HX29-SA!HL29","v":600},{"$f":"SA!HY29-SA!HM29","v":0},{"$f":"SA!HZ29-SA!HN29","v":5500},{"$f":"SA!IA29-SA!HO29","v":6300},{"$f":"SA!IB29-SA!HP29","v":4000},{"$f":"SA!IC29-SA!HQ29","v":5100},{"$f":"SA!ID29-SA!HR29","v":4400},{"$f":"SA!IE29-SA!HS29","v":4500},{"$f":"SA!IF29-SA!HT29","v":5400},{"$f":"SA!IG29-SA!HU29","v":5200},{"$f":"SA!IH29-SA!HV29","v":6000},{"$f":"SA!II29-SA!HW29","v":4700},{"$f":"SA!IJ29-SA!HX29","v":3000},{"$f":"SA!IK29-SA!HY29","v":3900},{"$f":"SA!IL29-SA!HZ29","v":-47400},6798.7849999999999,{"$f":"COUNTIF(EY32:FY32, \">\" &GA32)","v":0},null,"Arts, Entertainment, and Recreation",-3600,-500,100,400,600,900,1500,5500,1082.4059011873724]
["Accommodation and Food Services",{"$f":"SA!BN30-SA!BB30","v":3700},{"$f":"SA!BO30-SA!BC30","v":5400},{"$f":"SA!BP30-SA!BD30","v":5400},{"$f":"SA!BQ30-SA!BE30","v":7000},{"$f":"SA!BR30-SA!BF30","v":5200},{"$f":"SA!BS30-SA!BG30","v":5300},{"$f":"SA!BT30-SA!BH30","v":2900},{"$f":"SA!BU30-SA!BI30","v":3200},{"$f":"SA!BV30-SA!BJ30","v":3800},{"$f":"SA!BW30-SA!BK30","v":2000},{"$f":"SA!BX30-SA!BL30","v":3900},{"$f":"SA!BY30-SA!BM30","v":3300},{"$f":"SA!BZ30-SA!BN30","v":5400},{"$f":"SA!CA30-SA!BO30","v":5100},{"$f":"SA!CB30-SA!BP30","v":5200},{"$f":"SA!CC30-SA!BQ30","v":2100},{"$f":"SA!CD30-SA!BR30","v":2300},{"$f":"SA!CE30-SA!BS30","v":3600},{"$f":"SA!CF30-SA!BT30","v":3700},{"$f":"SA!CG30-SA!BU30","v":3400},{"$f":"SA!CH30-SA!BV30","v":2700},{"$f":"SA!CI30-SA!BW30","v":5000},{"$f":"SA!CJ30-SA!BX30","v":3700},{"$f":"SA!CK30-SA!BY30","v":4600},{"$f":"SA!CL30-SA!BZ30","v":3400},{"$f":"SA!CM30-SA!CA30","v":2800},{"$f":"SA!CN30-SA!CB30","v":1900},{"$f":"SA!CO30-SA!CC30","v":2000},{"$f":"SA!CP30-SA!CD30","v":2600},{"$f":"SA!CQ30-SA!CE30","v":2400},{"$f":"SA!CR30-SA!CF30","v":900},{"$f":"SA!CS30-SA!CG30","v":1400},{"$f":"SA!CT30-SA!CH30","v":0},{"$f":"SA!CU30-SA!CI30","v":300},{"$f":"SA!CV30-SA!CJ30","v":700},{"$f":"SA!CW30-SA!CK30","v":-400},{"$f":"SA!CX30-SA!CL30","v":-1400},{"$f":"SA!CY30-SA!CM30","v":-1900},{"$f":"SA!CZ30-SA!CN30","v":-1700},{"$f":"SA!DA30-SA!CO30","v":-1100},{"$f":"SA!DB30-SA!CP30","v":-1300},{"$f":"SA!DC30-SA!CQ30","v":-2400},{"$f":"SA!DD30-SA!CR30","v":-1800},{"$f":"SA!DE30-SA!CS30","v":-3200},{"$f":"SA!DF30-SA!CT30","v":-1400},{"$f":"SA!DG30-SA!CU30","v":-3200},{"$f":"SA!DH30-SA!CV30","v":-3500},{"$f":"SA!DI30-SA!CW30","v":-4300},{"$f":"SA!DJ30-SA!CX30","v":-5600},{"$f":"SA!DK30-SA!CY30","v":-4300},{"$f":"SA!DL30-SA!CZ30","v":-5400},{"$f":"SA!DM30-SA!DA30","v":-6200},{"$f":"SA!DN30-SA!DB30","v":-4500},{"$f":"SA!DO30-SA!DC30","v":-4900},{"$f":"SA!DP30-SA!DD30","v":-5800},{"$f":"SA!DQ30-SA!DE30","v":-5900},{"$f":"SA!DR30-SA!DF30","v":-6200},{"$f":"SA!DS30-SA!DG30","v":-6400},{"$f":"SA!DT30-SA!DH30","v":-6900},{"$f":"SA!DU30-SA!DI30","v":-5600},{"$f":"SA!DV30-SA!DJ30","v":-3100},{"$f":"SA!DW30-SA!DK30","v":-4700},{"$f":"SA!DX30-SA!DL30","v":-4300},{"$f":"SA!DY30-SA!DM30","v":-2400},{"$f":"SA!DZ30-SA!DN30","v":-3300},{"$f":"SA!EA30-SA!DO30","v":-2100},{"$f":"SA!EB30-SA!DP30","v":-900},{"$f":"SA!EC30-SA!DQ30","v":500},{"$f":"SA!ED30-SA!DR30","v":400},{"$f":"SA!EE30-SA!DS30","v":1800},{"$f":"SA!EF30-SA!DT30","v":2400},{"$f":"SA!EG30-SA!DU30","v":2100},{"$f":"SA!EH30-SA!DV30","v":1100},{"$f":"SA!EI30-SA!DW30","v":900},{"$f":"SA!EJ30-SA!DX30","v":1400},{"$f":"SA!EK30-SA!DY30","v":700},{"$f":"SA!EL30-SA!DZ30","v":800},{"$f":"SA!EM30-SA!EA30","v":600},{"$f":"SA!EN30-SA!EB30","v":600},{"$f":"SA!EO30-SA!EC30","v":800},{"$f":"SA!EP30-SA!ED30","v":1000},{"$f":"SA!EQ30-SA!EE30","v":200},{"$f":"SA!ER30-SA!EF30","v":-400},{"$f":"SA!ES30-SA!EG30","v":-700},{"$f":"SA!ET30-SA!EH30","v":900},{"$f":"SA!EU30-SA!EI30","v":2800},{"$f":"SA!EV30-SA!EJ30","v":3700},{"$f":"SA!EW30-SA!EK30","v":3700},{"$f":"SA!EX30-SA!EL30","v":3700},{"$f":"SA!EY30-SA!EM30","v":4800},{"$f":"SA!EZ30-SA!EN30","v":4400},{"$f":"SA!FA30-SA!EO30","v":3400},{"$f":"SA!FB30-SA!EP30","v":4000},{"$f":"SA!FC30-SA!EQ30","v":3200},{"$f":"SA!FD30-SA!ER30","v":4100},{"$f":"SA!FE30-SA!ES30","v":5300},{"$f":"SA!FF30-SA!ET30","v":4300},{"$f":"SA!FG30-SA!EU30","v":3900},{"$f":"SA!FH30-SA!EV30","v":3400},{"$f":"SA!FI30-SA!EW30","v":2700},{"$f":"SA!FJ30-SA!EX30","v":3300},{"$f":"SA!FK30-SA!EY30","v":2500},{"$f":"SA!FL30-SA!EZ30","v":3700},{"$f":"SA!FM30-SA!FA30","v":5100},{"$f":"SA!FN30-SA!FB30","v":4800},{"$f":"SA!FO30-SA!FC30","v":5400},{"$f":"SA!FP30-SA!FD30","v":4800},{"$f":"SA!FQ30-SA!FE30","v":3900},{"$f":"SA!FR30-SA!FF30","v":3400},{"$f":"SA!FS30-SA!FG30","v":2900},{"$f":"SA!FT30-SA!FH30","v":2500},{"$f":"SA!FU30-SA!FI30","v":3900},{"$f":"SA!FV30-SA!FJ30","v":2900},{"$f":"SA!FW30-SA!FK30","v":3600},{"$f":"SA!FX30-SA!FL30","v":600},{"$f":"SA!FY30-SA!FM30","v":600},{"$f":"SA!FZ30-SA!FN30","v":500},{"$f":"SA!GA30-SA!FO30","v":1200},{"$f":"SA!GB30-SA!FP30","v":1700},{"$f":"SA!GC30-SA!FQ30","v":2300},{"$f":"SA!GD30-SA!FR30","v":3700},{"$f":"SA!GE30-SA!FS30","v":3900},{"$f":"SA!GF30-SA!FT30","v":5000},{"$f":"SA!GG30-SA!FU30","v":4200},{"$f":"SA!GH30-SA!FV30","v":4900},{"$f":"SA!GI30-SA!FW30","v":4200},{"$f":"SA!GJ30-SA!FX30","v":6800},{"$f":"SA!GK30-SA!FY30","v":6000},{"$f":"SA!GL30-SA!FZ30","v":6200},{"$f":"SA!GM30-SA!GA30","v":6400},{"$f":"SA!GN30-SA!GB30","v":7000},{"$f":"SA!GO30-SA!GC30","v":7100},{"$f":"SA!GP30-SA!GD30","v":5700},{"$f":"SA!GQ30-SA!GE30","v":6000},{"$f":"SA!GR30-SA!GF30","v":4400},{"$f":"SA!GS30-SA!GG30","v":4300},{"$f":"SA!GT30-SA!GH30","v":3600},{"$f":"SA!GU30-SA!GI30","v":2500},{"$f":"SA!GV30-SA!GJ30","v":3100},{"$f":"SA!GW30-SA!GK30","v":3400},{"$f":"SA!GX30-SA!GL30","v":3400},{"$f":"SA!GY30-SA!GM30","v":3100},{"$f":"SA!GZ30-SA!GN30","v":2000},{"$f":"SA!HA30-SA!GO30","v":1900},{"$f":"SA!HB30-SA!GP30","v":3100},{"$f":"SA!HC30-SA!GQ30","v":3500},{"$f":"SA!HD30-SA!GR30","v":4700},{"$f":"SA!HE30-SA!GS30","v":3100},{"$f":"SA!HF30-SA!GT30","v":2600},{"$f":"SA!HG30-SA!GU30","v":5000},{"$f":"SA!HH30-SA!GV30","v":3700},{"$f":"SA!HI30-SA!GW30","v":2900},{"$f":"SA!HJ30-SA!GX30","v":2200},{"$f":"SA!HK30-SA!GY30","v":-300},{"$f":"SA!HL30-SA!GZ30","v":1200},{"$f":"SA!HM30-SA!HA30","v":2400},{"$f":"SA!HN30-SA!HB30","v":2800},{"$f":"SA!HO30-SA!HC30","v":200},{"$f":"SA!HP30-SA!HD30","v":200},{"$f":"SA!HQ30-SA!HE30","v":2200},{"$f":"SA!HR30-SA!HF30","v":2900},{"$f":"SA!HS30-SA!HG30","v":5200},{"$f":"SA!HT30-SA!HH30","v":6700},{"$f":"SA!HU30-SA!HI30","v":4600},{"$f":"SA!HV30-SA!HJ30","v":4700},{"$f":"SA!HW30-SA!HK30","v":5800},{"$f":"SA!HX30-SA!HL30","v":8400},{"$f":"SA!HY30-SA!HM30","v":11900},{"$f":"SA!HZ30-SA!HN30","v":600},{"$f":"SA!IA30-SA!HO30","v":1200},{"$f":"SA!IB30-SA!HP30","v":-200},{"$f":"SA!IC30-SA!HQ30","v":-1300},{"$f":"SA!ID30-SA!HR30","v":-500},{"$f":"SA!IE30-SA!HS30","v":-3600},{"$f":"SA!IF30-SA!HT30","v":-5200},{"$f":"SA!IG30-SA!HU30","v":-5000},{"$f":"SA!IH30-SA!HV30","v":-5000},{"$f":"SA!II30-SA!HW30","v":-3800},{"$f":"SA!IJ30-SA!HX30","v":-7200},{"$f":"SA!IK30-SA!HY30","v":-9200},{"$f":"SA!IL30-SA!HZ30","v":-242300},9399.5300000000007,{"$f":"COUNTIF(EY33:FY33, \">\" &GA33)","v":1},null,"Accommodation and Food Services",-6900,-1750,800,2400,3100,3700,5000,11900,3340.3949103253162]
["Other Services",{"$f":"SA!BN31-SA!BB31","v":1700},{"$f":"SA!BO31-SA!BC31","v":1600},{"$f":"SA!BP31-SA!BD31","v":1400},{"$f":"SA!BQ31-SA!BE31","v":1500},{"$f":"SA!BR31-SA!BF31","v":1300},{"$f":"SA!BS31-SA!BG31","v":600},{"$f":"SA!BT31-SA!BH31","v":700},{"$f":"SA!BU31-SA!BI31","v":500},{"$f":"SA!BV31-SA!BJ31","v":500},{"$f":"SA!BW31-SA!BK31","v":-1200},{"$f":"SA!BX31-SA!BL31","v":0},{"$f":"SA!BY31-SA!BM31","v":700},{"$f":"SA!BZ31-SA!BN31","v":100},{"$f":"SA!CA31-SA!BO31","v":-300},{"$f":"SA!CB31-SA!BP31","v":-200},{"$f":"SA!CC31-SA!BQ31","v":-500},{"$f":"SA!CD31-SA!BR31","v":-400},{"$f":"SA!CE31-SA!BS31","v":100},{"$f":"SA!CF31-SA!BT31","v":0},{"$f":"SA!CG31-SA!BU31","v":-100},{"$f":"SA!CH31-SA!BV31","v":100},{"$f":"SA!CI31-SA!BW31","v":200},{"$f":"SA!CJ31-SA!BX31","v":400},{"$f":"SA!CK31-SA!BY31","v":600},{"$f":"SA!CL31-SA!BZ31","v":1200},{"$f":"SA!CM31-SA!CA31","v":1500},{"$f":"SA!CN31-SA!CB31","v":1500},{"$f":"SA!CO31-SA!CC31","v":1800},{"$f":"SA!CP31-SA!CD31","v":1900},{"$f":"SA!CQ31-SA!CE31","v":1800},{"$f":"SA!CR31-SA!CF31","v":1800},{"$f":"SA!CS31-SA!CG31","v":1500},{"$f":"SA!CT31-SA!CH31","v":1000},{"$f":"SA!CU31-SA!CI31","v":1700},{"$f":"SA!CV31-SA!CJ31","v":1700},{"$f":"SA!CW31-SA!CK31","v":1500},{"$f":"SA!CX31-SA!CL31","v":900},{"$f":"SA!CY31-SA!CM31","v":900},{"$f":"SA!CZ31-SA!CN31","v":900},{"$f":"SA!DA31-SA!CO31","v":1100},{"$f":"SA!DB31-SA!CP31","v":1200},{"$f":"SA!DC31-SA!CQ31","v":1200},{"$f":"SA!DD31-SA!CR31","v":1200},{"$f":"SA!DE31-SA!CS31","v":1700},{"$f":"SA!DF31-SA!CT31","v":1900},{"$f":"SA!DG31-SA!CU31","v":3300},{"$f":"SA!DH31-SA!CV31","v":2100},{"$f":"SA!DI31-SA!CW31","v":1400},{"$f":"SA!DJ31-SA!CX31","v":1200},{"$f":"SA!DK31-SA!CY31","v":900},{"$f":"SA!DL31-SA!CZ31","v":800},{"$f":"SA!DM31-SA!DA31","v":-300},{"$f":"SA!DN31-SA!DB31","v":-600},{"$f":"SA!DO31-SA!DC31","v":-800},{"$f":"SA!DP31-SA!DD31","v":-1200},{"$f":"SA!DQ31-SA!DE31","v":-1600},{"$f":"SA!DR31-SA!DF31","v":-1500},{"$f":"SA!DS31-SA!DG31","v":-3700},{"$f":"SA!DT31-SA!DH31","v":-2600},{"$f":"SA!DU31-SA!DI31","v":-2200},{"$f":"SA!DV31-SA!DJ31","v":-2300},{"$f":"SA!DW31-SA!DK31","v":-2100},{"$f":"SA!DX31-SA!DL31","v":-2000},{"$f":"SA!DY31-SA!DM31","v":-1100},{"$f":"SA!DZ31-SA!DN31","v":-1400},{"$f":"SA!EA31-SA!DO31","v":-1400},{"$f":"SA!EB31-SA!DP31","v":-900},{"$f":"SA!EC31-SA!DQ31","v":-700},{"$f":"SA!ED31-SA!DR31","v":-800},{"$f":"SA!EE31-SA!DS31","v":0},{"$f":"SA!EF31-SA!DT31","v":-500},{"$f":"SA!EG31-SA!DU31","v":-400},{"$f":"SA!EH31-SA!DV31","v":200},{"$f":"SA!EI31-SA!DW31","v":100},{"$f":"SA!EJ31-SA!DX31","v":100},{"$f":"SA!EK31-SA!DY31","v":0},{"$f":"SA!EL31-SA!DZ31","v":300},{"$f":"SA!EM31-SA!EA31","v":200},{"$f":"SA!EN31-SA!EB31","v":600},{"$f":"SA!EO31-SA!EC31","v":400},{"$f":"SA!EP31-SA!ED31","v":400},{"$f":"SA!EQ31-SA!EE31","v":-400},{"$f":"SA!ER31-SA!EF31","v":200},{"$f":"SA!ES31-SA!EG31","v":700},{"$f":"SA!ET31-SA!EH31","v":500},{"$f":"SA!EU31-SA!EI31","v":900},{"$f":"SA!EV31-SA!EJ31","v":600},{"$f":"SA!EW31-SA!EK31","v":600},{"$f":"SA!EX31-SA!EL31","v":500},{"$f":"SA!EY31-SA!EM31","v":1900},{"$f":"SA!EZ31-SA!EN31","v":300},{"$f":"SA!FA31-SA!EO31","v":500},{"$f":"SA!FB31-SA!EP31","v":500},{"$f":"SA!FC31-SA!EQ31","v":500},{"$f":"SA!FD31-SA!ER31","v":500},{"$f":"SA!FE31-SA!ES31","v":0},{"$f":"SA!FF31-SA!ET31","v":-200},{"$f":"SA!FG31-SA!EU31","v":-600},{"$f":"SA!FH31-SA!EV31","v":-300},{"$f":"SA!FI31-SA!EW31","v":-500},{"$f":"SA!FJ31-SA!EX31","v":-100},{"$f":"SA!FK31-SA!EY31","v":-900},{"$f":"SA!FL31-SA!EZ31","v":-200},{"$f":"SA!FM31-SA!FA31","v":100},{"$f":"SA!FN31-SA!FB31","v":1100},{"$f":"SA!FO31-SA!FC31","v":800},{"$f":"SA!FP31-SA!FD31","v":1600},{"$f":"SA!FQ31-SA!FE31","v":2100},{"$f":"SA!FR31-SA!FF31","v":2900},{"$f":"SA!FS31-SA!FG31","v":3700},{"$f":"SA!FT31-SA!FH31","v":3800},{"$f":"SA!FU31-SA!FI31","v":4600},{"$f":"SA!FV31-SA!FJ31","v":4700},{"$f":"SA!FW31-SA!FK31","v":5100},{"$f":"SA!FX31-SA!FL31","v":6200},{"$f":"SA!FY31-SA!FM31","v":6800},{"$f":"SA!FZ31-SA!FN31","v":6200},{"$f":"SA!GA31-SA!FO31","v":6800},{"$f":"SA!GB31-SA!FP31","v":6500},{"$f":"SA!GC31-SA!FQ31","v":6300},{"$f":"SA!GD31-SA!FR31","v":6800},{"$f":"SA!GE31-SA!FS31","v":6500},{"$f":"SA!GF31-SA!FT31","v":6600},{"$f":"SA!GG31-SA!FU31","v":6100},{"$f":"SA!GH31-SA!FV31","v":6100},{"$f":"SA!GI31-SA!FW31","v":5200},{"$f":"SA!GJ31-SA!FX31","v":4600},{"$f":"SA!GK31-SA!FY31","v":3500},{"$f":"SA!GL31-SA!FZ31","v":3200},{"$f":"SA!GM31-SA!GA31","v":3200},{"$f":"SA!GN31-SA!GB31","v":2700},{"$f":"SA!GO31-SA!GC31","v":2900},{"$f":"SA!GP31-SA!GD31","v":1800},{"$f":"SA!GQ31-SA!GE31","v":1300},{"$f":"SA!GR31-SA!GF31","v":1100},{"$f":"SA!GS31-SA!GG31","v":1600},{"$f":"SA!GT31-SA!GH31","v":1100},{"$f":"SA!GU31-SA!GI31","v":1000},{"$f":"SA!GV31-SA!GJ31","v":1900},{"$f":"SA!GW31-SA!GK31","v":2200},{"$f":"SA!GX31-SA!GL31","v":2600},{"$f":"SA!GY31-SA!GM31","v":2200},{"$f":"SA!GZ31-SA!GN31","v":2500},{"$f":"SA!HA31-SA!GO31","v":1800},{"$f":"SA!HB31-SA!GP31","v":1700},{"$f":"SA!HC31-SA!GQ31","v":2200},{"$f":"SA!HD31-SA!GR31","v":2300},{"$f":"SA!HE31-SA!GS31","v":1300},{"$f":"SA!HF31-SA!GT31","v":1200},{"$f":"SA!HG31-SA!GU31","v":1600},{"$f":"SA!HH31-SA!GV31","v":100},{"$f":"SA!HI31-SA!GW31","v":200},{"$f":"SA!HJ31-SA!GX31","v":-200},{"$f":"SA!HK31-SA!GY31","v":1600},{"$f":"SA!HL31-SA!GZ31","v":400},{"$f":"SA!HM31-SA!HA31","v":300},{"$f":"SA!HN31-SA!HB31","v":3100},{"$f":"SA!HO31-SA!HC31","v":1600},{"$f":"SA!HP31-SA!HD31","v":1500},{"$f":"SA!HQ31-SA!HE31","v":700},{"$f":"SA!HR31-SA!HF31","v":1100},{"$f":"SA!HS31-SA!HG31","v":1100},{"$f":"SA!HT31-SA!HH31","v":1300},{"$f":"SA!HU31-SA!HI31","v":800},{"$f":"SA!HV31-SA!HJ31","v":800},{"$f":"SA!HW31-SA!HK31","v":-500},{"$f":"SA!HX31-SA!HL31","v":700},{"$f":"SA!HY31-SA!HM31","v":800},{"$f":"SA!HZ31-SA!HN31","v":600},{"$f":"SA!IA31-SA!HO31","v":1400},{"$f":"SA!IB31-SA!HP31","v":1900},{"$f":"SA!IC31-SA!HQ31","v":2600},{"$f":"SA!ID31-SA!HR31","v":2900},{"$f":"SA!IE31-SA!HS31","v":1800},{"$f":"SA!IF31-SA!HT31","v":2800},{"$f":"SA!IG31-SA!HU31","v":2900},{"$f":"SA!IH31-SA!HV31","v":3400},{"$f":"SA!II31-SA!HW31","v":2400},{"$f":"SA!IJ31-SA!HX31","v":700},{"$f":"SA!IK31-SA!HY31","v":2500},{"$f":"SA!IL31-SA!HZ31","v":-154300},7644.3150000000005,{"$f":"COUNTIF(EY34:FY34, \">\" &GA34)","v":0},null,"Other Services",-3700,-400,200,700,1100,1600,2800,6800,1969.9485918599294]
["Government",{"$f":"SA!BN32-SA!BB32","v":8300},{"$f":"SA!BO32-SA!BC32","v":4500},{"$f":"SA!BP32-SA!BD32","v":2100},{"$f":"SA!BQ32-SA!BE32","v":4700},{"$f":"SA!BR32-SA!BF32","v":3400},{"$f":"SA!BS32-SA!BG32","v":-700},{"$f":"SA!BT32-SA!BH32","v":1300},{"$f":"SA!BU32-SA!BI32","v":-100},{"$f":"SA!BV32-SA!BJ32","v":8000},{"$f":"SA!BW32-SA!BK32","v":2500},{"$f":"SA!BX32-SA!BL32","v":-700},{"$f":"SA!BY32-SA!BM32","v":4900},{"$f":"SA!BZ32-SA!BN32","v":-1000},{"$f":"SA!CA32-SA!BO32","v":-1600},{"$f":"SA!CB32-SA!BP32","v":1300},{"$f":"SA!CC32-SA!BQ32","v":800},{"$f":"SA!CD32-SA!BR32","v":-400},{"$f":"SA!CE32-SA!BS32","v":4100},{"$f":"SA!CF32-SA!BT32","v":1600},{"$f":"SA!CG32-SA!BU32","v":2000},{"$f":"SA!CH32-SA!BV32","v":-300},{"$f":"SA!CI32-SA!BW32","v":-1700},{"$f":"SA!CJ32-SA!BX32","v":900},{"$f":"SA!CK32-SA!BY32","v":-2300},{"$f":"SA!CL32-SA!BZ32","v":-1500},{"$f":"SA!CM32-SA!CA32","v":-1600},{"$f":"SA!CN32-SA!CB32","v":-1700},{"$f":"SA!CO32-SA!CC32","v":-400},{"$f":"SA!CP32-SA!CD32","v":2100},{"$f":"SA!CQ32-SA!CE32","v":3600},{"$f":"SA!CR32-SA!CF32","v":1300},{"$f":"SA!CS32-SA!CG32","v":2500},{"$f":"SA!CT32-SA!CH32","v":3100},{"$f":"SA!CU32-SA!CI32","v":1400},{"$f":"SA!CV32-SA!CJ32","v":-1000},{"$f":"SA!CW32-SA!CK32","v":3100},{"$f":"SA!CX32-SA!CL32","v":6500},{"$f":"SA!CY32-SA!CM32","v":6500},{"$f":"SA!CZ32-SA!CN32","v":4600},{"$f":"SA!DA32-SA!CO32","v":2100},{"$f":"SA!DB32-SA!CP32","v":4100},{"$f":"SA!DC32-SA!CQ32","v":-1000},{"$f":"SA!DD32-SA!CR32","v":4900},{"$f":"SA!DE32-SA!CS32","v":2300},{"$f":"SA!DF32-SA!CT32","v":10500},{"$f":"SA!DG32-SA!CU32","v":9200},{"$f":"SA!DH32-SA!CV32","v":14500},{"$f":"SA!DI32-SA!CW32","v":7300},{"$f":"SA!DJ32-SA!CX32","v":2100},{"$f":"SA!DK32-SA!CY32","v":3900},{"$f":"SA!DL32-SA!CZ32","v":4600},{"$f":"SA!DM32-SA!DA32","v":5200},{"$f":"SA!DN32-SA!DB32","v":3800},{"$f":"SA!DO32-SA!DC32","v":1200},{"$f":"SA!DP32-SA!DD32","v":-700},{"$f":"SA!DQ32-SA!DE32","v":-2000},{"$f":"SA!DR32-SA!DF32","v":-14600},{"$f":"SA!DS32-SA!DG32","v":-5000},{"$f":"SA!DT32-SA!DH32","v":-10200},{"$f":"SA!DU32-SA!DI32","v":-4600},{"$f":"SA!DV32-SA!DJ32","v":-3500},{"$f":"SA!DW32-SA!DK32","v":-6100},{"$f":"SA!DX32-SA!DL32","v":-4800},{"$f":"SA!DY32-SA!DM32","v":-700},{"$f":"SA!DZ32-SA!DN32","v":1900},{"$f":"SA!EA32-SA!DO32","v":2200},{"$f":"SA!EB32-SA!DP32","v":-2100},{"$f":"SA!EC32-SA!DQ32","v":-1300},{"$f":"SA!ED32-SA!DR32","v":1200},{"$f":"SA!EE32-SA!DS32","v":-1200},{"$f":"SA!EF32-SA!DT32","v":1500},{"$f":"SA!EG32-SA!DU32","v":-5500},{"$f":"SA!EH32-SA!DV32","v":-2100},{"$f":"SA!EI32-SA!DW32","v":1300},{"$f":"SA!EJ32-SA!DX32","v":500},{"$f":"SA!EK32-SA!DY32","v":-5600},{"$f":"SA!EL32-SA!DZ32","v":-8200},{"$f":"SA!EM32-SA!EA32","v":-8300},{"$f":"SA!EN32-SA!EB32","v":-100},{"$f":"SA!EO32-SA!EC32","v":-3400},{"$f":"SA!EP32-SA!ED32","v":-6000},{"$f":"SA!EQ32-SA!EE32","v":-9800},{"$f":"SA!ER32-SA!EF32","v":-13300},{"$f":"SA!ES32-SA!EG32","v":-3800},{"$f":"SA!ET32-SA!EH32","v":-15800},{"$f":"SA!EU32-SA!EI32","v":-14400},{"$f":"SA!EV32-SA!EJ32","v":-8000},{"$f":"SA!EW32-SA!EK32","v":-1800},{"$f":"SA!EX32-SA!EL32","v":700},{"$f":"SA!EY32-SA!EM32","v":-1900},{"$f":"SA!EZ32-SA!EN32","v":-9200},{"$f":"SA!FA32-SA!EO32","v":-1200},{"$f":"SA!FB32-SA!EP32","v":-1500},{"$f":"SA!FC32-SA!EQ32","v":2600},{"$f":"SA!FD32-SA!ER32","v":9400},{"$f":"SA!FE32-SA!ES32","v":300},{"$f":"SA!FF32-SA!ET32","v":-700},{"$f":"SA!FG32-SA!EU32","v":7700},{"$f":"SA!FH32-SA!EV32","v":-800},{"$f":"SA!FI32-SA!EW32","v":-6500},{"$f":"SA!FJ32-SA!EX32","v":-10200},{"$f":"SA!FK32-SA!EY32","v":-3200},{"$f":"SA!FL32-SA!EZ32","v":-600},{"$f":"SA!FM32-SA!FA32","v":-4500},{"$f":"SA!FN32-SA!FB32","v":1500},{"$f":"SA!FO32-SA!FC32","v":200},{"$f":"SA!FP32-SA!FD32","v":-7700},{"$f":"SA!FQ32-SA!FE32","v":-600},{"$f":"SA!FR32-SA!FF32","v":10700},{"$f":"SA!FS32-SA!FG32","v":-2400},{"$f":"SA!FT32-SA!FH32","v":-100},{"$f":"SA!FU32-SA!FI32","v":1900},{"$f":"SA!FV32-SA!FJ32","v":2200},{"$f":"SA!FW32-SA!FK32","v":2200},{"$f":"SA!FX32-SA!FL32","v":1900},{"$f":"SA!FY32-SA!FM32","v":8900},{"$f":"SA!FZ32-SA!FN32","v":900},{"$f":"SA!GA32-SA!FO32","v":400},{"$f":"SA!GB32-SA!FP32","v":6900},{"$f":"SA!GC32-SA!FQ32","v":300},{"$f":"SA!GD32-SA!FR32","v":-1500},{"$f":"SA!GE32-SA!FS32","v":1900},{"$f":"SA!GF32-SA!FT32","v":500},{"$f":"SA!GG32-SA!FU32","v":1900},{"$f":"SA!GH32-SA!FV32","v":300},{"$f":"SA!GI32-SA!FW32","v":-900},{"$f":"SA!GJ32-SA!FX32","v":-1500},{"$f":"SA!GK32-SA!FY32","v":-8500},{"$f":"SA!GL32-SA!FZ32","v":-4600},{"$f":"SA!GM32-SA!GA32","v":-3700},{"$f":"SA!GN32-SA!GB32","v":-12400},{"$f":"SA!GO32-SA!GC32","v":-2200},{"$f":"SA!GP32-SA!GD32","v":700},{"$f":"SA!GQ32-SA!GE32","v":-800},{"$f":"SA!GR32-SA!GF32","v":-600},{"$f":"SA!GS32-SA!GG32","v":200},{"$f":"SA!GT32-SA!GH32","v":-1800},{"$f":"SA!GU32-SA!GI32","v":0},{"$f":"SA!GV32-SA!GJ32","v":2300},{"$f":"SA!GW32-SA!GK32","v":9900},{"$f":"SA!GX32-SA!GL32","v":2800},{"$f":"SA!GY32-SA!GM32","v":2100},{"$f":"SA!GZ32-SA!GN32","v":13100},{"$f":"SA!HA32-SA!GO32","v":2700},{"$f":"SA!HB32-SA!GP32","v":-1700},{"$f":"SA!HC32-SA!GQ32","v":-2000},{"$f":"SA!HD32-SA!GR32","v":-4400},{"$f":"SA!HE32-SA!GS32","v":-3900},{"$f":"SA!HF32-SA!GT32","v":1500},{"$f":"SA!HG32-SA!GU32","v":-3900},{"$f":"SA!HH32-SA!GV32","v":-2700},{"$f":"SA!HI32-SA!GW32","v":-12200},{"$f":"SA!HJ32-SA!GX32","v":-2900},{"$f":"SA!HK32-SA!GY32","v":-2000},{"$f":"SA!HL32-SA!GZ32","v":-11000},{"$f":"SA!HM32-SA!HA32","v":-5200},{"$f":"SA!HN32-SA!HB32","v":-1500},{"$f":"SA!HO32-SA!HC32","v":700},{"$f":"SA!HP32-SA!HD32","v":2200},{"$f":"SA!HQ32-SA!HE32","v":400},{"$f":"SA!HR32-SA!HF32","v":-1100},{"$f":"SA!HS32-SA!HG32","v":3100},{"$f":"SA!HT32-SA!HH32","v":1900},{"$f":"SA!HU32-SA!HI32","v":8100},{"$f":"SA!HV32-SA!HJ32","v":1500},{"$f":"SA!HW32-SA!HK32","v":-1200},{"$f":"SA!HX32-SA!HL32","v":4900},{"$f":"SA!HY32-SA!HM32","v":3400},{"$f":"SA!HZ32-SA!HN32","v":-3400},{"$f":"SA!IA32-SA!HO32","v":-7600},{"$f":"SA!IB32-SA!HP32","v":-3500},{"$f":"SA!IC32-SA!HQ32","v":-4400},{"$f":"SA!ID32-SA!HR32","v":-3800},{"$f":"SA!IE32-SA!HS32","v":-900},{"$f":"SA!IF32-SA!HT32","v":-3600},{"$f":"SA!IG32-SA!HU32","v":-9700},{"$f":"SA!IH32-SA!HV32","v":-4600},{"$f":"SA!II32-SA!HW32","v":-2000},{"$f":"SA!IJ32-SA!HX32","v":-6100},{"$f":"SA!IK32-SA!HY32","v":-5300},{"$f":"SA!IL32-SA!HZ32","v":-404000}," n/a ",{"$f":"COUNTIF(EY35:FY35, \">\" &GA35)","v":0},null,"Government",-15800,-4600,-1700,-600,500,1999.9999999999986,4100,14500,5090.0524016172649]
["Federal Government",{"$f":"SA!BN33-SA!BB33","v":-200},{"$f":"SA!BO33-SA!BC33","v":-200},{"$f":"SA!BP33-SA!BD33","v":-200},{"$f":"SA!BQ33-SA!BE33","v":-300},{"$f":"SA!BR33-SA!BF33","v":-100},{"$f":"SA!BS33-SA!BG33","v":-300},{"$f":"SA!BT33-SA!BH33","v":-400},{"$f":"SA!BU33-SA!BI33","v":-500},{"$f":"SA!BV33-SA!BJ33","v":-300},{"$f":"SA!BW33-SA!BK33","v":-500},{"$f":"SA!BX33-SA!BL33","v":-500},{"$f":"SA!BY33-SA!BM33","v":-300},{"$f":"SA!BZ33-SA!BN33","v":-300},{"$f":"SA!CA33-SA!BO33","v":-300},{"$f":"SA!CB33-SA!BP33","v":0},{"$f":"SA!CC33-SA!BQ33","v":-100},{"$f":"SA!CD33-SA!BR33","v":-200},{"$f":"SA!CE33-SA!BS33","v":100},{"$f":"SA!CF33-SA!BT33","v":100},{"$f":"SA!CG33-SA!BU33","v":0},{"$f":"SA!CH33-SA!BV33","v":100},{"$f":"SA!CI33-SA!BW33","v":100},{"$f":"SA!CJ33-SA!BX33","v":200},{"$f":"SA!CK33-SA!BY33","v":200},{"$f":"SA!CL33-SA!BZ33","v":300},{"$f":"SA!CM33-SA!CA33","v":100},{"$f":"SA!CN33-SA!CB33","v":-100},{"$f":"SA!CO33-SA!CC33","v":-100},{"$f":"SA!CP33-SA!CD33","v":0},{"$f":"SA!CQ33-SA!CE33","v":0},{"$f":"SA!CR33-SA!CF33","v":-100},{"$f":"SA!CS33-SA!CG33","v":100},{"$f":"SA!CT33-SA!CH33","v":-100},{"$f":"SA!CU33-SA!CI33","v":200},{"$f":"SA!CV33-SA!CJ33","v":0},{"$f":"SA!CW33-SA!CK33","v":-200},{"$f":"SA!CX33-SA!CL33","v":0},{"$f":"SA!CY33-SA!CM33","v":300},{"$f":"SA!CZ33-SA!CN33","v":300},{"$f":"SA!DA33-SA!CO33","v":300},{"$f":"SA!DB33-SA!CP33","v":400},{"$f":"SA!DC33-SA!CQ33","v":300},{"$f":"SA!DD33-SA!CR33","v":600},{"$f":"SA!DE33-SA!CS33","v":500},{"$f":"SA!DF33-SA!CT33","v":600},{"$f":"SA!DG33-SA!CU33","v":200},{"$f":"SA!DH33-SA!CV33","v":400},{"$f":"SA!DI33-SA!CW33","v":700},{"$f":"SA!DJ33-SA!CX33","v":500},{"$f":"SA!DK33-SA!CY33","v":400},{"$f":"SA!DL33-SA!CZ33","v":200},{"$f":"SA!DM33-SA!DA33","v":2400},{"$f":"SA!DN33-SA!DB33","v":2300},{"$f":"SA!DO33-SA!DC33","v":200},{"$f":"SA!DP33-SA!DD33","v":-200},{"$f":"SA!DQ33-SA!DE33","v":-100},{"$f":"SA!DR33-SA!DF33","v":-200},{"$f":"SA!DS33-SA!DG33","v":200},{"$f":"SA!DT33-SA!DH33","v":0},{"$f":"SA!DU33-SA!DI33","v":-100},{"$f":"SA!DV33-SA!DJ33","v":-300},{"$f":"SA!DW33-SA!DK33","v":-300},{"$f":"SA!DX33-SA!DL33","v":600},{"$f":"SA!DY33-SA!DM33","v":1600},{"$f":"SA!DZ33-SA!DN33","v":6000},{"$f":"SA!EA33-SA!DO33","v":4500},{"$f":"SA!EB33-SA!DP33","v":2800},{"$f":"SA!EC33-SA!DQ33","v":800},{"$f":"SA!ED33-SA!DR33","v":100},{"$f":"SA!EE33-SA!DS33","v":-200},{"$f":"SA!EF33-SA!DT33","v":-100},{"$f":"SA!EG33-SA!DU33","v":-200},{"$f":"SA!EH33-SA!DV33","v":-100},{"$f":"SA!EI33-SA!DW33","v":-200},{"$f":"SA!EJ33-SA!DX33","v":-800},{"$f":"SA!EK33-SA!DY33","v":-4000},{"$f":"SA!EL33-SA!DZ33","v":-8500},{"$f":"SA!EM33-SA!EA33","v":-4900},{"$f":"SA!EN33-SA!EB33","v":-2900},{"$f":"SA!EO33-SA!EC33","v":-1100},{"$f":"SA!EP33-SA!ED33","v":-300},{"$f":"SA!EQ33-SA!EE33","v":-200},{"$f":"SA!ER33-SA!EF33","v":-500},{"$f":"SA!ES33-SA!EG33","v":-400},{"$f":"SA!ET33-SA!EH33","v":-500},{"$f":"SA!EU33-SA!EI33","v":-400},{"$f":"SA!EV33-SA!EJ33","v":-400},{"$f":"SA!EW33-SA!EK33","v":-500},{"$f":"SA!EX33-SA!EL33","v":-400},{"$f":"SA!EY33-SA!EM33","v":-400},{"$f":"SA!EZ33-SA!EN33","v":-400},{"$f":"SA!FA33-SA!EO33","v":-300},{"$f":"SA!FB33-SA!EP33","v":-400},{"$f":"SA!FC33-SA!EQ33","v":-300},{"$f":"SA!FD33-SA!ER33","v":-400},{"$f":"SA!FE33-SA!ES33","v":-200},{"$f":"SA!FF33-SA!ET33","v":-200},{"$f":"SA!FG33-SA!EU33","v":-100},{"$f":"SA!FH33-SA!EV33","v":-500},{"$f":"SA!FI33-SA!EW33","v":-200},{"$f":"SA!FJ33-SA!EX33","v":-300},{"$f":"SA!FK33-SA!EY33","v":-400},{"$f":"SA!FL33-SA!EZ33","v":-500},{"$f":"SA!FM33-SA!FA33","v":-600},{"$f":"SA!FN33-SA!FB33","v":-400},{"$f":"SA!FO33-SA!FC33","v":-600},{"$f":"SA!FP33-SA!FD33","v":0},{"$f":"SA!FQ33-SA!FE33","v":-500},{"$f":"SA!FR33-SA!FF33","v":-200},{"$f":"SA!FS33-SA!FG33","v":-300},{"$f":"SA!FT33-SA!FH33","v":0},{"$f":"SA!FU33-SA!FI33","v":-200},{"$f":"SA!FV33-SA!FJ33","v":-100},{"$f":"SA!FW33-SA!FK33","v":-100},{"$f":"SA!FX33-SA!FL33","v":0},{"$f":"SA!FY33-SA!FM33","v":200},{"$f":"SA!FZ33-SA!FN33","v":100},{"$f":"SA!GA33-SA!FO33","v":200},{"$f":"SA!GB33-SA!FP33","v":100},{"$f":"SA!GC33-SA!FQ33","v":400},{"$f":"SA!GD33-SA!FR33","v":100},{"$f":"SA!GE33-SA!FS33","v":100},{"$f":"SA!GF33-SA!FT33","v":100},{"$f":"SA!GG33-SA!FU33","v":200},{"$f":"SA!GH33-SA!FV33","v":200},{"$f":"SA!GI33-SA!FW33","v":400},{"$f":"SA!GJ33-SA!FX33","v":300},{"$f":"SA!GK33-SA!FY33","v":100},{"$f":"SA!GL33-SA!FZ33","v":100},{"$f":"SA!GM33-SA!GA33","v":100},{"$f":"SA!GN33-SA!GB33","v":100},{"$f":"SA!GO33-SA!GC33","v":100},{"$f":"SA!GP33-SA!GD33","v":200},{"$f":"SA!GQ33-SA!GE33","v":200},{"$f":"SA!GR33-SA!GF33","v":300},{"$f":"SA!GS33-SA!GG33","v":100},{"$f":"SA!GT33-SA!GH33","v":100},{"$f":"SA!GU33-SA!GI33","v":200},{"$f":"SA!GV33-SA!GJ33","v":0},{"$f":"SA!GW33-SA!GK33","v":300},{"$f":"SA!GX33-SA!GL33","v":400},{"$f":"SA!GY33-SA!GM33","v":300},{"$f":"SA!GZ33-SA!GN33","v":300},{"$f":"SA!HA33-SA!GO33","v":200},{"$f":"SA!HB33-SA!GP33","v":300},{"$f":"SA!HC33-SA!GQ33","v":200},{"$f":"SA!HD33-SA!GR33","v":200},{"$f":"SA!HE33-SA!GS33","v":0},{"$f":"SA!HF33-SA!GT33","v":200},{"$f":"SA!HG33-SA!GU33","v":0},{"$f":"SA!HH33-SA!GV33","v":200},{"$f":"SA!HI33-SA!GW33","v":-300},{"$f":"SA!HJ33-SA!GX33","v":-200},{"$f":"SA!HK33-SA!GY33","v":-100},{"$f":"SA!HL33-SA!GZ33","v":-200},{"$f":"SA!HM33-SA!HA33","v":-100},{"$f":"SA!HN33-SA!HB33","v":-100},{"$f":"SA!HO33-SA!HC33","v":0},{"$f":"SA!HP33-SA!HD33","v":-200},{"$f":"SA!HQ33-SA!HE33","v":100},{"$f":"SA!HR33-SA!HF33","v":0},{"$f":"SA!HS33-SA!HG33","v":0},{"$f":"SA!HT33-SA!HH33","v":0},{"$f":"SA!HU33-SA!HI33","v":400},{"$f":"SA!HV33-SA!HJ33","v":300},{"$f":"SA!HW33-SA!HK33","v":300},{"$f":"SA!HX33-SA!HL33","v":300},{"$f":"SA!HY33-SA!HM33","v":100},{"$f":"SA!HZ33-SA!HN33","v":-100},{"$f":"SA!IA33-SA!HO33","v":-100},{"$f":"SA!IB33-SA!HP33","v":-100},{"$f":"SA!IC33-SA!HQ33","v":0},{"$f":"SA!ID33-SA!HR33","v":0},{"$f":"SA!IE33-SA!HS33","v":0},{"$f":"SA!IF33-SA!HT33","v":0},{"$f":"SA!IG33-SA!HU33","v":400},{"$f":"SA!IH33-SA!HV33","v":100},{"$f":"SA!II33-SA!HW33","v":0},{"$f":"SA!IJ33-SA!HX33","v":-100},{"$f":"SA!IK33-SA!HY33","v":100},{"$f":"SA!IL33-SA!HZ33","v":-29000}," n/a ",{"$f":"COUNTIF(EY36:FY36, \">\" &GA36)","v":0},null,"Federal Government",-8500,-400,-200,-100,0,200,300,6000,1122.7607563396271]
["State Government",{"$f":"SA!BN34-SA!BB34","v":5200},{"$f":"SA!BO34-SA!BC34","v":2000},{"$f":"SA!BP34-SA!BD34","v":1500},{"$f":"SA!BQ34-SA!BE34","v":1100},{"$f":"SA!BR34-SA!BF34","v":1700},{"$f":"SA!BS34-SA!BG34","v":-1500},{"$f":"SA!BT34-SA!BH34","v":-500},{"$f":"SA!BU34-SA!BI34","v":-2000},{"$f":"SA!BV34-SA!BJ34","v":300},{"$f":"SA!BW34-SA!BK34","v":-800},{"$f":"SA!BX34-SA!BL34","v":-900},{"$f":"SA!BY34-SA!BM34","v":600},{"$f":"SA!BZ34-SA!BN34","v":-800},{"$f":"SA!CA34-SA!BO34","v":700},{"$f":"SA!CB34-SA!BP34","v":700},{"$f":"SA!CC34-SA!BQ34","v":1100},{"$f":"SA!CD34-SA!BR34","v":400},{"$f":"SA!CE34-SA!BS34","v":3600},{"$f":"SA!CF34-SA!BT34","v":2100},{"$f":"SA!CG34-SA!BU34","v":3200},{"$f":"SA!CH34-SA!BV34","v":1200},{"$f":"SA!CI34-SA!BW34","v":1400},{"$f":"SA!CJ34-SA!BX34","v":600},{"$f":"SA!CK34-SA!BY34","v":-100},{"$f":"SA!CL34-SA!BZ34","v":-1000},{"$f":"SA!CM34-SA!CA34","v":600},{"$f":"SA!CN34-SA!CB34","v":1800},{"$f":"SA!CO34-SA!CC34","v":800},{"$f":"SA!CP34-SA!CD34","v":2300},{"$f":"SA!CQ34-SA!CE34","v":300},{"$f":"SA!CR34-SA!CF34","v":-300},{"$f":"SA!CS34-SA!CG34","v":100},{"$f":"SA!CT34-SA!CH34","v":-1300},{"$f":"SA!CU34-SA!CI34","v":-900},{"$f":"SA!CV34-SA!CJ34","v":0},{"$f":"SA!CW34-SA!CK34","v":300},{"$f":"SA!CX34-SA!CL34","v":2100},{"$f":"SA!CY34-SA!CM34","v":600},{"$f":"SA!CZ34-SA!CN34","v":-400},{"$f":"SA!DA34-SA!CO34","v":-200},{"$f":"SA!DB34-SA!CP34","v":200},{"$f":"SA!DC34-SA!CQ34","v":-1100},{"$f":"SA!DD34-SA!CR34","v":800},{"$f":"SA!DE34-SA!CS34","v":0},{"$f":"SA!DF34-SA!CT34","v":-700},{"$f":"SA!DG34-SA!CU34","v":2400},{"$f":"SA!DH34-SA!CV34","v":1900},{"$f":"SA!DI34-SA!CW34","v":800},{"$f":"SA!DJ34-SA!CX34","v":-1300},{"$f":"SA!DK34-SA!CY34","v":-700},{"$f":"SA!DL34-SA!CZ34","v":-200},{"$f":"SA!DM34-SA!DA34","v":-3000},{"$f":"SA!DN34-SA!DB34","v":-3000},{"$f":"SA!DO34-SA!DC34","v":-3800},{"$f":"SA!DP34-SA!DD34","v":-5000},{"$f":"SA!DQ34-SA!DE34","v":-4900},{"$f":"SA!DR34-SA!DF34","v":-6300},{"$f":"SA!DS34-SA!DG34","v":-7600},{"$f":"SA!DT34-SA!DH34","v":-6200},{"$f":"SA!DU34-SA!DI34","v":-5100},{"$f":"SA!DV34-SA!DJ34","v":-5800},{"$f":"SA!DW34-SA!DK34","v":-4800},{"$f":"SA!DX34-SA!DL34","v":-5500},{"$f":"SA!DY34-SA!DM34","v":-200},{"$f":"SA!DZ34-SA!DN34","v":-1500},{"$f":"SA!EA34-SA!DO34","v":1300},{"$f":"SA!EB34-SA!DP34","v":1500},{"$f":"SA!EC34-SA!DQ34","v":1600},{"$f":"SA!ED34-SA!DR34","v":2900},{"$f":"SA!EE34-SA!DS34","v":2200},{"$f":"SA!EF34-SA!DT34","v":800},{"$f":"SA!EG34-SA!DU34","v":-1900},{"$f":"SA!EH34-SA!DV34","v":-500},{"$f":"SA!EI34-SA!DW34","v":-800},{"$f":"SA!EJ34-SA!DX34","v":400},{"$f":"SA!EK34-SA!DY34","v":-2600},{"$f":"SA!EL34-SA!DZ34","v":500},{"$f":"SA!EM34-SA!EA34","v":-3700},{"$f":"SA!EN34-SA!EB34","v":-3700},{"$f":"SA!EO34-SA!EC34","v":-9000},{"$f":"SA!EP34-SA!ED34","v":-5800},{"$f":"SA!EQ34-SA!EE34","v":-4000},{"$f":"SA!ER34-SA!EF34","v":-3300},{"$f":"SA!ES34-SA!EG34","v":-900},{"$f":"SA!ET34-SA!EH34","v":-10100},{"$f":"SA!EU34-SA!EI34","v":-7200},{"$f":"SA!EV34-SA!EJ34","v":-2400},{"$f":"SA!EW34-SA!EK34","v":-500},{"$f":"SA!EX34-SA!EL34","v":-3200},{"$f":"SA!EY34-SA!EM34","v":-2300},{"$f":"SA!EZ34-SA!EN34","v":-800},{"$f":"SA!FA34-SA!EO34","v":4100},{"$f":"SA!FB34-SA!EP34","v":3200},{"$f":"SA!FC34-SA!EQ34","v":1400},{"$f":"SA!FD34-SA!ER34","v":1300},{"$f":"SA!FE34-SA!ES34","v":100},{"$f":"SA!FF34-SA!ET34","v":-200},{"$f":"SA!FG34-SA!EU34","v":6500},{"$f":"SA!FH34-SA!EV34","v":400},{"$f":"SA!FI34-SA!EW34","v":-100},{"$f":"SA!FJ34-SA!EX34","v":-2600},{"$f":"SA!FK34-SA!EY34","v":1000},{"$f":"SA!FL34-SA!EZ34","v":400},{"$f":"SA!FM34-SA!FA34","v":1400},{"$f":"SA!FN34-SA!FB34","v":600},{"$f":"SA!FO34-SA!FC34","v":1600},{"$f":"SA!FP34-SA!FD34","v":900},{"$f":"SA!FQ34-SA!FE34","v":1500},{"$f":"SA!FR34-SA!FF34","v":11600},{"$f":"SA!FS34-SA!FG34","v":1300},{"$f":"SA!FT34-SA!FH34","v":1200},{"$f":"SA!FU34-SA!FI34","v":1500},{"$f":"SA!FV34-SA!FJ34","v":2800},{"$f":"SA!FW34-SA!FK34","v":1600},{"$f":"SA!FX34-SA!FL34","v":900},{"$f":"SA!FY34-SA!FM34","v":700},{"$f":"SA!FZ34-SA!FN34","v":800},{"$f":"SA!GA34-SA!FO34","v":-600},{"$f":"SA!GB34-SA!FP34","v":900},{"$f":"SA!GC34-SA!FQ34","v":600},{"$f":"SA!GD34-SA!FR34","v":-400},{"$f":"SA!GE34-SA!FS34","v":300},{"$f":"SA!GF34-SA!FT34","v":1100},{"$f":"SA!GG34-SA!FU34","v":200},{"$f":"SA!GH34-SA!FV34","v":100},{"$f":"SA!GI34-SA!FW34","v":-700},{"$f":"SA!GJ34-SA!FX34","v":-500},{"$f":"SA!GK34-SA!FY34","v":-1800},{"$f":"SA!GL34-SA!FZ34","v":-2900},{"$f":"SA!GM34-SA!GA34","v":-2600},{"$f":"SA!GN34-SA!GB34","v":-3600},{"$f":"SA!GO34-SA!GC34","v":-2600},{"$f":"SA!GP34-SA!GD34","v":-2400},{"$f":"SA!GQ34-SA!GE34","v":-2700},{"$f":"SA!GR34-SA!GF34","v":-2700},{"$f":"SA!GS34-SA!GG34","v":-2500},{"$f":"SA!GT34-SA!GH34","v":-1700},{"$f":"SA!GU34-SA!GI34","v":-1200},{"$f":"SA!GV34-SA!GJ34","v":-1400},{"$f":"SA!GW34-SA!GK34","v":-600},{"$f":"SA!GX34-SA!GL34","v":-1000},{"$f":"SA!GY34-SA!GM34","v":600},{"$f":"SA!GZ34-SA!GN34","v":800},{"$f":"SA!HA34-SA!GO34","v":-300},{"$f":"SA!HB34-SA!GP34","v":-400},{"$f":"SA!HC34-SA!GQ34","v":-100},{"$f":"SA!HD34-SA!GR34","v":-5200},{"$f":"SA!HE34-SA!GS34","v":400},{"$f":"SA!HF34-SA!GT34","v":1200},{"$f":"SA!HG34-SA!GU34","v":1000},{"$f":"SA!HH34-SA!GV34","v":600},{"$f":"SA!HI34-SA!GW34","v":900},{"$f":"SA!HJ34-SA!GX34","v":300},{"$f":"SA!HK34-SA!GY34","v":-1300},{"$f":"SA!HL34-SA!GZ34","v":-900},{"$f":"SA!HM34-SA!HA34","v":-3700},{"$f":"SA!HN34-SA!HB34","v":-3200},{"$f":"SA!HO34-SA!HC34","v":-2000},{"$f":"SA!HP34-SA!HD34","v":2400},{"$f":"SA!HQ34-SA!HE34","v":-2100},{"$f":"SA!HR34-SA!HF34","v":-2500},{"$f":"SA!HS34-SA!HG34","v":-2300},{"$f":"SA!HT34-SA!HH34","v":-2200},{"$f":"SA!HU34-SA!HI34","v":-2900},{"$f":"SA!HV34-SA!HJ34","v":-1300},{"$f":"SA!HW34-SA!HK34","v":-1100},{"$f":"SA!HX34-SA!HL34","v":-800},{"$f":"SA!HY34-SA!HM34","v":2900},{"$f":"SA!HZ34-SA!HN34","v":-400},{"$f":"SA!IA34-SA!HO34","v":-1100},{"$f":"SA!IB34-SA!HP34","v":-600},{"$f":"SA!IC34-SA!HQ34","v":-2400},{"$f":"SA!ID34-SA!HR34","v":-1700},{"$f":"SA!IE34-SA!HS34","v":-900},{"$f":"SA!IF34-SA!HT34","v":0},{"$f":"SA!IG34-SA!HU34","v":-1200},{"$f":"SA!IH34-SA!HV34","v":-2400},{"$f":"SA!II34-SA!HW34","v":-1300},{"$f":"SA!IJ34-SA!HX34","v":-1900},{"$f":"SA!IK34-SA!HY34","v":-2700},{"$f":"SA!IL34-SA!HZ34","v":-91800}," n/a ",{"$f":"COUNTIF(EY37:FY37, \">\" &GA37)","v":0},null,"State Government",-10100,-2950,-1300,-450,100,799.99999999999864,1500,11600,2664.1188971716083]
["Local Government",{"$f":"SA!BN35-SA!BB35","v":3300},{"$f":"SA!BO35-SA!BC35","v":2700},{"$f":"SA!BP35-SA!BD35","v":800},{"$f":"SA!BQ35-SA!BE35","v":3900},{"$f":"SA!BR35-SA!BF35","v":1800},{"$f":"SA!BS35-SA!BG35","v":1100},{"$f":"SA!BT35-SA!BH35","v":2200},{"$f":"SA!BU35-SA!BI35","v":2400},{"$f":"SA!BV35-SA!BJ35","v":8000},{"$f":"SA!BW35-SA!BK35","v":3800},{"$f":"SA!BX35-SA!BL35","v":700},{"$f":"SA!BY35-SA!BM35","v":4600},{"$f":"SA!BZ35-SA!BN35","v":100},{"$f":"SA!CA35-SA!BO35","v":-2000},{"$f":"SA!CB35-SA!BP35","v":600},{"$f":"SA!CC35-SA!BQ35","v":-200},{"$f":"SA!CD35-SA!BR35","v":-600},{"$f":"SA!CE35-SA!BS35","v":400},{"$f":"SA!CF35-SA!BT35","v":-600},{"$f":"SA!CG35-SA!BU35","v":-1200},{"$f":"SA!CH35-SA!BV35","v":-1600},{"$f":"SA!CI35-SA!BW35","v":-3200},{"$f":"SA!CJ35-SA!BX35","v":100},{"$f":"SA!CK35-SA!BY35","v":-2400},{"$f":"SA!CL35-SA!BZ35","v":-800},{"$f":"SA!CM35-SA!CA35","v":-2300},{"$f":"SA!CN35-SA!CB35","v":-3400},{"$f":"SA!CO35-SA!CC35","v":-1100},{"$f":"SA!CP35-SA!CD35","v":-200},{"$f":"SA!CQ35-SA!CE35","v":3300},{"$f":"SA!CR35-SA!CF35","v":1700},{"$f":"SA!CS35-SA!CG35","v":2300},{"$f":"SA!CT35-SA!CH35","v":4500},{"$f":"SA!CU35-SA!CI35","v":2100},{"$f":"SA!CV35-SA!CJ35","v":-1000},{"$f":"SA!CW35-SA!CK35","v":3000},{"$f":"SA!CX35-SA!CL35","v":4400},{"$f":"SA!CY35-SA!CM35","v":5600},{"$f":"SA!CZ35-SA!CN35","v":4700},{"$f":"SA!DA35-SA!CO35","v":2000},{"$f":"SA!DB35-SA!CP35","v":3500},{"$f":"SA!DC35-SA!CQ35","v":-200},{"$f":"SA!DD35-SA!CR35","v":3500},{"$f":"SA!DE35-SA!CS35","v":1800},{"$f":"SA!DF35-SA!CT35","v":10600},{"$f":"SA!DG35-SA!CU35","v":6600},{"$f":"SA!DH35-SA!CV35","v":12200},{"$f":"SA!DI35-SA!CW35","v":5800},{"$f":"SA!DJ35-SA!CX35","v":2900},{"$f":"SA!DK35-SA!CY35","v":4200},{"$f":"SA!DL35-SA!CZ35","v":4600},{"$f":"SA!DM35-SA!DA35","v":5800},{"$f":"SA!DN35-SA!DB35","v":4500},{"$f":"SA!DO35-SA!DC35","v":4800},{"$f":"SA!DP35-SA!DD35","v":4500},{"$f":"SA!DQ35-SA!DE35","v":3000},{"$f":"SA!DR35-SA!DF35","v":-8100},{"$f":"SA!DS35-SA!DG35","v":2400},{"$f":"SA!DT35-SA!DH35","v":-4000},{"$f":"SA!DU35-SA!DI35","v":600},{"$f":"SA!DV35-SA!DJ35","v":2600},{"$f":"SA!DW35-SA!DK35","v":-1000},{"$f":"SA!DX35-SA!DL35","v":100},{"$f":"SA!DY35-SA!DM35","v":-2100},{"$f":"SA!DZ35-SA!DN35","v":-2600},{"$f":"SA!EA35-SA!DO35","v":-3600},{"$f":"SA!EB35-SA!DP35","v":-6400},{"$f":"SA!EC35-SA!DQ35","v":-3700},{"$f":"SA!ED35-SA!DR35","v":-1800},{"$f":"SA!EE35-SA!DS35","v":-3200},{"$f":"SA!EF35-SA!DT35","v":800},{"$f":"SA!EG35-SA!DU35","v":-3400},{"$f":"SA!EH35-SA!DV35","v":-1500},{"$f":"SA!EI35-SA!DW35","v":2300},{"$f":"SA!EJ35-SA!DX35","v":900},{"$f":"SA!EK35-SA!DY35","v":1000},{"$f":"SA!EL35-SA!DZ35","v":-200},{"$f":"SA!EM35-SA!EA35","v":300},{"$f":"SA!EN35-SA!EB35","v":6500},{"$f":"SA!EO35-SA!EC35","v":6700},{"$f":"SA!EP35-SA!ED35","v":100},{"$f":"SA!EQ35-SA!EE35","v":-5600},{"$f":"SA!ER35-SA!EF35","v":-9500},{"$f":"SA!ES35-SA!EG35","v":-2500},{"$f":"SA!ET35-SA!EH35","v":-5200},{"$f":"SA!EU35-SA!EI35","v":-6800},{"$f":"SA!EV35-SA!EJ35","v":-5200},{"$f":"SA!EW35-SA!EK35","v":-800},{"$f":"SA!EX35-SA!EL35","v":4300},{"$f":"SA!EY35-SA!EM35","v":800},{"$f":"SA!EZ35-SA!EN35","v":-8000},{"$f":"SA!FA35-SA!EO35","v":-5000},{"$f":"SA!FB35-SA!EP35","v":-4300},{"$f":"SA!FC35-SA!EQ35","v":1500},{"$f":"SA!FD35-SA!ER35","v":8500},{"$f":"SA!FE35-SA!ES35","v":400},{"$f":"SA!FF35-SA!ET35","v":-300},{"$f":"SA!FG35-SA!EU35","v":1300},{"$f":"SA!FH35-SA!EV35","v":-700},{"$f":"SA!FI35-SA!EW35","v":-6200},{"$f":"SA!FJ35-SA!EX35","v":-7300},{"$f":"SA!FK35-SA!EY35","v":-3800},{"$f":"SA!FL35-SA!EZ35","v":-500},{"$f":"SA!FM35-SA!FA35","v":-5300},{"$f":"SA!FN35-SA!FB35","v":1300},{"$f":"SA!FO35-SA!FC35","v":-800},{"$f":"SA!FP35-SA!FD35","v":-8600},{"$f":"SA!FQ35-SA!FE35","v":-1600},{"$f":"SA!FR35-SA!FF35","v":-700},{"$f":"SA!FS35-SA!FG35","v":-3400},{"$f":"SA!FT35-SA!FH35","v":-1300},{"$f":"SA!FU35-SA!FI35","v":600},{"$f":"SA!FV35-SA!FJ35","v":-500},{"$f":"SA!FW35-SA!FK35","v":700},{"$f":"SA!FX35-SA!FL35","v":1000},{"$f":"SA!FY35-SA!FM35","v":8000},{"$f":"SA!FZ35-SA!FN35","v":0},{"$f":"SA!GA35-SA!FO35","v":800},{"$f":"SA!GB35-SA!FP35","v":5900},{"$f":"SA!GC35-SA!FQ35","v":-700},{"$f":"SA!GD35-SA!FR35","v":-1200},{"$f":"SA!GE35-SA!FS35","v":1500},{"$f":"SA!GF35-SA!FT35","v":-700},{"$f":"SA!GG35-SA!FU35","v":1500},{"$f":"SA!GH35-SA!FV35","v":0},{"$f":"SA!GI35-SA!FW35","v":-600},{"$f":"SA!GJ35-SA!FX35","v":-1300},{"$f":"SA!GK35-SA!FY35","v":-6800},{"$f":"SA!GL35-SA!FZ35","v":-1800},{"$f":"SA!GM35-SA!GA35","v":-1200},{"$f":"SA!GN35-SA!GB35","v":-8900},{"$f":"SA!GO35-SA!GC35","v":300},{"$f":"SA!GP35-SA!GD35","v":2900},{"$f":"SA!GQ35-SA!GE35","v":1700},{"$f":"SA!GR35-SA!GF35","v":1800},{"$f":"SA!GS35-SA!GG35","v":2600},{"$f":"SA!GT35-SA!GH35","v":-200},{"$f":"SA!GU35-SA!GI35","v":1000},{"$f":"SA!GV35-SA!GJ35","v":3700},{"$f":"SA!GW35-SA!GK35","v":10200},{"$f":"SA!GX35-SA!GL35","v":3400},{"$f":"SA!GY35-SA!GM35","v":1200},{"$f":"SA!GZ35-SA!GN35","v":12000},{"$f":"SA!HA35-SA!GO35","v":2800},{"$f":"SA!HB35-SA!GP35","v":-1600},{"$f":"SA!HC35-SA!GQ35","v":-2100},{"$f":"SA!HD35-SA!GR35","v":600},{"$f":"SA!HE35-SA!GS35","v":-4300},{"$f":"SA!HF35-SA!GT35","v":100},{"$f":"SA!HG35-SA!GU35","v":-4900},{"$f":"SA!HH35-SA!GV35","v":-3500},{"$f":"SA!HI35-SA!GW35","v":-12800},{"$f":"SA!HJ35-SA!GX35","v":-3000},{"$f":"SA!HK35-SA!GY35","v":-600},{"$f":"SA!HL35-SA!GZ35","v":-9900},{"$f":"SA!HM35-SA!HA35","v":-1400},{"$f":"SA!HN35-SA!HB35","v":1800},{"$f":"SA!HO35-SA!HC35","v":2700},{"$f":"SA!HP35-SA!HD35","v":0},{"$f":"SA!HQ35-SA!HE35","v":2400},{"$f":"SA!HR35-SA!HF35","v":1400},{"$f":"SA!HS35-SA!HG35","v":5400},{"$f":"SA!HT35-SA!HH35","v":4100},{"$f":"SA!HU35-SA!HI35","v":10600},{"$f":"SA!HV35-SA!HJ35","v":2500},{"$f":"SA!HW35-SA!HK35","v":-400},{"$f":"SA!HX35-SA!HL35","v":5400},{"$f":"SA!HY35-SA!HM35","v":400},{"$f":"SA!HZ35-SA!HN35","v":-2900},{"$f":"SA!IA35-SA!HO35","v":-6400},{"$f":"SA!IB35-SA!HP35","v":-2800},{"$f":"SA!IC35-SA!HQ35","v":-2000},{"$f":"SA!ID35-SA!HR35","v":-2100},{"$f":"SA!IE35-SA!HS35","v":0},{"$f":"SA!IF35-SA!HT35","v":-3600},{"$f":"SA!IG35-SA!HU35","v":-8900},{"$f":"SA!IH35-SA!HV35","v":-2300},{"$f":"SA!II35-SA!HW35","v":-700},{"$f":"SA!IJ35-SA!HX35","v":-4100},{"$f":"SA!IK35-SA!HY35","v":-2700},{"$f":"SA!IL35-SA!HZ35","v":-283200}," n/a ",{"$f":"COUNTIF(EY38:FY38, \">\" &GA38)","v":0},null,"Local Government",-12800,-3450,-1200,0,750.00000000000136,2299.9999999999986,4350,12200,4125.4300379650513]
[]
[null,null,null,null,null,null,null,null,null,null,null,null,null,"Housing Market Prices Peaks",null,null,null,null,null,null,null,null,null,null,null,"Housing Market Price Declines Begin",null,null,null,null,"Peak","Decline begins",null,"Floods",null,null,null,null,null,null,null,null,null,null,null,null,null,null,"GM Closes",null,null,null,null,null,null,null,null,null,null,null,null,null,null,null,null,null,null,null,null,null,null,null,null,"Act 10 Protests",null,null,null,null,"Act 10 Passes",null,null,"Education Cuts begin",null,null,null,null,null,null,null,null,"Severe Drought",null,null,null,null,null,null,null,null,null,null,null,null,null,null,null,null,null,"Severe Winter Weather/Late Spring"]
[null,null,null,null,null,null,null,null,null,null,null,null,null,null,null,null,null,null,null,null,null,null,null,null,null,null,null,null,null,null,null,null,null,null,null,null,null,null,null,null,null,null,null,null,null,null,"Great Recession",null,null,null,null,null,null,null,null,null,null,null,null,null,null,null,null,null,null,null,null,null,null,null,null,null,null,null,null,null,null,null,null,null,null,null,null,null,null,null,null,null,null,null,null,null,null,null,null,null,null,null,null,null,null,null,null,null,null,null,null,null,null,"Dodd Frank",null,null,null,null,null,null,null,null,null,null,null,null,"Cold winter/summer",null,null,null,null,null,null,null,null,null,null,null,null,null,null,null,null,null,null,null,null,null,null,null,null,null,null,null,null,null,null,null,null,null,null,null,null,null,"Long Winter!"]
["Month over Month Change","2005-01-01","2005-02-01","2005-03-01","2005-04-01","2005-05-01","2005-06-01","2005-07-01","2005-08-01","2005-09-01","2005-10-01","2005-11-01","2005-12-01","2006-01-01","2006-02-01","2006-03-01","2006-04-01","2006-05-01","2006-06-01","2006-07-01","2006-08-01","2006-09-01","2006-10-01","2006-11-01","2006-12-01","2007-01-01","2007-02-01","2007-03-01","2007-04-01","2007-05-01","2007-06-01","2007-07-01","2007-08-01","2007-09-01","2007-10-01","2007-11-01","2007-12-01","2008-01-01","2008-02-01","2008-03-01","2008-04-01","2008-05-01","2008-06-01","2008-07-01","2008-08-01","2008-09-01","2008-10-01","2008-11-01","2008-12-01","2009-01-01","2009-02-01","2009-03-01","2009-04-01","2009-05-01","2009-06-01","2009-07-01","2009-08-01","2009-09-01","2009-10-01","2009-11-01","2009-12-01","2010-01-01","2010-02-01","2010-03-01","2010-04-01","2010-05-01","2010-06-01","2010-07-01","2010-08-01","2010-09-01","2010-10-01","2010-11-01","2010-12-01","2011-01-01","2011-02-01","2011-03-01","2011-04-01","2011-05-01","2011-06-01","2011-07-01","2011-08-01","2011-09-01","2011-10-01","2011-11-01","2011-12-01","2012-01-01","2012-02-01","2012-03-01","2012-04-01","2012-05-01","2012-06-01","2012-07-01","2012-08-01","2012-09-01","2012-10-01","2012-11-01","2012-12-01","2013-01-01","2013-02-01","2013-03-01","2013-04-01","2013-05-01","2013-06-01","2013-07-01","2013-08-01","2013-09-01","2013-10-01","2013-11-01","2013-12-01","2014-01-01","2014-02-01","2014-03-01","2014-04-01","2014-05-01","2014-06-01",{"$f":"EDATE(DK42, 1)","v":"2014-07-01"},{"$f":"EDATE(DL42, 1)","v":"2014-08-01"},"2014-09-01","2014-10-01","2014-11-01","2014-12-01","2015-01-01",{"$f":"EDATE(DR42, 1)","v":"2015-02-01"},{"$f":"EDATE(DS42, 1)","v":"2015-03-01"},{"$f":"EDATE(DT42, 1)","v":"2015-04-01"},{"$f":"EDATE(DU42, 1)","v":"2015-05-01"},{"$f":"EDATE(DV42, 1)","v":"2015-06-01"},{"$f":"EDATE(DW42, 1)","v":"2015-07-01"},"2015-08-01","2015-09-01","2015-10-01","2015-11-01","2015-12-01","2016-01-01",{"$f":"EDATE(ED42, 1)","v":"2016-02-01"},{"$f":"EDATE(EE42, 1)","v":"2016-03-01"},{"$f":"EDATE(EF42, 1)","v":"2016-04-01"},{"$f":"EDATE(EG42, 1)","v":"2016-05-01"},{"$f":"EDATE(EH42, 1)","v":"2016-06-01"},{"$f":"EDATE(EI42, 1)","v":"2016-07-01"},{"$f":"EDATE(EJ42, 1)","v":"2016-08-01"},{"$f":"EDATE(EK42, 1)","v":"2016-09-01"},"2016-10-01","2016-11-01",{"$f":"EDATE(EN42, 1)","v":"2016-12-01"},{"$f":"EDATE(EO42, 1)","v":"2017-01-01"},{"$f":"EDATE(EP42, 1)","v":"2017-02-01"},{"$f":"EDATE(EQ42, 1)","v":"2017-03-01"},"2017-04-01","2017-05-01","2017-06-01","2017-07-01","2017-08-01","2017-09-01","2017-10-01","2017-11-01",{"$f":"EDATE(EZ42, 1)","v":"2017-12-01"},{"$f":"EDATE(FA42, 1)","v":"2018-01-01"},"2018-02-01","2018-03-01","2018-04-01","2018-05-01","2018-06-01","2018-07-01","2018-08-01","2018-09-01","2018-10-01","2018-11-01","2018-12-01",{"$f":"EDATE(FM42, 1)","v":"2019-01-01"},{"$f":"EDATE(FN42, 1)","v":"2019-02-01"},{"$f":"EDATE(FO42, 1)","v":"2019-03-01"},{"$f":"EDATE(FP42, 1)","v":"2019-04-01"},{"$f":"EDATE(FQ42, 1)","v":"2019-05-01"},{"$f":"EDATE(FR42, 1)","v":"2019-06-01"},{"$f":"EDATE(FS42, 1)","v":"2019-07-01"},{"$f":"EDATE(FT42, 1)","v":"2019-08-01"},{"$f":"EDATE(FU42, 1)","v":"2019-09-01"},{"$f":"EDATE(FV42, 1)","v":"2019-10-01"},{"$f":"EDATE(FW42, 1)","v":"2019-11-01"},{"$f":"EDATE(FX42, 1)","v":"2019-12-01"},{"$f":"EDATE(FY42, 1)","v":"2020-01-01"},"M/M Sig","# Positive Sig Changes since October 2017","12 mo Trend","Month over Month Change","Min",0.15,0.3,0.45,0.55000000000000004,0.7,0.85,"Max","Std Deviation"]
["Total Non Farm",{"$f":"SA!BN2-SA!BM2","v":900},{"$f":"SA!BO2-SA!BN2","v":6700},{"$f":"SA!BP2-SA!BO2","v":2300},{"$f":"SA!BQ2-SA!BP2","v":8800},{"$f":"SA!BR2-SA!BQ2","v":-4700},{"$f":"SA!BS2-SA!BR2","v":-3200},{"$f":"SA!BT2-SA!BS2","v":9400},{"$f":"SA!BU2-SA!BT2","v":2600},{"$f":"SA!BV2-SA!BU2","v":6200},{"$f":"SA!BW2-SA!BV2","v":-3500},{"$f":"SA!BX2-SA!BW2","v":2800},{"$f":"SA!BY2-SA!BX2","v":4400},{"$f":"SA!BZ2-SA!BY2","v":-900},{"$f":"SA!CA2-SA!BZ2","v":3600},{"$f":"SA!CB2-SA!CA2","v":2400},{"$f":"SA!CC2-SA!CB2","v":7000},{"$f":"SA!CD2-SA!CC2","v":-7000},{"$f":"SA!CE2-SA!CD2","v":7600},{"$f":"SA!CF2-SA!CE2","v":-1700},{"$f":"SA!CG2-SA!CF2","v":400},{"$f":"SA!CH2-SA!CG2","v":3100},{"$f":"SA!CI2-SA!CH2","v":-2100},{"$f":"SA!CJ2-SA!CI2","v":300},{"$f":"SA!CK2-SA!CJ2","v":2800},{"$f":"SA!CL2-SA!CK2","v":4800},{"$f":"SA!CM2-SA!CL2","v":-1900},{"$f":"SA!CN2-SA!CM2","v":4800},{"$f":"SA!CO2-SA!CN2","v":200},{"$f":"SA!CP2-SA!CO2","v":5300},{"$f":"SA!CQ2-SA!CP2","v":8600},{"$f":"SA!CR2-SA!CQ2","v":-6100},{"$f":"SA!CS2-SA!CR2","v":-1400},{"$f":"SA!CT2-SA!CS2","v":-500},{"$f":"SA!CU2-SA!CT2","v":-6200},{"$f":"SA!CV2-SA!CU2","v":-200},{"$f":"SA!CW2-SA!CV2","v":4800},{"$f":"SA!CX2-SA!CW2","v":4600},{"$f":"SA!CY2-SA!CX2","v":-500},{"$f":"SA!CZ2-SA!CY2","v":-3000},{"$f":"SA!DA2-SA!CZ2","v":-4300},{"$f":"SA!DB2-SA!DA2","v":2500},{"$f":"SA!DC2-SA!DB2","v":-2300},{"$f":"SA!DD2-SA!DC2","v":-2600},{"$f":"SA!DE2-SA!DD2","v":-4900},{"$f":"SA!DF2-SA!DE2","v":2900},{"$f":"SA!DG2-SA!DF2","v":-11800},{"$f":"SA!DH2-SA!DG2","v":-9100},{"$f":"SA!DI2-SA!DH2","v":-14300},{"$f":"SA!DJ2-SA!DI2","v":-26000},{"$f":"SA!DK2-SA!DJ2","v":-16700},{"$f":"SA!DL2-SA!DK2","v":-21300},{"$f":"SA!DM2-SA!DL2","v":-22000},{"$f":"SA!DN2-SA!DM2","v":-700},{"$f":"SA!DO2-SA!DN2","v":-13000},{"$f":"SA!DP2-SA!DO2","v":-11600},{"$f":"SA!DQ2-SA!DP2","v":-7200},{"$f":"SA!DR2-SA!DQ2","v":-1600},{"$f":"SA!DS2-SA!DR2","v":100},{"$f":"SA!DT2-SA!DS2","v":-3300},{"$f":"SA!DU2-SA!DT2","v":-1100},{"$f":"SA!DV2-SA!DU2","v":-600},{"$f":"SA!DW2-SA!DV2","v":100},{"$f":"SA!DX2-SA!DW2","v":1900},{"$f":"SA!DY2-SA!DX2","v":11100},{"$f":"SA!DZ2-SA!DY2","v":2600},{"$f":"SA!EA2-SA!DZ2","v":-1900},{"$f":"SA!EB2-SA!EA2","v":3200},{"$f":"SA!EC2-SA!EB2","v":3000},{"$f":"SA!ED2-SA!EC2","v":-1600},{"$f":"SA!EE2-SA!ED2","v":9100},{"$f":"SA!EF2-SA!EE2","v":1200},{"$f":"SA!EG2-SA!EF2","v":-2100},{"$f":"SA!EH2-SA!EG2","v":4100},{"$f":"SA!EI2-SA!EH2","v":1800},{"$f":"SA!EJ2-SA!EI2","v":2600},{"$f":"SA!EK2-SA!EJ2","v":3800},{"$f":"SA!EL2-SA!EK2","v":700},{"$f":"SA!EM2-SA!EL2","v":-2800},{"$f":"SA!EN2-SA!EM2","v":13300},{"$f":"SA!EO2-SA!EN2","v":-3300},{"$f":"SA!EP2-SA!EO2","v":3100},{"$f":"SA!EQ2-SA!EP2","v":-4700},{"$f":"SA!ER2-SA!EQ2","v":500},{"$f":"SA!ES2-SA!ER2","v":6000},{"$f":"SA!ET2-SA!ES2","v":-4600},{"$f":"SA!EU2-SA!ET2","v":6400},{"$f":"SA!EV2-SA!EU2","v":14600},{"$f":"SA!EW2-SA!EV2","v":8000},{"$f":"SA!EX2-SA!EW2","v":-1800},{"$f":"SA!EY2-SA!EX2","v":-600},{"$f":"SA!EZ2-SA!EY2","v":-9000},{"$f":"SA!FA2-SA!EZ2","v":4200},{"$f":"SA!FB2-SA!FA2","v":5600},{"$f":"SA!FC2-SA!FB2","v":4600},{"$f":"SA!FD2-SA!FC2","v":8200},{"$f":"SA!FE2-SA!FD2","v":-3400},{"$f":"SA!FF2-SA!FE2","v":-9000},{"$f":"SA!FG2-SA!FF2","v":17000},{"$f":"SA!FH2-SA!FG2","v":1500},{"$f":"SA!FI2-SA!FH2","v":-10900},{"$f":"SA!FJ2-SA!FI2","v":11100},{"$f":"SA!FK2-SA!FJ2","v":4400},{"$f":"SA!FL2-SA!FK2","v":900},{"$f":"SA!FM2-SA!FL2","v":5800},{"$f":"SA!FN2-SA!FM2","v":6700},{"$f":"SA!FO2-SA!FN2","v":500},{"$f":"SA!FP2-SA!FO2","v":500},{"$f":"SA!FQ2-SA!FP2","v":4600},{"$f":"SA!FR2-SA!FQ2","v":3900},{"$f":"SA!FS2-SA!FR2","v":1300},{"$f":"SA!FT2-SA!FS2","v":2800},{"$f":"SA!FU2-SA!FT2","v":5200},{"$f":"SA!FV2-SA!FU2","v":4700},{"$f":"SA!FW2-SA!FV2","v":6700},{"$f":"SA!FX2-SA!FW2","v":1300},{"$f":"SA!FY2-SA!FX2","v":11800},{"$f":"SA!FZ2-SA!FY2","v":-1300},{"$f":"SA!GA2-SA!FZ2","v":1700},{"$f":"SA!GB2-SA!GA2","v":10800},{"$f":"SA!GC2-SA!GB2","v":-4600},{"$f":"SA!GD2-SA!GC2","v":3200},{"$f":"SA!GE2-SA!GD2","v":2600},{"$f":"SA!GF2-SA!GE2","v":3600},{"$f":"SA!GG2-SA!GF2","v":2500},{"$f":"SA!GH2-SA!GG2","v":6000},{"$f":"SA!GI2-SA!GH2","v":1400},{"$f":"SA!GJ2-SA!GI2","v":5100},{"$f":"SA!GK2-SA!GJ2","v":1600},{"$f":"SA!GL2-SA!GK2","v":1600},{"$f":"SA!GM2-SA!GL2","v":4800},{"$f":"SA!GN2-SA!GM2","v":-1700},{"$f":"SA!GO2-SA!GN2","v":8100},{"$f":"SA!GP2-SA!GO2","v":8000},{"$f":"SA!GQ2-SA!GP2","v":3200},{"$f":"SA!GR2-SA!GQ2","v":-900},{"$f":"SA!GS2-SA!GR2","v":6400},{"$f":"SA!GT2-SA!GS2","v":-5700},{"$f":"SA!GU2-SA!GT2","v":-1600},{"$f":"SA!GV2-SA!GU2","v":9200},{"$f":"SA!GW2-SA!GV2","v":7700},{"$f":"SA!GX2-SA!GW2","v":-5200},{"$f":"SA!GY2-SA!GX2","v":-200},{"$f":"SA!GZ2-SA!GY2","v":6700},{"$f":"SA!HA2-SA!GZ2","v":-4200},{"$f":"SA!HB2-SA!HA2","v":7200},{"$f":"SA!HC2-SA!HB2","v":3200},{"$f":"SA!HD2-SA!HC2","v":400},{"$f":"SA!HE2-SA!HD2","v":400},{"$f":"SA!HF2-SA!HE2","v":-900},{"$f":"SA!HG2-SA!HF2","v":2400},{"$f":"SA!HH2-SA!HG2","v":100},{"$f":"SA!HI2-SA!HH2","v":-2700},{"$f":"SA!HJ2-SA!HI2","v":0},{"$f":"SA!HK2-SA!HJ2","v":3700},{"$f":"SA!HL2-SA!HK2","v":-1000},{"$f":"SA!HM2-SA!HL2","v":7100},{"$f":"SA!HN2-SA!HM2","v":8200},{"$f":"SA!HO2-SA!HN2","v":5600},{"$f":"SA!HP2-SA!HO2","v":6400},{"$f":"SA!HQ2-SA!HP2","v":-4900},{"$f":"SA!HR2-SA!HQ2","v":100},{"$f":"SA!HS2-SA!HR2","v":7600},{"$f":"SA!HT2-SA!HS2","v":8400},{"$f":"SA!HU2-SA!HT2","v":1600},{"$f":"SA!HV2-SA!HU2","v":-4100},{"$f":"SA!HW2-SA!HV2","v":-2800},{"$f":"SA!HX2-SA!HW2","v":13100},{"$f":"SA!HY2-SA!HX2","v":9100},{"$f":"SA!HZ2-SA!HY2","v":-13000},{"$f":"SA!IA2-SA!HZ2","v":-3700},{"$f":"SA!IB2-SA!IA2","v":-4100},{"$f":"SA!IC2-SA!IB2","v":-500},{"$f":"SA!ID2-SA!IC2","v":2700},{"$f":"SA!IE2-SA!ID2","v":3300},{"$f":"SA!IF2-SA!IE2","v":-4700},{"$f":"SA!IG2-SA!IF2","v":-2900},{"$f":"SA!IH2-SA!IG2","v":1800},{"$f":"SA!II2-SA!IH2","v":1900},{"$f":"SA!IJ2-SA!II2","v":-700},{"$f":"SA!IK2-SA!IJ2","v":9800},{"$f":"SA!IL2-SA!IK2","v":-2991500},9894.6749999999993,{"$f":"COUNTIF(EY43:FY43, \">\" &GA43)","v":1},null,"Total Non Farm",{"$f":"MIN(B43:FN43)","v":-26000},{"$f":"_xlfn.PERCENTILE.EXC($B43:$FN43,0.15)","v":-4450},{"$f":"_xlfn.PERCENTILE.EXC($B43:$FN43,0.3)","v":-1300},{"$f":"_xlfn.PERCENTILE.EXC($B43:$FN43,0.45)","v":600},{"$f":"_xlfn.PERCENTILE.EXC($B43:$FN43,0.55)","v":2450.0000000000014},{"$f":"_xlfn.PERCENTILE.EXC($B43:$FN43,0.7)","v":4400},{"$f":"_xlfn.PERCENTILE.EXC($B43:$FN43,0.85)","v":7050},{"$f":"MAX(B43:FN43)","v":17000},{"$f":"STDEVP(B43:FN43)","v":6495.632897190103}]
["Total Private",{"$f":"SA!BN3-SA!BM3","v":-3900},{"$f":"SA!BO3-SA!BN3","v":7200},{"$f":"SA!BP3-SA!BO3","v":4300},{"$f":"SA!BQ3-SA!BP3","v":8400},{"$f":"SA!BR3-SA!BQ3","v":-4300},{"$f":"SA!BS3-SA!BR3","v":-1800},{"$f":"SA!BT3-SA!BS3","v":8000},{"$f":"SA!BU3-SA!BT3","v":2900},{"$f":"SA!BV3-SA!BU3","v":1700},{"$f":"SA!BW3-SA!BV3","v":-1200},{"$f":"SA!BX3-SA!BW3","v":4800},{"$f":"SA!BY3-SA!BX3","v":1700},{"$f":"SA!BZ3-SA!BY3","v":200},{"$f":"SA!CA3-SA!BZ3","v":4700},{"$f":"SA!CB3-SA!CA3","v":1500},{"$f":"SA!CC3-SA!CB3","v":7100},{"$f":"SA!CD3-SA!CC3","v":-5400},{"$f":"SA!CE3-SA!CD3","v":4500},{"$f":"SA!CF3-SA!CE3","v":-600},{"$f":"SA!CG3-SA!CF3","v":300},{"$f":"SA!CH3-SA!CG3","v":900},{"$f":"SA!CI3-SA!CH3","v":1600},{"$f":"SA!CJ3-SA!CI3","v":-300},{"$f":"SA!CK3-SA!CJ3","v":3300},{"$f":"SA!CL3-SA!CK3","v":5100},{"$f":"SA!CM3-SA!CL3","v":-700},{"$f":"SA!CN3-SA!CM3","v":4000},{"$f":"SA!CO3-SA!CN3","v":-1000},{"$f":"SA!CP3-SA!CO3","v":4400},{"$f":"SA!CQ3-SA!CP3","v":4000},{"$f":"SA!CR3-SA!CQ3","v":-2700},{"$f":"SA!CS3-SA!CR3","v":-2700},{"$f":"SA!CT3-SA!CS3","v":-3300},{"$f":"SA!CU3-SA!CT3","v":-800},{"$f":"SA!CV3-SA!CU3","v":1600},{"$f":"SA!CW3-SA!CV3","v":1200},{"$f":"SA!CX3-SA!CW3","v":1500},{"$f":"SA!CY3-SA!CX3","v":700},{"$f":"SA!CZ3-SA!CY3","v":-1900},{"$f":"SA!DA3-SA!CZ3","v":-3000},{"$f":"SA!DB3-SA!DA3","v":-400},{"$f":"SA!DC3-SA!DB3","v":-1800},{"$f":"SA!DD3-SA!DC3","v":-5100},{"$f":"SA!DE3-SA!DD3","v":-3600},{"$f":"SA!DF3-SA!DE3","v":-8100},{"$f":"SA!DG3-SA!DF3","v":-5100},{"$f":"SA!DH3-SA!DG3","v":-12600},{"$f":"SA!DI3-SA!DH3","v":-10700},{"$f":"SA!DJ3-SA!DI3","v":-23900},{"$f":"SA!DK3-SA!DJ3","v":-17300},{"$f":"SA!DL3-SA!DK3","v":-20900},{"$f":"SA!DM3-SA!DL3","v":-21300},{"$f":"SA!DN3-SA!DM3","v":-2200},{"$f":"SA!DO3-SA!DN3","v":-9900},{"$f":"SA!DP3-SA!DO3","v":-12200},{"$f":"SA!DQ3-SA!DP3","v":-4600},{"$f":"SA!DR3-SA!DQ3","v":0},{"$f":"SA!DS3-SA!DR3","v":-2800},{"$f":"SA!DT3-SA!DS3","v":-1600},{"$f":"SA!DU3-SA!DT3","v":-3100},{"$f":"SA!DV3-SA!DU3","v":400},{"$f":"SA!DW3-SA!DV3","v":2100},{"$f":"SA!DX3-SA!DW3","v":1000},{"$f":"SA!DY3-SA!DX3","v":7700},{"$f":"SA!DZ3-SA!DY3","v":-1500},{"$f":"SA!EA3-SA!DZ3","v":900},{"$f":"SA!EB3-SA!EA3","v":6900},{"$f":"SA!EC3-SA!EB3","v":4800},{"$f":"SA!ED3-SA!EC3","v":-2500},{"$f":"SA!EE3-SA!ED3","v":8600},{"$f":"SA!EF3-SA!EE3","v":200},{"$f":"SA!EG3-SA!EF3","v":2900},{"$f":"SA!EH3-SA!EG3","v":1700},{"$f":"SA!EI3-SA!EH3","v":400},{"$f":"SA!EJ3-SA!EI3","v":2500},{"$f":"SA!EK3-SA!EJ3","v":6500},{"$f":"SA!EL3-SA!EK3","v":-800},{"$f":"SA!EM3-SA!EL3","v":100},{"$f":"SA!EN3-SA!EM3","v":8800},{"$f":"SA!EO3-SA!EN3","v":1800},{"$f":"SA!EP3-SA!EO3","v":4800},{"$f":"SA!EQ3-SA!EP3","v":-1400},{"$f":"SA!ER3-SA!EQ3","v":3000},{"$f":"SA!ES3-SA!ER3","v":1500},{"$f":"SA!ET3-SA!ES3","v":5000},{"$f":"SA!EU3-SA!ET3","v":3600},{"$f":"SA!EV3-SA!EU3","v":8100},{"$f":"SA!EW3-SA!EV3","v":4500},{"$f":"SA!EX3-SA!EW3","v":-5800},{"$f":"SA!EY3-SA!EX3","v":4900},{"$f":"SA!EZ3-SA!EY3","v":-6200},{"$f":"SA!FA3-SA!EZ3","v":1300},{"$f":"SA!FB3-SA!FA3","v":7600},{"$f":"SA!FC3-SA!FB3","v":3800},{"$f":"SA!FD3-SA!FC3","v":3900},{"$f":"SA!FE3-SA!FD3","v":1200},{"$f":"SA!FF3-SA!FE3","v":1600},{"$f":"SA!FG3-SA!FF3","v":5800},{"$f":"SA!FH3-SA!FG3","v":3500},{"$f":"SA!FI3-SA!FH3","v":-8700},{"$f":"SA!FJ3-SA!FI3","v":10800},{"$f":"SA!FK3-SA!FJ3","v":2900},{"$f":"SA!FL3-SA!FK3","v":1100},{"$f":"SA!FM3-SA!FL3","v":6800},{"$f":"SA!FN3-SA!FM3","v":2700},{"$f":"SA!FO3-SA!FN3","v":1000},{"$f":"SA!FP3-SA!FO3","v":4100},{"$f":"SA!FQ3-SA!FP3","v":2100},{"$f":"SA!FR3-SA!FQ3","v":3200},{"$f":"SA!FS3-SA!FR3","v":3200},{"$f":"SA!FT3-SA!FS3","v":2500},{"$f":"SA!FU3-SA!FT3","v":5400},{"$f":"SA!FV3-SA!FU3","v":4100},{"$f":"SA!FW3-SA!FV3","v":5200},{"$f":"SA!FX3-SA!FW3","v":1800},{"$f":"SA!FY3-SA!FX3","v":5800},{"$f":"SA!FZ3-SA!FY3","v":2700},{"$f":"SA!GA3-SA!FZ3","v":2700},{"$f":"SA!GB3-SA!GA3","v":7900},{"$f":"SA!GC3-SA!GB3","v":-500},{"$f":"SA!GD3-SA!GC3","v":4300},{"$f":"SA!GE3-SA!GD3","v":1100},{"$f":"SA!GF3-SA!GE3","v":4700},{"$f":"SA!GG3-SA!GF3","v":1300},{"$f":"SA!GH3-SA!GG3","v":7000},{"$f":"SA!GI3-SA!GH3","v":1100},{"$f":"SA!GJ3-SA!GI3","v":6200},{"$f":"SA!GK3-SA!GJ3","v":2600},{"$f":"SA!GL3-SA!GK3","v":1700},{"$f":"SA!GM3-SA!GL3","v":4900},{"$f":"SA!GN3-SA!GM3","v":4100},{"$f":"SA!GO3-SA!GN3","v":2000},{"$f":"SA!GP3-SA!GO3","v":6200},{"$f":"SA!GQ3-SA!GP3","v":3200},{"$f":"SA!GR3-SA!GQ3","v":0},{"$f":"SA!GS3-SA!GR3","v":4400},{"$f":"SA!GT3-SA!GS3","v":-2700},{"$f":"SA!GU3-SA!GT3","v":-3700},{"$f":"SA!GV3-SA!GU3","v":8000},{"$f":"SA!GW3-SA!GV3","v":1100},{"$f":"SA!GX3-SA!GW3","v":2000},{"$f":"SA!GY3-SA!GX3","v":600},{"$f":"SA!GZ3-SA!GY3","v":1500},{"$f":"SA!HA3-SA!GZ3","v":100},{"$f":"SA!HB3-SA!HA3","v":9800},{"$f":"SA!HC3-SA!HB3","v":3500},{"$f":"SA!HD3-SA!HC3","v":3700},{"$f":"SA!HE3-SA!HD3","v":-2100},{"$f":"SA!HF3-SA!HE3","v":-3300},{"$f":"SA!HG3-SA!HF3","v":5700},{"$f":"SA!HH3-SA!HG3","v":-2300},{"$f":"SA!HI3-SA!HH3","v":200},{"$f":"SA!HJ3-SA!HI3","v":-2100},{"$f":"SA!HK3-SA!HJ3","v":3600},{"$f":"SA!HL3-SA!HK3","v":2800},{"$f":"SA!HM3-SA!HL3","v":5600},{"$f":"SA!HN3-SA!HM3","v":7100},{"$f":"SA!HO3-SA!HN3","v":3700},{"$f":"SA!HP3-SA!HO3","v":8200},{"$f":"SA!HQ3-SA!HP3","v":-5600},{"$f":"SA!HR3-SA!HQ3","v":-800},{"$f":"SA!HS3-SA!HR3","v":6700},{"$f":"SA!HT3-SA!HS3","v":7200},{"$f":"SA!HU3-SA!HT3","v":-1700},{"$f":"SA!HV3-SA!HU3","v":400},{"$f":"SA!HW3-SA!HV3","v":-200},{"$f":"SA!HX3-SA!HW3","v":10800},{"$f":"SA!HY3-SA!HX3","v":9100},{"$f":"SA!HZ3-SA!HY3","v":-7300},{"$f":"SA!IA3-SA!HZ3","v":-1400},{"$f":"SA!IB3-SA!IA3","v":-6400},{"$f":"SA!IC3-SA!IB3","v":-300},{"$f":"SA!ID3-SA!IC3","v":1200},{"$f":"SA!IE3-SA!ID3","v":-500},{"$f":"SA!IF3-SA!IE3","v":-3200},{"$f":"SA!IG3-SA!IF3","v":-100},{"$f":"SA!IH3-SA!IG3","v":1200},{"$f":"SA!II3-SA!IH3","v":1900},{"$f":"SA!IJ3-SA!II3","v":1100},{"$f":"SA!IK3-SA!IJ3","v":9000},{"$f":"SA!IL3-SA!IK3","v":-2587100},9557.4500000000007,{"$f":"COUNTIF(EY44:FY44, \">\" &GA44)","v":1},null,"Total Private",-23900,-3050,-400,1250,2050.0000000000014,3999.9999999999986,6000,10800,5523.8827238932918]
["Goods Producing",{"$f":"SA!BN4-SA!BM4","v":-4800},{"$f":"SA!BO4-SA!BN4","v":4700},{"$f":"SA!BP4-SA!BO4","v":-100},{"$f":"SA!BQ4-SA!BP4","v":500},{"$f":"SA!BR4-SA!BQ4","v":-800},{"$f":"SA!BS4-SA!BR4","v":-400},{"$f":"SA!BT4-SA!BS4","v":1800},{"$f":"SA!BU4-SA!BT4","v":-400},{"$f":"SA!BV4-SA!BU4","v":-900},{"$f":"SA!BW4-SA!BV4","v":-400},{"$f":"SA!BX4-SA!BW4","v":200},{"$f":"SA!BY4-SA!BX4","v":-700},{"$f":"SA!BZ4-SA!BY4","v":3000},{"$f":"SA!CA4-SA!BZ4","v":400},{"$f":"SA!CB4-SA!CA4","v":-200},{"$f":"SA!CC4-SA!CB4","v":2000},{"$f":"SA!CD4-SA!CC4","v":-2400},{"$f":"SA!CE4-SA!CD4","v":1700},{"$f":"SA!CF4-SA!CE4","v":-1600},{"$f":"SA!CG4-SA!CF4","v":-800},{"$f":"SA!CH4-SA!CG4","v":-1600},{"$f":"SA!CI4-SA!CH4","v":-1700},{"$f":"SA!CJ4-SA!CI4","v":-2400},{"$f":"SA!CK4-SA!CJ4","v":1100},{"$f":"SA!CL4-SA!CK4","v":600},{"$f":"SA!CM4-SA!CL4","v":-1800},{"$f":"SA!CN4-SA!CM4","v":1700},{"$f":"SA!CO4-SA!CN4","v":-1000},{"$f":"SA!CP4-SA!CO4","v":1200},{"$f":"SA!CQ4-SA!CP4","v":-200},{"$f":"SA!CR4-SA!CQ4","v":-1000},{"$f":"SA!CS4-SA!CR4","v":-1800},{"$f":"SA!CT4-SA!CS4","v":-2600},{"$f":"SA!CU4-SA!CT4","v":-800},{"$f":"SA!CV4-SA!CU4","v":-300},{"$f":"SA!CW4-SA!CV4","v":-1200},{"$f":"SA!CX4-SA!CW4","v":-100},{"$f":"SA!CY4-SA!CX4","v":0},{"$f":"SA!CZ4-SA!CY4","v":-1000},{"$f":"SA!DA4-SA!CZ4","v":-3100},{"$f":"SA!DB4-SA!DA4","v":-800},{"$f":"SA!DC4-SA!DB4","v":-400},{"$f":"SA!DD4-SA!DC4","v":-4800},{"$f":"SA!DE4-SA!DD4","v":-3100},{"$f":"SA!DF4-SA!DE4","v":-4100},{"$f":"SA!DG4-SA!DF4","v":-2900},{"$f":"SA!DH4-SA!DG4","v":-5600},{"$f":"SA!DI4-SA!DH4","v":-6900},{"$f":"SA!DJ4-SA!DI4","v":-11900},{"$f":"SA!DK4-SA!DJ4","v":-11000},{"$f":"SA!DL4-SA!DK4","v":-11300},{"$f":"SA!DM4-SA!DL4","v":-12500},{"$f":"SA!DN4-SA!DM4","v":-5600},{"$f":"SA!DO4-SA!DN4","v":-6800},{"$f":"SA!DP4-SA!DO4","v":-5600},{"$f":"SA!DQ4-SA!DP4","v":-2000},{"$f":"SA!DR4-SA!DQ4","v":3400},{"$f":"SA!DS4-SA!DR4","v":-2800},{"$f":"SA!DT4-SA!DS4","v":-1300},{"$f":"SA!DU4-SA!DT4","v":-1200},{"$f":"SA!DV4-SA!DU4","v":-1500},{"$f":"SA!DW4-SA!DV4","v":400},{"$f":"SA!DX4-SA!DW4","v":1300},{"$f":"SA!DY4-SA!DX4","v":2900},{"$f":"SA!DZ4-SA!DY4","v":-800},{"$f":"SA!EA4-SA!DZ4","v":700},{"$f":"SA!EB4-SA!EA4","v":1600},{"$f":"SA!EC4-SA!EB4","v":1100},{"$f":"SA!ED4-SA!EC4","v":500},{"$f":"SA!EE4-SA!ED4","v":800},{"$f":"SA!EF4-SA!EE4","v":0},{"$f":"SA!EG4-SA!EF4","v":700},{"$f":"SA!EH4-SA!EG4","v":1100},{"$f":"SA!EI4-SA!EH4","v":1700},{"$f":"SA!EJ4-SA!EI4","v":1300},{"$f":"SA!EK4-SA!EJ4","v":3000},{"$f":"SA!EL4-SA!EK4","v":1200},{"$f":"SA!EM4-SA!EL4","v":0},{"$f":"SA!EN4-SA!EM4","v":2500},{"$f":"SA!EO4-SA!EN4","v":900},{"$f":"SA!EP4-SA!EO4","v":200},{"$f":"SA!EQ4-SA!EP4","v":-800},{"$f":"SA!ER4-SA!EQ4","v":1600},{"$f":"SA!ES4-SA!ER4","v":1300},{"$f":"SA!ET4-SA!ES4","v":1500},{"$f":"SA!EU4-SA!ET4","v":1700},{"$f":"SA!EV4-SA!EU4","v":2200},{"$f":"SA!EW4-SA!EV4","v":3200},{"$f":"SA!EX4-SA!EW4","v":-3400},{"$f":"SA!EY4-SA!EX4","v":1500},{"$f":"SA!EZ4-SA!EY4","v":-200},{"$f":"SA!FA4-SA!EZ4","v":-400},{"$f":"SA!FB4-SA!FA4","v":1000},{"$f":"SA!FC4-SA!FB4","v":1600},{"$f":"SA!FD4-SA!FC4","v":-400},{"$f":"SA!FE4-SA!FD4","v":2600},{"$f":"SA!FF4-SA!FE4","v":700},{"$f":"SA!FG4-SA!FF4","v":1200},{"$f":"SA!FH4-SA!FG4","v":-100},{"$f":"SA!FI4-SA!FH4","v":-4000},{"$f":"SA!FJ4-SA!FI4","v":3300},{"$f":"SA!FK4-SA!FJ4","v":1200},{"$f":"SA!FL4-SA!FK4","v":-900},{"$f":"SA!FM4-SA!FL4","v":1900},{"$f":"SA!FN4-SA!FM4","v":800},{"$f":"SA!FO4-SA!FN4","v":1100},{"$f":"SA!FP4-SA!FO4","v":1500},{"$f":"SA!FQ4-SA!FP4","v":-1300},{"$f":"SA!FR4-SA!FQ4","v":2200},{"$f":"SA!FS4-SA!FR4","v":600},{"$f":"SA!FT4-SA!FS4","v":1500},{"$f":"SA!FU4-SA!FT4","v":1400},{"$f":"SA!FV4-SA!FU4","v":1900},{"$f":"SA!FW4-SA!FV4","v":2000},{"$f":"SA!FX4-SA!FW4","v":1900},{"$f":"SA!FY4-SA!FX4","v":1500},{"$f":"SA!FZ4-SA!FY4","v":1000},{"$f":"SA!GA4-SA!FZ4","v":1000},{"$f":"SA!GB4-SA!GA4","v":700},{"$f":"SA!GC4-SA!GB4","v":700},{"$f":"SA!GD4-SA!GC4","v":1200},{"$f":"SA!GE4-SA!GD4","v":700},{"$f":"SA!GF4-SA!GE4","v":-400},{"$f":"SA!GG4-SA!GF4","v":500},{"$f":"SA!GH4-SA!GG4","v":700},{"$f":"SA!GI4-SA!GH4","v":-300},{"$f":"SA!GJ4-SA!GI4","v":200},{"$f":"SA!GK4-SA!GJ4","v":-1200},{"$f":"SA!GL4-SA!GK4","v":300},{"$f":"SA!GM4-SA!GL4","v":100},{"$f":"SA!GN4-SA!GM4","v":300},{"$f":"SA!GO4-SA!GN4","v":900},{"$f":"SA!GP4-SA!GO4","v":0},{"$f":"SA!GQ4-SA!GP4","v":-100},{"$f":"SA!GR4-SA!GQ4","v":400},{"$f":"SA!GS4-SA!GR4","v":-400},{"$f":"SA!GT4-SA!GS4","v":-1000},{"$f":"SA!GU4-SA!GT4","v":-1100},{"$f":"SA!GV4-SA!GU4","v":-400},{"$f":"SA!GW4-SA!GV4","v":600},{"$f":"SA!GX4-SA!GW4","v":0},{"$f":"SA!GY4-SA!GX4","v":1100},{"$f":"SA!GZ4-SA!GY4","v":1100},{"$f":"SA!HA4-SA!GZ4","v":1100},{"$f":"SA!HB4-SA!HA4","v":1300},{"$f":"SA!HC4-SA!HB4","v":1800},{"$f":"SA!HD4-SA!HC4","v":1000},{"$f":"SA!HE4-SA!HD4","v":600},{"$f":"SA!HF4-SA!HE4","v":0},{"$f":"SA!HG4-SA!HF4","v":700},{"$f":"SA!HH4-SA!HG4","v":100},{"$f":"SA!HI4-SA!HH4","v":400},{"$f":"SA!HJ4-SA!HI4","v":0},{"$f":"SA!HK4-SA!HJ4","v":1600},{"$f":"SA!HL4-SA!HK4","v":2000},{"$f":"SA!HM4-SA!HL4","v":1700},{"$f":"SA!HN4-SA!HM4","v":3600},{"$f":"SA!HO4-SA!HN4","v":4400},{"$f":"SA!HP4-SA!HO4","v":3700},{"$f":"SA!HQ4-SA!HP4","v":-700},{"$f":"SA!HR4-SA!HQ4","v":2800},{"$f":"SA!HS4-SA!HR4","v":5200},{"$f":"SA!HT4-SA!HS4","v":2300},{"$f":"SA!HU4-SA!HT4","v":2100},{"$f":"SA!HV4-SA!HU4","v":1600},{"$f":"SA!HW4-SA!HV4","v":600},{"$f":"SA!HX4-SA!HW4","v":200},{"$f":"SA!HY4-SA!HX4","v":600},{"$f":"SA!HZ4-SA!HY4","v":-12700},{"$f":"SA!IA4-SA!HZ4","v":-1300},{"$f":"SA!IB4-SA!IA4","v":-1400},{"$f":"SA!IC4-SA!IB4","v":-2700},{"$f":"SA!ID4-SA!IC4","v":2300},{"$f":"SA!IE4-SA!ID4","v":700},{"$f":"SA!IF4-SA!IE4","v":-3100},{"$f":"SA!IG4-SA!IF4","v":1000},{"$f":"SA!IH4-SA!IG4","v":-1300},{"$f":"SA!II4-SA!IH4","v":-500},{"$f":"SA!IJ4-SA!II4","v":1300},{"$f":"SA!IK4-SA!IJ4","v":2900},{"$f":"SA!IL4-SA!IK4","v":-606000},4418.47,{"$f":"COUNTIF(EY45:FY45, \">\" &GA45)","v":1},null,"Goods Producing",-12700,-1750,-400,150,600,1199.9999999999986,1800,5200,2855.83806807055]
["Service-Providing",{"$f":"SA!BN5-SA!BM5","v":5700},{"$f":"SA!BO5-SA!BN5","v":2000},{"$f":"SA!BP5-SA!BO5","v":2400},{"$f":"SA!BQ5-SA!BP5","v":8300},{"$f":"SA!BR5-SA!BQ5","v":-3900},{"$f":"SA!BS5-SA!BR5","v":-2800},{"$f":"SA!BT5-SA!BS5","v":7600},{"$f":"SA!BU5-SA!BT5","v":3000},{"$f":"SA!BV5-SA!BU5","v":7100},{"$f":"SA!BW5-SA!BV5","v":-3100},{"$f":"SA!BX5-SA!BW5","v":2600},{"$f":"SA!BY5-SA!BX5","v":5100},{"$f":"SA!BZ5-SA!BY5","v":-3900},{"$f":"SA!CA5-SA!BZ5","v":3200},{"$f":"SA!CB5-SA!CA5","v":2600},{"$f":"SA!CC5-SA!CB5","v":5000},{"$f":"SA!CD5-SA!CC5","v":-4600},{"$f":"SA!CE5-SA!CD5","v":5900},{"$f":"SA!CF5-SA!CE5","v":-100},{"$f":"SA!CG5-SA!CF5","v":1200},{"$f":"SA!CH5-SA!CG5","v":4700},{"$f":"SA!CI5-SA!CH5","v":-400},{"$f":"SA!CJ5-SA!CI5","v":2700},{"$f":"SA!CK5-SA!CJ5","v":1700},{"$f":"SA!CL5-SA!CK5","v":4200},{"$f":"SA!CM5-SA!CL5","v":-100},{"$f":"SA!CN5-SA!CM5","v":3100},{"$f":"SA!CO5-SA!CN5","v":1200},{"$f":"SA!CP5-SA!CO5","v":4100},{"$f":"SA!CQ5-SA!CP5","v":8800},{"$f":"SA!CR5-SA!CQ5","v":-5100},{"$f":"SA!CS5-SA!CR5","v":400},{"$f":"SA!CT5-SA!CS5","v":2100},{"$f":"SA!CU5-SA!CT5","v":-5400},{"$f":"SA!CV5-SA!CU5","v":100},{"$f":"SA!CW5-SA!CV5","v":6000},{"$f":"SA!CX5-SA!CW5","v":4700},{"$f":"SA!CY5-SA!CX5","v":-500},{"$f":"SA!CZ5-SA!CY5","v":-2000},{"$f":"SA!DA5-SA!CZ5","v":-1200},{"$f":"SA!DB5-SA!DA5","v":3300},{"$f":"SA!DC5-SA!DB5","v":-1900},{"$f":"SA!DD5-SA!DC5","v":2200},{"$f":"SA!DE5-SA!DD5","v":-1800},{"$f":"SA!DF5-SA!DE5","v":7000},{"$f":"SA!DG5-SA!DF5","v":-8900},{"$f":"SA!DH5-SA!DG5","v":-3500},{"$f":"SA!DI5-SA!DH5","v":-7400},{"$f":"SA!DJ5-SA!DI5","v":-14100},{"$f":"SA!DK5-SA!DJ5","v":-5700},{"$f":"SA!DL5-SA!DK5","v":-10000},{"$f":"SA!DM5-SA!DL5","v":-9500},{"$f":"SA!DN5-SA!DM5","v":4900},{"$f":"SA!DO5-SA!DN5","v":-6200},{"$f":"SA!DP5-SA!DO5","v":-6000},{"$f":"SA!DQ5-SA!DP5","v":-5200},{"$f":"SA!DR5-SA!DQ5","v":-5000},{"$f":"SA!DS5-SA!DR5","v":2900},{"$f":"SA!DT5-SA!DS5","v":-2000},{"$f":"SA!DU5-SA!DT5","v":100},{"$f":"SA!DV5-SA!DU5","v":900},{"$f":"SA!DW5-SA!DV5","v":-300},{"$f":"SA!DX5-SA!DW5","v":600},{"$f":"SA!DY5-SA!DX5","v":8200},{"$f":"SA!DZ5-SA!DY5","v":3400},{"$f":"SA!EA5-SA!DZ5","v":-2600},{"$f":"SA!EB5-SA!EA5","v":1600},{"$f":"SA!EC5-SA!EB5","v":1900},{"$f":"SA!ED5-SA!EC5","v":-2100},{"$f":"SA!EE5-SA!ED5","v":8300},{"$f":"SA!EF5-SA!EE5","v":1200},{"$f":"SA!EG5-SA!EF5","v":-2800},{"$f":"SA!EH5-SA!EG5","v":3000},{"$f":"SA!EI5-SA!EH5","v":100},{"$f":"SA!EJ5-SA!EI5","v":1300},{"$f":"SA!EK5-SA!EJ5","v":800},{"$f":"SA!EL5-SA!EK5","v":-500},{"$f":"SA!EM5-SA!EL5","v":-2800},{"$f":"SA!EN5-SA!EM5","v":10800},{"$f":"SA!EO5-SA!EN5","v":-4200},{"$f":"SA!EP5-SA!EO5","v":2900},{"$f":"SA!EQ5-SA!EP5","v":-3900},{"$f":"SA!ER5-SA!EQ5","v":-1100},{"$f":"SA!ES5-SA!ER5","v":4700},{"$f":"SA!ET5-SA!ES5","v":-6100},{"$f":"SA!EU5-SA!ET5","v":4700},{"$f":"SA!EV5-SA!EU5","v":12400},{"$f":"SA!EW5-SA!EV5","v":4800},{"$f":"SA!EX5-SA!EW5","v":1600},{"$f":"SA!EY5-SA!EX5","v":-2100},{"$f":"SA!EZ5-SA!EY5","v":-8800},{"$f":"SA!FA5-SA!EZ5","v":4600},{"$f":"SA!FB5-SA!FA5","v":4600},{"$f":"SA!FC5-SA!FB5","v":3000},{"$f":"SA!FD5-SA!FC5","v":8600},{"$f":"SA!FE5-SA!FD5","v":-6000},{"$f":"SA!FF5-SA!FE5","v":-9700},{"$f":"SA!FG5-SA!FF5","v":15800},{"$f":"SA!FH5-SA!FG5","v":1600},{"$f":"SA!FI5-SA!FH5","v":-6900},{"$f":"SA!FJ5-SA!FI5","v":7800},{"$f":"SA!FK5-SA!FJ5","v":3200},{"$f":"SA!FL5-SA!FK5","v":1800},{"$f":"SA!FM5-SA!FL5","v":3900},{"$f":"SA!FN5-SA!FM5","v":5900},{"$f":"SA!FO5-SA!FN5","v":-600},{"$f":"SA!FP5-SA!FO5","v":-1000},{"$f":"SA!FQ5-SA!FP5","v":5900},{"$f":"SA!FR5-SA!FQ5","v":1700},{"$f":"SA!FS5-SA!FR5","v":700},{"$f":"SA!FT5-SA!FS5","v":1300},{"$f":"SA!FU5-SA!FT5","v":3800},{"$f":"SA!FV5-SA!FU5","v":2800},{"$f":"SA!FW5-SA!FV5","v":4700},{"$f":"SA!FX5-SA!FW5","v":-600},{"$f":"SA!FY5-SA!FX5","v":10300},{"$f":"SA!FZ5-SA!FY5","v":-2300},{"$f":"SA!GA5-SA!FZ5","v":700},{"$f":"SA!GB5-SA!GA5","v":10100},{"$f":"SA!GC5-SA!GB5","v":-5300},{"$f":"SA!GD5-SA!GC5","v":2000},{"$f":"SA!GE5-SA!GD5","v":1900},{"$f":"SA!GF5-SA!GE5","v":4000},{"$f":"SA!GG5-SA!GF5","v":2000},{"$f":"SA!GH5-SA!GG5","v":5300},{"$f":"SA!GI5-SA!GH5","v":1700},{"$f":"SA!GJ5-SA!GI5","v":4900},{"$f":"SA!GK5-SA!GJ5","v":2800},{"$f":"SA!GL5-SA!GK5","v":1300},{"$f":"SA!GM5-SA!GL5","v":4700},{"$f":"SA!GN5-SA!GM5","v":-2000},{"$f":"SA!GO5-SA!GN5","v":7200},{"$f":"SA!GP5-SA!GO5","v":8000},{"$f":"SA!GQ5-SA!GP5","v":3300},{"$f":"SA!GR5-SA!GQ5","v":-1300},{"$f":"SA!GS5-SA!GR5","v":6800},{"$f":"SA!GT5-SA!GS5","v":-4700},{"$f":"SA!GU5-SA!GT5","v":-500},{"$f":"SA!GV5-SA!GU5","v":9600},{"$f":"SA!GW5-SA!GV5","v":7100},{"$f":"SA!GX5-SA!GW5","v":-5200},{"$f":"SA!GY5-SA!GX5","v":-1300},{"$f":"SA!GZ5-SA!GY5","v":5600},{"$f":"SA!HA5-SA!GZ5","v":-5300},{"$f":"SA!HB5-SA!HA5","v":5900},{"$f":"SA!HC5-SA!HB5","v":1400},{"$f":"SA!HD5-SA!HC5","v":-600},{"$f":"SA!HE5-SA!HD5","v":-200},{"$f":"SA!HF5-SA!HE5","v":-900},{"$f":"SA!HG5-SA!HF5","v":1700},{"$f":"SA!HH5-SA!HG5","v":0},{"$f":"SA!HI5-SA!HH5","v":-3100},{"$f":"SA!HJ5-SA!HI5","v":0},{"$f":"SA!HK5-SA!HJ5","v":2100},{"$f":"SA!HL5-SA!HK5","v":-3000},{"$f":"SA!HM5-SA!HL5","v":5400},{"$f":"SA!HN5-SA!HM5","v":4600},{"$f":"SA!HO5-SA!HN5","v":1200},{"$f":"SA!HP5-SA!HO5","v":2700},{"$f":"SA!HQ5-SA!HP5","v":-4200},{"$f":"SA!HR5-SA!HQ5","v":-2700},{"$f":"SA!HS5-SA!HR5","v":2400},{"$f":"SA!HT5-SA!HS5","v":6100},{"$f":"SA!HU5-SA!HT5","v":-500},{"$f":"SA!HV5-SA!HU5","v":-5700},{"$f":"SA!HW5-SA!HV5","v":-3400},{"$f":"SA!HX5-SA!HW5","v":12900},{"$f":"SA!HY5-SA!HX5","v":8500},{"$f":"SA!HZ5-SA!HY5","v":-300},{"$f":"SA!IA5-SA!HZ5","v":-2400},{"$f":"SA!IB5-SA!IA5","v":-2700},{"$f":"SA!IC5-SA!IB5","v":2200},{"$f":"SA!ID5-SA!IC5","v":400},{"$f":"SA!IE5-SA!ID5","v":2600},{"$f":"SA!IF5-SA!IE5","v":-1600},{"$f":"SA!IG5-SA!IF5","v":-3900},{"$f":"SA!IH5-SA!IG5","v":3100},{"$f":"SA!II5-SA!IH5","v":2400},{"$f":"SA!IJ5-SA!II5","v":-2000},{"$f":"SA!IK5-SA!IJ5","v":6900},{"$f":"SA!IL5-SA!IK5","v":-2385500}," n/a ",{"$f":"COUNTIF(EY46:FY46, \">\" &GA46)","v":0},null,"Service-Providing",-14100,-4050,-1000,1050,1900,3399.9999999999986,5900,15800,4850.8200148024298]
["Private Service Providing",{"$f":"SA!BN6-SA!BM6","v":900},{"$f":"SA!BO6-SA!BN6","v":2500},{"$f":"SA!BP6-SA!BO6","v":4400},{"$f":"SA!BQ6-SA!BP6","v":7900},{"$f":"SA!BR6-SA!BQ6","v":-3500},{"$f":"SA!BS6-SA!BR6","v":-1400},{"$f":"SA!BT6-SA!BS6","v":6200},{"$f":"SA!BU6-SA!BT6","v":3300},{"$f":"SA!BV6-SA!BU6","v":2600},{"$f":"SA!BW6-SA!BV6","v":-800},{"$f":"SA!BX6-SA!BW6","v":4600},{"$f":"SA!BY6-SA!BX6","v":2400},{"$f":"SA!BZ6-SA!BY6","v":-2800},{"$f":"SA!CA6-SA!BZ6","v":4300},{"$f":"SA!CB6-SA!CA6","v":1700},{"$f":"SA!CC6-SA!CB6","v":5100},{"$f":"SA!CD6-SA!CC6","v":-3000},{"$f":"SA!CE6-SA!CD6","v":2800},{"$f":"SA!CF6-SA!CE6","v":1000},{"$f":"SA!CG6-SA!CF6","v":1100},{"$f":"SA!CH6-SA!CG6","v":2500},{"$f":"SA!CI6-SA!CH6","v":3300},{"$f":"SA!CJ6-SA!CI6","v":2100},{"$f":"SA!CK6-SA!CJ6","v":2200},{"$f":"SA!CL6-SA!CK6","v":4500},{"$f":"SA!CM6-SA!CL6","v":1100},{"$f":"SA!CN6-SA!CM6","v":2300},{"$f":"SA!CO6-SA!CN6","v":0},{"$f":"SA!CP6-SA!CO6","v":3200},{"$f":"SA!CQ6-SA!CP6","v":4200},{"$f":"SA!CR6-SA!CQ6","v":-1700},{"$f":"SA!CS6-SA!CR6","v":-900},{"$f":"SA!CT6-SA!CS6","v":-700},{"$f":"SA!CU6-SA!CT6","v":0},{"$f":"SA!CV6-SA!CU6","v":1900},{"$f":"SA!CW6-SA!CV6","v":2400},{"$f":"SA!CX6-SA!CW6","v":1600},{"$f":"SA!CY6-SA!CX6","v":700},{"$f":"SA!CZ6-SA!CY6","v":-900},{"$f":"SA!DA6-SA!CZ6","v":100},{"$f":"SA!DB6-SA!DA6","v":400},{"$f":"SA!DC6-SA!DB6","v":-1400},{"$f":"SA!DD6-SA!DC6","v":-300},{"$f":"SA!DE6-SA!DD6","v":-500},{"$f":"SA!DF6-SA!DE6","v":-4000},{"$f":"SA!DG6-SA!DF6","v":-2200},{"$f":"SA!DH6-SA!DG6","v":-7000},{"$f":"SA!DI6-SA!DH6","v":-3800},{"$f":"SA!DJ6-SA!DI6","v":-12000},{"$f":"SA!DK6-SA!DJ6","v":-6300},{"$f":"SA!DL6-SA!DK6","v":-9600},{"$f":"SA!DM6-SA!DL6","v":-8800},{"$f":"SA!DN6-SA!DM6","v":3400},{"$f":"SA!DO6-SA!DN6","v":-3100},{"$f":"SA!DP6-SA!DO6","v":-6600},{"$f":"SA!DQ6-SA!DP6","v":-2600},{"$f":"SA!DR6-SA!DQ6","v":-3400},{"$f":"SA!DS6-SA!DR6","v":0},{"$f":"SA!DT6-SA!DS6","v":-300},{"$f":"SA!DU6-SA!DT6","v":-1900},{"$f":"SA!DV6-SA!DU6","v":1900},{"$f":"SA!DW6-SA!DV6","v":1700},{"$f":"SA!DX6-SA!DW6","v":-300},{"$f":"SA!DY6-SA!DX6","v":4800},{"$f":"SA!DZ6-SA!DY6","v":-700},{"$f":"SA!EA6-SA!DZ6","v":200},{"$f":"SA!EB6-SA!EA6","v":5300},{"$f":"SA!EC6-SA!EB6","v":3700},{"$f":"SA!ED6-SA!EC6","v":-3000},{"$f":"SA!EE6-SA!ED6","v":7800},{"$f":"SA!EF6-SA!EE6","v":200},{"$f":"SA!EG6-SA!EF6","v":2200},{"$f":"SA!EH6-SA!EG6","v":600},{"$f":"SA!EI6-SA!EH6","v":-1300},{"$f":"SA!EJ6-SA!EI6","v":1200},{"$f":"SA!EK6-SA!EJ6","v":3500},{"$f":"SA!EL6-SA!EK6","v":-2000},{"$f":"SA!EM6-SA!EL6","v":100},{"$f":"SA!EN6-SA!EM6","v":6300},{"$f":"SA!EO6-SA!EN6","v":900},{"$f":"SA!EP6-SA!EO6","v":4600},{"$f":"SA!EQ6-SA!EP6","v":-600},{"$f":"SA!ER6-SA!EQ6","v":1400},{"$f":"SA!ES6-SA!ER6","v":200},{"$f":"SA!ET6-SA!ES6","v":3500},{"$f":"SA!EU6-SA!ET6","v":1900},{"$f":"SA!EV6-SA!EU6","v":5900},{"$f":"SA!EW6-SA!EV6","v":1300},{"$f":"SA!EX6-SA!EW6","v":-2400},{"$f":"SA!EY6-SA!EX6","v":3400},{"$f":"SA!EZ6-SA!EY6","v":-6000},{"$f":"SA!FA6-SA!EZ6","v":1700},{"$f":"SA!FB6-SA!FA6","v":6600},{"$f":"SA!FC6-SA!FB6","v":2200},{"$f":"SA!FD6-SA!FC6","v":4300},{"$f":"SA!FE6-SA!FD6","v":-1400},{"$f":"SA!FF6-SA!FE6","v":900},{"$f":"SA!FG6-SA!FF6","v":4600},{"$f":"SA!FH6-SA!FG6","v":3600},{"$f":"SA!FI6-SA!FH6","v":-4700},{"$f":"SA!FJ6-SA!FI6","v":7500},{"$f":"SA!FK6-SA!FJ6","v":1700},{"$f":"SA!FL6-SA!FK6","v":2000},{"$f":"SA!FM6-SA!FL6","v":4900},{"$f":"SA!FN6-SA!FM6","v":1900},{"$f":"SA!FO6-SA!FN6","v":-100},{"$f":"SA!FP6-SA!FO6","v":2600},{"$f":"SA!FQ6-SA!FP6","v":3400},{"$f":"SA!FR6-SA!FQ6","v":1000},{"$f":"SA!FS6-SA!FR6","v":2600},{"$f":"SA!FT6-SA!FS6","v":1000},{"$f":"SA!FU6-SA!FT6","v":4000},{"$f":"SA!FV6-SA!FU6","v":2200},{"$f":"SA!FW6-SA!FV6","v":3200},{"$f":"SA!FX6-SA!FW6","v":-100},{"$f":"SA!FY6-SA!FX6","v":4300},{"$f":"SA!FZ6-SA!FY6","v":1700},{"$f":"SA!GA6-SA!FZ6","v":1700},{"$f":"SA!GB6-SA!GA6","v":7200},{"$f":"SA!GC6-SA!GB6","v":-1200},{"$f":"SA!GD6-SA!GC6","v":3100},{"$f":"SA!GE6-SA!GD6","v":400},{"$f":"SA!GF6-SA!GE6","v":5100},{"$f":"SA!GG6-SA!GF6","v":800},{"$f":"SA!GH6-SA!GG6","v":6300},{"$f":"SA!GI6-SA!GH6","v":1400},{"$f":"SA!GJ6-SA!GI6","v":6000},{"$f":"SA!GK6-SA!GJ6","v":3800},{"$f":"SA!GL6-SA!GK6","v":1400},{"$f":"SA!GM6-SA!GL6","v":4800},{"$f":"SA!GN6-SA!GM6","v":3800},{"$f":"SA!GO6-SA!GN6","v":1100},{"$f":"SA!GP6-SA!GO6","v":6200},{"$f":"SA!GQ6-SA!GP6","v":3300},{"$f":"SA!GR6-SA!GQ6","v":-400},{"$f":"SA!GS6-SA!GR6","v":4800},{"$f":"SA!GT6-SA!GS6","v":-1700},{"$f":"SA!GU6-SA!GT6","v":-2600},{"$f":"SA!GV6-SA!GU6","v":8400},{"$f":"SA!GW6-SA!GV6","v":500},{"$f":"SA!GX6-SA!GW6","v":2000},{"$f":"SA!GY6-SA!GX6","v":-500},{"$f":"SA!GZ6-SA!GY6","v":400},{"$f":"SA!HA6-SA!GZ6","v":-1000},{"$f":"SA!HB6-SA!HA6","v":8500},{"$f":"SA!HC6-SA!HB6","v":1700},{"$f":"SA!HD6-SA!HC6","v":2700},{"$f":"SA!HE6-SA!HD6","v":-2700},{"$f":"SA!HF6-SA!HE6","v":-3300},{"$f":"SA!HG6-SA!HF6","v":5000},{"$f":"SA!HH6-SA!HG6","v":-2400},{"$f":"SA!HI6-SA!HH6","v":-200},{"$f":"SA!HJ6-SA!HI6","v":-2100},{"$f":"SA!HK6-SA!HJ6","v":2000},{"$f":"SA!HL6-SA!HK6","v":800},{"$f":"SA!HM6-SA!HL6","v":3900},{"$f":"SA!HN6-SA!HM6","v":3500},{"$f":"SA!HO6-SA!HN6","v":-700},{"$f":"SA!HP6-SA!HO6","v":4500},{"$f":"SA!HQ6-SA!HP6","v":-4900},{"$f":"SA!HR6-SA!HQ6","v":-3600},{"$f":"SA!HS6-SA!HR6","v":1500},{"$f":"SA!HT6-SA!HS6","v":4900},{"$f":"SA!HU6-SA!HT6","v":-3800},{"$f":"SA!HV6-SA!HU6","v":-1200},{"$f":"SA!HW6-SA!HV6","v":-800},{"$f":"SA!HX6-SA!HW6","v":10600},{"$f":"SA!HY6-SA!HX6","v":8500},{"$f":"SA!HZ6-SA!HY6","v":5400},{"$f":"SA!IA6-SA!HZ6","v":-100},{"$f":"SA!IB6-SA!IA6","v":-5000},{"$f":"SA!IC6-SA!IB6","v":2400},{"$f":"SA!ID6-SA!IC6","v":-1100},{"$f":"SA!IE6-SA!ID6","v":-1200},{"$f":"SA!IF6-SA!IE6","v":-100},{"$f":"SA!IG6-SA!IF6","v":-1100},{"$f":"SA!IH6-SA!IG6","v":2500},{"$f":"SA!II6-SA!IH6","v":2400},{"$f":"SA!IJ6-SA!II6","v":-200},{"$f":"SA!IK6-SA!IJ6","v":6100},{"$f":"SA!IL6-SA!IK6","v":-1981100},8473.3950000000004,{"$f":"COUNTIF(EY47:FY47, \">\" &GA47)","v":2},null,"Private Service Providing",-12000,-2300,-300,1000,1700,3200,4700,10600,3551.2311391333424]
["Mining and Logging",{"$f":"SA!BN7-SA!BM7","v":-100},{"$f":"SA!BO7-SA!BN7","v":0},{"$f":"SA!BP7-SA!BO7","v":100},{"$f":"SA!BQ7-SA!BP7","v":-100},{"$f":"SA!BR7-SA!BQ7","v":0},{"$f":"SA!BS7-SA!BR7","v":100},{"$f":"SA!BT7-SA!BS7","v":0},{"$f":"SA!BU7-SA!BT7","v":0},{"$f":"SA!BV7-SA!BU7","v":0},{"$f":"SA!BW7-SA!BV7","v":-100},{"$f":"SA!BX7-SA!BW7","v":100},{"$f":"SA!BY7-SA!BX7","v":-100},{"$f":"SA!BZ7-SA!BY7","v":100},{"$f":"SA!CA7-SA!BZ7","v":0},{"$f":"SA!CB7-SA!CA7","v":0},{"$f":"SA!CC7-SA!CB7","v":0},{"$f":"SA!CD7-SA!CC7","v":0},{"$f":"SA!CE7-SA!CD7","v":0},{"$f":"SA!CF7-SA!CE7","v":-100},{"$f":"SA!CG7-SA!CF7","v":0},{"$f":"SA!CH7-SA!CG7","v":0},{"$f":"SA!CI7-SA!CH7","v":0},{"$f":"SA!CJ7-SA!CI7","v":-100},{"$f":"SA!CK7-SA!CJ7","v":0},{"$f":"SA!CL7-SA!CK7","v":0},{"$f":"SA!CM7-SA!CL7","v":0},{"$f":"SA!CN7-SA!CM7","v":0},{"$f":"SA!CO7-SA!CN7","v":0},{"$f":"SA!CP7-SA!CO7","v":-100},{"$f":"SA!CQ7-SA!CP7","v":-100},{"$f":"SA!CR7-SA!CQ7","v":100},{"$f":"SA!CS7-SA!CR7","v":-100},{"$f":"SA!CT7-SA!CS7","v":0},{"$f":"SA!CU7-SA!CT7","v":0},{"$f":"SA!CV7-SA!CU7","v":0},{"$f":"SA!CW7-SA!CV7","v":-200},{"$f":"SA!CX7-SA!CW7","v":100},{"$f":"SA!CY7-SA!CX7","v":0},{"$f":"SA!CZ7-SA!CY7","v":-100},{"$f":"SA!DA7-SA!CZ7","v":0},{"$f":"SA!DB7-SA!DA7","v":-100},{"$f":"SA!DC7-SA!DB7","v":100},{"$f":"SA!DD7-SA!DC7","v":0},{"$f":"SA!DE7-SA!DD7","v":0},{"$f":"SA!DF7-SA!DE7","v":0},{"$f":"SA!DG7-SA!DF7","v":-100},{"$f":"SA!DH7-SA!DG7","v":0},{"$f":"SA!DI7-SA!DH7","v":-100},{"$f":"SA!DJ7-SA!DI7","v":0},{"$f":"SA!DK7-SA!DJ7","v":-100},{"$f":"SA!DL7-SA!DK7","v":-100},{"$f":"SA!DM7-SA!DL7","v":-100},{"$f":"SA!DN7-SA!DM7","v":100},{"$f":"SA!DO7-SA!DN7","v":-100},{"$f":"SA!DP7-SA!DO7","v":100},{"$f":"SA!DQ7-SA!DP7","v":0},{"$f":"SA!DR7-SA!DQ7","v":0},{"$f":"SA!DS7-SA!DR7","v":0},{"$f":"SA!DT7-SA!DS7","v":-100},{"$f":"SA!DU7-SA!DT7","v":100},{"$f":"SA!DV7-SA!DU7","v":-100},{"$f":"SA!DW7-SA!DV7","v":0},{"$f":"SA!DX7-SA!DW7","v":0},{"$f":"SA!DY7-SA!DX7","v":100},{"$f":"SA!DZ7-SA!DY7","v":0},{"$f":"SA!EA7-SA!DZ7","v":-100},{"$f":"SA!EB7-SA!EA7","v":100},{"$f":"SA!EC7-SA!EB7","v":0},{"$f":"SA!ED7-SA!EC7","v":-100},{"$f":"SA!EE7-SA!ED7","v":100},{"$f":"SA!EF7-SA!EE7","v":-100},{"$f":"SA!EG7-SA!EF7","v":0},{"$f":"SA!EH7-SA!EG7","v":100},{"$f":"SA!EI7-SA!EH7","v":0},{"$f":"SA!EJ7-SA!EI7","v":0},{"$f":"SA!EK7-SA!EJ7","v":-100},{"$f":"SA!EL7-SA!EK7","v":0},{"$f":"SA!EM7-SA!EL7","v":200},{"$f":"SA!EN7-SA!EM7","v":-100},{"$f":"SA!EO7-SA!EN7","v":0},{"$f":"SA!EP7-SA!EO7","v":100},{"$f":"SA!EQ7-SA!EP7","v":100},{"$f":"SA!ER7-SA!EQ7","v":100},{"$f":"SA!ES7-SA!ER7","v":0},{"$f":"SA!ET7-SA!ES7","v":0},{"$f":"SA!EU7-SA!ET7","v":100},{"$f":"SA!EV7-SA!EU7","v":100},{"$f":"SA!EW7-SA!EV7","v":100},{"$f":"SA!EX7-SA!EW7","v":-100},{"$f":"SA!EY7-SA!EX7","v":0},{"$f":"SA!EZ7-SA!EY7","v":0},{"$f":"SA!FA7-SA!EZ7","v":0},{"$f":"SA!FB7-SA!FA7","v":0},{"$f":"SA!FC7-SA!FB7","v":0},{"$f":"SA!FD7-SA!FC7","v":0},{"$f":"SA!FE7-SA!FD7","v":100},{"$f":"SA!FF7-SA!FE7","v":0},{"$f":"SA!FG7-SA!FF7","v":0},{"$f":"SA!FH7-SA!FG7","v":-100},{"$f":"SA!FI7-SA!FH7","v":0},{"$f":"SA!FJ7-SA!FI7","v":200},{"$f":"SA!FK7-SA!FJ7","v":0},{"$f":"SA!FL7-SA!FK7","v":0},{"$f":"SA!FM7-SA!FL7","v":100},{"$f":"SA!FN7-SA!FM7","v":0},{"$f":"SA!FO7-SA!FN7","v":0},{"$f":"SA!FP7-SA!FO7","v":0},{"$f":"SA!FQ7-SA!FP7","v":0},{"$f":"SA!FR7-SA!FQ7","v":100},{"$f":"SA!FS7-SA!FR7","v":0},{"$f":"SA!FT7-SA!FS7","v":-100},{"$f":"SA!FU7-SA!FT7","v":100},{"$f":"SA!FV7-SA!FU7","v":100},{"$f":"SA!FW7-SA!FV7","v":0},{"$f":"SA!FX7-SA!FW7","v":100},{"$f":"SA!FY7-SA!FX7","v":100},{"$f":"SA!FZ7-SA!FY7","v":0},{"$f":"SA!GA7-SA!FZ7","v":100},{"$f":"SA!GB7-SA!GA7","v":0},{"$f":"SA!GC7-SA!GB7","v":100},{"$f":"SA!GD7-SA!GC7","v":0},{"$f":"SA!GE7-SA!GD7","v":0},{"$f":"SA!GF7-SA!GE7","v":-100},{"$f":"SA!GG7-SA!GF7","v":0},{"$f":"SA!GH7-SA!GG7","v":0},{"$f":"SA!GI7-SA!GH7","v":-100},{"$f":"SA!GJ7-SA!GI7","v":-100},{"$f":"SA!GK7-SA!GJ7","v":0},{"$f":"SA!GL7-SA!GK7","v":-100},{"$f":"SA!GM7-SA!GL7","v":0},{"$f":"SA!GN7-SA!GM7","v":0},{"$f":"SA!GO7-SA!GN7","v":100},{"$f":"SA!GP7-SA!GO7","v":-100},{"$f":"SA!GQ7-SA!GP7","v":-100},{"$f":"SA!GR7-SA!GQ7","v":0},{"$f":"SA!GS7-SA!GR7","v":-100},{"$f":"SA!GT7-SA!GS7","v":0},{"$f":"SA!GU7-SA!GT7","v":-100},{"$f":"SA!GV7-SA!GU7","v":-100},{"$f":"SA!GW7-SA!GV7","v":100},{"$f":"SA!GX7-SA!GW7","v":-100},{"$f":"SA!GY7-SA!GX7","v":100},{"$f":"SA!GZ7-SA!GY7","v":0},{"$f":"SA!HA7-SA!GZ7","v":100},{"$f":"SA!HB7-SA!HA7","v":100},{"$f":"SA!HC7-SA!HB7","v":100},{"$f":"SA!HD7-SA!HC7","v":200},{"$f":"SA!HE7-SA!HD7","v":100},{"$f":"SA!HF7-SA!HE7","v":0},{"$f":"SA!HG7-SA!HF7","v":100},{"$f":"SA!HH7-SA!HG7","v":0},{"$f":"SA!HI7-SA!HH7","v":200},{"$f":"SA!HJ7-SA!HI7","v":0},{"$f":"SA!HK7-SA!HJ7","v":-100},{"$f":"SA!HL7-SA!HK7","v":100},{"$f":"SA!HM7-SA!HL7","v":-100},{"$f":"SA!HN7-SA!HM7","v":100},{"$f":"SA!HO7-SA!HN7","v":0},{"$f":"SA!HP7-SA!HO7","v":0},{"$f":"SA!HQ7-SA!HP7","v":0},{"$f":"SA!HR7-SA!HQ7","v":-100},{"$f":"SA!HS7-SA!HR7","v":100},{"$f":"SA!HT7-SA!HS7","v":0},{"$f":"SA!HU7-SA!HT7","v":0},{"$f":"SA!HV7-SA!HU7","v":0},{"$f":"SA!HW7-SA!HV7","v":0},{"$f":"SA!HX7-SA!HW7","v":0},{"$f":"SA!HY7-SA!HX7","v":0},{"$f":"SA!HZ7-SA!HY7","v":100},{"$f":"SA!IA7-SA!HZ7","v":100},{"$f":"SA!IB7-SA!IA7","v":0},{"$f":"SA!IC7-SA!IB7","v":0},{"$f":"SA!ID7-SA!IC7","v":0},{"$f":"SA!IE7-SA!ID7","v":0},{"$f":"SA!IF7-SA!IE7","v":-100},{"$f":"SA!IG7-SA!IF7","v":0},{"$f":"SA!IH7-SA!IG7","v":-100},{"$f":"SA!II7-SA!IH7","v":100},{"$f":"SA!IJ7-SA!II7","v":0},{"$f":"SA!IK7-SA!IJ7","v":-100},{"$f":"SA!IL7-SA!IK7","v":-4600},258.26499999999999,{"$f":"COUNTIF(EY48:FY48, \">\" &GA48)","v":0},null,"Mining and Logging",-200,-100,0,0,0,0,100,200,77.195693525682515]
["Construction",{"$f":"SA!BN9-SA!BM9","v":-500},{"$f":"SA!BO9-SA!BN9","v":400},{"$f":"SA!BP9-SA!BO9","v":-300},{"$f":"SA!BQ9-SA!BP9","v":700},{"$f":"SA!BR9-SA!BQ9","v":-500},{"$f":"SA!BS9-SA!BR9","v":-300},{"$f":"SA!BT9-SA!BS9","v":800},{"$f":"SA!BU9-SA!BT9","v":-200},{"$f":"SA!BV9-SA!BU9","v":0},{"$f":"SA!BW9-SA!BV9","v":-100},{"$f":"SA!BX9-SA!BW9","v":400},{"$f":"SA!BY9-SA!BX9","v":-600},{"$f":"SA!BZ9-SA!BY9","v":1899.9999999999854},{"$f":"SA!CA9-SA!BZ9","v":500},{"$f":"SA!CB9-SA!CA9","v":-1199.9999999999854},{"$f":"SA!CC9-SA!CB9","v":1600},{"$f":"SA!CD9-SA!CC9","v":-2300},{"$f":"SA!CE9-SA!CD9","v":700},{"$f":"SA!CF9-SA!CE9","v":-1300},{"$f":"SA!CG9-SA!CF9","v":-200},{"$f":"SA!CH9-SA!CG9","v":-700},{"$f":"SA!CI9-SA!CH9","v":-600},{"$f":"SA!CJ9-SA!CI9","v":-1000},{"$f":"SA!CK9-SA!CJ9","v":1500},{"$f":"SA!CL9-SA!CK9","v":1100},{"$f":"SA!CM9-SA!CL9","v":-2000},{"$f":"SA!CN9-SA!CM9","v":2600},{"$f":"SA!CO9-SA!CN9","v":-1400},{"$f":"SA!CP9-SA!CO9","v":600},{"$f":"SA!CQ9-SA!CP9","v":-500},{"$f":"SA!CR9-SA!CQ9","v":-500},{"$f":"SA!CS9-SA!CR9","v":-200},{"$f":"SA!CT9-SA!CS9","v":-600},{"$f":"SA!CU9-SA!CT9","v":100},{"$f":"SA!CV9-SA!CU9","v":-400},{"$f":"SA!CW9-SA!CV9","v":-1100},{"$f":"SA!CX9-SA!CW9","v":-1200},{"$f":"SA!CY9-SA!CX9","v":-700},{"$f":"SA!CZ9-SA!CY9","v":-600},{"$f":"SA!DA9-SA!CZ9","v":-1900},{"$f":"SA!DB9-SA!DA9","v":100},{"$f":"SA!DC9-SA!DB9","v":-100},{"$f":"SA!DD9-SA!DC9","v":-600},{"$f":"SA!DE9-SA!DD9","v":-700},{"$f":"SA!DF9-SA!DE9","v":-1100},{"$f":"SA!DG9-SA!DF9","v":-1200},{"$f":"SA!DH9-SA!DG9","v":-2200},{"$f":"SA!DI9-SA!DH9","v":-2000},{"$f":"SA!DJ9-SA!DI9","v":-3200},{"$f":"SA!DK9-SA!DJ9","v":-800},{"$f":"SA!DL9-SA!DK9","v":-2600},{"$f":"SA!DM9-SA!DL9","v":-2300},{"$f":"SA!DN9-SA!DM9","v":-100},{"$f":"SA!DO9-SA!DN9","v":-1200},{"$f":"SA!DP9-SA!DO9","v":-1100},{"$f":"SA!DQ9-SA!DP9","v":-1200},{"$f":"SA!DR9-SA!DQ9","v":-300},{"$f":"SA!DS9-SA!DR9","v":-700},{"$f":"SA!DT9-SA!DS9","v":-500},{"$f":"SA!DU9-SA!DT9","v":-800},{"$f":"SA!DV9-SA!DU9","v":-400},{"$f":"SA!DW9-SA!DV9","v":-600},{"$f":"SA!DX9-SA!DW9","v":-600},{"$f":"SA!DY9-SA!DX9","v":1600},{"$f":"SA!DZ9-SA!DY9","v":-2700},{"$f":"SA!EA9-SA!DZ9","v":-300},{"$f":"SA!EB9-SA!EA9","v":-300},{"$f":"SA!EC9-SA!EB9","v":200},{"$f":"SA!ED9-SA!EC9","v":0},{"$f":"SA!EE9-SA!ED9","v":900},{"$f":"SA!EF9-SA!EE9","v":-1100},{"$f":"SA!EG9-SA!EF9","v":-500},{"$f":"SA!EH9-SA!EG9","v":-100},{"$f":"SA!EI9-SA!EH9","v":-400},{"$f":"SA!EJ9-SA!EI9","v":-100},{"$f":"SA!EK9-SA!EJ9","v":-100},{"$f":"SA!EL9-SA!EK9","v":200},{"$f":"SA!EM9-SA!EL9","v":-100},{"$f":"SA!EN9-SA!EM9","v":600},{"$f":"SA!EO9-SA!EN9","v":0},{"$f":"SA!EP9-SA!EO9","v":0},{"$f":"SA!EQ9-SA!EP9","v":-400},{"$f":"SA!ER9-SA!EQ9","v":300},{"$f":"SA!ES9-SA!ER9","v":0},{"$f":"SA!ET9-SA!ES9","v":100},{"$f":"SA!EU9-SA!ET9","v":500},{"$f":"SA!EV9-SA!EU9","v":800},{"$f":"SA!EW9-SA!EV9","v":2100},{"$f":"SA!EX9-SA!EW9","v":-3800},{"$f":"SA!EY9-SA!EX9","v":-200},{"$f":"SA!EZ9-SA!EY9","v":-400},{"$f":"SA!FA9-SA!EZ9","v":-200},{"$f":"SA!FB9-SA!FA9","v":800},{"$f":"SA!FC9-SA!FB9","v":1200},{"$f":"SA!FD9-SA!FC9","v":0},{"$f":"SA!FE9-SA!FD9","v":2100},{"$f":"SA!FF9-SA!FE9","v":800},{"$f":"SA!FG9-SA!FF9","v":1000},{"$f":"SA!FH9-SA!FG9","v":0},{"$f":"SA!FI9-SA!FH9","v":-2800},{"$f":"SA!FJ9-SA!FI9","v":3200},{"$f":"SA!FK9-SA!FJ9","v":100},{"$f":"SA!FL9-SA!FK9","v":700},{"$f":"SA!FM9-SA!FL9","v":900},{"$f":"SA!FN9-SA!FM9","v":200},{"$f":"SA!FO9-SA!FN9","v":200},{"$f":"SA!FP9-SA!FO9","v":500},{"$f":"SA!FQ9-SA!FP9","v":-1500},{"$f":"SA!FR9-SA!FQ9","v":1300},{"$f":"SA!FS9-SA!FR9","v":200},{"$f":"SA!FT9-SA!FS9","v":600},{"$f":"SA!FU9-SA!FT9","v":0},{"$f":"SA!FV9-SA!FU9","v":900},{"$f":"SA!FW9-SA!FV9","v":1300},{"$f":"SA!FX9-SA!FW9","v":500},{"$f":"SA!FY9-SA!FX9","v":800},{"$f":"SA!FZ9-SA!FY9","v":800},{"$f":"SA!GA9-SA!FZ9","v":300},{"$f":"SA!GB9-SA!GA9","v":400},{"$f":"SA!GC9-SA!GB9","v":200},{"$f":"SA!GD9-SA!GC9","v":1200},{"$f":"SA!GE9-SA!GD9","v":-200},{"$f":"SA!GF9-SA!GE9","v":-100},{"$f":"SA!GG9-SA!GF9","v":1400},{"$f":"SA!GH9-SA!GG9","v":800},{"$f":"SA!GI9-SA!GH9","v":-100},{"$f":"SA!GJ9-SA!GI9","v":200},{"$f":"SA!GK9-SA!GJ9","v":-200},{"$f":"SA!GL9-SA!GK9","v":0},{"$f":"SA!GM9-SA!GL9","v":500},{"$f":"SA!GN9-SA!GM9","v":400},{"$f":"SA!GO9-SA!GN9","v":1200},{"$f":"SA!GP9-SA!GO9","v":0},{"$f":"SA!GQ9-SA!GP9","v":500},{"$f":"SA!GR9-SA!GQ9","v":500},{"$f":"SA!GS9-SA!GR9","v":-500},{"$f":"SA!GT9-SA!GS9","v":-500},{"$f":"SA!GU9-SA!GT9","v":-100},{"$f":"SA!GV9-SA!GU9","v":500},{"$f":"SA!GW9-SA!GV9","v":600},{"$f":"SA!GX9-SA!GW9","v":400},{"$f":"SA!GY9-SA!GX9","v":200},{"$f":"SA!GZ9-SA!GY9","v":900},{"$f":"SA!HA9-SA!GZ9","v":0},{"$f":"SA!HB9-SA!HA9","v":800},{"$f":"SA!HC9-SA!HB9","v":1300},{"$f":"SA!HD9-SA!HC9","v":-200},{"$f":"SA!HE9-SA!HD9","v":900},{"$f":"SA!HF9-SA!HE9","v":-100},{"$f":"SA!HG9-SA!HF9","v":200},{"$f":"SA!HH9-SA!HG9","v":200},{"$f":"SA!HI9-SA!HH9","v":100},{"$f":"SA!HJ9-SA!HI9","v":200},{"$f":"SA!HK9-SA!HJ9","v":-1300},{"$f":"SA!HL9-SA!HK9","v":200},{"$f":"SA!HM9-SA!HL9","v":800},{"$f":"SA!HN9-SA!HM9","v":800},{"$f":"SA!HO9-SA!HN9","v":1600},{"$f":"SA!HP9-SA!HO9","v":2000},{"$f":"SA!HQ9-SA!HP9","v":-1500},{"$f":"SA!HR9-SA!HQ9","v":1400},{"$f":"SA!HS9-SA!HR9","v":1400},{"$f":"SA!HT9-SA!HS9","v":0},{"$f":"SA!HU9-SA!HT9","v":1000},{"$f":"SA!HV9-SA!HU9","v":900},{"$f":"SA!HW9-SA!HV9","v":400},{"$f":"SA!HX9-SA!HW9","v":-200},{"$f":"SA!HY9-SA!HX9","v":700},{"$f":"SA!HZ9-SA!HY9","v":100},{"$f":"SA!IA9-SA!HZ9","v":-100},{"$f":"SA!IB9-SA!IA9","v":-1300},{"$f":"SA!IC9-SA!IB9","v":-2500},{"$f":"SA!ID9-SA!IC9","v":2200},{"$f":"SA!IE9-SA!ID9","v":500},{"$f":"SA!IF9-SA!IE9","v":400},{"$f":"SA!IG9-SA!IF9","v":600},{"$f":"SA!IH9-SA!IG9","v":1700},{"$f":"SA!II9-SA!IH9","v":300},{"$f":"SA!IJ9-SA!II9","v":200},{"$f":"SA!IK9-SA!IJ9","v":100},{"$f":"SA!IL9-SA!IK9","v":-128000},2827.7550000000001,{"$f":"COUNTIF(EY49:FY49, \">\" &GA49)","v":0},null,"Construction",-3800,-1050,-400,-100,100,500,900,3200,1049.4429406248123]
["Manufacturing",{"$f":"SA!BN10-SA!BM10","v":-4200},{"$f":"SA!BO10-SA!BN10","v":4300},{"$f":"SA!BP10-SA!BO10","v":100},{"$f":"SA!BQ10-SA!BP10","v":-100},{"$f":"SA!BR10-SA!BQ10","v":-300},{"$f":"SA!BS10-SA!BR10","v":-200},{"$f":"SA!BT10-SA!BS10","v":1000},{"$f":"SA!BU10-SA!BT10","v":-200},{"$f":"SA!BV10-SA!BU10","v":-900},{"$f":"SA!BW10-SA!BV10","v":-200},{"$f":"SA!BX10-SA!BW10","v":-300},{"$f":"SA!BY10-SA!BX10","v":0},{"$f":"SA!BZ10-SA!BY10","v":1000},{"$f":"SA!CA10-SA!BZ10","v":-100},{"$f":"SA!CB10-SA!CA10","v":1000},{"$f":"SA!CC10-SA!CB10","v":400},{"$f":"SA!CD10-SA!CC10","v":-100},{"$f":"SA!CE10-SA!CD10","v":1000},{"$f":"SA!CF10-SA!CE10","v":-200},{"$f":"SA!CG10-SA!CF10","v":-600},{"$f":"SA!CH10-SA!CG10","v":-900},{"$f":"SA!CI10-SA!CH10","v":-1100},{"$f":"SA!CJ10-SA!CI10","v":-1300},{"$f":"SA!CK10-SA!CJ10","v":-400},{"$f":"SA!CL10-SA!CK10","v":-500},{"$f":"SA!CM10-SA!CL10","v":200},{"$f":"SA!CN10-SA!CM10","v":-900},{"$f":"SA!CO10-SA!CN10","v":400},{"$f":"SA!CP10-SA!CO10","v":700},{"$f":"SA!CQ10-SA!CP10","v":400},{"$f":"SA!CR10-SA!CQ10","v":-600},{"$f":"SA!CS10-SA!CR10","v":-1500},{"$f":"SA!CT10-SA!CS10","v":-2000},{"$f":"SA!CU10-SA!CT10","v":-900},{"$f":"SA!CV10-SA!CU10","v":100},{"$f":"SA!CW10-SA!CV10","v":100},{"$f":"SA!CX10-SA!CW10","v":1000},{"$f":"SA!CY10-SA!CX10","v":700},{"$f":"SA!CZ10-SA!CY10","v":-300},{"$f":"SA!DA10-SA!CZ10","v":-1200},{"$f":"SA!DB10-SA!DA10","v":-800},{"$f":"SA!DC10-SA!DB10","v":-400},{"$f":"SA!DD10-SA!DC10","v":-4200},{"$f":"SA!DE10-SA!DD10","v":-2400},{"$f":"SA!DF10-SA!DE10","v":-3000},{"$f":"SA!DG10-SA!DF10","v":-1600},{"$f":"SA!DH10-SA!DG10","v":-3400},{"$f":"SA!DI10-SA!DH10","v":-4800},{"$f":"SA!DJ10-SA!DI10","v":-8700},{"$f":"SA!DK10-SA!DJ10","v":-10100},{"$f":"SA!DL10-SA!DK10","v":-8600},{"$f":"SA!DM10-SA!DL10","v":-10100},{"$f":"SA!DN10-SA!DM10","v":-5600},{"$f":"SA!DO10-SA!DN10","v":-5500},{"$f":"SA!DP10-SA!DO10","v":-4600},{"$f":"SA!DQ10-SA!DP10","v":-800},{"$f":"SA!DR10-SA!DQ10","v":3700},{"$f":"SA!DS10-SA!DR10","v":-2100},{"$f":"SA!DT10-SA!DS10","v":-700},{"$f":"SA!DU10-SA!DT10","v":-500},{"$f":"SA!DV10-SA!DU10","v":-1000},{"$f":"SA!DW10-SA!DV10","v":1000},{"$f":"SA!DX10-SA!DW10","v":1900},{"$f":"SA!DY10-SA!DX10","v":1200},{"$f":"SA!DZ10-SA!DY10","v":1900},{"$f":"SA!EA10-SA!DZ10","v":1100},{"$f":"SA!EB10-SA!EA10","v":1800},{"$f":"SA!EC10-SA!EB10","v":900},{"$f":"SA!ED10-SA!EC10","v":600},{"$f":"SA!EE10-SA!ED10","v":-200},{"$f":"SA!EF10-SA!EE10","v":1200},{"$f":"SA!EG10-SA!EF10","v":1200},{"$f":"SA!EH10-SA!EG10","v":1100},{"$f":"SA!EI10-SA!EH10","v":2100},{"$f":"SA!EJ10-SA!EI10","v":1400},{"$f":"SA!EK10-SA!EJ10","v":3200},{"$f":"SA!EL10-SA!EK10","v":1000},{"$f":"SA!EM10-SA!EL10","v":-100},{"$f":"SA!EN10-SA!EM10","v":2000},{"$f":"SA!EO10-SA!EN10","v":900},{"$f":"SA!EP10-SA!EO10","v":100},{"$f":"SA!EQ10-SA!EP10","v":-500},{"$f":"SA!ER10-SA!EQ10","v":1200},{"$f":"SA!ES10-SA!ER10","v":1300},{"$f":"SA!ET10-SA!ES10","v":1400},{"$f":"SA!EU10-SA!ET10","v":1100},{"$f":"SA!EV10-SA!EU10","v":1300},{"$f":"SA!EW10-SA!EV10","v":1000},{"$f":"SA!EX10-SA!EW10","v":500},{"$f":"SA!EY10-SA!EX10","v":1700},{"$f":"SA!EZ10-SA!EY10","v":200},{"$f":"SA!FA10-SA!EZ10","v":-200},{"$f":"SA!FB10-SA!FA10","v":200},{"$f":"SA!FC10-SA!FB10","v":400},{"$f":"SA!FD10-SA!FC10","v":-400},{"$f":"SA!FE10-SA!FD10","v":400},{"$f":"SA!FF10-SA!FE10","v":-100},{"$f":"SA!FG10-SA!FF10","v":200},{"$f":"SA!FH10-SA!FG10","v":0},{"$f":"SA!FI10-SA!FH10","v":-1200},{"$f":"SA!FJ10-SA!FI10","v":-100},{"$f":"SA!FK10-SA!FJ10","v":1100},{"$f":"SA!FL10-SA!FK10","v":-1600},{"$f":"SA!FM10-SA!FL10","v":900},{"$f":"SA!FN10-SA!FM10","v":600},{"$f":"SA!FO10-SA!FN10","v":900},{"$f":"SA!FP10-SA!FO10","v":1000},{"$f":"SA!FQ10-SA!FP10","v":200},{"$f":"SA!FR10-SA!FQ10","v":800},{"$f":"SA!FS10-SA!FR10","v":400},{"$f":"SA!FT10-SA!FS10","v":1000},{"$f":"SA!FU10-SA!FT10","v":1300},{"$f":"SA!FV10-SA!FU10","v":900},{"$f":"SA!FW10-SA!FV10","v":700},{"$f":"SA!FX10-SA!FW10","v":1300},{"$f":"SA!FY10-SA!FX10","v":600},{"$f":"SA!FZ10-SA!FY10","v":200},{"$f":"SA!GA10-SA!FZ10","v":600},{"$f":"SA!GB10-SA!GA10","v":300},{"$f":"SA!GC10-SA!GB10","v":400},{"$f":"SA!GD10-SA!GC10","v":0},{"$f":"SA!GE10-SA!GD10","v":900},{"$f":"SA!GF10-SA!GE10","v":-200},{"$f":"SA!GG10-SA!GF10","v":-900},{"$f":"SA!GH10-SA!GG10","v":-100},{"$f":"SA!GI10-SA!GH10","v":-100},{"$f":"SA!GJ10-SA!GI10","v":100},{"$f":"SA!GK10-SA!GJ10","v":-1000},{"$f":"SA!GL10-SA!GK10","v":400},{"$f":"SA!GM10-SA!GL10","v":-400},{"$f":"SA!GN10-SA!GM10","v":-100},{"$f":"SA!GO10-SA!GN10","v":-400},{"$f":"SA!GP10-SA!GO10","v":100},{"$f":"SA!GQ10-SA!GP10","v":-500},{"$f":"SA!GR10-SA!GQ10","v":-100},{"$f":"SA!GS10-SA!GR10","v":200},{"$f":"SA!GT10-SA!GS10","v":-500},{"$f":"SA!GU10-SA!GT10","v":-900},{"$f":"SA!GV10-SA!GU10","v":-800},{"$f":"SA!GW10-SA!GV10","v":-100},{"$f":"SA!GX10-SA!GW10","v":-300},{"$f":"SA!GY10-SA!GX10","v":800},{"$f":"SA!GZ10-SA!GY10","v":200},{"$f":"SA!HA10-SA!GZ10","v":1000},{"$f":"SA!HB10-SA!HA10","v":400},{"$f":"SA!HC10-SA!HB10","v":400},{"$f":"SA!HD10-SA!HC10","v":1000},{"$f":"SA!HE10-SA!HD10","v":-400},{"$f":"SA!HF10-SA!HE10","v":100},{"$f":"SA!HG10-SA!HF10","v":400},{"$f":"SA!HH10-SA!HG10","v":-100},{"$f":"SA!HI10-SA!HH10","v":100},{"$f":"SA!HJ10-SA!HI10","v":-200},{"$f":"SA!HK10-SA!HJ10","v":3000},{"$f":"SA!HL10-SA!HK10","v":1700},{"$f":"SA!HM10-SA!HL10","v":1000},{"$f":"SA!HN10-SA!HM10","v":2700},{"$f":"SA!HO10-SA!HN10","v":2800},{"$f":"SA!HP10-SA!HO10","v":1700},{"$f":"SA!HQ10-SA!HP10","v":800},{"$f":"SA!HR10-SA!HQ10","v":1500},{"$f":"SA!HS10-SA!HR10","v":3700},{"$f":"SA!HT10-SA!HS10","v":2300},{"$f":"SA!HU10-SA!HT10","v":1100},{"$f":"SA!HV10-SA!HU10","v":700},{"$f":"SA!HW10-SA!HV10","v":200},{"$f":"SA!HX10-SA!HW10","v":400},{"$f":"SA!HY10-SA!HX10","v":-100},{"$f":"SA!HZ10-SA!HY10","v":-12900},{"$f":"SA!IA10-SA!HZ10","v":-1300},{"$f":"SA!IB10-SA!IA10","v":-100},{"$f":"SA!IC10-SA!IB10","v":-200},{"$f":"SA!ID10-SA!IC10","v":100},{"$f":"SA!IE10-SA!ID10","v":200},{"$f":"SA!IF10-SA!IE10","v":-3400},{"$f":"SA!IG10-SA!IF10","v":400},{"$f":"SA!IH10-SA!IG10","v":-2900},{"$f":"SA!II10-SA!IH10","v":-900},{"$f":"SA!IJ10-SA!II10","v":1100},{"$f":"SA!IK10-SA!IJ10","v":2900},{"$f":"SA!IL10-SA!IK10","v":-473400},3385.41,{"$f":"COUNTIF(EY50:FY50, \">\" &GA50)","v":1},null,"Manufacturing",-12900,-950,-300,50,250.00000000000142,899.99999999999864,1200,4300,2283.3900154236303]
["  Durable Goods",{"$f":"SA!BN11-SA!BM11","v":-3800},{"$f":"SA!BO11-SA!BN11","v":4600},{"$f":"SA!BP11-SA!BO11","v":300},{"$f":"SA!BQ11-SA!BP11","v":500},{"$f":"SA!BR11-SA!BQ11","v":-300},{"$f":"SA!BS11-SA!BR11","v":100},{"$f":"SA!BT11-SA!BS11","v":300},{"$f":"SA!BU11-SA!BT11","v":400},{"$f":"SA!BV11-SA!BU11","v":-600},{"$f":"SA!BW11-SA!BV11","v":100},{"$f":"SA!BX11-SA!BW11","v":-400},{"$f":"SA!BY11-SA!BX11","v":0},{"$f":"SA!BZ11-SA!BY11","v":1200},{"$f":"SA!CA11-SA!BZ11","v":100},{"$f":"SA!CB11-SA!CA11","v":1200},{"$f":"SA!CC11-SA!CB11","v":200},{"$f":"SA!CD11-SA!CC11","v":400},{"$f":"SA!CE11-SA!CD11","v":1000},{"$f":"SA!CF11-SA!CE11","v":-200},{"$f":"SA!CG11-SA!CF11","v":-100},{"$f":"SA!CH11-SA!CG11","v":-700},{"$f":"SA!CI11-SA!CH11","v":-1000},{"$f":"SA!CJ11-SA!CI11","v":-1100},{"$f":"SA!CK11-SA!CJ11","v":-300},{"$f":"SA!CL11-SA!CK11","v":-800},{"$f":"SA!CM11-SA!CL11","v":100},{"$f":"SA!CN11-SA!CM11","v":-900},{"$f":"SA!CO11-SA!CN11","v":1000},{"$f":"SA!CP11-SA!CO11","v":200},{"$f":"SA!CQ11-SA!CP11","v":-500},{"$f":"SA!CR11-SA!CQ11","v":-300},{"$f":"SA!CS11-SA!CR11","v":-1000},{"$f":"SA!CT11-SA!CS11","v":-1700},{"$f":"SA!CU11-SA!CT11","v":-700},{"$f":"SA!CV11-SA!CU11","v":-200},{"$f":"SA!CW11-SA!CV11","v":-100},{"$f":"SA!CX11-SA!CW11","v":900},{"$f":"SA!CY11-SA!CX11","v":500},{"$f":"SA!CZ11-SA!CY11","v":-100},{"$f":"SA!DA11-SA!CZ11","v":-1000},{"$f":"SA!DB11-SA!DA11","v":-400},{"$f":"SA!DC11-SA!DB11","v":-600},{"$f":"SA!DD11-SA!DC11","v":-2100},{"$f":"SA!DE11-SA!DD11","v":-2300},{"$f":"SA!DF11-SA!DE11","v":-2300},{"$f":"SA!DG11-SA!DF11","v":-1800},{"$f":"SA!DH11-SA!DG11","v":-2300},{"$f":"SA!DI11-SA!DH11","v":-3800},{"$f":"SA!DJ11-SA!DI11","v":-7100},{"$f":"SA!DK11-SA!DJ11","v":-8400},{"$f":"SA!DL11-SA!DK11","v":-7300},{"$f":"SA!DM11-SA!DL11","v":-8500},{"$f":"SA!DN11-SA!DM11","v":-4500.0000000000291},{"$f":"SA!DO11-SA!DN11","v":-4500},{"$f":"SA!DP11-SA!DO11","v":-2699.9999999999709},{"$f":"SA!DQ11-SA!DP11","v":-1500},{"$f":"SA!DR11-SA!DQ11","v":2600},{"$f":"SA!DS11-SA!DR11","v":-700},{"$f":"SA!DT11-SA!DS11","v":-900},{"$f":"SA!DU11-SA!DT11","v":-500},{"$f":"SA!DV11-SA!DU11","v":-900},{"$f":"SA!DW11-SA!DV11","v":900},{"$f":"SA!DX11-SA!DW11","v":1600},{"$f":"SA!DY11-SA!DX11","v":1000},{"$f":"SA!DZ11-SA!DY11","v":1300.0000000000291},{"$f":"SA!EA11-SA!DZ11","v":500},{"$f":"SA!EB11-SA!EA11","v":799.99999999994179},{"$f":"SA!EC11-SA!EB11","v":1400.0000000000291},{"$f":"SA!ED11-SA!EC11","v":700},{"$f":"SA!EE11-SA!ED11","v":-100.0000000000291},{"$f":"SA!EF11-SA!EE11","v":800.0000000000291},{"$f":"SA!EG11-SA!EF11","v":1400},{"$f":"SA!EH11-SA!EG11","v":800},{"$f":"SA!EI11-SA!EH11","v":2000},{"$f":"SA!EJ11-SA!EI11","v":1100},{"$f":"SA!EK11-SA!EJ11","v":2200},{"$f":"SA!EL11-SA!EK11","v":700},{"$f":"SA!EM11-SA!EL11","v":600},{"$f":"SA!EN11-SA!EM11","v":1500},{"$f":"SA!EO11-SA!EN11","v":300},{"$f":"SA!EP11-SA!EO11","v":0},{"$f":"SA!EQ11-SA!EP11","v":-300},{"$f":"SA!ER11-SA!EQ11","v":1200},{"$f":"SA!ES11-SA!ER11","v":1000},{"$f":"SA!ET11-SA!ES11","v":1400},{"$f":"SA!EU11-SA!ET11","v":1000},{"$f":"SA!EV11-SA!EU11","v":1300},{"$f":"SA!EW11-SA!EV11","v":400},{"$f":"SA!EX11-SA!EW11","v":600},{"$f":"SA!EY11-SA!EX11","v":1400},{"$f":"SA!EZ11-SA!EY11","v":100},{"$f":"SA!FA11-SA!EZ11","v":-300},{"$f":"SA!FB11-SA!FA11","v":-100},{"$f":"SA!FC11-SA!FB11","v":200},{"$f":"SA!FD11-SA!FC11","v":-400},{"$f":"SA!FE11-SA!FD11","v":200},{"$f":"SA!FF11-SA!FE11","v":0},{"$f":"SA!FG11-SA!FF11","v":100},{"$f":"SA!FH11-SA!FG11","v":100},{"$f":"SA!FI11-SA!FH11","v":-1100},{"$f":"SA!FJ11-SA!FI11","v":-200},{"$f":"SA!FK11-SA!FJ11","v":1000},{"$f":"SA!FL11-SA!FK11","v":-1800},{"$f":"SA!FM11-SA!FL11","v":600},{"$f":"SA!FN11-SA!FM11","v":400},{"$f":"SA!FO11-SA!FN11","v":500},{"$f":"SA!FP11-SA!FO11","v":600},{"$f":"SA!FQ11-SA!FP11","v":-100},{"$f":"SA!FR11-SA!FQ11","v":300},{"$f":"SA!FS11-SA!FR11","v":-100},{"$f":"SA!FT11-SA!FS11","v":800},{"$f":"SA!FU11-SA!FT11","v":1100},{"$f":"SA!FV11-SA!FU11","v":700},{"$f":"SA!FW11-SA!FV11","v":800},{"$f":"SA!FX11-SA!FW11","v":500},{"$f":"SA!FY11-SA!FX11","v":400},{"$f":"SA!FZ11-SA!FY11","v":100},{"$f":"SA!GA11-SA!FZ11","v":600},{"$f":"SA!GB11-SA!GA11","v":200},{"$f":"SA!GC11-SA!GB11","v":700},{"$f":"SA!GD11-SA!GC11","v":-300},{"$f":"SA!GE11-SA!GD11","v":400},{"$f":"SA!GF11-SA!GE11","v":100},{"$f":"SA!GG11-SA!GF11","v":-1000},{"$f":"SA!GH11-SA!GG11","v":-500},{"$f":"SA!GI11-SA!GH11","v":-100},{"$f":"SA!GJ11-SA!GI11","v":-200},{"$f":"SA!GK11-SA!GJ11","v":-1100},{"$f":"SA!GL11-SA!GK11","v":400},{"$f":"SA!GM11-SA!GL11","v":-800},{"$f":"SA!GN11-SA!GM11","v":-300},{"$f":"SA!GO11-SA!GN11","v":-600},{"$f":"SA!GP11-SA!GO11","v":0},{"$f":"SA!GQ11-SA!GP11","v":-400},{"$f":"SA!GR11-SA!GQ11","v":-400},{"$f":"SA!GS11-SA!GR11","v":-300},{"$f":"SA!GT11-SA!GS11","v":-400},{"$f":"SA!GU11-SA!GT11","v":-1000},{"$f":"SA!GV11-SA!GU11","v":-800},{"$f":"SA!GW11-SA!GV11","v":-400},{"$f":"SA!GX11-SA!GW11","v":-400},{"$f":"SA!GY11-SA!GX11","v":500},{"$f":"SA!GZ11-SA!GY11","v":0},{"$f":"SA!HA11-SA!GZ11","v":500},{"$f":"SA!HB11-SA!HA11","v":200},{"$f":"SA!HC11-SA!HB11","v":200},{"$f":"SA!HD11-SA!HC11","v":500},{"$f":"SA!HE11-SA!HD11","v":0},{"$f":"SA!HF11-SA!HE11","v":200},{"$f":"SA!HG11-SA!HF11","v":300},{"$f":"SA!HH11-SA!HG11","v":200},{"$f":"SA!HI11-SA!HH11","v":-200},{"$f":"SA!HJ11-SA!HI11","v":-500},{"$f":"SA!HK11-SA!HJ11","v":3500},{"$f":"SA!HL11-SA!HK11","v":1300},{"$f":"SA!HM11-SA!HL11","v":200},{"$f":"SA!HN11-SA!HM11","v":2800},{"$f":"SA!HO11-SA!HN11","v":2400},{"$f":"SA!HP11-SA!HO11","v":1000},{"$f":"SA!HQ11-SA!HP11","v":0},{"$f":"SA!HR11-SA!HQ11","v":700},{"$f":"SA!HS11-SA!HR11","v":3100},{"$f":"SA!HT11-SA!HS11","v":2000},{"$f":"SA!HU11-SA!HT11","v":-100},{"$f":"SA!HV11-SA!HU11","v":-100},{"$f":"SA!HW11-SA!HV11","v":-300},{"$f":"SA!HX11-SA!HW11","v":-900},{"$f":"SA!HY11-SA!HX11","v":400},{"$f":"SA!HZ11-SA!HY11","v":-8300},{"$f":"SA!IA11-SA!HZ11","v":-1500},{"$f":"SA!IB11-SA!IA11","v":-100},{"$f":"SA!IC11-SA!IB11","v":-400},{"$f":"SA!ID11-SA!IC11","v":-200},{"$f":"SA!IE11-SA!ID11","v":-500},{"$f":"SA!IF11-SA!IE11","v":-2000},{"$f":"SA!IG11-SA!IF11","v":-500},{"$f":"SA!IH11-SA!IG11","v":-1000},{"$f":"SA!II11-SA!IH11","v":-700},{"$f":"SA!IJ11-SA!II11","v":300},{"$f":"SA!IK11-SA!IJ11","v":900},{"$f":"SA!IL11-SA!IK11","v":-282000},2237.1999999999998,{"$f":"COUNTIF(EY51:FY51, \">\" &GA51)","v":4},null,"  Durable Goods",-8500,-1000,-400,0,200,500,1000,4600,1820.2201016483509]
["  Non-Durable Goods",{"$f":"SA!BN12-SA!BM12","v":-400},{"$f":"SA!BO12-SA!BN12","v":-300},{"$f":"SA!BP12-SA!BO12","v":-200},{"$f":"SA!BQ12-SA!BP12","v":-600},{"$f":"SA!BR12-SA!BQ12","v":0},{"$f":"SA!BS12-SA!BR12","v":-300},{"$f":"SA!BT12-SA!BS12","v":700},{"$f":"SA!BU12-SA!BT12","v":-600},{"$f":"SA!BV12-SA!BU12","v":-300},{"$f":"SA!BW12-SA!BV12","v":-300},{"$f":"SA!BX12-SA!BW12","v":100},{"$f":"SA!BY12-SA!BX12","v":0},{"$f":"SA!BZ12-SA!BY12","v":-200},{"$f":"SA!CA12-SA!BZ12","v":-200},{"$f":"SA!CB12-SA!CA12","v":-200},{"$f":"SA!CC12-SA!CB12","v":200},{"$f":"SA!CD12-SA!CC12","v":-500},{"$f":"SA!CE12-SA!CD12","v":0},{"$f":"SA!CF12-SA!CE12","v":0},{"$f":"SA!CG12-SA!CF12","v":-500},{"$f":"SA!CH12-SA!CG12","v":-200},{"$f":"SA!CI12-SA!CH12","v":-100},{"$f":"SA!CJ12-SA!CI12","v":-200},{"$f":"SA!CK12-SA!CJ12","v":-100},{"$f":"SA!CL12-SA!CK12","v":300},{"$f":"SA!CM12-SA!CL12","v":100},{"$f":"SA!CN12-SA!CM12","v":0},{"$f":"SA!CO12-SA!CN12","v":-600},{"$f":"SA!CP12-SA!CO12","v":500},{"$f":"SA!CQ12-SA!CP12","v":900},{"$f":"SA!CR12-SA!CQ12","v":-300},{"$f":"SA!CS12-SA!CR12","v":-500},{"$f":"SA!CT12-SA!CS12","v":-300},{"$f":"SA!CU12-SA!CT12","v":-200},{"$f":"SA!CV12-SA!CU12","v":300},{"$f":"SA!CW12-SA!CV12","v":200},{"$f":"SA!CX12-SA!CW12","v":100},{"$f":"SA!CY12-SA!CX12","v":200},{"$f":"SA!CZ12-SA!CY12","v":-200},{"$f":"SA!DA12-SA!CZ12","v":-200},{"$f":"SA!DB12-SA!DA12","v":-400},{"$f":"SA!DC12-SA!DB12","v":200},{"$f":"SA!DD12-SA!DC12","v":-2100},{"$f":"SA!DE12-SA!DD12","v":-100},{"$f":"SA!DF12-SA!DE12","v":-700},{"$f":"SA!DG12-SA!DF12","v":200},{"$f":"SA!DH12-SA!DG12","v":-1100},{"$f":"SA!DI12-SA!DH12","v":-1000},{"$f":"SA!DJ12-SA!DI12","v":-1600},{"$f":"SA!DK12-SA!DJ12","v":-1700},{"$f":"SA!DL12-SA!DK12","v":-1300},{"$f":"SA!DM12-SA!DL12","v":-1600},{"$f":"SA!DN12-SA!DM12","v":-1100},{"$f":"SA!DO12-SA!DN12","v":-1000},{"$f":"SA!DP12-SA!DO12","v":-1900},{"$f":"SA!DQ12-SA!DP12","v":700},{"$f":"SA!DR12-SA!DQ12","v":1100},{"$f":"SA!DS12-SA!DR12","v":-1400},{"$f":"SA!DT12-SA!DS12","v":200},{"$f":"SA!DU12-SA!DT12","v":0},{"$f":"SA!DV12-SA!DU12","v":-100},{"$f":"SA!DW12-SA!DV12","v":100},{"$f":"SA!DX12-SA!DW12","v":300},{"$f":"SA!DY12-SA!DX12","v":200},{"$f":"SA!DZ12-SA!DY12","v":600},{"$f":"SA!EA12-SA!DZ12","v":600},{"$f":"SA!EB12-SA!EA12","v":1000},{"$f":"SA!EC12-SA!EB12","v":-500},{"$f":"SA!ED12-SA!EC12","v":-100},{"$f":"SA!EE12-SA!ED12","v":-100},{"$f":"SA!EF12-SA!EE12","v":400},{"$f":"SA!EG12-SA!EF12","v":-200},{"$f":"SA!EH12-SA!EG12","v":300},{"$f":"SA!EI12-SA!EH12","v":100},{"$f":"SA!EJ12-SA!EI12","v":300},{"$f":"SA!EK12-SA!EJ12","v":1000},{"$f":"SA!EL12-SA!EK12","v":300},{"$f":"SA!EM12-SA!EL12","v":-700},{"$f":"SA!EN12-SA!EM12","v":500},{"$f":"SA!EO12-SA!EN12","v":600},{"$f":"SA!EP12-SA!EO12","v":100},{"$f":"SA!EQ12-SA!EP12","v":-200},{"$f":"SA!ER12-SA!EQ12","v":0},{"$f":"SA!ES12-SA!ER12","v":300},{"$f":"SA!ET12-SA!ES12","v":0},{"$f":"SA!EU12-SA!ET12","v":100},{"$f":"SA!EV12-SA!EU12","v":0},{"$f":"SA!EW12-SA!EV12","v":600},{"$f":"SA!EX12-SA!EW12","v":-100},{"$f":"SA!EY12-SA!EX12","v":300},{"$f":"SA!EZ12-SA!EY12","v":100},{"$f":"SA!FA12-SA!EZ12","v":100},{"$f":"SA!FB12-SA!FA12","v":300},{"$f":"SA!FC12-SA!FB12","v":200},{"$f":"SA!FD12-SA!FC12","v":0},{"$f":"SA!FE12-SA!FD12","v":200},{"$f":"SA!FF12-SA!FE12","v":-100},{"$f":"SA!FG12-SA!FF12","v":100},{"$f":"SA!FH12-SA!FG12","v":-100},{"$f":"SA!FI12-SA!FH12","v":-100},{"$f":"SA!FJ12-SA!FI12","v":100},{"$f":"SA!FK12-SA!FJ12","v":100},{"$f":"SA!FL12-SA!FK12","v":200},{"$f":"SA!FM12-SA!FL12","v":300},{"$f":"SA!FN12-SA!FM12","v":200},{"$f":"SA!FO12-SA!FN12","v":400},{"$f":"SA!FP12-SA!FO12","v":400},{"$f":"SA!FQ12-SA!FP12","v":300},{"$f":"SA!FR12-SA!FQ12","v":500},{"$f":"SA!FS12-SA!FR12","v":500},{"$f":"SA!FT12-SA!FS12","v":200},{"$f":"SA!FU12-SA!FT12","v":200},{"$f":"SA!FV12-SA!FU12","v":200},{"$f":"SA!FW12-SA!FV12","v":-100},{"$f":"SA!FX12-SA!FW12","v":800},{"$f":"SA!FY12-SA!FX12","v":200},{"$f":"SA!FZ12-SA!FY12","v":100},{"$f":"SA!GA12-SA!FZ12","v":0},{"$f":"SA!GB12-SA!GA12","v":100},{"$f":"SA!GC12-SA!GB12","v":-300},{"$f":"SA!GD12-SA!GC12","v":300},{"$f":"SA!GE12-SA!GD12","v":500},{"$f":"SA!GF12-SA!GE12","v":-300},{"$f":"SA!GG12-SA!GF12","v":100},{"$f":"SA!GH12-SA!GG12","v":400},{"$f":"SA!GI12-SA!GH12","v":0},{"$f":"SA!GJ12-SA!GI12","v":300},{"$f":"SA!GK12-SA!GJ12","v":100},{"$f":"SA!GL12-SA!GK12","v":0},{"$f":"SA!GM12-SA!GL12","v":400},{"$f":"SA!GN12-SA!GM12","v":200},{"$f":"SA!GO12-SA!GN12","v":200},{"$f":"SA!GP12-SA!GO12","v":100},{"$f":"SA!GQ12-SA!GP12","v":-100},{"$f":"SA!GR12-SA!GQ12","v":300},{"$f":"SA!GS12-SA!GR12","v":500},{"$f":"SA!GT12-SA!GS12","v":-100},{"$f":"SA!GU12-SA!GT12","v":100},{"$f":"SA!GV12-SA!GU12","v":0},{"$f":"SA!GW12-SA!GV12","v":300},{"$f":"SA!GX12-SA!GW12","v":100},{"$f":"SA!GY12-SA!GX12","v":300},{"$f":"SA!GZ12-SA!GY12","v":200},{"$f":"SA!HA12-SA!GZ12","v":500},{"$f":"SA!HB12-SA!HA12","v":200},{"$f":"SA!HC12-SA!HB12","v":200},{"$f":"SA!HD12-SA!HC12","v":500},{"$f":"SA!HE12-SA!HD12","v":-400},{"$f":"SA!HF12-SA!HE12","v":-100},{"$f":"SA!HG12-SA!HF12","v":100},{"$f":"SA!HH12-SA!HG12","v":-300},{"$f":"SA!HI12-SA!HH12","v":300},{"$f":"SA!HJ12-SA!HI12","v":300},{"$f":"SA!HK12-SA!HJ12","v":-500},{"$f":"SA!HL12-SA!HK12","v":400},{"$f":"SA!HM12-SA!HL12","v":800},{"$f":"SA!HN12-SA!HM12","v":-100},{"$f":"SA!HO12-SA!HN12","v":400},{"$f":"SA!HP12-SA!HO12","v":700},{"$f":"SA!HQ12-SA!HP12","v":800},{"$f":"SA!HR12-SA!HQ12","v":800},{"$f":"SA!HS12-SA!HR12","v":600},{"$f":"SA!HT12-SA!HS12","v":300},{"$f":"SA!HU12-SA!HT12","v":1200},{"$f":"SA!HV12-SA!HU12","v":800},{"$f":"SA!HW12-SA!HV12","v":500},{"$f":"SA!HX12-SA!HW12","v":1300},{"$f":"SA!HY12-SA!HX12","v":-500},{"$f":"SA!HZ12-SA!HY12","v":-4600},{"$f":"SA!IA12-SA!HZ12","v":200},{"$f":"SA!IB12-SA!IA12","v":0},{"$f":"SA!IC12-SA!IB12","v":200},{"$f":"SA!ID12-SA!IC12","v":300},{"$f":"SA!IE12-SA!ID12","v":700},{"$f":"SA!IF12-SA!IE12","v":-1400},{"$f":"SA!IG12-SA!IF12","v":900},{"$f":"SA!IH12-SA!IG12","v":-1900},{"$f":"SA!II12-SA!IH12","v":-200},{"$f":"SA!IJ12-SA!II12","v":800},{"$f":"SA!IK12-SA!IJ12","v":2000},{"$f":"SA!IL12-SA!IK12","v":-191400},2541.5250000000001,{"$f":"COUNTIF(EY52:FY52, \">\" &GA52)","v":0},null,"  Non-Durable Goods",-4600,-400,-100,100,100,300,500,1300,645.41648978975718]
["Trade, Transportation, and Utilities",{"$f":"SA!BN13-SA!BM13","v":-900},{"$f":"SA!BO13-SA!BN13","v":1300},{"$f":"SA!BP13-SA!BO13","v":400},{"$f":"SA!BQ13-SA!BP13","v":1800},{"$f":"SA!BR13-SA!BQ13","v":-500},{"$f":"SA!BS13-SA!BR13","v":-1600},{"$f":"SA!BT13-SA!BS13","v":2400},{"$f":"SA!BU13-SA!BT13","v":1300},{"$f":"SA!BV13-SA!BU13","v":-100},{"$f":"SA!BW13-SA!BV13","v":2300},{"$f":"SA!BX13-SA!BW13","v":300},{"$f":"SA!BY13-SA!BX13","v":1000},{"$f":"SA!BZ13-SA!BY13","v":-4900},{"$f":"SA!CA13-SA!BZ13","v":1100},{"$f":"SA!CB13-SA!CA13","v":400},{"$f":"SA!CC13-SA!CB13","v":200},{"$f":"SA!CD13-SA!CC13","v":-900},{"$f":"SA!CE13-SA!CD13","v":800},{"$f":"SA!CF13-SA!CE13","v":-1200},{"$f":"SA!CG13-SA!CF13","v":1000},{"$f":"SA!CH13-SA!CG13","v":200},{"$f":"SA!CI13-SA!CH13","v":-100},{"$f":"SA!CJ13-SA!CI13","v":1300},{"$f":"SA!CK13-SA!CJ13","v":1500},{"$f":"SA!CL13-SA!CK13","v":800},{"$f":"SA!CM13-SA!CL13","v":-200},{"$f":"SA!CN13-SA!CM13","v":300},{"$f":"SA!CO13-SA!CN13","v":-1600},{"$f":"SA!CP13-SA!CO13","v":1900},{"$f":"SA!CQ13-SA!CP13","v":200},{"$f":"SA!CR13-SA!CQ13","v":-1000},{"$f":"SA!CS13-SA!CR13","v":-1800},{"$f":"SA!CT13-SA!CS13","v":200},{"$f":"SA!CU13-SA!CT13","v":-1000},{"$f":"SA!CV13-SA!CU13","v":500},{"$f":"SA!CW13-SA!CV13","v":-300},{"$f":"SA!CX13-SA!CW13","v":1100},{"$f":"SA!CY13-SA!CX13","v":-700},{"$f":"SA!CZ13-SA!CY13","v":-300},{"$f":"SA!DA13-SA!CZ13","v":-400},{"$f":"SA!DB13-SA!DA13","v":-1600},{"$f":"SA!DC13-SA!DB13","v":-1600},{"$f":"SA!DD13-SA!DC13","v":-500},{"$f":"SA!DE13-SA!DD13","v":-1100},{"$f":"SA!DF13-SA!DE13","v":-2000},{"$f":"SA!DG13-SA!DF13","v":-2400},{"$f":"SA!DH13-SA!DG13","v":-3100},{"$f":"SA!DI13-SA!DH13","v":-1800},{"$f":"SA!DJ13-SA!DI13","v":-3300},{"$f":"SA!DK13-SA!DJ13","v":-2200},{"$f":"SA!DL13-SA!DK13","v":-3400},{"$f":"SA!DM13-SA!DL13","v":-2600},{"$f":"SA!DN13-SA!DM13","v":200.00000000005821},{"$f":"SA!DO13-SA!DN13","v":-1000},{"$f":"SA!DP13-SA!DO13","v":-2900.0000000001164},{"$f":"SA!DQ13-SA!DP13","v":-899.99999999994179},{"$f":"SA!DR13-SA!DQ13","v":-1699.9999999999418},{"$f":"SA!DS13-SA!DR13","v":-1000},{"$f":"SA!DT13-SA!DS13","v":-2000.0000000000582},{"$f":"SA!DU13-SA!DT13","v":-1600},{"$f":"SA!DV13-SA!DU13","v":-300},{"$f":"SA!DW13-SA!DV13","v":-400},{"$f":"SA!DX13-SA!DW13","v":100},{"$f":"SA!DY13-SA!DX13","v":500},{"$f":"SA!DZ13-SA!DY13","v":-200},{"$f":"SA!EA13-SA!DZ13","v":-400},{"$f":"SA!EB13-SA!EA13","v":200},{"$f":"SA!EC13-SA!EB13","v":-100},{"$f":"SA!ED13-SA!EC13","v":-600},{"$f":"SA!EE13-SA!ED13","v":2500},{"$f":"SA!EF13-SA!EE13","v":-1400},{"$f":"SA!EG13-SA!EF13","v":300},{"$f":"SA!EH13-SA!EG13","v":100},{"$f":"SA!EI13-SA!EH13","v":-100},{"$f":"SA!EJ13-SA!EI13","v":500},{"$f":"SA!EK13-SA!EJ13","v":1400},{"$f":"SA!EL13-SA!EK13","v":-1400},{"$f":"SA!EM13-SA!EL13","v":-600},{"$f":"SA!EN13-SA!EM13","v":2100},{"$f":"SA!EO13-SA!EN13","v":800},{"$f":"SA!EP13-SA!EO13","v":900},{"$f":"SA!EQ13-SA!EP13","v":-400},{"$f":"SA!ER13-SA!EQ13","v":600.00000000005821},{"$f":"SA!ES13-SA!ER13","v":-200.00000000005821},{"$f":"SA!ET13-SA!ES13","v":0},{"$f":"SA!EU13-SA!ET13","v":-299.99999999994179},{"$f":"SA!EV13-SA!EU13","v":-200.00000000005821},{"$f":"SA!EW13-SA!EV13","v":-1000},{"$f":"SA!EX13-SA!EW13","v":700},{"$f":"SA!EY13-SA!EX13","v":-300},{"$f":"SA!EZ13-SA!EY13","v":-600},{"$f":"SA!FA13-SA!EZ13","v":0},{"$f":"SA!FB13-SA!FA13","v":1300},{"$f":"SA!FC13-SA!FB13","v":1100.0000000000582},{"$f":"SA!FD13-SA!FC13","v":1799.9999999999418},{"$f":"SA!FE13-SA!FD13","v":-700.00000000005821},{"$f":"SA!FF13-SA!FE13","v":400.00000000011642},{"$f":"SA!FG13-SA!FF13","v":1099.9999999998836},{"$f":"SA!FH13-SA!FG13","v":-99.999999999883585},{"$f":"SA!FI13-SA!FH13","v":399.99999999994179},{"$f":"SA!FJ13-SA!FI13","v":699.99999999994179},{"$f":"SA!FK13-SA!FJ13","v":700.00000000005821},{"$f":"SA!FL13-SA!FK13","v":200.00000000005821},{"$f":"SA!FM13-SA!FL13","v":799.99999999994179},{"$f":"SA!FN13-SA!FM13","v":0},{"$f":"SA!FO13-SA!FN13","v":600},{"$f":"SA!FP13-SA!FO13","v":400},{"$f":"SA!FQ13-SA!FP13","v":1299.9999999999418},{"$f":"SA!FR13-SA!FQ13","v":400.00000000011642},{"$f":"SA!FS13-SA!FR13","v":899.99999999994179},{"$f":"SA!FT13-SA!FS13","v":800},{"$f":"SA!FU13-SA!FT13","v":1700},{"$f":"SA!FV13-SA!FU13","v":-600},{"$f":"SA!FW13-SA!FV13","v":600},{"$f":"SA!FX13-SA!FW13","v":400},{"$f":"SA!FY13-SA!FX13","v":0},{"$f":"SA!FZ13-SA!FY13","v":400},{"$f":"SA!GA13-SA!FZ13","v":-300},{"$f":"SA!GB13-SA!GA13","v":2200},{"$f":"SA!GC13-SA!GB13","v":-600},{"$f":"SA!GD13-SA!GC13","v":400},{"$f":"SA!GE13-SA!GD13","v":-300},{"$f":"SA!GF13-SA!GE13","v":1300},{"$f":"SA!GG13-SA!GF13","v":-500},{"$f":"SA!GH13-SA!GG13","v":2000},{"$f":"SA!GI13-SA!GH13","v":700},{"$f":"SA!GJ13-SA!GI13","v":2600},{"$f":"SA!GK13-SA!GJ13","v":1500},{"$f":"SA!GL13-SA!GK13","v":1800},{"$f":"SA!GM13-SA!GL13","v":100},{"$f":"SA!GN13-SA!GM13","v":-100},{"$f":"SA!GO13-SA!GN13","v":-1500},{"$f":"SA!GP13-SA!GO13","v":3000},{"$f":"SA!GQ13-SA!GP13","v":1600},{"$f":"SA!GR13-SA!GQ13","v":-400},{"$f":"SA!GS13-SA!GR13","v":1900},{"$f":"SA!GT13-SA!GS13","v":-700},{"$f":"SA!GU13-SA!GT13","v":-400},{"$f":"SA!GV13-SA!GU13","v":1600},{"$f":"SA!GW13-SA!GV13","v":-100},{"$f":"SA!GX13-SA!GW13","v":-100},{"$f":"SA!GY13-SA!GX13","v":-100},{"$f":"SA!GZ13-SA!GY13","v":-500},{"$f":"SA!HA13-SA!GZ13","v":-300},{"$f":"SA!HB13-SA!HA13","v":3000},{"$f":"SA!HC13-SA!HB13","v":1200},{"$f":"SA!HD13-SA!HC13","v":-1000},{"$f":"SA!HE13-SA!HD13","v":-700},{"$f":"SA!HF13-SA!HE13","v":-500},{"$f":"SA!HG13-SA!HF13","v":-200},{"$f":"SA!HH13-SA!HG13","v":-300},{"$f":"SA!HI13-SA!HH13","v":500},{"$f":"SA!HJ13-SA!HI13","v":-200},{"$f":"SA!HK13-SA!HJ13","v":-4700},{"$f":"SA!HL13-SA!HK13","v":1300},{"$f":"SA!HM13-SA!HL13","v":1000},{"$f":"SA!HN13-SA!HM13","v":1800},{"$f":"SA!HO13-SA!HN13","v":900},{"$f":"SA!HP13-SA!HO13","v":2500},{"$f":"SA!HQ13-SA!HP13","v":-2100},{"$f":"SA!HR13-SA!HQ13","v":-1000},{"$f":"SA!HS13-SA!HR13","v":1100},{"$f":"SA!HT13-SA!HS13","v":1900},{"$f":"SA!HU13-SA!HT13","v":-600},{"$f":"SA!HV13-SA!HU13","v":-3900},{"$f":"SA!HW13-SA!HV13","v":-3000},{"$f":"SA!HX13-SA!HW13","v":2900},{"$f":"SA!HY13-SA!HX13","v":2100},{"$f":"SA!HZ13-SA!HY13","v":6400},{"$f":"SA!IA13-SA!HZ13","v":700},{"$f":"SA!IB13-SA!IA13","v":-500},{"$f":"SA!IC13-SA!IB13","v":-2400},{"$f":"SA!ID13-SA!IC13","v":-700},{"$f":"SA!IE13-SA!ID13","v":900},{"$f":"SA!IF13-SA!IE13","v":600},{"$f":"SA!IG13-SA!IF13","v":700},{"$f":"SA!IH13-SA!IG13","v":1600},{"$f":"SA!II13-SA!IH13","v":-900},{"$f":"SA!IJ13-SA!II13","v":-1100},{"$f":"SA!IK13-SA!IJ13","v":700},{"$f":"SA!IL13-SA!IK13","v":-548200},3788.4349999999999,{"$f":"COUNTIF(EY53:FY53, \">\" &GA53)","v":1},null,"Trade, Transportation, and Utilities",-4900,-1300,-500,-100,200,700.00000000005821,1450,6400,1490.8842673403565]
["  Wholesale Trade",{"$f":"SA!BN14-SA!BM14","v":200},{"$f":"SA!BO14-SA!BN14","v":300},{"$f":"SA!BP14-SA!BO14","v":-200},{"$f":"SA!BQ14-SA!BP14","v":1000},{"$f":"SA!BR14-SA!BQ14","v":200},{"$f":"SA!BS14-SA!BR14","v":100},{"$f":"SA!BT14-SA!BS14","v":400},{"$f":"SA!BU14-SA!BT14","v":200},{"$f":"SA!BV14-SA!BU14","v":200},{"$f":"SA!BW14-SA!BV14","v":400},{"$f":"SA!BX14-SA!BW14","v":200},{"$f":"SA!BY14-SA!BX14","v":300},{"$f":"SA!BZ14-SA!BY14","v":500},{"$f":"SA!CA14-SA!BZ14","v":200},{"$f":"SA!CB14-SA!CA14","v":300},{"$f":"SA!CC14-SA!CB14","v":100},{"$f":"SA!CD14-SA!CC14","v":-100},{"$f":"SA!CE14-SA!CD14","v":400},{"$f":"SA!CF14-SA!CE14","v":100},{"$f":"SA!CG14-SA!CF14","v":200},{"$f":"SA!CH14-SA!CG14","v":200},{"$f":"SA!CI14-SA!CH14","v":0},{"$f":"SA!CJ14-SA!CI14","v":0},{"$f":"SA!CK14-SA!CJ14","v":200},{"$f":"SA!CL14-SA!CK14","v":0},{"$f":"SA!CM14-SA!CL14","v":300},{"$f":"SA!CN14-SA!CM14","v":0},{"$f":"SA!CO14-SA!CN14","v":100},{"$f":"SA!CP14-SA!CO14","v":200},{"$f":"SA!CQ14-SA!CP14","v":200},{"$f":"SA!CR14-SA!CQ14","v":200},{"$f":"SA!CS14-SA!CR14","v":-300},{"$f":"SA!CT14-SA!CS14","v":200},{"$f":"SA!CU14-SA!CT14","v":-100},{"$f":"SA!CV14-SA!CU14","v":200},{"$f":"SA!CW14-SA!CV14","v":100},{"$f":"SA!CX14-SA!CW14","v":100},{"$f":"SA!CY14-SA!CX14","v":-100},{"$f":"SA!CZ14-SA!CY14","v":200},{"$f":"SA!DA14-SA!CZ14","v":-100},{"$f":"SA!DB14-SA!DA14","v":200},{"$f":"SA!DC14-SA!DB14","v":-300},{"$f":"SA!DD14-SA!DC14","v":-300},{"$f":"SA!DE14-SA!DD14","v":-100},{"$f":"SA!DF14-SA!DE14","v":-500},{"$f":"SA!DG14-SA!DF14","v":-800},{"$f":"SA!DH14-SA!DG14","v":-200},{"$f":"SA!DI14-SA!DH14","v":-700},{"$f":"SA!DJ14-SA!DI14","v":-500},{"$f":"SA!DK14-SA!DJ14","v":-800},{"$f":"SA!DL14-SA!DK14","v":-800},{"$f":"SA!DM14-SA!DL14","v":-1600},{"$f":"SA!DN14-SA!DM14","v":-300},{"$f":"SA!DO14-SA!DN14","v":-700},{"$f":"SA!DP14-SA!DO14","v":-800},{"$f":"SA!DQ14-SA!DP14","v":-500},{"$f":"SA!DR14-SA!DQ14","v":-400},{"$f":"SA!DS14-SA!DR14","v":0},{"$f":"SA!DT14-SA!DS14","v":-400},{"$f":"SA!DU14-SA!DT14","v":-300},{"$f":"SA!DV14-SA!DU14","v":-500},{"$f":"SA!DW14-SA!DV14","v":-200},{"$f":"SA!DX14-SA!DW14","v":-200},{"$f":"SA!DY14-SA!DX14","v":400},{"$f":"SA!DZ14-SA!DY14","v":100},{"$f":"SA!EA14-SA!DZ14","v":-100},{"$f":"SA!EB14-SA!EA14","v":400},{"$f":"SA!EC14-SA!EB14","v":300},{"$f":"SA!ED14-SA!EC14","v":-300},{"$f":"SA!EE14-SA!ED14","v":500},{"$f":"SA!EF14-SA!EE14","v":0},{"$f":"SA!EG14-SA!EF14","v":100},{"$f":"SA!EH14-SA!EG14","v":100},{"$f":"SA!EI14-SA!EH14","v":200},{"$f":"SA!EJ14-SA!EI14","v":100},{"$f":"SA!EK14-SA!EJ14","v":200},{"$f":"SA!EL14-SA!EK14","v":400},{"$f":"SA!EM14-SA!EL14","v":-100},{"$f":"SA!EN14-SA!EM14","v":900},{"$f":"SA!EO14-SA!EN14","v":200},{"$f":"SA!EP14-SA!EO14","v":500},{"$f":"SA!EQ14-SA!EP14","v":-100},{"$f":"SA!ER14-SA!EQ14","v":200},{"$f":"SA!ES14-SA!ER14","v":100},{"$f":"SA!ET14-SA!ES14","v":100},{"$f":"SA!EU14-SA!ET14","v":200},{"$f":"SA!EV14-SA!EU14","v":200},{"$f":"SA!EW14-SA!EV14","v":200},{"$f":"SA!EX14-SA!EW14","v":-200},{"$f":"SA!EY14-SA!EX14","v":0},{"$f":"SA!EZ14-SA!EY14","v":-200},{"$f":"SA!FA14-SA!EZ14","v":-100},{"$f":"SA!FB14-SA!FA14","v":200},{"$f":"SA!FC14-SA!FB14","v":300},{"$f":"SA!FD14-SA!FC14","v":300},{"$f":"SA!FE14-SA!FD14","v":0},{"$f":"SA!FF14-SA!FE14","v":1200},{"$f":"SA!FG14-SA!FF14","v":200},{"$f":"SA!FH14-SA!FG14","v":-200},{"$f":"SA!FI14-SA!FH14","v":0},{"$f":"SA!FJ14-SA!FI14","v":200},{"$f":"SA!FK14-SA!FJ14","v":200},{"$f":"SA!FL14-SA!FK14","v":-200},{"$f":"SA!FM14-SA!FL14","v":100},{"$f":"SA!FN14-SA!FM14","v":100},{"$f":"SA!FO14-SA!FN14","v":100},{"$f":"SA!FP14-SA!FO14","v":100},{"$f":"SA!FQ14-SA!FP14","v":100},{"$f":"SA!FR14-SA!FQ14","v":-200},{"$f":"SA!FS14-SA!FR14","v":200},{"$f":"SA!FT14-SA!FS14","v":300},{"$f":"SA!FU14-SA!FT14","v":0},{"$f":"SA!FV14-SA!FU14","v":200},{"$f":"SA!FW14-SA!FV14","v":200},{"$f":"SA!FX14-SA!FW14","v":200},{"$f":"SA!FY14-SA!FX14","v":300},{"$f":"SA!FZ14-SA!FY14","v":-100},{"$f":"SA!GA14-SA!FZ14","v":-200},{"$f":"SA!GB14-SA!GA14","v":300},{"$f":"SA!GC14-SA!GB14","v":100},{"$f":"SA!GD14-SA!GC14","v":600},{"$f":"SA!GE14-SA!GD14","v":-100},{"$f":"SA!GF14-SA!GE14","v":200},{"$f":"SA!GG14-SA!GF14","v":300},{"$f":"SA!GH14-SA!GG14","v":400},{"$f":"SA!GI14-SA!GH14","v":200},{"$f":"SA!GJ14-SA!GI14","v":300},{"$f":"SA!GK14-SA!GJ14","v":100},{"$f":"SA!GL14-SA!GK14","v":0},{"$f":"SA!GM14-SA!GL14","v":600},{"$f":"SA!GN14-SA!GM14","v":400},{"$f":"SA!GO14-SA!GN14","v":0},{"$f":"SA!GP14-SA!GO14","v":100},{"$f":"SA!GQ14-SA!GP14","v":200},{"$f":"SA!GR14-SA!GQ14","v":100},{"$f":"SA!GS14-SA!GR14","v":100},{"$f":"SA!GT14-SA!GS14","v":-100},{"$f":"SA!GU14-SA!GT14","v":-300},{"$f":"SA!GV14-SA!GU14","v":500},{"$f":"SA!GW14-SA!GV14","v":0},{"$f":"SA!GX14-SA!GW14","v":200},{"$f":"SA!GY14-SA!GX14","v":-300},{"$f":"SA!GZ14-SA!GY14","v":0},{"$f":"SA!HA14-SA!GZ14","v":300},{"$f":"SA!HB14-SA!HA14","v":0},{"$f":"SA!HC14-SA!HB14","v":200},{"$f":"SA!HD14-SA!HC14","v":100},{"$f":"SA!HE14-SA!HD14","v":-300},{"$f":"SA!HF14-SA!HE14","v":400},{"$f":"SA!HG14-SA!HF14","v":200},{"$f":"SA!HH14-SA!HG14","v":-100},{"$f":"SA!HI14-SA!HH14","v":400},{"$f":"SA!HJ14-SA!HI14","v":200},{"$f":"SA!HK14-SA!HJ14","v":-1000},{"$f":"SA!HL14-SA!HK14","v":500},{"$f":"SA!HM14-SA!HL14","v":-1000},{"$f":"SA!HN14-SA!HM14","v":700},{"$f":"SA!HO14-SA!HN14","v":400},{"$f":"SA!HP14-SA!HO14","v":-300},{"$f":"SA!HQ14-SA!HP14","v":-100},{"$f":"SA!HR14-SA!HQ14","v":200},{"$f":"SA!HS14-SA!HR14","v":400},{"$f":"SA!HT14-SA!HS14","v":200},{"$f":"SA!HU14-SA!HT14","v":-200},{"$f":"SA!HV14-SA!HU14","v":-1400},{"$f":"SA!HW14-SA!HV14","v":-900},{"$f":"SA!HX14-SA!HW14","v":600},{"$f":"SA!HY14-SA!HX14","v":1300},{"$f":"SA!HZ14-SA!HY14","v":3300},{"$f":"SA!IA14-SA!HZ14","v":-900},{"$f":"SA!IB14-SA!IA14","v":-200},{"$f":"SA!IC14-SA!IB14","v":-1000},{"$f":"SA!ID14-SA!IC14","v":100},{"$f":"SA!IE14-SA!ID14","v":700},{"$f":"SA!IF14-SA!IE14","v":0},{"$f":"SA!IG14-SA!IF14","v":700},{"$f":"SA!IH14-SA!IG14","v":-300},{"$f":"SA!II14-SA!IH14","v":-1100},{"$f":"SA!IJ14-SA!II14","v":-1300},{"$f":"SA!IK14-SA!IJ14","v":1700},{"$f":"SA!IL14-SA!IK14","v":-127100},1779.89,{"$f":"COUNTIF(EY54:FY54, \">\" &GA54)","v":1},null,"  Wholesale Trade",-1600,-300,-100,100,200,200,400,3300,464.19807210425057]
["  Retail Trade",{"$f":"SA!BN15-SA!BM15","v":-1100},{"$f":"SA!BO15-SA!BN15","v":1000},{"$f":"SA!BP15-SA!BO15","v":200},{"$f":"SA!BQ15-SA!BP15","v":600},{"$f":"SA!BR15-SA!BQ15","v":-500},{"$f":"SA!BS15-SA!BR15","v":-1600},{"$f":"SA!BT15-SA!BS15","v":1600},{"$f":"SA!BU15-SA!BT15","v":900},{"$f":"SA!BV15-SA!BU15","v":-300},{"$f":"SA!BW15-SA!BV15","v":2600},{"$f":"SA!BX15-SA!BW15","v":-500},{"$f":"SA!BY15-SA!BX15","v":400},{"$f":"SA!BZ15-SA!BY15","v":-6000},{"$f":"SA!CA15-SA!BZ15","v":700},{"$f":"SA!CB15-SA!CA15","v":0},{"$f":"SA!CC15-SA!CB15","v":200},{"$f":"SA!CD15-SA!CC15","v":-800},{"$f":"SA!CE15-SA!CD15","v":100},{"$f":"SA!CF15-SA!CE15","v":-900},{"$f":"SA!CG15-SA!CF15","v":600},{"$f":"SA!CH15-SA!CG15","v":-300},{"$f":"SA!CI15-SA!CH15","v":200},{"$f":"SA!CJ15-SA!CI15","v":1400},{"$f":"SA!CK15-SA!CJ15","v":700},{"$f":"SA!CL15-SA!CK15","v":1000},{"$f":"SA!CM15-SA!CL15","v":-600},{"$f":"SA!CN15-SA!CM15","v":400},{"$f":"SA!CO15-SA!CN15","v":-1400},{"$f":"SA!CP15-SA!CO15","v":1200},{"$f":"SA!CQ15-SA!CP15","v":-700},{"$f":"SA!CR15-SA!CQ15","v":200},{"$f":"SA!CS15-SA!CR15","v":-2100},{"$f":"SA!CT15-SA!CS15","v":100},{"$f":"SA!CU15-SA!CT15","v":-1000},{"$f":"SA!CV15-SA!CU15","v":0},{"$f":"SA!CW15-SA!CV15","v":-300},{"$f":"SA!CX15-SA!CW15","v":800},{"$f":"SA!CY15-SA!CX15","v":-300},{"$f":"SA!CZ15-SA!CY15","v":-100},{"$f":"SA!DA15-SA!CZ15","v":200},{"$f":"SA!DB15-SA!DA15","v":-1400},{"$f":"SA!DC15-SA!DB15","v":-700},{"$f":"SA!DD15-SA!DC15","v":0},{"$f":"SA!DE15-SA!DD15","v":-700},{"$f":"SA!DF15-SA!DE15","v":-800},{"$f":"SA!DG15-SA!DF15","v":-1400},{"$f":"SA!DH15-SA!DG15","v":-2600},{"$f":"SA!DI15-SA!DH15","v":-600},{"$f":"SA!DJ15-SA!DI15","v":-1900},{"$f":"SA!DK15-SA!DJ15","v":-900},{"$f":"SA!DL15-SA!DK15","v":-1900},{"$f":"SA!DM15-SA!DL15","v":-1000},{"$f":"SA!DN15-SA!DM15","v":-100},{"$f":"SA!DO15-SA!DN15","v":-400},{"$f":"SA!DP15-SA!DO15","v":-1100},{"$f":"SA!DQ15-SA!DP15","v":-500},{"$f":"SA!DR15-SA!DQ15","v":-900},{"$f":"SA!DS15-SA!DR15","v":-400},{"$f":"SA!DT15-SA!DS15","v":-1100},{"$f":"SA!DU15-SA!DT15","v":-900},{"$f":"SA!DV15-SA!DU15","v":200},{"$f":"SA!DW15-SA!DV15","v":-400},{"$f":"SA!DX15-SA!DW15","v":400},{"$f":"SA!DY15-SA!DX15","v":-100},{"$f":"SA!DZ15-SA!DY15","v":0},{"$f":"SA!EA15-SA!DZ15","v":-500},{"$f":"SA!EB15-SA!EA15","v":-200},{"$f":"SA!EC15-SA!EB15","v":200},{"$f":"SA!ED15-SA!EC15","v":-100},{"$f":"SA!EE15-SA!ED15","v":1700},{"$f":"SA!EF15-SA!EE15","v":-1100},{"$f":"SA!EG15-SA!EF15","v":200},{"$f":"SA!EH15-SA!EG15","v":100},{"$f":"SA!EI15-SA!EH15","v":0},{"$f":"SA!EJ15-SA!EI15","v":500},{"$f":"SA!EK15-SA!EJ15","v":1400},{"$f":"SA!EL15-SA!EK15","v":-1600},{"$f":"SA!EM15-SA!EL15","v":-400},{"$f":"SA!EN15-SA!EM15","v":1000},{"$f":"SA!EO15-SA!EN15","v":600},{"$f":"SA!EP15-SA!EO15","v":300},{"$f":"SA!EQ15-SA!EP15","v":-100},{"$f":"SA!ER15-SA!EQ15","v":400},{"$f":"SA!ES15-SA!ER15","v":-200},{"$f":"SA!ET15-SA!ES15","v":0},{"$f":"SA!EU15-SA!ET15","v":-400},{"$f":"SA!EV15-SA!EU15","v":-100},{"$f":"SA!EW15-SA!EV15","v":-800},{"$f":"SA!EX15-SA!EW15","v":200},{"$f":"SA!EY15-SA!EX15","v":-400},{"$f":"SA!EZ15-SA!EY15","v":-500},{"$f":"SA!FA15-SA!EZ15","v":400},{"$f":"SA!FB15-SA!FA15","v":800},{"$f":"SA!FC15-SA!FB15","v":900},{"$f":"SA!FD15-SA!FC15","v":1700},{"$f":"SA!FE15-SA!FD15","v":-800},{"$f":"SA!FF15-SA!FE15","v":-700},{"$f":"SA!FG15-SA!FF15","v":800},{"$f":"SA!FH15-SA!FG15","v":-100},{"$f":"SA!FI15-SA!FH15","v":700},{"$f":"SA!FJ15-SA!FI15","v":600},{"$f":"SA!FK15-SA!FJ15","v":1000},{"$f":"SA!FL15-SA!FK15","v":200},{"$f":"SA!FM15-SA!FL15","v":300},{"$f":"SA!FN15-SA!FM15","v":200},{"$f":"SA!FO15-SA!FN15","v":300},{"$f":"SA!FP15-SA!FO15","v":200},{"$f":"SA!FQ15-SA!FP15","v":1500},{"$f":"SA!FR15-SA!FQ15","v":0},{"$f":"SA!FS15-SA!FR15","v":400},{"$f":"SA!FT15-SA!FS15","v":500},{"$f":"SA!FU15-SA!FT15","v":1100},{"$f":"SA!FV15-SA!FU15","v":-600},{"$f":"SA!FW15-SA!FV15","v":400},{"$f":"SA!FX15-SA!FW15","v":200},{"$f":"SA!FY15-SA!FX15","v":-400},{"$f":"SA!FZ15-SA!FY15","v":300},{"$f":"SA!GA15-SA!FZ15","v":-300},{"$f":"SA!GB15-SA!GA15","v":1200},{"$f":"SA!GC15-SA!GB15","v":-700},{"$f":"SA!GD15-SA!GC15","v":-200},{"$f":"SA!GE15-SA!GD15","v":-200},{"$f":"SA!GF15-SA!GE15","v":700},{"$f":"SA!GG15-SA!GF15","v":-700},{"$f":"SA!GH15-SA!GG15","v":1200},{"$f":"SA!GI15-SA!GH15","v":0},{"$f":"SA!GJ15-SA!GI15","v":300},{"$f":"SA!GK15-SA!GJ15","v":1000},{"$f":"SA!GL15-SA!GK15","v":1500},{"$f":"SA!GM15-SA!GL15","v":-500},{"$f":"SA!GN15-SA!GM15","v":-300},{"$f":"SA!GO15-SA!GN15","v":-1700},{"$f":"SA!GP15-SA!GO15","v":3000},{"$f":"SA!GQ15-SA!GP15","v":1000},{"$f":"SA!GR15-SA!GQ15","v":-300},{"$f":"SA!GS15-SA!GR15","v":1600},{"$f":"SA!GT15-SA!GS15","v":-700},{"$f":"SA!GU15-SA!GT15","v":-300},{"$f":"SA!GV15-SA!GU15","v":800},{"$f":"SA!GW15-SA!GV15","v":-200},{"$f":"SA!GX15-SA!GW15","v":-300},{"$f":"SA!GY15-SA!GX15","v":100},{"$f":"SA!GZ15-SA!GY15","v":-900},{"$f":"SA!HA15-SA!GZ15","v":-700},{"$f":"SA!HB15-SA!HA15","v":2700},{"$f":"SA!HC15-SA!HB15","v":1300},{"$f":"SA!HD15-SA!HC15","v":-1200},{"$f":"SA!HE15-SA!HD15","v":-500},{"$f":"SA!HF15-SA!HE15","v":-1000},{"$f":"SA!HG15-SA!HF15","v":-100},{"$f":"SA!HH15-SA!HG15","v":-600},{"$f":"SA!HI15-SA!HH15","v":-100},{"$f":"SA!HJ15-SA!HI15","v":-400},{"$f":"SA!HK15-SA!HJ15","v":-3900},{"$f":"SA!HL15-SA!HK15","v":1000},{"$f":"SA!HM15-SA!HL15","v":-600},{"$f":"SA!HN15-SA!HM15","v":900},{"$f":"SA!HO15-SA!HN15","v":2000},{"$f":"SA!HP15-SA!HO15","v":1100},{"$f":"SA!HQ15-SA!HP15","v":-900},{"$f":"SA!HR15-SA!HQ15","v":-1200},{"$f":"SA!HS15-SA!HR15","v":500},{"$f":"SA!HT15-SA!HS15","v":-100},{"$f":"SA!HU15-SA!HT15","v":-400},{"$f":"SA!HV15-SA!HU15","v":-2500},{"$f":"SA!HW15-SA!HV15","v":-2700},{"$f":"SA!HX15-SA!HW15","v":2300},{"$f":"SA!HY15-SA!HX15","v":300},{"$f":"SA!HZ15-SA!HY15","v":4800},{"$f":"SA!IA15-SA!HZ15","v":2900},{"$f":"SA!IB15-SA!IA15","v":-1200},{"$f":"SA!IC15-SA!IB15","v":-1500},{"$f":"SA!ID15-SA!IC15","v":-500},{"$f":"SA!IE15-SA!ID15","v":-800},{"$f":"SA!IF15-SA!IE15","v":0},{"$f":"SA!IG15-SA!IF15","v":500},{"$f":"SA!IH15-SA!IG15","v":1800},{"$f":"SA!II15-SA!IH15","v":400},{"$f":"SA!IJ15-SA!II15","v":700},{"$f":"SA!IK15-SA!IJ15","v":800},{"$f":"SA!IL15-SA!IK15","v":-311100},2577.7150000000001,{"$f":"COUNTIF(EY55:FY55, \">\" &GA55)","v":2},null,"  Retail Trade",-6000,-900,-500,-150,0,400,1000,4800,1157.3177935785386]
["  Transportation, Warehousing, and Utilities",{"$f":"SA!BN16-SA!BM16","v":0},{"$f":"SA!BO16-SA!BN16","v":0},{"$f":"SA!BP16-SA!BO16","v":400},{"$f":"SA!BQ16-SA!BP16","v":200},{"$f":"SA!BR16-SA!BQ16","v":-200},{"$f":"SA!BS16-SA!BR16","v":-100},{"$f":"SA!BT16-SA!BS16","v":400},{"$f":"SA!BU16-SA!BT16","v":200},{"$f":"SA!BV16-SA!BU16","v":0},{"$f":"SA!BW16-SA!BV16","v":-700},{"$f":"SA!BX16-SA!BW16","v":600},{"$f":"SA!BY16-SA!BX16","v":300},{"$f":"SA!BZ16-SA!BY16","v":600},{"$f":"SA!CA16-SA!BZ16","v":200},{"$f":"SA!CB16-SA!CA16","v":100},{"$f":"SA!CC16-SA!CB16","v":-100},{"$f":"SA!CD16-SA!CC16","v":0},{"$f":"SA!CE16-SA!CD16","v":300},{"$f":"SA!CF16-SA!CE16","v":-400},{"$f":"SA!CG16-SA!CF16","v":200},{"$f":"SA!CH16-SA!CG16","v":300},{"$f":"SA!CI16-SA!CH16","v":-300},{"$f":"SA!CJ16-SA!CI16","v":-100},{"$f":"SA!CK16-SA!CJ16","v":600},{"$f":"SA!CL16-SA!CK16","v":-200},{"$f":"SA!CM16-SA!CL16","v":100},{"$f":"SA!CN16-SA!CM16","v":-100},{"$f":"SA!CO16-SA!CN16","v":-300},{"$f":"SA!CP16-SA!CO16","v":500},{"$f":"SA!CQ16-SA!CP16","v":700},{"$f":"SA!CR16-SA!CQ16","v":-1400},{"$f":"SA!CS16-SA!CR16","v":600},{"$f":"SA!CT16-SA!CS16","v":-100},{"$f":"SA!CU16-SA!CT16","v":100},{"$f":"SA!CV16-SA!CU16","v":300},{"$f":"SA!CW16-SA!CV16","v":-100},{"$f":"SA!CX16-SA!CW16","v":200},{"$f":"SA!CY16-SA!CX16","v":-300},{"$f":"SA!CZ16-SA!CY16","v":-400},{"$f":"SA!DA16-SA!CZ16","v":-500},{"$f":"SA!DB16-SA!DA16","v":-400},{"$f":"SA!DC16-SA!DB16","v":-600},{"$f":"SA!DD16-SA!DC16","v":-200},{"$f":"SA!DE16-SA!DD16","v":-300},{"$f":"SA!DF16-SA!DE16","v":-700},{"$f":"SA!DG16-SA!DF16","v":-200},{"$f":"SA!DH16-SA!DG16","v":-300},{"$f":"SA!DI16-SA!DH16","v":-500},{"$f":"SA!DJ16-SA!DI16","v":-900},{"$f":"SA!DK16-SA!DJ16","v":-500},{"$f":"SA!DL16-SA!DK16","v":-700},{"$f":"SA!DM16-SA!DL16","v":0},{"$f":"SA!DN16-SA!DM16","v":600},{"$f":"SA!DO16-SA!DN16","v":100},{"$f":"SA!DP16-SA!DO16","v":-1000},{"$f":"SA!DQ16-SA!DP16","v":100},{"$f":"SA!DR16-SA!DQ16","v":-400},{"$f":"SA!DS16-SA!DR16","v":-600},{"$f":"SA!DT16-SA!DS16","v":-500},{"$f":"SA!DU16-SA!DT16","v":-400},{"$f":"SA!DV16-SA!DU16","v":0},{"$f":"SA!DW16-SA!DV16","v":200},{"$f":"SA!DX16-SA!DW16","v":-100},{"$f":"SA!DY16-SA!DX16","v":200},{"$f":"SA!DZ16-SA!DY16","v":-300},{"$f":"SA!EA16-SA!DZ16","v":200},{"$f":"SA!EB16-SA!EA16","v":0},{"$f":"SA!EC16-SA!EB16","v":-600},{"$f":"SA!ED16-SA!EC16","v":-200},{"$f":"SA!EE16-SA!ED16","v":300},{"$f":"SA!EF16-SA!EE16","v":-300},{"$f":"SA!EG16-SA!EF16","v":0},{"$f":"SA!EH16-SA!EG16","v":-100},{"$f":"SA!EI16-SA!EH16","v":-300},{"$f":"SA!EJ16-SA!EI16","v":-100},{"$f":"SA!EK16-SA!EJ16","v":-200},{"$f":"SA!EL16-SA!EK16","v":-200},{"$f":"SA!EM16-SA!EL16","v":-100},{"$f":"SA!EN16-SA!EM16","v":200},{"$f":"SA!EO16-SA!EN16","v":0},{"$f":"SA!EP16-SA!EO16","v":100},{"$f":"SA!EQ16-SA!EP16","v":-200},{"$f":"SA!ER16-SA!EQ16","v":0},{"$f":"SA!ES16-SA!ER16","v":-100},{"$f":"SA!ET16-SA!ES16","v":-100},{"$f":"SA!EU16-SA!ET16","v":-100},{"$f":"SA!EV16-SA!EU16","v":-300},{"$f":"SA!EW16-SA!EV16","v":-400},{"$f":"SA!EX16-SA!EW16","v":700},{"$f":"SA!EY16-SA!EX16","v":100},{"$f":"SA!EZ16-SA!EY16","v":100},{"$f":"SA!FA16-SA!EZ16","v":-300},{"$f":"SA!FB16-SA!FA16","v":300},{"$f":"SA!FC16-SA!FB16","v":-100},{"$f":"SA!FD16-SA!FC16","v":-200},{"$f":"SA!FE16-SA!FD16","v":100},{"$f":"SA!FF16-SA!FE16","v":-100},{"$f":"SA!FG16-SA!FF16","v":100},{"$f":"SA!FH16-SA!FG16","v":200},{"$f":"SA!FI16-SA!FH16","v":-300},{"$f":"SA!FJ16-SA!FI16","v":-100},{"$f":"SA!FK16-SA!FJ16","v":-500},{"$f":"SA!FL16-SA!FK16","v":200},{"$f":"SA!FM16-SA!FL16","v":400},{"$f":"SA!FN16-SA!FM16","v":-300},{"$f":"SA!FO16-SA!FN16","v":200},{"$f":"SA!FP16-SA!FO16","v":100},{"$f":"SA!FQ16-SA!FP16","v":-300},{"$f":"SA!FR16-SA!FQ16","v":600},{"$f":"SA!FS16-SA!FR16","v":300},{"$f":"SA!FT16-SA!FS16","v":0},{"$f":"SA!FU16-SA!FT16","v":600},{"$f":"SA!FV16-SA!FU16","v":-200},{"$f":"SA!FW16-SA!FV16","v":0},{"$f":"SA!FX16-SA!FW16","v":0},{"$f":"SA!FY16-SA!FX16","v":100},{"$f":"SA!FZ16-SA!FY16","v":200},{"$f":"SA!GA16-SA!FZ16","v":200},{"$f":"SA!GB16-SA!GA16","v":700},{"$f":"SA!GC16-SA!GB16","v":0},{"$f":"SA!GD16-SA!GC16","v":0},{"$f":"SA!GE16-SA!GD16","v":0},{"$f":"SA!GF16-SA!GE16","v":400},{"$f":"SA!GG16-SA!GF16","v":-100},{"$f":"SA!GH16-SA!GG16","v":400},{"$f":"SA!GI16-SA!GH16","v":500},{"$f":"SA!GJ16-SA!GI16","v":2000},{"$f":"SA!GK16-SA!GJ16","v":400},{"$f":"SA!GL16-SA!GK16","v":300},{"$f":"SA!GM16-SA!GL16","v":0},{"$f":"SA!GN16-SA!GM16","v":-200},{"$f":"SA!GO16-SA!GN16","v":200},{"$f":"SA!GP16-SA!GO16","v":-100},{"$f":"SA!GQ16-SA!GP16","v":400},{"$f":"SA!GR16-SA!GQ16","v":-200},{"$f":"SA!GS16-SA!GR16","v":200},{"$f":"SA!GT16-SA!GS16","v":100},{"$f":"SA!GU16-SA!GT16","v":200},{"$f":"SA!GV16-SA!GU16","v":300},{"$f":"SA!GW16-SA!GV16","v":100},{"$f":"SA!GX16-SA!GW16","v":0},{"$f":"SA!GY16-SA!GX16","v":100},{"$f":"SA!GZ16-SA!GY16","v":400},{"$f":"SA!HA16-SA!GZ16","v":100},{"$f":"SA!HB16-SA!HA16","v":300},{"$f":"SA!HC16-SA!HB16","v":-300},{"$f":"SA!HD16-SA!HC16","v":100},{"$f":"SA!HE16-SA!HD16","v":100},{"$f":"SA!HF16-SA!HE16","v":100},{"$f":"SA!HG16-SA!HF16","v":-300},{"$f":"SA!HH16-SA!HG16","v":400},{"$f":"SA!HI16-SA!HH16","v":200},{"$f":"SA!HJ16-SA!HI16","v":0},{"$f":"SA!HK16-SA!HJ16","v":200},{"$f":"SA!HL16-SA!HK16","v":-200},{"$f":"SA!HM16-SA!HL16","v":2600},{"$f":"SA!HN16-SA!HM16","v":200},{"$f":"SA!HO16-SA!HN16","v":-1500},{"$f":"SA!HP16-SA!HO16","v":1700},{"$f":"SA!HQ16-SA!HP16","v":-1100},{"$f":"SA!HR16-SA!HQ16","v":0},{"$f":"SA!HS16-SA!HR16","v":200},{"$f":"SA!HT16-SA!HS16","v":1800},{"$f":"SA!HU16-SA!HT16","v":0},{"$f":"SA!HV16-SA!HU16","v":0},{"$f":"SA!HW16-SA!HV16","v":600},{"$f":"SA!HX16-SA!HW16","v":0},{"$f":"SA!HY16-SA!HX16","v":500},{"$f":"SA!HZ16-SA!HY16","v":-1700},{"$f":"SA!IA16-SA!HZ16","v":-1300},{"$f":"SA!IB16-SA!IA16","v":900},{"$f":"SA!IC16-SA!IB16","v":100},{"$f":"SA!ID16-SA!IC16","v":-300},{"$f":"SA!IE16-SA!ID16","v":1000},{"$f":"SA!IF16-SA!IE16","v":600},{"$f":"SA!IG16-SA!IF16","v":-500},{"$f":"SA!IH16-SA!IG16","v":100},{"$f":"SA!II16-SA!IH16","v":-200},{"$f":"SA!IJ16-SA!II16","v":-500},{"$f":"SA!IK16-SA!IJ16","v":-1800},{"$f":"SA!IL16-SA!IK16","v":-110000},2130.2750000000001,{"$f":"COUNTIF(EY56:FY56, \">\" &GA56)","v":1},null,"  Transportation, Warehousing, and Utilities",-1700,-300,-200,0,100,200,400,2600,499.70405442805276]
["Information",{"$f":"SA!BN17-SA!BM17","v":100},{"$f":"SA!BO17-SA!BN17","v":100},{"$f":"SA!BP17-SA!BO17","v":-100},{"$f":"SA!BQ17-SA!BP17","v":400},{"$f":"SA!BR17-SA!BQ17","v":-100},{"$f":"SA!BS17-SA!BR17","v":100},{"$f":"SA!BT17-SA!BS17","v":-300},{"$f":"SA!BU17-SA!BT17","v":0},{"$f":"SA!BV17-SA!BU17","v":100},{"$f":"SA!BW17-SA!BV17","v":-200},{"$f":"SA!BX17-SA!BW17","v":0},{"$f":"SA!BY17-SA!BX17","v":0},{"$f":"SA!BZ17-SA!BY17","v":0},{"$f":"SA!CA17-SA!BZ17","v":0},{"$f":"SA!CB17-SA!CA17","v":-100},{"$f":"SA!CC17-SA!CB17","v":-300},{"$f":"SA!CD17-SA!CC17","v":-100},{"$f":"SA!CE17-SA!CD17","v":-100},{"$f":"SA!CF17-SA!CE17","v":100},{"$f":"SA!CG17-SA!CF17","v":0},{"$f":"SA!CH17-SA!CG17","v":0},{"$f":"SA!CI17-SA!CH17","v":200},{"$f":"SA!CJ17-SA!CI17","v":100},{"$f":"SA!CK17-SA!CJ17","v":100},{"$f":"SA!CL17-SA!CK17","v":300},{"$f":"SA!CM17-SA!CL17","v":0},{"$f":"SA!CN17-SA!CM17","v":0},{"$f":"SA!CO17-SA!CN17","v":200},{"$f":"SA!CP17-SA!CO17","v":100},{"$f":"SA!CQ17-SA!CP17","v":200},{"$f":"SA!CR17-SA!CQ17","v":200},{"$f":"SA!CS17-SA!CR17","v":0},{"$f":"SA!CT17-SA!CS17","v":0},{"$f":"SA!CU17-SA!CT17","v":0},{"$f":"SA!CV17-SA!CU17","v":-100},{"$f":"SA!CW17-SA!CV17","v":0},{"$f":"SA!CX17-SA!CW17","v":-100},{"$f":"SA!CY17-SA!CX17","v":0},{"$f":"SA!CZ17-SA!CY17","v":0},{"$f":"SA!DA17-SA!CZ17","v":200},{"$f":"SA!DB17-SA!DA17","v":700},{"$f":"SA!DC17-SA!DB17","v":-500},{"$f":"SA!DD17-SA!DC17","v":-400},{"$f":"SA!DE17-SA!DD17","v":-200},{"$f":"SA!DF17-SA!DE17","v":-200},{"$f":"SA!DG17-SA!DF17","v":-200},{"$f":"SA!DH17-SA!DG17","v":-300},{"$f":"SA!DI17-SA!DH17","v":-100},{"$f":"SA!DJ17-SA!DI17","v":-100},{"$f":"SA!DK17-SA!DJ17","v":100},{"$f":"SA!DL17-SA!DK17","v":-500},{"$f":"SA!DM17-SA!DL17","v":-500},{"$f":"SA!DN17-SA!DM17","v":100},{"$f":"SA!DO17-SA!DN17","v":-200},{"$f":"SA!DP17-SA!DO17","v":-400},{"$f":"SA!DQ17-SA!DP17","v":-200},{"$f":"SA!DR17-SA!DQ17","v":-100},{"$f":"SA!DS17-SA!DR17","v":-600},{"$f":"SA!DT17-SA!DS17","v":100},{"$f":"SA!DU17-SA!DT17","v":100},{"$f":"SA!DV17-SA!DU17","v":-300},{"$f":"SA!DW17-SA!DV17","v":-300},{"$f":"SA!DX17-SA!DW17","v":100},{"$f":"SA!DY17-SA!DX17","v":-200},{"$f":"SA!DZ17-SA!DY17","v":100},{"$f":"SA!EA17-SA!DZ17","v":200},{"$f":"SA!EB17-SA!EA17","v":0},{"$f":"SA!EC17-SA!EB17","v":100},{"$f":"SA!ED17-SA!EC17","v":0},{"$f":"SA!EE17-SA!ED17","v":-300},{"$f":"SA!EF17-SA!EE17","v":400},{"$f":"SA!EG17-SA!EF17","v":0},{"$f":"SA!EH17-SA!EG17","v":0},{"$f":"SA!EI17-SA!EH17","v":100},{"$f":"SA!EJ17-SA!EI17","v":-100},{"$f":"SA!EK17-SA!EJ17","v":200},{"$f":"SA!EL17-SA!EK17","v":-200},{"$f":"SA!EM17-SA!EL17","v":-400},{"$f":"SA!EN17-SA!EM17","v":300},{"$f":"SA!EO17-SA!EN17","v":-100},{"$f":"SA!EP17-SA!EO17","v":100},{"$f":"SA!EQ17-SA!EP17","v":-100},{"$f":"SA!ER17-SA!EQ17","v":0},{"$f":"SA!ES17-SA!ER17","v":-100},{"$f":"SA!ET17-SA!ES17","v":-200},{"$f":"SA!EU17-SA!ET17","v":0},{"$f":"SA!EV17-SA!EU17","v":-100},{"$f":"SA!EW17-SA!EV17","v":100},{"$f":"SA!EX17-SA!EW17","v":-100},{"$f":"SA!EY17-SA!EX17","v":300},{"$f":"SA!EZ17-SA!EY17","v":-200},{"$f":"SA!FA17-SA!EZ17","v":100},{"$f":"SA!FB17-SA!FA17","v":100},{"$f":"SA!FC17-SA!FB17","v":0},{"$f":"SA!FD17-SA!FC17","v":100},{"$f":"SA!FE17-SA!FD17","v":-200},{"$f":"SA!FF17-SA!FE17","v":400},{"$f":"SA!FG17-SA!FF17","v":100},{"$f":"SA!FH17-SA!FG17","v":100},{"$f":"SA!FI17-SA!FH17","v":100},{"$f":"SA!FJ17-SA!FI17","v":100},{"$f":"SA!FK17-SA!FJ17","v":0},{"$f":"SA!FL17-SA!FK17","v":0},{"$f":"SA!FM17-SA!FL17","v":0},{"$f":"SA!FN17-SA!FM17","v":0},{"$f":"SA!FO17-SA!FN17","v":100},{"$f":"SA!FP17-SA!FO17","v":0},{"$f":"SA!FQ17-SA!FP17","v":100},{"$f":"SA!FR17-SA!FQ17","v":0},{"$f":"SA!FS17-SA!FR17","v":100},{"$f":"SA!FT17-SA!FS17","v":100},{"$f":"SA!FU17-SA!FT17","v":-100},{"$f":"SA!FV17-SA!FU17","v":100},{"$f":"SA!FW17-SA!FV17","v":100},{"$f":"SA!FX17-SA!FW17","v":200},{"$f":"SA!FY17-SA!FX17","v":100},{"$f":"SA!FZ17-SA!FY17","v":-200},{"$f":"SA!GA17-SA!FZ17","v":300},{"$f":"SA!GB17-SA!GA17","v":100},{"$f":"SA!GC17-SA!GB17","v":100},{"$f":"SA!GD17-SA!GC17","v":200},{"$f":"SA!GE17-SA!GD17","v":-200},{"$f":"SA!GF17-SA!GE17","v":0},{"$f":"SA!GG17-SA!GF17","v":100},{"$f":"SA!GH17-SA!GG17","v":200},{"$f":"SA!GI17-SA!GH17","v":-100},{"$f":"SA!GJ17-SA!GI17","v":400},{"$f":"SA!GK17-SA!GJ17","v":400},{"$f":"SA!GL17-SA!GK17","v":-100},{"$f":"SA!GM17-SA!GL17","v":100},{"$f":"SA!GN17-SA!GM17","v":0},{"$f":"SA!GO17-SA!GN17","v":-100},{"$f":"SA!GP17-SA!GO17","v":0},{"$f":"SA!GQ17-SA!GP17","v":0},{"$f":"SA!GR17-SA!GQ17","v":100},{"$f":"SA!GS17-SA!GR17","v":0},{"$f":"SA!GT17-SA!GS17","v":0},{"$f":"SA!GU17-SA!GT17","v":-400},{"$f":"SA!GV17-SA!GU17","v":100},{"$f":"SA!GW17-SA!GV17","v":100},{"$f":"SA!GX17-SA!GW17","v":-300},{"$f":"SA!GY17-SA!GX17","v":-100},{"$f":"SA!GZ17-SA!GY17","v":-100},{"$f":"SA!HA17-SA!GZ17","v":-100},{"$f":"SA!HB17-SA!HA17","v":0},{"$f":"SA!HC17-SA!HB17","v":0},{"$f":"SA!HD17-SA!HC17","v":0},{"$f":"SA!HE17-SA!HD17","v":-400},{"$f":"SA!HF17-SA!HE17","v":-200},{"$f":"SA!HG17-SA!HF17","v":-200},{"$f":"SA!HH17-SA!HG17","v":-200},{"$f":"SA!HI17-SA!HH17","v":-200},{"$f":"SA!HJ17-SA!HI17","v":-100},{"$f":"SA!HK17-SA!HJ17","v":-200},{"$f":"SA!HL17-SA!HK17","v":-300},{"$f":"SA!HM17-SA!HL17","v":200},{"$f":"SA!HN17-SA!HM17","v":-200},{"$f":"SA!HO17-SA!HN17","v":-100},{"$f":"SA!HP17-SA!HO17","v":0},{"$f":"SA!HQ17-SA!HP17","v":0},{"$f":"SA!HR17-SA!HQ17","v":-100},{"$f":"SA!HS17-SA!HR17","v":-300},{"$f":"SA!HT17-SA!HS17","v":-100},{"$f":"SA!HU17-SA!HT17","v":0},{"$f":"SA!HV17-SA!HU17","v":400},{"$f":"SA!HW17-SA!HV17","v":400},{"$f":"SA!HX17-SA!HW17","v":500},{"$f":"SA!HY17-SA!HX17","v":100},{"$f":"SA!HZ17-SA!HY17","v":100},{"$f":"SA!IA17-SA!HZ17","v":-200},{"$f":"SA!IB17-SA!IA17","v":100},{"$f":"SA!IC17-SA!IB17","v":300},{"$f":"SA!ID17-SA!IC17","v":-200},{"$f":"SA!IE17-SA!ID17","v":200},{"$f":"SA!IF17-SA!IE17","v":500},{"$f":"SA!IG17-SA!IF17","v":100},{"$f":"SA!IH17-SA!IG17","v":0},{"$f":"SA!II17-SA!IH17","v":-100},{"$f":"SA!IJ17-SA!II17","v":100},{"$f":"SA!IK17-SA!IJ17","v":100},{"$f":"SA!IL17-SA!IK17","v":-48600},825.79,{"$f":"COUNTIF(EY57:FY57, \">\" &GA57)","v":0},null,"Information",-600,-200,-100,0,0,100,100,700,200.60306124205977]
["Financial Activities",{"$f":"SA!BN18-SA!BM18","v":-500},{"$f":"SA!BO18-SA!BN18","v":-600},{"$f":"SA!BP18-SA!BO18","v":600},{"$f":"SA!BQ18-SA!BP18","v":-100},{"$f":"SA!BR18-SA!BQ18","v":-100},{"$f":"SA!BS18-SA!BR18","v":300},{"$f":"SA!BT18-SA!BS18","v":300},{"$f":"SA!BU18-SA!BT18","v":100},{"$f":"SA!BV18-SA!BU18","v":200},{"$f":"SA!BW18-SA!BV18","v":-100},{"$f":"SA!BX18-SA!BW18","v":200},{"$f":"SA!BY18-SA!BX18","v":100},{"$f":"SA!BZ18-SA!BY18","v":0},{"$f":"SA!CA18-SA!BZ18","v":-200},{"$f":"SA!CB18-SA!CA18","v":300},{"$f":"SA!CC18-SA!CB18","v":600},{"$f":"SA!CD18-SA!CC18","v":400},{"$f":"SA!CE18-SA!CD18","v":0},{"$f":"SA!CF18-SA!CE18","v":600},{"$f":"SA!CG18-SA!CF18","v":-200},{"$f":"SA!CH18-SA!CG18","v":400},{"$f":"SA!CI18-SA!CH18","v":0},{"$f":"SA!CJ18-SA!CI18","v":100},{"$f":"SA!CK18-SA!CJ18","v":300},{"$f":"SA!CL18-SA!CK18","v":0},{"$f":"SA!CM18-SA!CL18","v":-100},{"$f":"SA!CN18-SA!CM18","v":-100},{"$f":"SA!CO18-SA!CN18","v":0},{"$f":"SA!CP18-SA!CO18","v":-300},{"$f":"SA!CQ18-SA!CP18","v":400},{"$f":"SA!CR18-SA!CQ18","v":-300},{"$f":"SA!CS18-SA!CR18","v":-400},{"$f":"SA!CT18-SA!CS18","v":300},{"$f":"SA!CU18-SA!CT18","v":1200},{"$f":"SA!CV18-SA!CU18","v":0},{"$f":"SA!CW18-SA!CV18","v":200},{"$f":"SA!CX18-SA!CW18","v":100},{"$f":"SA!CY18-SA!CX18","v":500},{"$f":"SA!CZ18-SA!CY18","v":-200},{"$f":"SA!DA18-SA!CZ18","v":100},{"$f":"SA!DB18-SA!DA18","v":300},{"$f":"SA!DC18-SA!DB18","v":-300},{"$f":"SA!DD18-SA!DC18","v":100},{"$f":"SA!DE18-SA!DD18","v":-200},{"$f":"SA!DF18-SA!DE18","v":-600},{"$f":"SA!DG18-SA!DF18","v":-400},{"$f":"SA!DH18-SA!DG18","v":-100},{"$f":"SA!DI18-SA!DH18","v":-300},{"$f":"SA!DJ18-SA!DI18","v":0},{"$f":"SA!DK18-SA!DJ18","v":-500},{"$f":"SA!DL18-SA!DK18","v":-400},{"$f":"SA!DM18-SA!DL18","v":-100},{"$f":"SA!DN18-SA!DM18","v":-200},{"$f":"SA!DO18-SA!DN18","v":-300},{"$f":"SA!DP18-SA!DO18","v":-600},{"$f":"SA!DQ18-SA!DP18","v":-100},{"$f":"SA!DR18-SA!DQ18","v":-700},{"$f":"SA!DS18-SA!DR18","v":-200},{"$f":"SA!DT18-SA!DS18","v":-300},{"$f":"SA!DU18-SA!DT18","v":-400},{"$f":"SA!DV18-SA!DU18","v":-400},{"$f":"SA!DW18-SA!DV18","v":-200},{"$f":"SA!DX18-SA!DW18","v":200},{"$f":"SA!DY18-SA!DX18","v":-600},{"$f":"SA!DZ18-SA!DY18","v":-200},{"$f":"SA!EA18-SA!DZ18","v":-300},{"$f":"SA!EB18-SA!EA18","v":0},{"$f":"SA!EC18-SA!EB18","v":-400},{"$f":"SA!ED18-SA!EC18","v":-100},{"$f":"SA!EE18-SA!ED18","v":200},{"$f":"SA!EF18-SA!EE18","v":-100},{"$f":"SA!EG18-SA!EF18","v":-100},{"$f":"SA!EH18-SA!EG18","v":-400},{"$f":"SA!EI18-SA!EH18","v":0},{"$f":"SA!EJ18-SA!EI18","v":0},{"$f":"SA!EK18-SA!EJ18","v":-100},{"$f":"SA!EL18-SA!EK18","v":-400},{"$f":"SA!EM18-SA!EL18","v":-100},{"$f":"SA!EN18-SA!EM18","v":200},{"$f":"SA!EO18-SA!EN18","v":-400},{"$f":"SA!EP18-SA!EO18","v":600},{"$f":"SA!EQ18-SA!EP18","v":-200},{"$f":"SA!ER18-SA!EQ18","v":-100},{"$f":"SA!ES18-SA!ER18","v":-100},{"$f":"SA!ET18-SA!ES18","v":700},{"$f":"SA!EU18-SA!ET18","v":-100},{"$f":"SA!EV18-SA!EU18","v":100},{"$f":"SA!EW18-SA!EV18","v":-300},{"$f":"SA!EX18-SA!EW18","v":0},{"$f":"SA!EY18-SA!EX18","v":-100},{"$f":"SA!EZ18-SA!EY18","v":0},{"$f":"SA!FA18-SA!EZ18","v":0},{"$f":"SA!FB18-SA!FA18","v":0},{"$f":"SA!FC18-SA!FB18","v":0},{"$f":"SA!FD18-SA!FC18","v":-200},{"$f":"SA!FE18-SA!FD18","v":100},{"$f":"SA!FF18-SA!FE18","v":-200},{"$f":"SA!FG18-SA!FF18","v":100},{"$f":"SA!FH18-SA!FG18","v":100},{"$f":"SA!FI18-SA!FH18","v":-400},{"$f":"SA!FJ18-SA!FI18","v":300},{"$f":"SA!FK18-SA!FJ18","v":0},{"$f":"SA!FL18-SA!FK18","v":100},{"$f":"SA!FM18-SA!FL18","v":-100},{"$f":"SA!FN18-SA!FM18","v":0},{"$f":"SA!FO18-SA!FN18","v":-300},{"$f":"SA!FP18-SA!FO18","v":0},{"$f":"SA!FQ18-SA!FP18","v":-100},{"$f":"SA!FR18-SA!FQ18","v":-1200},{"$f":"SA!FS18-SA!FR18","v":400},{"$f":"SA!FT18-SA!FS18","v":100},{"$f":"SA!FU18-SA!FT18","v":400},{"$f":"SA!FV18-SA!FU18","v":100},{"$f":"SA!FW18-SA!FV18","v":100},{"$f":"SA!FX18-SA!FW18","v":-100},{"$f":"SA!FY18-SA!FX18","v":400},{"$f":"SA!FZ18-SA!FY18","v":400},{"$f":"SA!GA18-SA!FZ18","v":-500},{"$f":"SA!GB18-SA!GA18","v":100},{"$f":"SA!GC18-SA!GB18","v":300},{"$f":"SA!GD18-SA!GC18","v":0},{"$f":"SA!GE18-SA!GD18","v":300},{"$f":"SA!GF18-SA!GE18","v":100},{"$f":"SA!GG18-SA!GF18","v":-200},{"$f":"SA!GH18-SA!GG18","v":400},{"$f":"SA!GI18-SA!GH18","v":100},{"$f":"SA!GJ18-SA!GI18","v":0},{"$f":"SA!GK18-SA!GJ18","v":-300},{"$f":"SA!GL18-SA!GK18","v":100},{"$f":"SA!GM18-SA!GL18","v":300},{"$f":"SA!GN18-SA!GM18","v":-100},{"$f":"SA!GO18-SA!GN18","v":0},{"$f":"SA!GP18-SA!GO18","v":-200},{"$f":"SA!GQ18-SA!GP18","v":200},{"$f":"SA!GR18-SA!GQ18","v":0},{"$f":"SA!GS18-SA!GR18","v":100},{"$f":"SA!GT18-SA!GS18","v":-100},{"$f":"SA!GU18-SA!GT18","v":100},{"$f":"SA!GV18-SA!GU18","v":700},{"$f":"SA!GW18-SA!GV18","v":0},{"$f":"SA!GX18-SA!GW18","v":0},{"$f":"SA!GY18-SA!GX18","v":200},{"$f":"SA!GZ18-SA!GY18","v":200},{"$f":"SA!HA18-SA!GZ18","v":-300},{"$f":"SA!HB18-SA!HA18","v":700},{"$f":"SA!HC18-SA!HB18","v":200},{"$f":"SA!HD18-SA!HC18","v":300},{"$f":"SA!HE18-SA!HD18","v":-300},{"$f":"SA!HF18-SA!HE18","v":-300},{"$f":"SA!HG18-SA!HF18","v":100},{"$f":"SA!HH18-SA!HG18","v":-100},{"$f":"SA!HI18-SA!HH18","v":-100},{"$f":"SA!HJ18-SA!HI18","v":-300},{"$f":"SA!HK18-SA!HJ18","v":-100},{"$f":"SA!HL18-SA!HK18","v":-800},{"$f":"SA!HM18-SA!HL18","v":-800},{"$f":"SA!HN18-SA!HM18","v":300},{"$f":"SA!HO18-SA!HN18","v":400},{"$f":"SA!HP18-SA!HO18","v":-800},{"$f":"SA!HQ18-SA!HP18","v":0},{"$f":"SA!HR18-SA!HQ18","v":-400},{"$f":"SA!HS18-SA!HR18","v":-300},{"$f":"SA!HT18-SA!HS18","v":200},{"$f":"SA!HU18-SA!HT18","v":-400},{"$f":"SA!HV18-SA!HU18","v":-200},{"$f":"SA!HW18-SA!HV18","v":1100},{"$f":"SA!HX18-SA!HW18","v":-300},{"$f":"SA!HY18-SA!HX18","v":800},{"$f":"SA!HZ18-SA!HY18","v":2400},{"$f":"SA!IA18-SA!HZ18","v":-200},{"$f":"SA!IB18-SA!IA18","v":400},{"$f":"SA!IC18-SA!IB18","v":-300},{"$f":"SA!ID18-SA!IC18","v":-200},{"$f":"SA!IE18-SA!ID18","v":1100},{"$f":"SA!IF18-SA!IE18","v":-100},{"$f":"SA!IG18-SA!IF18","v":-500},{"$f":"SA!IH18-SA!IG18","v":-1100},{"$f":"SA!II18-SA!IH18","v":-400},{"$f":"SA!IJ18-SA!II18","v":800},{"$f":"SA!IK18-SA!IJ18","v":100},{"$f":"SA!IL18-SA!IK18","v":-153200},1450.89,{"$f":"COUNTIF(EY58:FY58, \">\" &GA58)","v":1},null,"Financial Activities",-1200,-300,-200,-100,0,100,300,2400,389.07294030785681]
["Real Estate and Rental and Leasing",{"$f":"SA!BN20-SA!BM20","v":200},{"$f":"SA!BO20-SA!BN20","v":-200},{"$f":"SA!BP20-SA!BO20","v":200},{"$f":"SA!BQ20-SA!BP20","v":100},{"$f":"SA!BR20-SA!BQ20","v":-100},{"$f":"SA!BS20-SA!BR20","v":-100},{"$f":"SA!BT20-SA!BS20","v":300},{"$f":"SA!BU20-SA!BT20","v":-200},{"$f":"SA!BV20-SA!BU20","v":200},{"$f":"SA!BW20-SA!BV20","v":-200},{"$f":"SA!BX20-SA!BW20","v":100},{"$f":"SA!BY20-SA!BX20","v":100},{"$f":"SA!BZ20-SA!BY20","v":0},{"$f":"SA!CA20-SA!BZ20","v":-100},{"$f":"SA!CB20-SA!CA20","v":0},{"$f":"SA!CC20-SA!CB20","v":100},{"$f":"SA!CD20-SA!CC20","v":0},{"$f":"SA!CE20-SA!CD20","v":100},{"$f":"SA!CF20-SA!CE20","v":200},{"$f":"SA!CG20-SA!CF20","v":-200},{"$f":"SA!CH20-SA!CG20","v":0},{"$f":"SA!CI20-SA!CH20","v":-100},{"$f":"SA!CJ20-SA!CI20","v":0},{"$f":"SA!CK20-SA!CJ20","v":0},{"$f":"SA!CL20-SA!CK20","v":0},{"$f":"SA!CM20-SA!CL20","v":0},{"$f":"SA!CN20-SA!CM20","v":0},{"$f":"SA!CO20-SA!CN20","v":0},{"$f":"SA!CP20-SA!CO20","v":0},{"$f":"SA!CQ20-SA!CP20","v":0},{"$f":"SA!CR20-SA!CQ20","v":-100},{"$f":"SA!CS20-SA!CR20","v":-100},{"$f":"SA!CT20-SA!CS20","v":0},{"$f":"SA!CU20-SA!CT20","v":100},{"$f":"SA!CV20-SA!CU20","v":-200},{"$f":"SA!CW20-SA!CV20","v":0},{"$f":"SA!CX20-SA!CW20","v":-200},{"$f":"SA!CY20-SA!CX20","v":100},{"$f":"SA!CZ20-SA!CY20","v":-100},{"$f":"SA!DA20-SA!CZ20","v":-100},{"$f":"SA!DB20-SA!DA20","v":-100},{"$f":"SA!DC20-SA!DB20","v":-100},{"$f":"SA!DD20-SA!DC20","v":-100},{"$f":"SA!DE20-SA!DD20","v":-200},{"$f":"SA!DF20-SA!DE20","v":-200},{"$f":"SA!DG20-SA!DF20","v":100},{"$f":"SA!DH20-SA!DG20","v":-100},{"$f":"SA!DI20-SA!DH20","v":-100},{"$f":"SA!DJ20-SA!DI20","v":-500},{"$f":"SA!DK20-SA!DJ20","v":-200},{"$f":"SA!DL20-SA!DK20","v":-200},{"$f":"SA!DM20-SA!DL20","v":-300},{"$f":"SA!DN20-SA!DM20","v":100},{"$f":"SA!DO20-SA!DN20","v":0},{"$f":"SA!DP20-SA!DO20","v":-200},{"$f":"SA!DQ20-SA!DP20","v":0},{"$f":"SA!DR20-SA!DQ20","v":-100},{"$f":"SA!DS20-SA!DR20","v":-100},{"$f":"SA!DT20-SA!DS20","v":-200},{"$f":"SA!DU20-SA!DT20","v":0},{"$f":"SA!DV20-SA!DU20","v":200},{"$f":"SA!DW20-SA!DV20","v":-100},{"$f":"SA!DX20-SA!DW20","v":-100},{"$f":"SA!DY20-SA!DX20","v":-200},{"$f":"SA!DZ20-SA!DY20","v":-100},{"$f":"SA!EA20-SA!DZ20","v":-200},{"$f":"SA!EB20-SA!EA20","v":0},{"$f":"SA!EC20-SA!EB20","v":-100},{"$f":"SA!ED20-SA!EC20","v":-100},{"$f":"SA!EE20-SA!ED20","v":200},{"$f":"SA!EF20-SA!EE20","v":-100},{"$f":"SA!EG20-SA!EF20","v":0},{"$f":"SA!EH20-SA!EG20","v":-100},{"$f":"SA!EI20-SA!EH20","v":0},{"$f":"SA!EJ20-SA!EI20","v":100},{"$f":"SA!EK20-SA!EJ20","v":0},{"$f":"SA!EL20-SA!EK20","v":-300},{"$f":"SA!EM20-SA!EL20","v":100},{"$f":"SA!EN20-SA!EM20","v":-100},{"$f":"SA!EO20-SA!EN20","v":-100},{"$f":"SA!EP20-SA!EO20","v":100},{"$f":"SA!EQ20-SA!EP20","v":-100},{"$f":"SA!ER20-SA!EQ20","v":0},{"$f":"SA!ES20-SA!ER20","v":0},{"$f":"SA!ET20-SA!ES20","v":100},{"$f":"SA!EU20-SA!ET20","v":-100},{"$f":"SA!EV20-SA!EU20","v":0},{"$f":"SA!EW20-SA!EV20","v":0},{"$f":"SA!EX20-SA!EW20","v":100},{"$f":"SA!EY20-SA!EX20","v":0},{"$f":"SA!EZ20-SA!EY20","v":100},{"$f":"SA!FA20-SA!EZ20","v":-100},{"$f":"SA!FB20-SA!FA20","v":-100},{"$f":"SA!FC20-SA!FB20","v":100},{"$f":"SA!FD20-SA!FC20","v":-100},{"$f":"SA!FE20-SA!FD20","v":100},{"$f":"SA!FF20-SA!FE20","v":100},{"$f":"SA!FG20-SA!FF20","v":0},{"$f":"SA!FH20-SA!FG20","v":100},{"$f":"SA!FI20-SA!FH20","v":-100},{"$f":"SA!FJ20-SA!FI20","v":200},{"$f":"SA!FK20-SA!FJ20","v":-100},{"$f":"SA!FL20-SA!FK20","v":100},{"$f":"SA!FM20-SA!FL20","v":-100},{"$f":"SA!FN20-SA!FM20","v":100},{"$f":"SA!FO20-SA!FN20","v":-200},{"$f":"SA!FP20-SA!FO20","v":0},{"$f":"SA!FQ20-SA!FP20","v":0},{"$f":"SA!FR20-SA!FQ20","v":-100},{"$f":"SA!FS20-SA!FR20","v":100},{"$f":"SA!FT20-SA!FS20","v":100},{"$f":"SA!FU20-SA!FT20","v":100},{"$f":"SA!FV20-SA!FU20","v":-100},{"$f":"SA!FW20-SA!FV20","v":100},{"$f":"SA!FX20-SA!FW20","v":-100},{"$f":"SA!FY20-SA!FX20","v":0},{"$f":"SA!FZ20-SA!FY20","v":200},{"$f":"SA!GA20-SA!FZ20","v":-200},{"$f":"SA!GB20-SA!GA20","v":-100},{"$f":"SA!GC20-SA!GB20","v":0},{"$f":"SA!GD20-SA!GC20","v":100},{"$f":"SA!GE20-SA!GD20","v":100},{"$f":"SA!GF20-SA!GE20","v":100},{"$f":"SA!GG20-SA!GF20","v":0},{"$f":"SA!GH20-SA!GG20","v":300},{"$f":"SA!GI20-SA!GH20","v":0},{"$f":"SA!GJ20-SA!GI20","v":200},{"$f":"SA!GK20-SA!GJ20","v":0},{"$f":"SA!GL20-SA!GK20","v":100},{"$f":"SA!GM20-SA!GL20","v":100},{"$f":"SA!GN20-SA!GM20","v":0},{"$f":"SA!GO20-SA!GN20","v":0},{"$f":"SA!GP20-SA!GO20","v":-200},{"$f":"SA!GQ20-SA!GP20","v":300},{"$f":"SA!GR20-SA!GQ20","v":-100},{"$f":"SA!GS20-SA!GR20","v":100},{"$f":"SA!GT20-SA!GS20","v":0},{"$f":"SA!GU20-SA!GT20","v":-100},{"$f":"SA!GV20-SA!GU20","v":300},{"$f":"SA!GW20-SA!GV20","v":100},{"$f":"SA!GX20-SA!GW20","v":0},{"$f":"SA!GY20-SA!GX20","v":200},{"$f":"SA!GZ20-SA!GY20","v":100},{"$f":"SA!HA20-SA!GZ20","v":0},{"$f":"SA!HB20-SA!HA20","v":100},{"$f":"SA!HC20-SA!HB20","v":100},{"$f":"SA!HD20-SA!HC20","v":100},{"$f":"SA!HE20-SA!HD20","v":0},{"$f":"SA!HF20-SA!HE20","v":-100},{"$f":"SA!HG20-SA!HF20","v":300},{"$f":"SA!HH20-SA!HG20","v":-100},{"$f":"SA!HI20-SA!HH20","v":-100},{"$f":"SA!HJ20-SA!HI20","v":0},{"$f":"SA!HK20-SA!HJ20","v":200},{"$f":"SA!HL20-SA!HK20","v":100},{"$f":"SA!HM20-SA!HL20","v":-200},{"$f":"SA!HN20-SA!HM20","v":100},{"$f":"SA!HO20-SA!HN20","v":100},{"$f":"SA!HP20-SA!HO20","v":0},{"$f":"SA!HQ20-SA!HP20","v":-100},{"$f":"SA!HR20-SA!HQ20","v":100},{"$f":"SA!HS20-SA!HR20","v":-100},{"$f":"SA!HT20-SA!HS20","v":200},{"$f":"SA!HU20-SA!HT20","v":0},{"$f":"SA!HV20-SA!HU20","v":0},{"$f":"SA!HW20-SA!HV20","v":100},{"$f":"SA!HX20-SA!HW20","v":0},{"$f":"SA!HY20-SA!HX20","v":100},{"$f":"SA!HZ20-SA!HY20","v":100},{"$f":"SA!IA20-SA!HZ20","v":300},{"$f":"SA!IB20-SA!IA20","v":-300},{"$f":"SA!IC20-SA!IB20","v":-200},{"$f":"SA!ID20-SA!IC20","v":-100},{"$f":"SA!IE20-SA!ID20","v":100},{"$f":"SA!IF20-SA!IE20","v":100},{"$f":"SA!IG20-SA!IF20","v":0},{"$f":"SA!IH20-SA!IG20","v":-100},{"$f":"SA!II20-SA!IH20","v":0},{"$f":"SA!IJ20-SA!II20","v":0},{"$f":"SA!IK20-SA!IJ20","v":100},{"$f":"SA!IL20-SA!IK20","v":-26900},978.77499999999998,{"$f":"COUNTIF(EY59:FY59, \">\" &GA59)","v":0},null,"Real Estate and Rental and Leasing",-500,-100,-100,0,0,100,100,300,131.81062751218766]
["Professional and Business Services",{"$f":"SA!BN21-SA!BM21","v":1699.9999999999709},{"$f":"SA!BO21-SA!BN21","v":700},{"$f":"SA!BP21-SA!BO21","v":1500},{"$f":"SA!BQ21-SA!BP21","v":1800},{"$f":"SA!BR21-SA!BQ21","v":-1200},{"$f":"SA!BS21-SA!BR21","v":0},{"$f":"SA!BT21-SA!BS21","v":2500},{"$f":"SA!BU21-SA!BT21","v":700},{"$f":"SA!BV21-SA!BU21","v":500},{"$f":"SA!BW21-SA!BV21","v":-1500},{"$f":"SA!BX21-SA!BW21","v":1900},{"$f":"SA!BY21-SA!BX21","v":1200},{"$f":"SA!BZ21-SA!BY21","v":-500},{"$f":"SA!CA21-SA!BZ21","v":1500},{"$f":"SA!CB21-SA!CA21","v":400},{"$f":"SA!CC21-SA!CB21","v":3700},{"$f":"SA!CD21-SA!CC21","v":-900},{"$f":"SA!CE21-SA!CD21","v":600},{"$f":"SA!CF21-SA!CE21","v":-500},{"$f":"SA!CG21-SA!CF21","v":-200},{"$f":"SA!CH21-SA!CG21","v":900},{"$f":"SA!CI21-SA!CH21","v":1100},{"$f":"SA!CJ21-SA!CI21","v":400},{"$f":"SA!CK21-SA!CJ21","v":-900},{"$f":"SA!CL21-SA!CK21","v":2100},{"$f":"SA!CM21-SA!CL21","v":400},{"$f":"SA!CN21-SA!CM21","v":1400},{"$f":"SA!CO21-SA!CN21","v":2000},{"$f":"SA!CP21-SA!CO21","v":600},{"$f":"SA!CQ21-SA!CP21","v":1700},{"$f":"SA!CR21-SA!CQ21","v":-500},{"$f":"SA!CS21-SA!CR21","v":300},{"$f":"SA!CT21-SA!CS21","v":-300},{"$f":"SA!CU21-SA!CT21","v":-300},{"$f":"SA!CV21-SA!CU21","v":1100},{"$f":"SA!CW21-SA!CV21","v":1600},{"$f":"SA!CX21-SA!CW21","v":600},{"$f":"SA!CY21-SA!CX21","v":1100},{"$f":"SA!CZ21-SA!CY21","v":-1000},{"$f":"SA!DA21-SA!CZ21","v":-800},{"$f":"SA!DB21-SA!DA21","v":400},{"$f":"SA!DC21-SA!DB21","v":500},{"$f":"SA!DD21-SA!DC21","v":-400},{"$f":"SA!DE21-SA!DD21","v":600},{"$f":"SA!DF21-SA!DE21","v":-1600},{"$f":"SA!DG21-SA!DF21","v":-3400},{"$f":"SA!DH21-SA!DG21","v":-3000},{"$f":"SA!DI21-SA!DH21","v":-1900},{"$f":"SA!DJ21-SA!DI21","v":-5300},{"$f":"SA!DK21-SA!DJ21","v":-4700},{"$f":"SA!DL21-SA!DK21","v":-4599.9999999999709},{"$f":"SA!DM21-SA!DL21","v":-2400.0000000000291},{"$f":"SA!DN21-SA!DM21","v":100},{"$f":"SA!DO21-SA!DN21","v":-1699.9999999999709},{"$f":"SA!DP21-SA!DO21","v":-300.0000000000291},{"$f":"SA!DQ21-SA!DP21","v":-699.9999999999709},{"$f":"SA!DR21-SA!DQ21","v":399.9999999999709},{"$f":"SA!DS21-SA!DR21","v":2399.9999999999709},{"$f":"SA!DT21-SA!DS21","v":2500.0000000000291},{"$f":"SA!DU21-SA!DT21","v":1100},{"$f":"SA!DV21-SA!DU21","v":600},{"$f":"SA!DW21-SA!DV21","v":3100},{"$f":"SA!DX21-SA!DW21","v":-1200},{"$f":"SA!DY21-SA!DX21","v":5500},{"$f":"SA!DZ21-SA!DY21","v":900},{"$f":"SA!EA21-SA!DZ21","v":400},{"$f":"SA!EB21-SA!EA21","v":2300},{"$f":"SA!EC21-SA!EB21","v":2500},{"$f":"SA!ED21-SA!EC21","v":100},{"$f":"SA!EE21-SA!ED21","v":3300},{"$f":"SA!EF21-SA!EE21","v":1500},{"$f":"SA!EG21-SA!EF21","v":2000},{"$f":"SA!EH21-SA!EG21","v":1100},{"$f":"SA!EI21-SA!EH21","v":-200},{"$f":"SA!EJ21-SA!EI21","v":2100},{"$f":"SA!EK21-SA!EJ21","v":-1400},{"$f":"SA!EL21-SA!EK21","v":-200},{"$f":"SA!EM21-SA!EL21","v":800},{"$f":"SA!EN21-SA!EM21","v":1300},{"$f":"SA!EO21-SA!EN21","v":100},{"$f":"SA!EP21-SA!EO21","v":1800},{"$f":"SA!EQ21-SA!EP21","v":-600},{"$f":"SA!ER21-SA!EQ21","v":800},{"$f":"SA!ES21-SA!ER21","v":-200},{"$f":"SA!ET21-SA!ES21","v":1300},{"$f":"SA!EU21-SA!ET21","v":600},{"$f":"SA!EV21-SA!EU21","v":3300},{"$f":"SA!EW21-SA!EV21","v":400},{"$f":"SA!EX21-SA!EW21","v":-1400},{"$f":"SA!EY21-SA!EX21","v":700},{"$f":"SA!EZ21-SA!EY21","v":-1200},{"$f":"SA!FA21-SA!EZ21","v":-300},{"$f":"SA!FB21-SA!FA21","v":1600},{"$f":"SA!FC21-SA!FB21","v":600},{"$f":"SA!FD21-SA!FC21","v":2000},{"$f":"SA!FE21-SA!FD21","v":-2200},{"$f":"SA!FF21-SA!FE21","v":1100},{"$f":"SA!FG21-SA!FF21","v":2400},{"$f":"SA!FH21-SA!FG21","v":2800},{"$f":"SA!FI21-SA!FH21","v":-2700},{"$f":"SA!FJ21-SA!FI21","v":1900},{"$f":"SA!FK21-SA!FJ21","v":1000},{"$f":"SA!FL21-SA!FK21","v":900},{"$f":"SA!FM21-SA!FL21","v":1000},{"$f":"SA!FN21-SA!FM21","v":0},{"$f":"SA!FO21-SA!FN21","v":-400},{"$f":"SA!FP21-SA!FO21","v":600},{"$f":"SA!FQ21-SA!FP21","v":1800},{"$f":"SA!FR21-SA!FQ21","v":200},{"$f":"SA!FS21-SA!FR21","v":100},{"$f":"SA!FT21-SA!FS21","v":-300},{"$f":"SA!FU21-SA!FT21","v":600},{"$f":"SA!FV21-SA!FU21","v":900},{"$f":"SA!FW21-SA!FV21","v":-300},{"$f":"SA!FX21-SA!FW21","v":100},{"$f":"SA!FY21-SA!FX21","v":1300},{"$f":"SA!FZ21-SA!FY21","v":100},{"$f":"SA!GA21-SA!FZ21","v":1700},{"$f":"SA!GB21-SA!GA21","v":2000},{"$f":"SA!GC21-SA!GB21","v":-2300},{"$f":"SA!GD21-SA!GC21","v":800},{"$f":"SA!GE21-SA!GD21","v":-600},{"$f":"SA!GF21-SA!GE21","v":1000},{"$f":"SA!GG21-SA!GF21","v":1000},{"$f":"SA!GH21-SA!GG21","v":1300},{"$f":"SA!GI21-SA!GH21","v":300},{"$f":"SA!GJ21-SA!GI21","v":2100},{"$f":"SA!GK21-SA!GJ21","v":1800},{"$f":"SA!GL21-SA!GK21","v":-1200},{"$f":"SA!GM21-SA!GL21","v":1100},{"$f":"SA!GN21-SA!GM21","v":1200},{"$f":"SA!GO21-SA!GN21","v":1500},{"$f":"SA!GP21-SA!GO21","v":2400},{"$f":"SA!GQ21-SA!GP21","v":-100},{"$f":"SA!GR21-SA!GQ21","v":-200},{"$f":"SA!GS21-SA!GR21","v":400},{"$f":"SA!GT21-SA!GS21","v":-1000},{"$f":"SA!GU21-SA!GT21","v":-300},{"$f":"SA!GV21-SA!GU21","v":700},{"$f":"SA!GW21-SA!GV21","v":-200},{"$f":"SA!GX21-SA!GW21","v":900},{"$f":"SA!GY21-SA!GX21","v":-800},{"$f":"SA!GZ21-SA!GY21","v":400},{"$f":"SA!HA21-SA!GZ21","v":200},{"$f":"SA!HB21-SA!HA21","v":900},{"$f":"SA!HC21-SA!HB21","v":-1200},{"$f":"SA!HD21-SA!HC21","v":2300},{"$f":"SA!HE21-SA!HD21","v":500},{"$f":"SA!HF21-SA!HE21","v":-600},{"$f":"SA!HG21-SA!HF21","v":200},{"$f":"SA!HH21-SA!HG21","v":100},{"$f":"SA!HI21-SA!HH21","v":-900},{"$f":"SA!HJ21-SA!HI21","v":-600},{"$f":"SA!HK21-SA!HJ21","v":2100},{"$f":"SA!HL21-SA!HK21","v":1200},{"$f":"SA!HM21-SA!HL21","v":1400},{"$f":"SA!HN21-SA!HM21","v":-1900},{"$f":"SA!HO21-SA!HN21","v":200},{"$f":"SA!HP21-SA!HO21","v":3400},{"$f":"SA!HQ21-SA!HP21","v":400},{"$f":"SA!HR21-SA!HQ21","v":-1700},{"$f":"SA!HS21-SA!HR21","v":-3800},{"$f":"SA!HT21-SA!HS21","v":-2100},{"$f":"SA!HU21-SA!HT21","v":-200},{"$f":"SA!HV21-SA!HU21","v":1000},{"$f":"SA!HW21-SA!HV21","v":-1100},{"$f":"SA!HX21-SA!HW21","v":0},{"$f":"SA!HY21-SA!HX21","v":-400},{"$f":"SA!HZ21-SA!HY21","v":2300},{"$f":"SA!IA21-SA!HZ21","v":1600},{"$f":"SA!IB21-SA!IA21","v":-300},{"$f":"SA!IC21-SA!IB21","v":3000},{"$f":"SA!ID21-SA!IC21","v":-2200},{"$f":"SA!IE21-SA!ID21","v":-2700},{"$f":"SA!IF21-SA!IE21","v":-1800},{"$f":"SA!IG21-SA!IF21","v":1200},{"$f":"SA!IH21-SA!IG21","v":1100},{"$f":"SA!II21-SA!IH21","v":2700},{"$f":"SA!IJ21-SA!II21","v":-200},{"$f":"SA!IK21-SA!IJ21","v":-500},{"$f":"SA!IL21-SA!IK21","v":-325900},3798.3049999999998,{"$f":"COUNTIF(EY60:FY60, \">\" &GA60)","v":0},null,"Professional and Business Services",-5300,-1050,-200,400,600,1100,1900,5500,1569.2100188726854]
["  Professional, Scientific, and Technical Services",{"$f":"SA!BN22-SA!BM22","v":600},{"$f":"SA!BO22-SA!BN22","v":200},{"$f":"SA!BP22-SA!BO22","v":200},{"$f":"SA!BQ22-SA!BP22","v":0},{"$f":"SA!BR22-SA!BQ22","v":200},{"$f":"SA!BS22-SA!BR22","v":300},{"$f":"SA!BT22-SA!BS22","v":600},{"$f":"SA!BU22-SA!BT22","v":400},{"$f":"SA!BV22-SA!BU22","v":300},{"$f":"SA!BW22-SA!BV22","v":100},{"$f":"SA!BX22-SA!BW22","v":300},{"$f":"SA!BY22-SA!BX22","v":500},{"$f":"SA!BZ22-SA!BY22","v":100},{"$f":"SA!CA22-SA!BZ22","v":200},{"$f":"SA!CB22-SA!CA22","v":0},{"$f":"SA!CC22-SA!CB22","v":900},{"$f":"SA!CD22-SA!CC22","v":-100},{"$f":"SA!CE22-SA!CD22","v":300},{"$f":"SA!CF22-SA!CE22","v":100},{"$f":"SA!CG22-SA!CF22","v":0},{"$f":"SA!CH22-SA!CG22","v":100},{"$f":"SA!CI22-SA!CH22","v":200},{"$f":"SA!CJ22-SA!CI22","v":0},{"$f":"SA!CK22-SA!CJ22","v":-100},{"$f":"SA!CL22-SA!CK22","v":700},{"$f":"SA!CM22-SA!CL22","v":100},{"$f":"SA!CN22-SA!CM22","v":400},{"$f":"SA!CO22-SA!CN22","v":600},{"$f":"SA!CP22-SA!CO22","v":400},{"$f":"SA!CQ22-SA!CP22","v":300},{"$f":"SA!CR22-SA!CQ22","v":300},{"$f":"SA!CS22-SA!CR22","v":200},{"$f":"SA!CT22-SA!CS22","v":100},{"$f":"SA!CU22-SA!CT22","v":0},{"$f":"SA!CV22-SA!CU22","v":200},{"$f":"SA!CW22-SA!CV22","v":100},{"$f":"SA!CX22-SA!CW22","v":200},{"$f":"SA!CY22-SA!CX22","v":300},{"$f":"SA!CZ22-SA!CY22","v":0},{"$f":"SA!DA22-SA!CZ22","v":1300},{"$f":"SA!DB22-SA!DA22","v":-300},{"$f":"SA!DC22-SA!DB22","v":100},{"$f":"SA!DD22-SA!DC22","v":-100},{"$f":"SA!DE22-SA!DD22","v":200},{"$f":"SA!DF22-SA!DE22","v":100},{"$f":"SA!DG22-SA!DF22","v":-400},{"$f":"SA!DH22-SA!DG22","v":-500},{"$f":"SA!DI22-SA!DH22","v":-300},{"$f":"SA!DJ22-SA!DI22","v":-800},{"$f":"SA!DK22-SA!DJ22","v":-700},{"$f":"SA!DL22-SA!DK22","v":-900},{"$f":"SA!DM22-SA!DL22","v":-1200},{"$f":"SA!DN22-SA!DM22","v":-1100},{"$f":"SA!DO22-SA!DN22","v":-400},{"$f":"SA!DP22-SA!DO22","v":-900},{"$f":"SA!DQ22-SA!DP22","v":-600},{"$f":"SA!DR22-SA!DQ22","v":-200},{"$f":"SA!DS22-SA!DR22","v":-100},{"$f":"SA!DT22-SA!DS22","v":400},{"$f":"SA!DU22-SA!DT22","v":-500},{"$f":"SA!DV22-SA!DU22","v":0},{"$f":"SA!DW22-SA!DV22","v":-100},{"$f":"SA!DX22-SA!DW22","v":100},{"$f":"SA!DY22-SA!DX22","v":0},{"$f":"SA!DZ22-SA!DY22","v":100},{"$f":"SA!EA22-SA!DZ22","v":0},{"$f":"SA!EB22-SA!EA22","v":500},{"$f":"SA!EC22-SA!EB22","v":100},{"$f":"SA!ED22-SA!EC22","v":-200},{"$f":"SA!EE22-SA!ED22","v":800},{"$f":"SA!EF22-SA!EE22","v":200},{"$f":"SA!EG22-SA!EF22","v":500},{"$f":"SA!EH22-SA!EG22","v":300},{"$f":"SA!EI22-SA!EH22","v":300},{"$f":"SA!EJ22-SA!EI22","v":-100},{"$f":"SA!EK22-SA!EJ22","v":800},{"$f":"SA!EL22-SA!EK22","v":-200},{"$f":"SA!EM22-SA!EL22","v":-300},{"$f":"SA!EN22-SA!EM22","v":300},{"$f":"SA!EO22-SA!EN22","v":200},{"$f":"SA!EP22-SA!EO22","v":400},{"$f":"SA!EQ22-SA!EP22","v":-100},{"$f":"SA!ER22-SA!EQ22","v":700},{"$f":"SA!ES22-SA!ER22","v":-500},{"$f":"SA!ET22-SA!ES22","v":300},{"$f":"SA!EU22-SA!ET22","v":200},{"$f":"SA!EV22-SA!EU22","v":300},{"$f":"SA!EW22-SA!EV22","v":300},{"$f":"SA!EX22-SA!EW22","v":100},{"$f":"SA!EY22-SA!EX22","v":500},{"$f":"SA!EZ22-SA!EY22","v":-500},{"$f":"SA!FA22-SA!EZ22","v":100},{"$f":"SA!FB22-SA!FA22","v":100},{"$f":"SA!FC22-SA!FB22","v":500},{"$f":"SA!FD22-SA!FC22","v":1500},{"$f":"SA!FE22-SA!FD22","v":-1600},{"$f":"SA!FF22-SA!FE22","v":400},{"$f":"SA!FG22-SA!FF22","v":300},{"$f":"SA!FH22-SA!FG22","v":100},{"$f":"SA!FI22-SA!FH22","v":0},{"$f":"SA!FJ22-SA!FI22","v":200},{"$f":"SA!FK22-SA!FJ22","v":-200},{"$f":"SA!FL22-SA!FK22","v":900},{"$f":"SA!FM22-SA!FL22","v":-200},{"$f":"SA!FN22-SA!FM22","v":200},{"$f":"SA!FO22-SA!FN22","v":100},{"$f":"SA!FP22-SA!FO22","v":-700},{"$f":"SA!FQ22-SA!FP22","v":1400},{"$f":"SA!FR22-SA!FQ22","v":-600},{"$f":"SA!FS22-SA!FR22","v":100},{"$f":"SA!FT22-SA!FS22","v":300},{"$f":"SA!FU22-SA!FT22","v":0},{"$f":"SA!FV22-SA!FU22","v":100},{"$f":"SA!FW22-SA!FV22","v":400},{"$f":"SA!FX22-SA!FW22","v":0},{"$f":"SA!FY22-SA!FX22","v":200},{"$f":"SA!FZ22-SA!FY22","v":-200},{"$f":"SA!GA22-SA!FZ22","v":0},{"$f":"SA!GB22-SA!GA22","v":300},{"$f":"SA!GC22-SA!GB22","v":500},{"$f":"SA!GD22-SA!GC22","v":1000},{"$f":"SA!GE22-SA!GD22","v":-100},{"$f":"SA!GF22-SA!GE22","v":500},{"$f":"SA!GG22-SA!GF22","v":200},{"$f":"SA!GH22-SA!GG22","v":500},{"$f":"SA!GI22-SA!GH22","v":300},{"$f":"SA!GJ22-SA!GI22","v":200},{"$f":"SA!GK22-SA!GJ22","v":200},{"$f":"SA!GL22-SA!GK22","v":300},{"$f":"SA!GM22-SA!GL22","v":600},{"$f":"SA!GN22-SA!GM22","v":300},{"$f":"SA!GO22-SA!GN22","v":200},{"$f":"SA!GP22-SA!GO22","v":200},{"$f":"SA!GQ22-SA!GP22","v":200},{"$f":"SA!GR22-SA!GQ22","v":100},{"$f":"SA!GS22-SA!GR22","v":500},{"$f":"SA!GT22-SA!GS22","v":0},{"$f":"SA!GU22-SA!GT22","v":-400},{"$f":"SA!GV22-SA!GU22","v":800},{"$f":"SA!GW22-SA!GV22","v":200},{"$f":"SA!GX22-SA!GW22","v":300},{"$f":"SA!GY22-SA!GX22","v":-300},{"$f":"SA!GZ22-SA!GY22","v":0},{"$f":"SA!HA22-SA!GZ22","v":0},{"$f":"SA!HB22-SA!HA22","v":100},{"$f":"SA!HC22-SA!HB22","v":100},{"$f":"SA!HD22-SA!HC22","v":200},{"$f":"SA!HE22-SA!HD22","v":0},{"$f":"SA!HF22-SA!HE22","v":200},{"$f":"SA!HG22-SA!HF22","v":500},{"$f":"SA!HH22-SA!HG22","v":-300},{"$f":"SA!HI22-SA!HH22","v":0},{"$f":"SA!HJ22-SA!HI22","v":100},{"$f":"SA!HK22-SA!HJ22","v":300},{"$f":"SA!HL22-SA!HK22","v":100},{"$f":"SA!HM22-SA!HL22","v":900},{"$f":"SA!HN22-SA!HM22","v":400},{"$f":"SA!HO22-SA!HN22","v":-800},{"$f":"SA!HP22-SA!HO22","v":100},{"$f":"SA!HQ22-SA!HP22","v":100},{"$f":"SA!HR22-SA!HQ22","v":-800},{"$f":"SA!HS22-SA!HR22","v":-1800},{"$f":"SA!HT22-SA!HS22","v":-500},{"$f":"SA!HU22-SA!HT22","v":0},{"$f":"SA!HV22-SA!HU22","v":500},{"$f":"SA!HW22-SA!HV22","v":-300},{"$f":"SA!HX22-SA!HW22","v":200},{"$f":"SA!HY22-SA!HX22","v":100},{"$f":"SA!HZ22-SA!HY22","v":4200},{"$f":"SA!IA22-SA!HZ22","v":700},{"$f":"SA!IB22-SA!IA22","v":0},{"$f":"SA!IC22-SA!IB22","v":300},{"$f":"SA!ID22-SA!IC22","v":-500},{"$f":"SA!IE22-SA!ID22","v":-700},{"$f":"SA!IF22-SA!IE22","v":1200},{"$f":"SA!IG22-SA!IF22","v":200},{"$f":"SA!IH22-SA!IG22","v":100},{"$f":"SA!II22-SA!IH22","v":1000},{"$f":"SA!IJ22-SA!II22","v":200},{"$f":"SA!IK22-SA!IJ22","v":-500},{"$f":"SA!IL22-SA!IK22","v":-113600},1827.595,{"$f":"COUNTIF(EY61:FY61, \">\" &GA61)","v":1},null,"  Professional, Scientific, and Technical Services",-1800,-300,0,100,200,300,500,4200,555.60901360780747]
["  Administrative and Support and Waste Management and Remediation Services",{"$f":"SA!BN24-SA!BM24","v":1000},{"$f":"SA!BO24-SA!BN24","v":300},{"$f":"SA!BP24-SA!BO24","v":1099.9999999999854},{"$f":"SA!BQ24-SA!BP24","v":1700.0000000000146},{"$f":"SA!BR24-SA!BQ24","v":-1300},{"$f":"SA!BS24-SA!BR24","v":-400.00000000001455},{"$f":"SA!BT24-SA!BS24","v":1900.0000000000146},{"$f":"SA!BU24-SA!BT24","v":200.00000000001455},{"$f":"SA!BV24-SA!BU24","v":199.99999999998545},{"$f":"SA!BW24-SA!BV24","v":-1300.0000000000146},{"$f":"SA!BX24-SA!BW24","v":1500},{"$f":"SA!BY24-SA!BX24","v":600.00000000001455},{"$f":"SA!BZ24-SA!BY24","v":-300},{"$f":"SA!CA24-SA!BZ24","v":1400},{"$f":"SA!CB24-SA!CA24","v":300},{"$f":"SA!CC24-SA!CB24","v":2300},{"$f":"SA!CD24-SA!CC24","v":-800},{"$f":"SA!CE24-SA!CD24","v":0},{"$f":"SA!CF24-SA!CE24","v":-700},{"$f":"SA!CG24-SA!CF24","v":-300},{"$f":"SA!CH24-SA!CG24","v":600},{"$f":"SA!CI24-SA!CH24","v":600},{"$f":"SA!CJ24-SA!CI24","v":300},{"$f":"SA!CK24-SA!CJ24","v":-900},{"$f":"SA!CL24-SA!CK24","v":800},{"$f":"SA!CM24-SA!CL24","v":100},{"$f":"SA!CN24-SA!CM24","v":800},{"$f":"SA!CO24-SA!CN24","v":1100},{"$f":"SA!CP24-SA!CO24","v":200},{"$f":"SA!CQ24-SA!CP24","v":1400},{"$f":"SA!CR24-SA!CQ24","v":-400},{"$f":"SA!CS24-SA!CR24","v":200},{"$f":"SA!CT24-SA!CS24","v":-400},{"$f":"SA!CU24-SA!CT24","v":-500},{"$f":"SA!CV24-SA!CU24","v":800},{"$f":"SA!CW24-SA!CV24","v":1500},{"$f":"SA!CX24-SA!CW24","v":0},{"$f":"SA!CY24-SA!CX24","v":600},{"$f":"SA!CZ24-SA!CY24","v":-1000},{"$f":"SA!DA24-SA!CZ24","v":-2300},{"$f":"SA!DB24-SA!DA24","v":300},{"$f":"SA!DC24-SA!DB24","v":300},{"$f":"SA!DD24-SA!DC24","v":-800},{"$f":"SA!DE24-SA!DD24","v":300},{"$f":"SA!DF24-SA!DE24","v":-1900},{"$f":"SA!DG24-SA!DF24","v":-2900},{"$f":"SA!DH24-SA!DG24","v":-2699.9999999999854},{"$f":"SA!DI24-SA!DH24","v":-1700.0000000000146},{"$f":"SA!DJ24-SA!DI24","v":-4200},{"$f":"SA!DK24-SA!DJ24","v":-4000},{"$f":"SA!DL24-SA!DK24","v":-3500},{"$f":"SA!DM24-SA!DL24","v":-1000},{"$f":"SA!DN24-SA!DM24","v":1100},{"$f":"SA!DO24-SA!DN24","v":-1400},{"$f":"SA!DP24-SA!DO24","v":400},{"$f":"SA!DQ24-SA!DP24","v":-100},{"$f":"SA!DR24-SA!DQ24","v":400},{"$f":"SA!DS24-SA!DR24","v":2500},{"$f":"SA!DT24-SA!DS24","v":2000},{"$f":"SA!DU24-SA!DT24","v":1300},{"$f":"SA!DV24-SA!DU24","v":1200},{"$f":"SA!DW24-SA!DV24","v":2600},{"$f":"SA!DX24-SA!DW24","v":-1600},{"$f":"SA!DY24-SA!DX24","v":5000.0000000000146},{"$f":"SA!DZ24-SA!DY24","v":699.99999999998545},{"$f":"SA!EA24-SA!DZ24","v":100},{"$f":"SA!EB24-SA!EA24","v":1900},{"$f":"SA!EC24-SA!EB24","v":1600},{"$f":"SA!ED24-SA!EC24","v":200},{"$f":"SA!EE24-SA!ED24","v":2100},{"$f":"SA!EF24-SA!EE24","v":900},{"$f":"SA!EG24-SA!EF24","v":1100},{"$f":"SA!EH24-SA!EG24","v":700},{"$f":"SA!EI24-SA!EH24","v":-800},{"$f":"SA!EJ24-SA!EI24","v":2000},{"$f":"SA!EK24-SA!EJ24","v":-2500},{"$f":"SA!EL24-SA!EK24","v":-200},{"$f":"SA!EM24-SA!EL24","v":900},{"$f":"SA!EN24-SA!EM24","v":800},{"$f":"SA!EO24-SA!EN24","v":-400},{"$f":"SA!EP24-SA!EO24","v":1000},{"$f":"SA!EQ24-SA!EP24","v":-700},{"$f":"SA!ER24-SA!EQ24","v":0},{"$f":"SA!ES24-SA!ER24","v":100},{"$f":"SA!ET24-SA!ES24","v":700},{"$f":"SA!EU24-SA!ET24","v":300},{"$f":"SA!EV24-SA!EU24","v":2700},{"$f":"SA!EW24-SA!EV24","v":-100},{"$f":"SA!EX24-SA!EW24","v":-1600},{"$f":"SA!EY24-SA!EX24","v":-100},{"$f":"SA!EZ24-SA!EY24","v":-700},{"$f":"SA!FA24-SA!EZ24","v":-400},{"$f":"SA!FB24-SA!FA24","v":1500},{"$f":"SA!FC24-SA!FB24","v":-100},{"$f":"SA!FD24-SA!FC24","v":200},{"$f":"SA!FE24-SA!FD24","v":-900},{"$f":"SA!FF24-SA!FE24","v":300},{"$f":"SA!FG24-SA!FF24","v":2000},{"$f":"SA!FH24-SA!FG24","v":2200},{"$f":"SA!FI24-SA!FH24","v":-2500},{"$f":"SA!FJ24-SA!FI24","v":1500},{"$f":"SA!FK24-SA!FJ24","v":900},{"$f":"SA!FL24-SA!FK24","v":100},{"$f":"SA!FM24-SA!FL24","v":900},{"$f":"SA!FN24-SA!FM24","v":-200},{"$f":"SA!FO24-SA!FN24","v":-800},{"$f":"SA!FP24-SA!FO24","v":1100},{"$f":"SA!FQ24-SA!FP24","v":300},{"$f":"SA!FR24-SA!FQ24","v":1500},{"$f":"SA!FS24-SA!FR24","v":-200},{"$f":"SA!FT24-SA!FS24","v":-700},{"$f":"SA!FU24-SA!FT24","v":500},{"$f":"SA!FV24-SA!FU24","v":600},{"$f":"SA!FW24-SA!FV24","v":-800},{"$f":"SA!FX24-SA!FW24","v":100},{"$f":"SA!FY24-SA!FX24","v":700},{"$f":"SA!FZ24-SA!FY24","v":300},{"$f":"SA!GA24-SA!FZ24","v":1800},{"$f":"SA!GB24-SA!GA24","v":1600},{"$f":"SA!GC24-SA!GB24","v":-2900},{"$f":"SA!GD24-SA!GC24","v":-1300},{"$f":"SA!GE24-SA!GD24","v":-800},{"$f":"SA!GF24-SA!GE24","v":100},{"$f":"SA!GG24-SA!GF24","v":400},{"$f":"SA!GH24-SA!GG24","v":200},{"$f":"SA!GI24-SA!GH24","v":-400},{"$f":"SA!GJ24-SA!GI24","v":900},{"$f":"SA!GK24-SA!GJ24","v":700},{"$f":"SA!GL24-SA!GK24","v":-1800},{"$f":"SA!GM24-SA!GL24","v":-100},{"$f":"SA!GN24-SA!GM24","v":400},{"$f":"SA!GO24-SA!GN24","v":700},{"$f":"SA!GP24-SA!GO24","v":1600},{"$f":"SA!GQ24-SA!GP24","v":-400},{"$f":"SA!GR24-SA!GQ24","v":-1000},{"$f":"SA!GS24-SA!GR24","v":-200},{"$f":"SA!GT24-SA!GS24","v":-900},{"$f":"SA!GU24-SA!GT24","v":0},{"$f":"SA!GV24-SA!GU24","v":-300},{"$f":"SA!GW24-SA!GV24","v":-300},{"$f":"SA!GX24-SA!GW24","v":600},{"$f":"SA!GY24-SA!GX24","v":-400},{"$f":"SA!GZ24-SA!GY24","v":500},{"$f":"SA!HA24-SA!GZ24","v":300},{"$f":"SA!HB24-SA!HA24","v":-400},{"$f":"SA!HC24-SA!HB24","v":-1200},{"$f":"SA!HD24-SA!HC24","v":2200},{"$f":"SA!HE24-SA!HD24","v":500},{"$f":"SA!HF24-SA!HE24","v":-600},{"$f":"SA!HG24-SA!HF24","v":-200},{"$f":"SA!HH24-SA!HG24","v":700},{"$f":"SA!HI24-SA!HH24","v":-900},{"$f":"SA!HJ24-SA!HI24","v":-600},{"$f":"SA!HK24-SA!HJ24","v":1600},{"$f":"SA!HL24-SA!HK24","v":1000},{"$f":"SA!HM24-SA!HL24","v":-100},{"$f":"SA!HN24-SA!HM24","v":-1400},{"$f":"SA!HO24-SA!HN24","v":600},{"$f":"SA!HP24-SA!HO24","v":3100},{"$f":"SA!HQ24-SA!HP24","v":-200},{"$f":"SA!HR24-SA!HQ24","v":-600},{"$f":"SA!HS24-SA!HR24","v":-1800},{"$f":"SA!HT24-SA!HS24","v":-800},{"$f":"SA!HU24-SA!HT24","v":100},{"$f":"SA!HV24-SA!HU24","v":400},{"$f":"SA!HW24-SA!HV24","v":-1000},{"$f":"SA!HX24-SA!HW24","v":-400},{"$f":"SA!HY24-SA!HX24","v":-400},{"$f":"SA!HZ24-SA!HY24","v":300},{"$f":"SA!IA24-SA!HZ24","v":600},{"$f":"SA!IB24-SA!IA24","v":0},{"$f":"SA!IC24-SA!IB24","v":2600},{"$f":"SA!ID24-SA!IC24","v":-1700},{"$f":"SA!IE24-SA!ID24","v":-1800},{"$f":"SA!IF24-SA!IE24","v":-3300},{"$f":"SA!IG24-SA!IF24","v":1000},{"$f":"SA!IH24-SA!IG24","v":1200},{"$f":"SA!II24-SA!IH24","v":1700},{"$f":"SA!IJ24-SA!II24","v":-100},{"$f":"SA!IK24-SA!IJ24","v":100},{"$f":"SA!IL24-SA!IK24","v":-146300},3243.94,{"$f":"COUNTIF(EY62:FY62, \">\" &GA62)","v":0},null,"  Administrative and Support and Waste Management and Remediation Services",-4200,-950,-400,100,300,700,1450,5000.0000000000146,1296.5716334897515]
["Education and Health Services",{"$f":"SA!BN25-SA!BM25","v":700},{"$f":"SA!BO25-SA!BN25","v":300},{"$f":"SA!BP25-SA!BO25","v":1100},{"$f":"SA!BQ25-SA!BP25","v":500},{"$f":"SA!BR25-SA!BQ25","v":600},{"$f":"SA!BS25-SA!BR25","v":700},{"$f":"SA!BT25-SA!BS25","v":400},{"$f":"SA!BU25-SA!BT25","v":600},{"$f":"SA!BV25-SA!BU25","v":1200},{"$f":"SA!BW25-SA!BV25","v":-100},{"$f":"SA!BX25-SA!BW25","v":900},{"$f":"SA!BY25-SA!BX25","v":400},{"$f":"SA!BZ25-SA!BY25","v":1000},{"$f":"SA!CA25-SA!BZ25","v":1100},{"$f":"SA!CB25-SA!CA25","v":-200},{"$f":"SA!CC25-SA!CB25","v":900},{"$f":"SA!CD25-SA!CC25","v":500},{"$f":"SA!CE25-SA!CD25","v":600},{"$f":"SA!CF25-SA!CE25","v":1100},{"$f":"SA!CG25-SA!CF25","v":200},{"$f":"SA!CH25-SA!CG25","v":900},{"$f":"SA!CI25-SA!CH25","v":1000},{"$f":"SA!CJ25-SA!CI25","v":300},{"$f":"SA!CK25-SA!CJ25","v":0},{"$f":"SA!CL25-SA!CK25","v":-100},{"$f":"SA!CM25-SA!CL25","v":600},{"$f":"SA!CN25-SA!CM25","v":500},{"$f":"SA!CO25-SA!CN25","v":400},{"$f":"SA!CP25-SA!CO25","v":500},{"$f":"SA!CQ25-SA!CP25","v":1000},{"$f":"SA!CR25-SA!CQ25","v":800},{"$f":"SA!CS25-SA!CR25","v":700},{"$f":"SA!CT25-SA!CS25","v":1100},{"$f":"SA!CU25-SA!CT25","v":-2300},{"$f":"SA!CV25-SA!CU25","v":-400},{"$f":"SA!CW25-SA!CV25","v":1200},{"$f":"SA!CX25-SA!CW25","v":500},{"$f":"SA!CY25-SA!CX25","v":400},{"$f":"SA!CZ25-SA!CY25","v":700},{"$f":"SA!DA25-SA!CZ25","v":1200},{"$f":"SA!DB25-SA!DA25","v":500},{"$f":"SA!DC25-SA!DB25","v":1100},{"$f":"SA!DD25-SA!DC25","v":1000},{"$f":"SA!DE25-SA!DD25","v":800},{"$f":"SA!DF25-SA!DE25","v":1100},{"$f":"SA!DG25-SA!DF25","v":1600},{"$f":"SA!DH25-SA!DG25","v":1300},{"$f":"SA!DI25-SA!DH25","v":1800},{"$f":"SA!DJ25-SA!DI25","v":-800},{"$f":"SA!DK25-SA!DJ25","v":800},{"$f":"SA!DL25-SA!DK25","v":300},{"$f":"SA!DM25-SA!DL25","v":-800},{"$f":"SA!DN25-SA!DM25","v":600},{"$f":"SA!DO25-SA!DN25","v":1500},{"$f":"SA!DP25-SA!DO25","v":-500},{"$f":"SA!DQ25-SA!DP25","v":500},{"$f":"SA!DR25-SA!DQ25","v":-1600},{"$f":"SA!DS25-SA!DR25","v":800},{"$f":"SA!DT25-SA!DS25","v":-500},{"$f":"SA!DU25-SA!DT25","v":-700},{"$f":"SA!DV25-SA!DU25","v":1900},{"$f":"SA!DW25-SA!DV25","v":400},{"$f":"SA!DX25-SA!DW25","v":600},{"$f":"SA!DY25-SA!DX25","v":-2700},{"$f":"SA!DZ25-SA!DY25","v":-400},{"$f":"SA!EA25-SA!DZ25","v":1200},{"$f":"SA!EB25-SA!EA25","v":1500},{"$f":"SA!EC25-SA!EB25","v":900},{"$f":"SA!ED25-SA!EC25","v":-1800},{"$f":"SA!EE25-SA!ED25","v":500},{"$f":"SA!EF25-SA!EE25","v":100},{"$f":"SA!EG25-SA!EF25","v":200},{"$f":"SA!EH25-SA!EG25","v":100},{"$f":"SA!EI25-SA!EH25","v":-200},{"$f":"SA!EJ25-SA!EI25","v":-900},{"$f":"SA!EK25-SA!EJ25","v":2500},{"$f":"SA!EL25-SA!EK25","v":500},{"$f":"SA!EM25-SA!EL25","v":300},{"$f":"SA!EN25-SA!EM25","v":1000},{"$f":"SA!EO25-SA!EN25","v":0},{"$f":"SA!EP25-SA!EO25","v":1300},{"$f":"SA!EQ25-SA!EP25","v":300},{"$f":"SA!ER25-SA!EQ25","v":500},{"$f":"SA!ES25-SA!ER25","v":900},{"$f":"SA!ET25-SA!ES25","v":400},{"$f":"SA!EU25-SA!ET25","v":800},{"$f":"SA!EV25-SA!EU25","v":1000},{"$f":"SA!EW25-SA!EV25","v":600},{"$f":"SA!EX25-SA!EW25","v":100},{"$f":"SA!EY25-SA!EX25","v":700},{"$f":"SA!EZ25-SA!EY25","v":-2800},{"$f":"SA!FA25-SA!EZ25","v":2400},{"$f":"SA!FB25-SA!FA25","v":2400},{"$f":"SA!FC25-SA!FB25","v":1800},{"$f":"SA!FD25-SA!FC25","v":200},{"$f":"SA!FE25-SA!FD25","v":700},{"$f":"SA!FF25-SA!FE25","v":-1100},{"$f":"SA!FG25-SA!FF25","v":600},{"$f":"SA!FH25-SA!FG25","v":500},{"$f":"SA!FI25-SA!FH25","v":0},{"$f":"SA!FJ25-SA!FI25","v":900},{"$f":"SA!FK25-SA!FJ25","v":-200},{"$f":"SA!FL25-SA!FK25","v":200},{"$f":"SA!FM25-SA!FL25","v":1500},{"$f":"SA!FN25-SA!FM25","v":400},{"$f":"SA!FO25-SA!FN25","v":500},{"$f":"SA!FP25-SA!FO25","v":500},{"$f":"SA!FQ25-SA!FP25","v":-400},{"$f":"SA!FR25-SA!FQ25","v":1800},{"$f":"SA!FS25-SA!FR25","v":200},{"$f":"SA!FT25-SA!FS25","v":500},{"$f":"SA!FU25-SA!FT25","v":600},{"$f":"SA!FV25-SA!FU25","v":400},{"$f":"SA!FW25-SA!FV25","v":900},{"$f":"SA!FX25-SA!FW25","v":200},{"$f":"SA!FY25-SA!FX25","v":700},{"$f":"SA!FZ25-SA!FY25","v":500},{"$f":"SA!GA25-SA!FZ25","v":-200},{"$f":"SA!GB25-SA!GA25","v":1200},{"$f":"SA!GC25-SA!GB25","v":400},{"$f":"SA!GD25-SA!GC25","v":-600},{"$f":"SA!GE25-SA!GD25","v":900},{"$f":"SA!GF25-SA!GE25","v":1000},{"$f":"SA!GG25-SA!GF25","v":-200},{"$f":"SA!GH25-SA!GG25","v":1300},{"$f":"SA!GI25-SA!GH25","v":100},{"$f":"SA!GJ25-SA!GI25","v":1100},{"$f":"SA!GK25-SA!GJ25","v":-400},{"$f":"SA!GL25-SA!GK25","v":200},{"$f":"SA!GM25-SA!GL25","v":1500},{"$f":"SA!GN25-SA!GM25","v":900},{"$f":"SA!GO25-SA!GN25","v":1000},{"$f":"SA!GP25-SA!GO25","v":1000},{"$f":"SA!GQ25-SA!GP25","v":900},{"$f":"SA!GR25-SA!GQ25","v":500},{"$f":"SA!GS25-SA!GR25","v":1400},{"$f":"SA!GT25-SA!GS25","v":300},{"$f":"SA!GU25-SA!GT25","v":-200},{"$f":"SA!GV25-SA!GU25","v":2500},{"$f":"SA!GW25-SA!GV25","v":-200},{"$f":"SA!GX25-SA!GW25","v":600},{"$f":"SA!GY25-SA!GX25","v":-100},{"$f":"SA!GZ25-SA!GY25","v":400},{"$f":"SA!HA25-SA!GZ25","v":-200},{"$f":"SA!HB25-SA!HA25","v":1400},{"$f":"SA!HC25-SA!HB25","v":600},{"$f":"SA!HD25-SA!HC25","v":300},{"$f":"SA!HE25-SA!HD25","v":200},{"$f":"SA!HF25-SA!HE25","v":-700},{"$f":"SA!HG25-SA!HF25","v":2600},{"$f":"SA!HH25-SA!HG25","v":-800},{"$f":"SA!HI25-SA!HH25","v":300},{"$f":"SA!HJ25-SA!HI25","v":200},{"$f":"SA!HK25-SA!HJ25","v":2500},{"$f":"SA!HL25-SA!HK25","v":-1300},{"$f":"SA!HM25-SA!HL25","v":700},{"$f":"SA!HN25-SA!HM25","v":500},{"$f":"SA!HO25-SA!HN25","v":100},{"$f":"SA!HP25-SA!HO25","v":-600},{"$f":"SA!HQ25-SA!HP25","v":-900},{"$f":"SA!HR25-SA!HQ25","v":-500},{"$f":"SA!HS25-SA!HR25","v":400},{"$f":"SA!HT25-SA!HS25","v":3500},{"$f":"SA!HU25-SA!HT25","v":200},{"$f":"SA!HV25-SA!HU25","v":2100},{"$f":"SA!HW25-SA!HV25","v":700},{"$f":"SA!HX25-SA!HW25","v":1400},{"$f":"SA!HY25-SA!HX25","v":1500},{"$f":"SA!HZ25-SA!HY25","v":-2800},{"$f":"SA!IA25-SA!HZ25","v":-2000},{"$f":"SA!IB25-SA!IA25","v":-1500},{"$f":"SA!IC25-SA!IB25","v":3400},{"$f":"SA!ID25-SA!IC25","v":1700},{"$f":"SA!IE25-SA!ID25","v":-1000},{"$f":"SA!IF25-SA!IE25","v":-1100},{"$f":"SA!IG25-SA!IF25","v":100},{"$f":"SA!IH25-SA!IG25","v":200},{"$f":"SA!II25-SA!IH25","v":1100},{"$f":"SA!IJ25-SA!II25","v":900},{"$f":"SA!IK25-SA!IJ25","v":600},{"$f":"SA!IL25-SA!IK25","v":-461000},3597.6150000000002,{"$f":"COUNTIF(EY63:FY63, \">\" &GA63)","v":0},null,"Education and Health Services",-2800,-200,200,500,600,900,1200,3500,930.35591586097564]
["Educational Services",{"$f":"SA!BN26-SA!BM26","v":200},{"$f":"SA!BO26-SA!BN26","v":0},{"$f":"SA!BP26-SA!BO26","v":200},{"$f":"SA!BQ26-SA!BP26","v":0},{"$f":"SA!BR26-SA!BQ26","v":0},{"$f":"SA!BS26-SA!BR26","v":200},{"$f":"SA!BT26-SA!BS26","v":-200},{"$f":"SA!BU26-SA!BT26","v":300},{"$f":"SA!BV26-SA!BU26","v":-100},{"$f":"SA!BW26-SA!BV26","v":-200},{"$f":"SA!BX26-SA!BW26","v":300},{"$f":"SA!BY26-SA!BX26","v":-100},{"$f":"SA!BZ26-SA!BY26","v":300},{"$f":"SA!CA26-SA!BZ26","v":200},{"$f":"SA!CB26-SA!CA26","v":-100},{"$f":"SA!CC26-SA!CB26","v":400},{"$f":"SA!CD26-SA!CC26","v":200},{"$f":"SA!CE26-SA!CD26","v":-200},{"$f":"SA!CF26-SA!CE26","v":300},{"$f":"SA!CG26-SA!CF26","v":-300},{"$f":"SA!CH26-SA!CG26","v":200},{"$f":"SA!CI26-SA!CH26","v":100},{"$f":"SA!CJ26-SA!CI26","v":400},{"$f":"SA!CK26-SA!CJ26","v":-400},{"$f":"SA!CL26-SA!CK26","v":0},{"$f":"SA!CM26-SA!CL26","v":100},{"$f":"SA!CN26-SA!CM26","v":200},{"$f":"SA!CO26-SA!CN26","v":-300},{"$f":"SA!CP26-SA!CO26","v":300},{"$f":"SA!CQ26-SA!CP26","v":-200},{"$f":"SA!CR26-SA!CQ26","v":300},{"$f":"SA!CS26-SA!CR26","v":200},{"$f":"SA!CT26-SA!CS26","v":100},{"$f":"SA!CU26-SA!CT26","v":-2400},{"$f":"SA!CV26-SA!CU26","v":-800},{"$f":"SA!CW26-SA!CV26","v":400},{"$f":"SA!CX26-SA!CW26","v":100},{"$f":"SA!CY26-SA!CX26","v":0},{"$f":"SA!CZ26-SA!CY26","v":-100},{"$f":"SA!DA26-SA!CZ26","v":800},{"$f":"SA!DB26-SA!DA26","v":-200},{"$f":"SA!DC26-SA!DB26","v":500},{"$f":"SA!DD26-SA!DC26","v":500},{"$f":"SA!DE26-SA!DD26","v":100},{"$f":"SA!DF26-SA!DE26","v":600},{"$f":"SA!DG26-SA!DF26","v":1000},{"$f":"SA!DH26-SA!DG26","v":300},{"$f":"SA!DI26-SA!DH26","v":800},{"$f":"SA!DJ26-SA!DI26","v":-400},{"$f":"SA!DK26-SA!DJ26","v":0},{"$f":"SA!DL26-SA!DK26","v":0},{"$f":"SA!DM26-SA!DL26","v":-900},{"$f":"SA!DN26-SA!DM26","v":0},{"$f":"SA!DO26-SA!DN26","v":1200},{"$f":"SA!DP26-SA!DO26","v":-100},{"$f":"SA!DQ26-SA!DP26","v":100},{"$f":"SA!DR26-SA!DQ26","v":-1200},{"$f":"SA!DS26-SA!DR26","v":-100},{"$f":"SA!DT26-SA!DS26","v":-200},{"$f":"SA!DU26-SA!DT26","v":-300},{"$f":"SA!DV26-SA!DU26","v":400},{"$f":"SA!DW26-SA!DV26","v":100},{"$f":"SA!DX26-SA!DW26","v":100},{"$f":"SA!DY26-SA!DX26","v":-800},{"$f":"SA!DZ26-SA!DY26","v":-700},{"$f":"SA!EA26-SA!DZ26","v":1200},{"$f":"SA!EB26-SA!EA26","v":1000},{"$f":"SA!EC26-SA!EB26","v":700},{"$f":"SA!ED26-SA!EC26","v":-1100},{"$f":"SA!EE26-SA!ED26","v":-700},{"$f":"SA!EF26-SA!EE26","v":-300},{"$f":"SA!EG26-SA!EF26","v":0},{"$f":"SA!EH26-SA!EG26","v":200},{"$f":"SA!EI26-SA!EH26","v":-400},{"$f":"SA!EJ26-SA!EI26","v":-900},{"$f":"SA!EK26-SA!EJ26","v":1400},{"$f":"SA!EL26-SA!EK26","v":400},{"$f":"SA!EM26-SA!EL26","v":-200},{"$f":"SA!EN26-SA!EM26","v":500},{"$f":"SA!EO26-SA!EN26","v":200},{"$f":"SA!EP26-SA!EO26","v":0},{"$f":"SA!EQ26-SA!EP26","v":100},{"$f":"SA!ER26-SA!EQ26","v":200},{"$f":"SA!ES26-SA!ER26","v":-100},{"$f":"SA!ET26-SA!ES26","v":-1100},{"$f":"SA!EU26-SA!ET26","v":100},{"$f":"SA!EV26-SA!EU26","v":400},{"$f":"SA!EW26-SA!EV26","v":100},{"$f":"SA!EX26-SA!EW26","v":200},{"$f":"SA!EY26-SA!EX26","v":-300},{"$f":"SA!EZ26-SA!EY26","v":-4000},{"$f":"SA!FA26-SA!EZ26","v":1900},{"$f":"SA!FB26-SA!FA26","v":1300},{"$f":"SA!FC26-SA!FB26","v":700},{"$f":"SA!FD26-SA!FC26","v":0},{"$f":"SA!FE26-SA!FD26","v":200},{"$f":"SA!FF26-SA!FE26","v":-700},{"$f":"SA!FG26-SA!FF26","v":100},{"$f":"SA!FH26-SA!FG26","v":100},{"$f":"SA!FI26-SA!FH26","v":-200},{"$f":"SA!FJ26-SA!FI26","v":0},{"$f":"SA!FK26-SA!FJ26","v":-100},{"$f":"SA!FL26-SA!FK26","v":-100},{"$f":"SA!FM26-SA!FL26","v":300},{"$f":"SA!FN26-SA!FM26","v":0},{"$f":"SA!FO26-SA!FN26","v":200},{"$f":"SA!FP26-SA!FO26","v":0},{"$f":"SA!FQ26-SA!FP26","v":-200},{"$f":"SA!FR26-SA!FQ26","v":300},{"$f":"SA!FS26-SA!FR26","v":-300},{"$f":"SA!FT26-SA!FS26","v":0},{"$f":"SA!FU26-SA!FT26","v":100},{"$f":"SA!FV26-SA!FU26","v":300},{"$f":"SA!FW26-SA!FV26","v":-300},{"$f":"SA!FX26-SA!FW26","v":200},{"$f":"SA!FY26-SA!FX26","v":100},{"$f":"SA!FZ26-SA!FY26","v":0},{"$f":"SA!GA26-SA!FZ26","v":-200},{"$f":"SA!GB26-SA!GA26","v":-100},{"$f":"SA!GC26-SA!GB26","v":400},{"$f":"SA!GD26-SA!GC26","v":-200},{"$f":"SA!GE26-SA!GD26","v":200},{"$f":"SA!GF26-SA!GE26","v":100},{"$f":"SA!GG26-SA!GF26","v":-200},{"$f":"SA!GH26-SA!GG26","v":100},{"$f":"SA!GI26-SA!GH26","v":-100},{"$f":"SA!GJ26-SA!GI26","v":400},{"$f":"SA!GK26-SA!GJ26","v":-600},{"$f":"SA!GL26-SA!GK26","v":200},{"$f":"SA!GM26-SA!GL26","v":200},{"$f":"SA!GN26-SA!GM26","v":100},{"$f":"SA!GO26-SA!GN26","v":-100},{"$f":"SA!GP26-SA!GO26","v":0},{"$f":"SA!GQ26-SA!GP26","v":-200},{"$f":"SA!GR26-SA!GQ26","v":200},{"$f":"SA!GS26-SA!GR26","v":300},{"$f":"SA!GT26-SA!GS26","v":0},{"$f":"SA!GU26-SA!GT26","v":100},{"$f":"SA!GV26-SA!GU26","v":200},{"$f":"SA!GW26-SA!GV26","v":-200},{"$f":"SA!GX26-SA!GW26","v":-100},{"$f":"SA!GY26-SA!GX26","v":0},{"$f":"SA!GZ26-SA!GY26","v":0},{"$f":"SA!HA26-SA!GZ26","v":0},{"$f":"SA!HB26-SA!HA26","v":100},{"$f":"SA!HC26-SA!HB26","v":200},{"$f":"SA!HD26-SA!HC26","v":-100},{"$f":"SA!HE26-SA!HD26","v":100},{"$f":"SA!HF26-SA!HE26","v":-600},{"$f":"SA!HG26-SA!HF26","v":700},{"$f":"SA!HH26-SA!HG26","v":-300},{"$f":"SA!HI26-SA!HH26","v":-100},{"$f":"SA!HJ26-SA!HI26","v":600},{"$f":"SA!HK26-SA!HJ26","v":-200},{"$f":"SA!HL26-SA!HK26","v":100},{"$f":"SA!HM26-SA!HL26","v":100},{"$f":"SA!HN26-SA!HM26","v":0},{"$f":"SA!HO26-SA!HN26","v":600},{"$f":"SA!HP26-SA!HO26","v":-200},{"$f":"SA!HQ26-SA!HP26","v":-300},{"$f":"SA!HR26-SA!HQ26","v":-300},{"$f":"SA!HS26-SA!HR26","v":-300},{"$f":"SA!HT26-SA!HS26","v":0},{"$f":"SA!HU26-SA!HT26","v":-200},{"$f":"SA!HV26-SA!HU26","v":1500},{"$f":"SA!HW26-SA!HV26","v":700},{"$f":"SA!HX26-SA!HW26","v":300},{"$f":"SA!HY26-SA!HX26","v":100},{"$f":"SA!HZ26-SA!HY26","v":200},{"$f":"SA!IA26-SA!HZ26","v":-800},{"$f":"SA!IB26-SA!IA26","v":0},{"$f":"SA!IC26-SA!IB26","v":200},{"$f":"SA!ID26-SA!IC26","v":200},{"$f":"SA!IE26-SA!ID26","v":200},{"$f":"SA!IF26-SA!IE26","v":200},{"$f":"SA!IG26-SA!IF26","v":-100},{"$f":"SA!IH26-SA!IG26","v":-300},{"$f":"SA!II26-SA!IH26","v":-600},{"$f":"SA!IJ26-SA!II26","v":100},{"$f":"SA!IK26-SA!IJ26","v":0},{"$f":"SA!IL26-SA!IK26","v":-52400},2477.37,{"$f":"COUNTIF(EY64:FY64, \">\" &GA64)","v":0},null,"Educational Services",-4000,-300,-100,0,100,200,400,1900,574.3224650814841]
["Health Care and Social Assistance",{"$f":"SA!BN27-SA!BM27","v":500},{"$f":"SA!BO27-SA!BN27","v":300},{"$f":"SA!BP27-SA!BO27","v":900},{"$f":"SA!BQ27-SA!BP27","v":500},{"$f":"SA!BR27-SA!BQ27","v":600},{"$f":"SA!BS27-SA!BR27","v":500},{"$f":"SA!BT27-SA!BS27","v":600},{"$f":"SA!BU27-SA!BT27","v":300},{"$f":"SA!BV27-SA!BU27","v":1300},{"$f":"SA!BW27-SA!BV27","v":100},{"$f":"SA!BX27-SA!BW27","v":600},{"$f":"SA!BY27-SA!BX27","v":500},{"$f":"SA!BZ27-SA!BY27","v":700},{"$f":"SA!CA27-SA!BZ27","v":900},{"$f":"SA!CB27-SA!CA27","v":-100},{"$f":"SA!CC27-SA!CB27","v":500},{"$f":"SA!CD27-SA!CC27","v":300},{"$f":"SA!CE27-SA!CD27","v":800},{"$f":"SA!CF27-SA!CE27","v":800},{"$f":"SA!CG27-SA!CF27","v":500},{"$f":"SA!CH27-SA!CG27","v":700},{"$f":"SA!CI27-SA!CH27","v":900},{"$f":"SA!CJ27-SA!CI27","v":-100},{"$f":"SA!CK27-SA!CJ27","v":400},{"$f":"SA!CL27-SA!CK27","v":-100},{"$f":"SA!CM27-SA!CL27","v":500},{"$f":"SA!CN27-SA!CM27","v":300},{"$f":"SA!CO27-SA!CN27","v":700},{"$f":"SA!CP27-SA!CO27","v":200},{"$f":"SA!CQ27-SA!CP27","v":1200},{"$f":"SA!CR27-SA!CQ27","v":500},{"$f":"SA!CS27-SA!CR27","v":500},{"$f":"SA!CT27-SA!CS27","v":1000},{"$f":"SA!CU27-SA!CT27","v":100},{"$f":"SA!CV27-SA!CU27","v":400},{"$f":"SA!CW27-SA!CV27","v":800},{"$f":"SA!CX27-SA!CW27","v":400},{"$f":"SA!CY27-SA!CX27","v":400},{"$f":"SA!CZ27-SA!CY27","v":800},{"$f":"SA!DA27-SA!CZ27","v":400},{"$f":"SA!DB27-SA!DA27","v":700},{"$f":"SA!DC27-SA!DB27","v":600},{"$f":"SA!DD27-SA!DC27","v":500},{"$f":"SA!DE27-SA!DD27","v":700},{"$f":"SA!DF27-SA!DE27","v":500},{"$f":"SA!DG27-SA!DF27","v":600},{"$f":"SA!DH27-SA!DG27","v":1000},{"$f":"SA!DI27-SA!DH27","v":1000},{"$f":"SA!DJ27-SA!DI27","v":-400},{"$f":"SA!DK27-SA!DJ27","v":800},{"$f":"SA!DL27-SA!DK27","v":300},{"$f":"SA!DM27-SA!DL27","v":100},{"$f":"SA!DN27-SA!DM27","v":600},{"$f":"SA!DO27-SA!DN27","v":300},{"$f":"SA!DP27-SA!DO27","v":-400},{"$f":"SA!DQ27-SA!DP27","v":400},{"$f":"SA!DR27-SA!DQ27","v":-400},{"$f":"SA!DS27-SA!DR27","v":900},{"$f":"SA!DT27-SA!DS27","v":-300},{"$f":"SA!DU27-SA!DT27","v":-400},{"$f":"SA!DV27-SA!DU27","v":1500},{"$f":"SA!DW27-SA!DV27","v":300},{"$f":"SA!DX27-SA!DW27","v":500},{"$f":"SA!DY27-SA!DX27","v":-1900},{"$f":"SA!DZ27-SA!DY27","v":300},{"$f":"SA!EA27-SA!DZ27","v":0},{"$f":"SA!EB27-SA!EA27","v":500},{"$f":"SA!EC27-SA!EB27","v":200},{"$f":"SA!ED27-SA!EC27","v":-700},{"$f":"SA!EE27-SA!ED27","v":1200},{"$f":"SA!EF27-SA!EE27","v":400},{"$f":"SA!EG27-SA!EF27","v":200},{"$f":"SA!EH27-SA!EG27","v":-100},{"$f":"SA!EI27-SA!EH27","v":200},{"$f":"SA!EJ27-SA!EI27","v":0},{"$f":"SA!EK27-SA!EJ27","v":1100},{"$f":"SA!EL27-SA!EK27","v":100},{"$f":"SA!EM27-SA!EL27","v":500},{"$f":"SA!EN27-SA!EM27","v":500},{"$f":"SA!EO27-SA!EN27","v":-200},{"$f":"SA!EP27-SA!EO27","v":1300},{"$f":"SA!EQ27-SA!EP27","v":200},{"$f":"SA!ER27-SA!EQ27","v":300},{"$f":"SA!ES27-SA!ER27","v":1000},{"$f":"SA!ET27-SA!ES27","v":1500},{"$f":"SA!EU27-SA!ET27","v":700},{"$f":"SA!EV27-SA!EU27","v":600},{"$f":"SA!EW27-SA!EV27","v":500},{"$f":"SA!EX27-SA!EW27","v":-100},{"$f":"SA!EY27-SA!EX27","v":1000},{"$f":"SA!EZ27-SA!EY27","v":1200},{"$f":"SA!FA27-SA!EZ27","v":500},{"$f":"SA!FB27-SA!FA27","v":1100},{"$f":"SA!FC27-SA!FB27","v":1100},{"$f":"SA!FD27-SA!FC27","v":200},{"$f":"SA!FE27-SA!FD27","v":500},{"$f":"SA!FF27-SA!FE27","v":-400},{"$f":"SA!FG27-SA!FF27","v":500},{"$f":"SA!FH27-SA!FG27","v":400},{"$f":"SA!FI27-SA!FH27","v":200},{"$f":"SA!FJ27-SA!FI27","v":900},{"$f":"SA!FK27-SA!FJ27","v":-100},{"$f":"SA!FL27-SA!FK27","v":300},{"$f":"SA!FM27-SA!FL27","v":1200},{"$f":"SA!FN27-SA!FM27","v":400},{"$f":"SA!FO27-SA!FN27","v":300},{"$f":"SA!FP27-SA!FO27","v":500},{"$f":"SA!FQ27-SA!FP27","v":-200},{"$f":"SA!FR27-SA!FQ27","v":1500},{"$f":"SA!FS27-SA!FR27","v":500},{"$f":"SA!FT27-SA!FS27","v":500},{"$f":"SA!FU27-SA!FT27","v":500},{"$f":"SA!FV27-SA!FU27","v":100},{"$f":"SA!FW27-SA!FV27","v":1200},{"$f":"SA!FX27-SA!FW27","v":0},{"$f":"SA!FY27-SA!FX27","v":600},{"$f":"SA!FZ27-SA!FY27","v":500},{"$f":"SA!GA27-SA!FZ27","v":0},{"$f":"SA!GB27-SA!GA27","v":1300},{"$f":"SA!GC27-SA!GB27","v":0},{"$f":"SA!GD27-SA!GC27","v":-400},{"$f":"SA!GE27-SA!GD27","v":700},{"$f":"SA!GF27-SA!GE27","v":900},{"$f":"SA!GG27-SA!GF27","v":0},{"$f":"SA!GH27-SA!GG27","v":1200},{"$f":"SA!GI27-SA!GH27","v":200},{"$f":"SA!GJ27-SA!GI27","v":700},{"$f":"SA!GK27-SA!GJ27","v":200},{"$f":"SA!GL27-SA!GK27","v":0},{"$f":"SA!GM27-SA!GL27","v":1300},{"$f":"SA!GN27-SA!GM27","v":800},{"$f":"SA!GO27-SA!GN27","v":1100},{"$f":"SA!GP27-SA!GO27","v":1000},{"$f":"SA!GQ27-SA!GP27","v":1100},{"$f":"SA!GR27-SA!GQ27","v":300},{"$f":"SA!GS27-SA!GR27","v":1100},{"$f":"SA!GT27-SA!GS27","v":300},{"$f":"SA!GU27-SA!GT27","v":-300},{"$f":"SA!GV27-SA!GU27","v":2300},{"$f":"SA!GW27-SA!GV27","v":0},{"$f":"SA!GX27-SA!GW27","v":700},{"$f":"SA!GY27-SA!GX27","v":-100},{"$f":"SA!GZ27-SA!GY27","v":400},{"$f":"SA!HA27-SA!GZ27","v":-200},{"$f":"SA!HB27-SA!HA27","v":1300},{"$f":"SA!HC27-SA!HB27","v":400},{"$f":"SA!HD27-SA!HC27","v":400},{"$f":"SA!HE27-SA!HD27","v":100},{"$f":"SA!HF27-SA!HE27","v":-100},{"$f":"SA!HG27-SA!HF27","v":1900},{"$f":"SA!HH27-SA!HG27","v":-500},{"$f":"SA!HI27-SA!HH27","v":400},{"$f":"SA!HJ27-SA!HI27","v":-400},{"$f":"SA!HK27-SA!HJ27","v":2700},{"$f":"SA!HL27-SA!HK27","v":-1400},{"$f":"SA!HM27-SA!HL27","v":600},{"$f":"SA!HN27-SA!HM27","v":500},{"$f":"SA!HO27-SA!HN27","v":-500},{"$f":"SA!HP27-SA!HO27","v":-400},{"$f":"SA!HQ27-SA!HP27","v":-600},{"$f":"SA!HR27-SA!HQ27","v":-200},{"$f":"SA!HS27-SA!HR27","v":700},{"$f":"SA!HT27-SA!HS27","v":3500},{"$f":"SA!HU27-SA!HT27","v":400},{"$f":"SA!HV27-SA!HU27","v":600},{"$f":"SA!HW27-SA!HV27","v":0},{"$f":"SA!HX27-SA!HW27","v":1100},{"$f":"SA!HY27-SA!HX27","v":1400},{"$f":"SA!HZ27-SA!HY27","v":-3000},{"$f":"SA!IA27-SA!HZ27","v":-1200},{"$f":"SA!IB27-SA!IA27","v":-1500},{"$f":"SA!IC27-SA!IB27","v":3200},{"$f":"SA!ID27-SA!IC27","v":1500},{"$f":"SA!IE27-SA!ID27","v":-1200},{"$f":"SA!IF27-SA!IE27","v":-1300},{"$f":"SA!IG27-SA!IF27","v":200},{"$f":"SA!IH27-SA!IG27","v":500},{"$f":"SA!II27-SA!IH27","v":1700},{"$f":"SA!IJ27-SA!II27","v":800},{"$f":"SA!IK27-SA!IJ27","v":600},{"$f":"SA!IL27-SA!IK27","v":-408600},2608.9700000000003,{"$f":"COUNTIF(EY65:FY65, \">\" &GA65)","v":3},null,"Health Care and Social Assistance",-3000,-100,200,400,500,700,1100,3500,680.46822740529592]
["Leisure and Hospitality",{"$f":"SA!BN28-SA!BM28","v":-700},{"$f":"SA!BO28-SA!BN28","v":500},{"$f":"SA!BP28-SA!BO28","v":900},{"$f":"SA!BQ28-SA!BP28","v":3300},{"$f":"SA!BR28-SA!BQ28","v":-2200},{"$f":"SA!BS28-SA!BR28","v":-500},{"$f":"SA!BT28-SA!BS28","v":700},{"$f":"SA!BU28-SA!BT28","v":500},{"$f":"SA!BV28-SA!BU28","v":699.9999999999709},{"$f":"SA!BW28-SA!BV28","v":-1099.9999999999709},{"$f":"SA!BX28-SA!BW28","v":1400},{"$f":"SA!BY28-SA!BX28","v":-400},{"$f":"SA!BZ28-SA!BY28","v":1700},{"$f":"SA!CA28-SA!BZ28","v":1000},{"$f":"SA!CB28-SA!CA28","v":800},{"$f":"SA!CC28-SA!CB28","v":99.999999999970896},{"$f":"SA!CD28-SA!CC28","v":-2099.9999999999709},{"$f":"SA!CE28-SA!CD28","v":800.0000000000291},{"$f":"SA!CF28-SA!CE28","v":799.99999999994179},{"$f":"SA!CG28-SA!CF28","v":300.0000000000291},{"$f":"SA!CH28-SA!CG28","v":-99.999999999970896},{"$f":"SA!CI28-SA!CH28","v":1099.9999999999709},{"$f":"SA!CJ28-SA!CI28","v":-200},{"$f":"SA!CK28-SA!CJ28","v":899.9999999999709},{"$f":"SA!CL28-SA!CK28","v":900.0000000000291},{"$f":"SA!CM28-SA!CL28","v":300},{"$f":"SA!CN28-SA!CM28","v":100},{"$f":"SA!CO28-SA!CN28","v":-1200},{"$f":"SA!CP28-SA!CO28","v":200},{"$f":"SA!CQ28-SA!CP28","v":700},{"$f":"SA!CR28-SA!CQ28","v":-1000.0000000000291},{"$f":"SA!CS28-SA!CR28","v":600.0000000000291},{"$f":"SA!CT28-SA!CS28","v":-1700},{"$f":"SA!CU28-SA!CT28","v":1700},{"$f":"SA!CV28-SA!CU28","v":700},{"$f":"SA!CW28-SA!CV28","v":-400},{"$f":"SA!CX28-SA!CW28","v":-500},{"$f":"SA!CY28-SA!CX28","v":-699.9999999999709},{"$f":"SA!CZ28-SA!CY28","v":-200.00000000005821},{"$f":"SA!DA28-SA!CZ28","v":-599.9999999999709},{"$f":"SA!DB28-SA!DA28","v":-199.9999999999709},{"$f":"SA!DC28-SA!DB28","v":-600.0000000000291},{"$f":"SA!DD28-SA!DC28","v":-200},{"$f":"SA!DE28-SA!DD28","v":-600},{"$f":"SA!DF28-SA!DE28","v":-599.9999999999709},{"$f":"SA!DG28-SA!DF28","v":500},{"$f":"SA!DH28-SA!DG28","v":-700.00000000005821},{"$f":"SA!DI28-SA!DH28","v":-899.9999999999709},{"$f":"SA!DJ28-SA!DI28","v":-2200},{"$f":"SA!DK28-SA!DJ28","v":400},{"$f":"SA!DL28-SA!DK28","v":-1000},{"$f":"SA!DM28-SA!DL28","v":-1700},{"$f":"SA!DN28-SA!DM28","v":2600},{"$f":"SA!DO28-SA!DN28","v":-1200},{"$f":"SA!DP28-SA!DO28","v":-1600},{"$f":"SA!DQ28-SA!DP28","v":-1000},{"$f":"SA!DR28-SA!DQ28","v":300},{"$f":"SA!DS28-SA!DR28","v":-1300},{"$f":"SA!DT28-SA!DS28","v":-100},{"$f":"SA!DU28-SA!DT28","v":-200},{"$f":"SA!DV28-SA!DU28","v":800},{"$f":"SA!DW28-SA!DV28","v":-900},{"$f":"SA!DX28-SA!DW28","v":-200},{"$f":"SA!DY28-SA!DX28","v":2100},{"$f":"SA!DZ28-SA!DY28","v":-600},{"$f":"SA!EA28-SA!DZ28","v":-700},{"$f":"SA!EB28-SA!EA28","v":1100},{"$f":"SA!EC28-SA!EB28","v":700},{"$f":"SA!ED28-SA!EC28","v":-500},{"$f":"SA!EE28-SA!ED28","v":900},{"$f":"SA!EF28-SA!EE28","v":200},{"$f":"SA!EG28-SA!EF28","v":-100},{"$f":"SA!EH28-SA!EG28","v":-500},{"$f":"SA!EI28-SA!EH28","v":-800},{"$f":"SA!EJ28-SA!EI28","v":-500},{"$f":"SA!EK28-SA!EJ28","v":800},{"$f":"SA!EL28-SA!EK28","v":-300},{"$f":"SA!EM28-SA!EL28","v":400},{"$f":"SA!EN28-SA!EM28","v":800},{"$f":"SA!EO28-SA!EN28","v":700},{"$f":"SA!EP28-SA!EO28","v":0},{"$f":"SA!EQ28-SA!EP28","v":500},{"$f":"SA!ER28-SA!EQ28","v":-500},{"$f":"SA!ES28-SA!ER28","v":-500},{"$f":"SA!ET28-SA!ES28","v":1300},{"$f":"SA!EU28-SA!ET28","v":600},{"$f":"SA!EV28-SA!EU28","v":2000},{"$f":"SA!EW28-SA!EV28","v":1400},{"$f":"SA!EX28-SA!EW28","v":-1599.9999999999709},{"$f":"SA!EY28-SA!EX28","v":1000},{"$f":"SA!EZ28-SA!EY28","v":-200.00000000005821},{"$f":"SA!FA28-SA!EZ28","v":-500},{"$f":"SA!FB28-SA!FA28","v":1300.0000000000291},{"$f":"SA!FC28-SA!FB28","v":-1200},{"$f":"SA!FD28-SA!FC28","v":300},{"$f":"SA!FE28-SA!FD28","v":1000},{"$f":"SA!FF28-SA!FE28","v":500},{"$f":"SA!FG28-SA!FF28","v":400},{"$f":"SA!FH28-SA!FG28","v":100},{"$f":"SA!FI28-SA!FH28","v":-2000},{"$f":"SA!FJ28-SA!FI28","v":3300.0000000000291},{"$f":"SA!FK28-SA!FJ28","v":-100.0000000000291},{"$f":"SA!FL28-SA!FK28","v":899.9999999999709},{"$f":"SA!FM28-SA!FL28","v":1400.0000000000291},{"$f":"SA!FN28-SA!FM28","v":600},{"$f":"SA!FO28-SA!FN28","v":-200},{"$f":"SA!FP28-SA!FO28","v":200},{"$f":"SA!FQ28-SA!FP28","v":300},{"$f":"SA!FR28-SA!FQ28","v":-800},{"$f":"SA!FS28-SA!FR28","v":200},{"$f":"SA!FT28-SA!FS28","v":-400},{"$f":"SA!FU28-SA!FT28","v":100},{"$f":"SA!FV28-SA!FU28","v":900},{"$f":"SA!FW28-SA!FV28","v":1100},{"$f":"SA!FX28-SA!FW28","v":-1700},{"$f":"SA!FY28-SA!FX28","v":900},{"$f":"SA!FZ28-SA!FY28","v":200},{"$f":"SA!GA28-SA!FZ28","v":500},{"$f":"SA!GB28-SA!GA28","v":1000},{"$f":"SA!GC28-SA!GB28","v":700},{"$f":"SA!GD28-SA!GC28","v":1200},{"$f":"SA!GE28-SA!GD28","v":-100},{"$f":"SA!GF28-SA!GE28","v":1400},{"$f":"SA!GG28-SA!GF28","v":400},{"$f":"SA!GH28-SA!GG28","v":700},{"$f":"SA!GI28-SA!GH28","v":500},{"$f":"SA!GJ28-SA!GI28","v":-400},{"$f":"SA!GK28-SA!GJ28","v":1000},{"$f":"SA!GL28-SA!GK28","v":600},{"$f":"SA!GM28-SA!GL28","v":1500},{"$f":"SA!GN28-SA!GM28","v":1800},{"$f":"SA!GO28-SA!GN28","v":-200},{"$f":"SA!GP28-SA!GO28","v":0},{"$f":"SA!GQ28-SA!GP28","v":800},{"$f":"SA!GR28-SA!GQ28","v":-500},{"$f":"SA!GS28-SA!GR28","v":300},{"$f":"SA!GT28-SA!GS28","v":-100},{"$f":"SA!GU28-SA!GT28","v":-1100},{"$f":"SA!GV28-SA!GU28","v":1700},{"$f":"SA!GW28-SA!GV28","v":800},{"$f":"SA!GX28-SA!GW28","v":500},{"$f":"SA!GY28-SA!GX28","v":600},{"$f":"SA!GZ28-SA!GY28","v":-400},{"$f":"SA!HA28-SA!GZ28","v":0},{"$f":"SA!HB28-SA!HA28","v":2600},{"$f":"SA!HC28-SA!HB28","v":500},{"$f":"SA!HD28-SA!HC28","v":600},{"$f":"SA!HE28-SA!HD28","v":-1700},{"$f":"SA!HF28-SA!HE28","v":-800},{"$f":"SA!HG28-SA!HF28","v":2400},{"$f":"SA!HH28-SA!HG28","v":-700},{"$f":"SA!HI28-SA!HH28","v":0},{"$f":"SA!HJ28-SA!HI28","v":-1100},{"$f":"SA!HK28-SA!HJ28","v":800},{"$f":"SA!HL28-SA!HK28","v":1500},{"$f":"SA!HM28-SA!HL28","v":1800},{"$f":"SA!HN28-SA!HM28","v":300},{"$f":"SA!HO28-SA!HN28","v":-1100},{"$f":"SA!HP28-SA!HO28","v":-100},{"$f":"SA!HQ28-SA!HP28","v":-1200},{"$f":"SA!HR28-SA!HQ28","v":-100},{"$f":"SA!HS28-SA!HR28","v":4300},{"$f":"SA!HT28-SA!HS28","v":1700},{"$f":"SA!HU28-SA!HT28","v":-2500},{"$f":"SA!HV28-SA!HU28","v":-600},{"$f":"SA!HW28-SA!HV28","v":800},{"$f":"SA!HX28-SA!HW28","v":5700},{"$f":"SA!HY28-SA!HX28","v":4700},{"$f":"SA!HZ28-SA!HY28","v":-5500},{"$f":"SA!IA28-SA!HZ28","v":300},{"$f":"SA!IB28-SA!IA28","v":-3800},{"$f":"SA!IC28-SA!IB28","v":-1200},{"$f":"SA!ID28-SA!IC28","v":0},{"$f":"SA!IE28-SA!ID28","v":1300},{"$f":"SA!IF28-SA!IE28","v":1000},{"$f":"SA!IG28-SA!IF28","v":-2500},{"$f":"SA!IH28-SA!IG28","v":200},{"$f":"SA!II28-SA!IH28","v":700},{"$f":"SA!IJ28-SA!II28","v":600},{"$f":"SA!IK28-SA!IJ28","v":3600},{"$f":"SA!IL28-SA!IK28","v":-289900},4143.7550000000001,{"$f":"COUNTIF(EY66:FY66, \">\" &GA66)","v":3},null,"Leisure and Hospitality",-5500,-899.99999999998545,-400,49.999999999985448,400,700,1150,5700,1284.1474594705421]
["Arts, Entertainment, and Recreation",{"$f":"SA!BN29-SA!BM29","v":-300},{"$f":"SA!BO29-SA!BN29","v":-400},{"$f":"SA!BP29-SA!BO29","v":200},{"$f":"SA!BQ29-SA!BP29","v":900},{"$f":"SA!BR29-SA!BQ29","v":-900},{"$f":"SA!BS29-SA!BR29","v":100},{"$f":"SA!BT29-SA!BS29","v":0},{"$f":"SA!BU29-SA!BT29","v":100},{"$f":"SA!BV29-SA!BU29","v":200},{"$f":"SA!BW29-SA!BV29","v":0},{"$f":"SA!BX29-SA!BW29","v":100},{"$f":"SA!BY29-SA!BX29","v":-200},{"$f":"SA!BZ29-SA!BY29","v":0},{"$f":"SA!CA29-SA!BZ29","v":400},{"$f":"SA!CB29-SA!CA29","v":0},{"$f":"SA!CC29-SA!CB29","v":800},{"$f":"SA!CD29-SA!CC29","v":-1000},{"$f":"SA!CE29-SA!CD29","v":100},{"$f":"SA!CF29-SA!CE29","v":0},{"$f":"SA!CG29-SA!CF29","v":200},{"$f":"SA!CH29-SA!CG29","v":100},{"$f":"SA!CI29-SA!CH29","v":-100},{"$f":"SA!CJ29-SA!CI29","v":-200},{"$f":"SA!CK29-SA!CJ29","v":200},{"$f":"SA!CL29-SA!CK29","v":400},{"$f":"SA!CM29-SA!CL29","v":300},{"$f":"SA!CN29-SA!CM29","v":200},{"$f":"SA!CO29-SA!CN29","v":-600},{"$f":"SA!CP29-SA!CO29","v":700},{"$f":"SA!CQ29-SA!CP29","v":200},{"$f":"SA!CR29-SA!CQ29","v":-300},{"$f":"SA!CS29-SA!CR29","v":0},{"$f":"SA!CT29-SA!CS29","v":-100},{"$f":"SA!CU29-SA!CT29","v":200},{"$f":"SA!CV29-SA!CU29","v":300},{"$f":"SA!CW29-SA!CV29","v":0},{"$f":"SA!CX29-SA!CW29","v":0},{"$f":"SA!CY29-SA!CX29","v":-200},{"$f":"SA!CZ29-SA!CY29","v":-300},{"$f":"SA!DA29-SA!CZ29","v":-600},{"$f":"SA!DB29-SA!DA29","v":500},{"$f":"SA!DC29-SA!DB29","v":0},{"$f":"SA!DD29-SA!DC29","v":-100},{"$f":"SA!DE29-SA!DD29","v":200},{"$f":"SA!DF29-SA!DE29","v":-800},{"$f":"SA!DG29-SA!DF29","v":800},{"$f":"SA!DH29-SA!DG29","v":-800},{"$f":"SA!DI29-SA!DH29","v":300},{"$f":"SA!DJ29-SA!DI29","v":-400},{"$f":"SA!DK29-SA!DJ29","v":-400},{"$f":"SA!DL29-SA!DK29","v":0},{"$f":"SA!DM29-SA!DL29","v":-900},{"$f":"SA!DN29-SA!DM29","v":1600},{"$f":"SA!DO29-SA!DN29","v":-200},{"$f":"SA!DP29-SA!DO29","v":-600},{"$f":"SA!DQ29-SA!DP29","v":-100},{"$f":"SA!DR29-SA!DQ29","v":400},{"$f":"SA!DS29-SA!DR29","v":-800},{"$f":"SA!DT29-SA!DS29","v":300},{"$f":"SA!DU29-SA!DT29","v":-300},{"$f":"SA!DV29-SA!DU29","v":100},{"$f":"SA!DW29-SA!DV29","v":-100},{"$f":"SA!DX29-SA!DW29","v":400},{"$f":"SA!DY29-SA!DX29","v":1000},{"$f":"SA!DZ29-SA!DY29","v":-700},{"$f":"SA!EA29-SA!DZ29","v":-900},{"$f":"SA!EB29-SA!EA29","v":900},{"$f":"SA!EC29-SA!EB29","v":200},{"$f":"SA!ED29-SA!EC29","v":-300},{"$f":"SA!EE29-SA!ED29","v":0},{"$f":"SA!EF29-SA!EE29","v":0},{"$f":"SA!EG29-SA!EF29","v":100},{"$f":"SA!EH29-SA!EG29","v":-200},{"$f":"SA!EI29-SA!EH29","v":200},{"$f":"SA!EJ29-SA!EI29","v":-400},{"$f":"SA!EK29-SA!EJ29","v":400},{"$f":"SA!EL29-SA!EK29","v":-500},{"$f":"SA!EM29-SA!EL29","v":400},{"$f":"SA!EN29-SA!EM29","v":600},{"$f":"SA!EO29-SA!EN29","v":0},{"$f":"SA!EP29-SA!EO29","v":0},{"$f":"SA!EQ29-SA!EP29","v":400},{"$f":"SA!ER29-SA!EQ29","v":-100},{"$f":"SA!ES29-SA!ER29","v":0},{"$f":"SA!ET29-SA!ES29","v":0},{"$f":"SA!EU29-SA!ET29","v":-300},{"$f":"SA!EV29-SA!EU29","v":1200},{"$f":"SA!EW29-SA!EV29","v":1000},{"$f":"SA!EX29-SA!EW29","v":-1800},{"$f":"SA!EY29-SA!EX29","v":-100},{"$f":"SA!EZ29-SA!EY29","v":0},{"$f":"SA!FA29-SA!EZ29","v":-200},{"$f":"SA!FB29-SA!FA29","v":700},{"$f":"SA!FC29-SA!FB29","v":-500},{"$f":"SA!FD29-SA!FC29","v":-200},{"$f":"SA!FE29-SA!FD29","v":300},{"$f":"SA!FF29-SA!FE29","v":200},{"$f":"SA!FG29-SA!FF29","v":-100},{"$f":"SA!FH29-SA!FG29","v":-200},{"$f":"SA!FI29-SA!FH29","v":-1700},{"$f":"SA!FJ29-SA!FI29","v":2500},{"$f":"SA!FK29-SA!FJ29","v":-400},{"$f":"SA!FL29-SA!FK29","v":-100},{"$f":"SA!FM29-SA!FL29","v":300},{"$f":"SA!FN29-SA!FM29","v":300},{"$f":"SA!FO29-SA!FN29","v":-100},{"$f":"SA!FP29-SA!FO29","v":300},{"$f":"SA!FQ29-SA!FP29","v":500},{"$f":"SA!FR29-SA!FQ29","v":-600},{"$f":"SA!FS29-SA!FR29","v":200},{"$f":"SA!FT29-SA!FS29","v":-300},{"$f":"SA!FU29-SA!FT29","v":-1000},{"$f":"SA!FV29-SA!FU29","v":1100},{"$f":"SA!FW29-SA!FV29","v":100},{"$f":"SA!FX29-SA!FW29","v":300},{"$f":"SA!FY29-SA!FX29","v":-200},{"$f":"SA!FZ29-SA!FY29","v":0},{"$f":"SA!GA29-SA!FZ29","v":-100},{"$f":"SA!GB29-SA!GA29","v":600},{"$f":"SA!GC29-SA!GB29","v":300},{"$f":"SA!GD29-SA!GC29","v":0},{"$f":"SA!GE29-SA!GD29","v":-300},{"$f":"SA!GF29-SA!GE29","v":400},{"$f":"SA!GG29-SA!GF29","v":100},{"$f":"SA!GH29-SA!GG29","v":200},{"$f":"SA!GI29-SA!GH29","v":200},{"$f":"SA!GJ29-SA!GI29","v":-1000},{"$f":"SA!GK29-SA!GJ29","v":700},{"$f":"SA!GL29-SA!GK29","v":200},{"$f":"SA!GM29-SA!GL29","v":700},{"$f":"SA!GN29-SA!GM29","v":800},{"$f":"SA!GO29-SA!GN29","v":-700},{"$f":"SA!GP29-SA!GO29","v":200},{"$f":"SA!GQ29-SA!GP29","v":300},{"$f":"SA!GR29-SA!GQ29","v":100},{"$f":"SA!GS29-SA!GR29","v":100},{"$f":"SA!GT29-SA!GS29","v":100},{"$f":"SA!GU29-SA!GT29","v":-300},{"$f":"SA!GV29-SA!GU29","v":500},{"$f":"SA!GW29-SA!GV29","v":200},{"$f":"SA!GX29-SA!GW29","v":100},{"$f":"SA!GY29-SA!GX29","v":100},{"$f":"SA!GZ29-SA!GY29","v":-300},{"$f":"SA!HA29-SA!GZ29","v":-400},{"$f":"SA!HB29-SA!HA29","v":1600},{"$f":"SA!HC29-SA!HB29","v":-400},{"$f":"SA!HD29-SA!HC29","v":0},{"$f":"SA!HE29-SA!HD29","v":-300},{"$f":"SA!HF29-SA!HE29","v":-100},{"$f":"SA!HG29-SA!HF29","v":800},{"$f":"SA!HH29-SA!HG29","v":-600},{"$f":"SA!HI29-SA!HH29","v":200},{"$f":"SA!HJ29-SA!HI29","v":-800},{"$f":"SA!HK29-SA!HJ29","v":2800},{"$f":"SA!HL29-SA!HK29","v":100},{"$f":"SA!HM29-SA!HL29","v":200},{"$f":"SA!HN29-SA!HM29","v":-1100},{"$f":"SA!HO29-SA!HN29","v":600},{"$f":"SA!HP29-SA!HO29","v":-700},{"$f":"SA!HQ29-SA!HP29","v":-1800},{"$f":"SA!HR29-SA!HQ29","v":-100},{"$f":"SA!HS29-SA!HR29","v":400},{"$f":"SA!HT29-SA!HS29","v":300},{"$f":"SA!HU29-SA!HT29","v":-200},{"$f":"SA!HV29-SA!HU29","v":-400},{"$f":"SA!HW29-SA!HV29","v":1700},{"$f":"SA!HX29-SA!HW29","v":1700},{"$f":"SA!HY29-SA!HX29","v":-400},{"$f":"SA!HZ29-SA!HY29","v":4400},{"$f":"SA!IA29-SA!HZ29","v":1400},{"$f":"SA!IB29-SA!IA29","v":-3000},{"$f":"SA!IC29-SA!IB29","v":-700},{"$f":"SA!ID29-SA!IC29","v":-800},{"$f":"SA!IE29-SA!ID29","v":500},{"$f":"SA!IF29-SA!IE29","v":1200},{"$f":"SA!IG29-SA!IF29","v":-400},{"$f":"SA!IH29-SA!IG29","v":400},{"$f":"SA!II29-SA!IH29","v":400},{"$f":"SA!IJ29-SA!II29","v":0},{"$f":"SA!IK29-SA!IJ29","v":500},{"$f":"SA!IL29-SA!IK29","v":-46900},2314.5149999999999,{"$f":"COUNTIF(EY67:FY67, \">\" &GA67)","v":2},null,"Arts, Entertainment, and Recreation",-1800,-400,-200,0,100,200,500,4400,708.19627421812095]
["Accommodation and Food Services",{"$f":"SA!BN30-SA!BM30","v":-400},{"$f":"SA!BO30-SA!BN30","v":900},{"$f":"SA!BP30-SA!BO30","v":700},{"$f":"SA!BQ30-SA!BP30","v":2400},{"$f":"SA!BR30-SA!BQ30","v":-1300},{"$f":"SA!BS30-SA!BR30","v":-600},{"$f":"SA!BT30-SA!BS30","v":700},{"$f":"SA!BU30-SA!BT30","v":400},{"$f":"SA!BV30-SA!BU30","v":500},{"$f":"SA!BW30-SA!BV30","v":-1100},{"$f":"SA!BX30-SA!BW30","v":1300},{"$f":"SA!BY30-SA!BX30","v":-200},{"$f":"SA!BZ30-SA!BY30","v":1700},{"$f":"SA!CA30-SA!BZ30","v":600},{"$f":"SA!CB30-SA!CA30","v":800},{"$f":"SA!CC30-SA!CB30","v":-700},{"$f":"SA!CD30-SA!CC30","v":-1100},{"$f":"SA!CE30-SA!CD30","v":700},{"$f":"SA!CF30-SA!CE30","v":800},{"$f":"SA!CG30-SA!CF30","v":100},{"$f":"SA!CH30-SA!CG30","v":-200},{"$f":"SA!CI30-SA!CH30","v":1200},{"$f":"SA!CJ30-SA!CI30","v":0},{"$f":"SA!CK30-SA!CJ30","v":700},{"$f":"SA!CL30-SA!CK30","v":500},{"$f":"SA!CM30-SA!CL30","v":0},{"$f":"SA!CN30-SA!CM30","v":-100},{"$f":"SA!CO30-SA!CN30","v":-600},{"$f":"SA!CP30-SA!CO30","v":-500},{"$f":"SA!CQ30-SA!CP30","v":500},{"$f":"SA!CR30-SA!CQ30","v":-700},{"$f":"SA!CS30-SA!CR30","v":600},{"$f":"SA!CT30-SA!CS30","v":-1600},{"$f":"SA!CU30-SA!CT30","v":1500},{"$f":"SA!CV30-SA!CU30","v":400},{"$f":"SA!CW30-SA!CV30","v":-400},{"$f":"SA!CX30-SA!CW30","v":-500},{"$f":"SA!CY30-SA!CX30","v":-500},{"$f":"SA!CZ30-SA!CY30","v":100},{"$f":"SA!DA30-SA!CZ30","v":0},{"$f":"SA!DB30-SA!DA30","v":-700},{"$f":"SA!DC30-SA!DB30","v":-600},{"$f":"SA!DD30-SA!DC30","v":-100},{"$f":"SA!DE30-SA!DD30","v":-800},{"$f":"SA!DF30-SA!DE30","v":200},{"$f":"SA!DG30-SA!DF30","v":-300},{"$f":"SA!DH30-SA!DG30","v":100},{"$f":"SA!DI30-SA!DH30","v":-1200},{"$f":"SA!DJ30-SA!DI30","v":-1800},{"$f":"SA!DK30-SA!DJ30","v":800},{"$f":"SA!DL30-SA!DK30","v":-1000},{"$f":"SA!DM30-SA!DL30","v":-800},{"$f":"SA!DN30-SA!DM30","v":1000},{"$f":"SA!DO30-SA!DN30","v":-1000},{"$f":"SA!DP30-SA!DO30","v":-1000},{"$f":"SA!DQ30-SA!DP30","v":-900},{"$f":"SA!DR30-SA!DQ30","v":-100},{"$f":"SA!DS30-SA!DR30","v":-500},{"$f":"SA!DT30-SA!DS30","v":-400},{"$f":"SA!DU30-SA!DT30","v":100},{"$f":"SA!DV30-SA!DU30","v":700},{"$f":"SA!DW30-SA!DV30","v":-800},{"$f":"SA!DX30-SA!DW30","v":-600},{"$f":"SA!DY30-SA!DX30","v":1100},{"$f":"SA!DZ30-SA!DY30","v":100},{"$f":"SA!EA30-SA!DZ30","v":200},{"$f":"SA!EB30-SA!EA30","v":200},{"$f":"SA!EC30-SA!EB30","v":500},{"$f":"SA!ED30-SA!EC30","v":-200},{"$f":"SA!EE30-SA!ED30","v":900},{"$f":"SA!EF30-SA!EE30","v":200},{"$f":"SA!EG30-SA!EF30","v":-200},{"$f":"SA!EH30-SA!EG30","v":-300},{"$f":"SA!EI30-SA!EH30","v":-1000},{"$f":"SA!EJ30-SA!EI30","v":-100},{"$f":"SA!EK30-SA!EJ30","v":400},{"$f":"SA!EL30-SA!EK30","v":200},{"$f":"SA!EM30-SA!EL30","v":0},{"$f":"SA!EN30-SA!EM30","v":200},{"$f":"SA!EO30-SA!EN30","v":700},{"$f":"SA!EP30-SA!EO30","v":0},{"$f":"SA!EQ30-SA!EP30","v":100},{"$f":"SA!ER30-SA!EQ30","v":-400},{"$f":"SA!ES30-SA!ER30","v":-500},{"$f":"SA!ET30-SA!ES30","v":1300},{"$f":"SA!EU30-SA!ET30","v":900},{"$f":"SA!EV30-SA!EU30","v":800},{"$f":"SA!EW30-SA!EV30","v":400},{"$f":"SA!EX30-SA!EW30","v":200},{"$f":"SA!EY30-SA!EX30","v":1100},{"$f":"SA!EZ30-SA!EY30","v":-200},{"$f":"SA!FA30-SA!EZ30","v":-300},{"$f":"SA!FB30-SA!FA30","v":600},{"$f":"SA!FC30-SA!FB30","v":-700},{"$f":"SA!FD30-SA!FC30","v":500},{"$f":"SA!FE30-SA!FD30","v":700},{"$f":"SA!FF30-SA!FE30","v":300},{"$f":"SA!FG30-SA!FF30","v":500},{"$f":"SA!FH30-SA!FG30","v":300},{"$f":"SA!FI30-SA!FH30","v":-300},{"$f":"SA!FJ30-SA!FI30","v":800},{"$f":"SA!FK30-SA!FJ30","v":300},{"$f":"SA!FL30-SA!FK30","v":1000},{"$f":"SA!FM30-SA!FL30","v":1100},{"$f":"SA!FN30-SA!FM30","v":300},{"$f":"SA!FO30-SA!FN30","v":-100},{"$f":"SA!FP30-SA!FO30","v":-100},{"$f":"SA!FQ30-SA!FP30","v":-200},{"$f":"SA!FR30-SA!FQ30","v":-200},{"$f":"SA!FS30-SA!FR30","v":0},{"$f":"SA!FT30-SA!FS30","v":-100},{"$f":"SA!FU30-SA!FT30","v":1100},{"$f":"SA!FV30-SA!FU30","v":-200},{"$f":"SA!FW30-SA!FV30","v":1000},{"$f":"SA!FX30-SA!FW30","v":-2000},{"$f":"SA!FY30-SA!FX30","v":1100},{"$f":"SA!FZ30-SA!FY30","v":200},{"$f":"SA!GA30-SA!FZ30","v":600},{"$f":"SA!GB30-SA!GA30","v":400},{"$f":"SA!GC30-SA!GB30","v":400},{"$f":"SA!GD30-SA!GC30","v":1200},{"$f":"SA!GE30-SA!GD30","v":200},{"$f":"SA!GF30-SA!GE30","v":1000},{"$f":"SA!GG30-SA!GF30","v":300},{"$f":"SA!GH30-SA!GG30","v":500},{"$f":"SA!GI30-SA!GH30","v":300},{"$f":"SA!GJ30-SA!GI30","v":600},{"$f":"SA!GK30-SA!GJ30","v":300},{"$f":"SA!GL30-SA!GK30","v":400},{"$f":"SA!GM30-SA!GL30","v":800},{"$f":"SA!GN30-SA!GM30","v":1000},{"$f":"SA!GO30-SA!GN30","v":500},{"$f":"SA!GP30-SA!GO30","v":-200},{"$f":"SA!GQ30-SA!GP30","v":500},{"$f":"SA!GR30-SA!GQ30","v":-600},{"$f":"SA!GS30-SA!GR30","v":200},{"$f":"SA!GT30-SA!GS30","v":-200},{"$f":"SA!GU30-SA!GT30","v":-800},{"$f":"SA!GV30-SA!GU30","v":1200},{"$f":"SA!GW30-SA!GV30","v":600},{"$f":"SA!GX30-SA!GW30","v":400},{"$f":"SA!GY30-SA!GX30","v":500},{"$f":"SA!GZ30-SA!GY30","v":-100},{"$f":"SA!HA30-SA!GZ30","v":400},{"$f":"SA!HB30-SA!HA30","v":1000},{"$f":"SA!HC30-SA!HB30","v":900},{"$f":"SA!HD30-SA!HC30","v":600},{"$f":"SA!HE30-SA!HD30","v":-1400},{"$f":"SA!HF30-SA!HE30","v":-700},{"$f":"SA!HG30-SA!HF30","v":1600},{"$f":"SA!HH30-SA!HG30","v":-100},{"$f":"SA!HI30-SA!HH30","v":-200},{"$f":"SA!HJ30-SA!HI30","v":-300},{"$f":"SA!HK30-SA!HJ30","v":-2000},{"$f":"SA!HL30-SA!HK30","v":1400},{"$f":"SA!HM30-SA!HL30","v":1600},{"$f":"SA!HN30-SA!HM30","v":1400},{"$f":"SA!HO30-SA!HN30","v":-1700},{"$f":"SA!HP30-SA!HO30","v":600},{"$f":"SA!HQ30-SA!HP30","v":600},{"$f":"SA!HR30-SA!HQ30","v":0},{"$f":"SA!HS30-SA!HR30","v":3900},{"$f":"SA!HT30-SA!HS30","v":1400},{"$f":"SA!HU30-SA!HT30","v":-2300},{"$f":"SA!HV30-SA!HU30","v":-200},{"$f":"SA!HW30-SA!HV30","v":-900},{"$f":"SA!HX30-SA!HW30","v":4000},{"$f":"SA!HY30-SA!HX30","v":5100},{"$f":"SA!HZ30-SA!HY30","v":-9900},{"$f":"SA!IA30-SA!HZ30","v":-1100},{"$f":"SA!IB30-SA!IA30","v":-800},{"$f":"SA!IC30-SA!IB30","v":-500},{"$f":"SA!ID30-SA!IC30","v":800},{"$f":"SA!IE30-SA!ID30","v":800},{"$f":"SA!IF30-SA!IE30","v":-200},{"$f":"SA!IG30-SA!IF30","v":-2100},{"$f":"SA!IH30-SA!IG30","v":-200},{"$f":"SA!II30-SA!IH30","v":300},{"$f":"SA!IJ30-SA!II30","v":600},{"$f":"SA!IK30-SA!IJ30","v":3100},{"$f":"SA!IL30-SA!IK30","v":-243000},3436.4050000000002,{"$f":"COUNTIF(EY68:FY68, \">\" &GA68)","v":3},null,"Accommodation and Food Services",-9900,-700,-200,100,300,600,1000,5100,1233.4347558234927]
["Other Services",{"$f":"SA!BN31-SA!BM31","v":500},{"$f":"SA!BO31-SA!BN31","v":200},{"$f":"SA!BP31-SA!BO31","v":0},{"$f":"SA!BQ31-SA!BP31","v":200},{"$f":"SA!BR31-SA!BQ31","v":0},{"$f":"SA!BS31-SA!BR31","v":-400},{"$f":"SA!BT31-SA!BS31","v":200},{"$f":"SA!BU31-SA!BT31","v":100},{"$f":"SA!BV31-SA!BU31","v":0},{"$f":"SA!BW31-SA!BV31","v":-100},{"$f":"SA!BX31-SA!BW31","v":-100},{"$f":"SA!BY31-SA!BX31","v":100},{"$f":"SA!BZ31-SA!BY31","v":-100},{"$f":"SA!CA31-SA!BZ31","v":-200},{"$f":"SA!CB31-SA!CA31","v":100},{"$f":"SA!CC31-SA!CB31","v":-100},{"$f":"SA!CD31-SA!CC31","v":100},{"$f":"SA!CE31-SA!CD31","v":100},{"$f":"SA!CF31-SA!CE31","v":100},{"$f":"SA!CG31-SA!CF31","v":0},{"$f":"SA!CH31-SA!CG31","v":200},{"$f":"SA!CI31-SA!CH31","v":0},{"$f":"SA!CJ31-SA!CI31","v":100},{"$f":"SA!CK31-SA!CJ31","v":300},{"$f":"SA!CL31-SA!CK31","v":500},{"$f":"SA!CM31-SA!CL31","v":100},{"$f":"SA!CN31-SA!CM31","v":100},{"$f":"SA!CO31-SA!CN31","v":200},{"$f":"SA!CP31-SA!CO31","v":200},{"$f":"SA!CQ31-SA!CP31","v":0},{"$f":"SA!CR31-SA!CQ31","v":100},{"$f":"SA!CS31-SA!CR31","v":-300},{"$f":"SA!CT31-SA!CS31","v":-300},{"$f":"SA!CU31-SA!CT31","v":700},{"$f":"SA!CV31-SA!CU31","v":100},{"$f":"SA!CW31-SA!CV31","v":100},{"$f":"SA!CX31-SA!CW31","v":-100},{"$f":"SA!CY31-SA!CX31","v":100},{"$f":"SA!CZ31-SA!CY31","v":100},{"$f":"SA!DA31-SA!CZ31","v":400},{"$f":"SA!DB31-SA!DA31","v":300},{"$f":"SA!DC31-SA!DB31","v":0},{"$f":"SA!DD31-SA!DC31","v":100},{"$f":"SA!DE31-SA!DD31","v":200},{"$f":"SA!DF31-SA!DE31","v":-100},{"$f":"SA!DG31-SA!DF31","v":2100},{"$f":"SA!DH31-SA!DG31","v":-1100},{"$f":"SA!DI31-SA!DH31","v":-600},{"$f":"SA!DJ31-SA!DI31","v":-300},{"$f":"SA!DK31-SA!DJ31","v":-200},{"$f":"SA!DL31-SA!DK31","v":0},{"$f":"SA!DM31-SA!DL31","v":-700},{"$f":"SA!DN31-SA!DM31","v":0},{"$f":"SA!DO31-SA!DN31","v":-200},{"$f":"SA!DP31-SA!DO31","v":-300},{"$f":"SA!DQ31-SA!DP31","v":-200},{"$f":"SA!DR31-SA!DQ31","v":0},{"$f":"SA!DS31-SA!DR31","v":-100},{"$f":"SA!DT31-SA!DS31","v":0},{"$f":"SA!DU31-SA!DT31","v":-200},{"$f":"SA!DV31-SA!DU31","v":-400},{"$f":"SA!DW31-SA!DV31","v":0},{"$f":"SA!DX31-SA!DW31","v":100},{"$f":"SA!DY31-SA!DX31","v":200},{"$f":"SA!DZ31-SA!DY31","v":-300},{"$f":"SA!EA31-SA!DZ31","v":-200},{"$f":"SA!EB31-SA!EA31","v":200},{"$f":"SA!EC31-SA!EB31","v":0},{"$f":"SA!ED31-SA!EC31","v":-100},{"$f":"SA!EE31-SA!ED31","v":700},{"$f":"SA!EF31-SA!EE31","v":-500},{"$f":"SA!EG31-SA!EF31","v":-100},{"$f":"SA!EH31-SA!EG31","v":200},{"$f":"SA!EI31-SA!EH31","v":-100},{"$f":"SA!EJ31-SA!EI31","v":100},{"$f":"SA!EK31-SA!EJ31","v":100},{"$f":"SA!EL31-SA!EK31","v":0},{"$f":"SA!EM31-SA!EL31","v":-300},{"$f":"SA!EN31-SA!EM31","v":600},{"$f":"SA!EO31-SA!EN31","v":-200},{"$f":"SA!EP31-SA!EO31","v":-100},{"$f":"SA!EQ31-SA!EP31","v":-100},{"$f":"SA!ER31-SA!EQ31","v":100},{"$f":"SA!ES31-SA!ER31","v":400},{"$f":"SA!ET31-SA!ES31","v":0},{"$f":"SA!EU31-SA!ET31","v":300},{"$f":"SA!EV31-SA!EU31","v":-200},{"$f":"SA!EW31-SA!EV31","v":100},{"$f":"SA!EX31-SA!EW31","v":-100},{"$f":"SA!EY31-SA!EX31","v":1100},{"$f":"SA!EZ31-SA!EY31","v":-1000},{"$f":"SA!FA31-SA!EZ31","v":0},{"$f":"SA!FB31-SA!FA31","v":-100},{"$f":"SA!FC31-SA!FB31","v":-100},{"$f":"SA!FD31-SA!FC31","v":100},{"$f":"SA!FE31-SA!FD31","v":-100},{"$f":"SA!FF31-SA!FE31","v":-200},{"$f":"SA!FG31-SA!FF31","v":-100},{"$f":"SA!FH31-SA!FG31","v":100},{"$f":"SA!FI31-SA!FH31","v":-100},{"$f":"SA!FJ31-SA!FI31","v":300},{"$f":"SA!FK31-SA!FJ31","v":300},{"$f":"SA!FL31-SA!FK31","v":-300},{"$f":"SA!FM31-SA!FL31","v":300},{"$f":"SA!FN31-SA!FM31","v":900},{"$f":"SA!FO31-SA!FN31","v":-400},{"$f":"SA!FP31-SA!FO31","v":900},{"$f":"SA!FQ31-SA!FP31","v":400},{"$f":"SA!FR31-SA!FQ31","v":600},{"$f":"SA!FS31-SA!FR31","v":700},{"$f":"SA!FT31-SA!FS31","v":200},{"$f":"SA!FU31-SA!FT31","v":700},{"$f":"SA!FV31-SA!FU31","v":400},{"$f":"SA!FW31-SA!FV31","v":700},{"$f":"SA!FX31-SA!FW31","v":800},{"$f":"SA!FY31-SA!FX31","v":900},{"$f":"SA!FZ31-SA!FY31","v":300},{"$f":"SA!GA31-SA!FZ31","v":200},{"$f":"SA!GB31-SA!GA31","v":600},{"$f":"SA!GC31-SA!GB31","v":200},{"$f":"SA!GD31-SA!GC31","v":1100},{"$f":"SA!GE31-SA!GD31","v":400},{"$f":"SA!GF31-SA!GE31","v":300},{"$f":"SA!GG31-SA!GF31","v":200},{"$f":"SA!GH31-SA!GG31","v":400},{"$f":"SA!GI31-SA!GH31","v":-200},{"$f":"SA!GJ31-SA!GI31","v":200},{"$f":"SA!GK31-SA!GJ31","v":-200},{"$f":"SA!GL31-SA!GK31","v":0},{"$f":"SA!GM31-SA!GL31","v":200},{"$f":"SA!GN31-SA!GM31","v":100},{"$f":"SA!GO31-SA!GN31","v":400},{"$f":"SA!GP31-SA!GO31","v":0},{"$f":"SA!GQ31-SA!GP31","v":-100},{"$f":"SA!GR31-SA!GQ31","v":100},{"$f":"SA!GS31-SA!GR31","v":700},{"$f":"SA!GT31-SA!GS31","v":-100},{"$f":"SA!GU31-SA!GT31","v":-300},{"$f":"SA!GV31-SA!GU31","v":1100},{"$f":"SA!GW31-SA!GV31","v":100},{"$f":"SA!GX31-SA!GW31","v":400},{"$f":"SA!GY31-SA!GX31","v":-200},{"$f":"SA!GZ31-SA!GY31","v":400},{"$f":"SA!HA31-SA!GZ31","v":-300},{"$f":"SA!HB31-SA!HA31","v":-100},{"$f":"SA!HC31-SA!HB31","v":400},{"$f":"SA!HD31-SA!HC31","v":200},{"$f":"SA!HE31-SA!HD31","v":-300},{"$f":"SA!HF31-SA!HE31","v":-200},{"$f":"SA!HG31-SA!HF31","v":100},{"$f":"SA!HH31-SA!HG31","v":-400},{"$f":"SA!HI31-SA!HH31","v":200},{"$f":"SA!HJ31-SA!HI31","v":0},{"$f":"SA!HK31-SA!HJ31","v":1600},{"$f":"SA!HL31-SA!HK31","v":-800},{"$f":"SA!HM31-SA!HL31","v":-400},{"$f":"SA!HN31-SA!HM31","v":2700},{"$f":"SA!HO31-SA!HN31","v":-1100},{"$f":"SA!HP31-SA!HO31","v":100},{"$f":"SA!HQ31-SA!HP31","v":-1100},{"$f":"SA!HR31-SA!HQ31","v":200},{"$f":"SA!HS31-SA!HR31","v":100},{"$f":"SA!HT31-SA!HS31","v":-200},{"$f":"SA!HU31-SA!HT31","v":-300},{"$f":"SA!HV31-SA!HU31","v":0},{"$f":"SA!HW31-SA!HV31","v":300},{"$f":"SA!HX31-SA!HW31","v":400},{"$f":"SA!HY31-SA!HX31","v":-300},{"$f":"SA!HZ31-SA!HY31","v":2500},{"$f":"SA!IA31-SA!HZ31","v":-300},{"$f":"SA!IB31-SA!IA31","v":600},{"$f":"SA!IC31-SA!IB31","v":-400},{"$f":"SA!ID31-SA!IC31","v":500},{"$f":"SA!IE31-SA!ID31","v":-1000},{"$f":"SA!IF31-SA!IE31","v":800},{"$f":"SA!IG31-SA!IF31","v":-200},{"$f":"SA!IH31-SA!IG31","v":500},{"$f":"SA!II31-SA!IH31","v":-700},{"$f":"SA!IJ31-SA!II31","v":-1300},{"$f":"SA!IK31-SA!IJ31","v":1500},{"$f":"SA!IL31-SA!IK31","v":-154300},3181.43,{"$f":"COUNTIF(EY69:FY69, \">\" &GA69)","v":0},null,"Other Services",-1100,-250,-100,0,100,200,400,2700,499.84556979299037]
["Government",{"$f":"SA!BN32-SA!BM32","v":4800},{"$f":"SA!BO32-SA!BN32","v":-500},{"$f":"SA!BP32-SA!BO32","v":-2000},{"$f":"SA!BQ32-SA!BP32","v":400},{"$f":"SA!BR32-SA!BQ32","v":-400},{"$f":"SA!BS32-SA!BR32","v":-1400},{"$f":"SA!BT32-SA!BS32","v":1400},{"$f":"SA!BU32-SA!BT32","v":-300},{"$f":"SA!BV32-SA!BU32","v":4500},{"$f":"SA!BW32-SA!BV32","v":-2300},{"$f":"SA!BX32-SA!BW32","v":-2000},{"$f":"SA!BY32-SA!BX32","v":2700},{"$f":"SA!BZ32-SA!BY32","v":-1100},{"$f":"SA!CA32-SA!BZ32","v":-1100},{"$f":"SA!CB32-SA!CA32","v":900},{"$f":"SA!CC32-SA!CB32","v":-100},{"$f":"SA!CD32-SA!CC32","v":-1600},{"$f":"SA!CE32-SA!CD32","v":3100},{"$f":"SA!CF32-SA!CE32","v":-1100},{"$f":"SA!CG32-SA!CF32","v":100},{"$f":"SA!CH32-SA!CG32","v":2200},{"$f":"SA!CI32-SA!CH32","v":-3700},{"$f":"SA!CJ32-SA!CI32","v":600},{"$f":"SA!CK32-SA!CJ32","v":-500},{"$f":"SA!CL32-SA!CK32","v":-300},{"$f":"SA!CM32-SA!CL32","v":-1200},{"$f":"SA!CN32-SA!CM32","v":800},{"$f":"SA!CO32-SA!CN32","v":1200},{"$f":"SA!CP32-SA!CO32","v":900},{"$f":"SA!CQ32-SA!CP32","v":4600},{"$f":"SA!CR32-SA!CQ32","v":-3400},{"$f":"SA!CS32-SA!CR32","v":1300},{"$f":"SA!CT32-SA!CS32","v":2800},{"$f":"SA!CU32-SA!CT32","v":-5400},{"$f":"SA!CV32-SA!CU32","v":-1800},{"$f":"SA!CW32-SA!CV32","v":3600},{"$f":"SA!CX32-SA!CW32","v":3100},{"$f":"SA!CY32-SA!CX32","v":-1200},{"$f":"SA!CZ32-SA!CY32","v":-1100},{"$f":"SA!DA32-SA!CZ32","v":-1300},{"$f":"SA!DB32-SA!DA32","v":2900},{"$f":"SA!DC32-SA!DB32","v":-500},{"$f":"SA!DD32-SA!DC32","v":2500},{"$f":"SA!DE32-SA!DD32","v":-1300},{"$f":"SA!DF32-SA!DE32","v":11000},{"$f":"SA!DG32-SA!DF32","v":-6700},{"$f":"SA!DH32-SA!DG32","v":3500},{"$f":"SA!DI32-SA!DH32","v":-3600},{"$f":"SA!DJ32-SA!DI32","v":-2100},{"$f":"SA!DK32-SA!DJ32","v":600},{"$f":"SA!DL32-SA!DK32","v":-400},{"$f":"SA!DM32-SA!DL32","v":-700},{"$f":"SA!DN32-SA!DM32","v":1500},{"$f":"SA!DO32-SA!DN32","v":-3100},{"$f":"SA!DP32-SA!DO32","v":600},{"$f":"SA!DQ32-SA!DP32","v":-2600},{"$f":"SA!DR32-SA!DQ32","v":-1600},{"$f":"SA!DS32-SA!DR32","v":2900},{"$f":"SA!DT32-SA!DS32","v":-1700},{"$f":"SA!DU32-SA!DT32","v":2000},{"$f":"SA!DV32-SA!DU32","v":-1000},{"$f":"SA!DW32-SA!DV32","v":-2000},{"$f":"SA!DX32-SA!DW32","v":900},{"$f":"SA!DY32-SA!DX32","v":3400},{"$f":"SA!DZ32-SA!DY32","v":4100},{"$f":"SA!EA32-SA!DZ32","v":-2800},{"$f":"SA!EB32-SA!EA32","v":-3700},{"$f":"SA!EC32-SA!EB32","v":-1800},{"$f":"SA!ED32-SA!EC32","v":900},{"$f":"SA!EE32-SA!ED32","v":500},{"$f":"SA!EF32-SA!EE32","v":1000},{"$f":"SA!EG32-SA!EF32","v":-5000},{"$f":"SA!EH32-SA!EG32","v":2400},{"$f":"SA!EI32-SA!EH32","v":1400},{"$f":"SA!EJ32-SA!EI32","v":100},{"$f":"SA!EK32-SA!EJ32","v":-2700},{"$f":"SA!EL32-SA!EK32","v":1500},{"$f":"SA!EM32-SA!EL32","v":-2900},{"$f":"SA!EN32-SA!EM32","v":4500},{"$f":"SA!EO32-SA!EN32","v":-5100},{"$f":"SA!EP32-SA!EO32","v":-1700},{"$f":"SA!EQ32-SA!EP32","v":-3300},{"$f":"SA!ER32-SA!EQ32","v":-2500},{"$f":"SA!ES32-SA!ER32","v":4500},{"$f":"SA!ET32-SA!ES32","v":-9600},{"$f":"SA!EU32-SA!ET32","v":2800},{"$f":"SA!EV32-SA!EU32","v":6500},{"$f":"SA!EW32-SA!EV32","v":3500},{"$f":"SA!EX32-SA!EW32","v":4000},{"$f":"SA!EY32-SA!EX32","v":-5500},{"$f":"SA!EZ32-SA!EY32","v":-2800},{"$f":"SA!FA32-SA!EZ32","v":2900},{"$f":"SA!FB32-SA!FA32","v":-2000},{"$f":"SA!FC32-SA!FB32","v":800},{"$f":"SA!FD32-SA!FC32","v":4300},{"$f":"SA!FE32-SA!FD32","v":-4600},{"$f":"SA!FF32-SA!FE32","v":-10600},{"$f":"SA!FG32-SA!FF32","v":11200},{"$f":"SA!FH32-SA!FG32","v":-2000},{"$f":"SA!FI32-SA!FH32","v":-2200},{"$f":"SA!FJ32-SA!FI32","v":300},{"$f":"SA!FK32-SA!FJ32","v":1500},{"$f":"SA!FL32-SA!FK32","v":-200},{"$f":"SA!FM32-SA!FL32","v":-1000},{"$f":"SA!FN32-SA!FM32","v":4000},{"$f":"SA!FO32-SA!FN32","v":-500},{"$f":"SA!FP32-SA!FO32","v":-3600},{"$f":"SA!FQ32-SA!FP32","v":2500},{"$f":"SA!FR32-SA!FQ32","v":700},{"$f":"SA!FS32-SA!FR32","v":-1900},{"$f":"SA!FT32-SA!FS32","v":300},{"$f":"SA!FU32-SA!FT32","v":-200},{"$f":"SA!FV32-SA!FU32","v":600},{"$f":"SA!FW32-SA!FV32","v":1500},{"$f":"SA!FX32-SA!FW32","v":-500},{"$f":"SA!FY32-SA!FX32","v":6000},{"$f":"SA!FZ32-SA!FY32","v":-4000},{"$f":"SA!GA32-SA!FZ32","v":-1000},{"$f":"SA!GB32-SA!GA32","v":2900},{"$f":"SA!GC32-SA!GB32","v":-4100},{"$f":"SA!GD32-SA!GC32","v":-1100},{"$f":"SA!GE32-SA!GD32","v":1500},{"$f":"SA!GF32-SA!GE32","v":-1100},{"$f":"SA!GG32-SA!GF32","v":1200},{"$f":"SA!GH32-SA!GG32","v":-1000},{"$f":"SA!GI32-SA!GH32","v":300},{"$f":"SA!GJ32-SA!GI32","v":-1100},{"$f":"SA!GK32-SA!GJ32","v":-1000},{"$f":"SA!GL32-SA!GK32","v":-100},{"$f":"SA!GM32-SA!GL32","v":-100},{"$f":"SA!GN32-SA!GM32","v":-5800},{"$f":"SA!GO32-SA!GN32","v":6100},{"$f":"SA!GP32-SA!GO32","v":1800},{"$f":"SA!GQ32-SA!GP32","v":0},{"$f":"SA!GR32-SA!GQ32","v":-900},{"$f":"SA!GS32-SA!GR32","v":2000},{"$f":"SA!GT32-SA!GS32","v":-3000},{"$f":"SA!GU32-SA!GT32","v":2100},{"$f":"SA!GV32-SA!GU32","v":1200},{"$f":"SA!GW32-SA!GV32","v":6600},{"$f":"SA!GX32-SA!GW32","v":-7200},{"$f":"SA!GY32-SA!GX32","v":-800},{"$f":"SA!GZ32-SA!GY32","v":5200},{"$f":"SA!HA32-SA!GZ32","v":-4300},{"$f":"SA!HB32-SA!HA32","v":-2600},{"$f":"SA!HC32-SA!HB32","v":-300},{"$f":"SA!HD32-SA!HC32","v":-3300},{"$f":"SA!HE32-SA!HD32","v":2500},{"$f":"SA!HF32-SA!HE32","v":2400},{"$f":"SA!HG32-SA!HF32","v":-3300},{"$f":"SA!HH32-SA!HG32","v":2400},{"$f":"SA!HI32-SA!HH32","v":-2900},{"$f":"SA!HJ32-SA!HI32","v":2100},{"$f":"SA!HK32-SA!HJ32","v":100},{"$f":"SA!HL32-SA!HK32","v":-3800},{"$f":"SA!HM32-SA!HL32","v":1500},{"$f":"SA!HN32-SA!HM32","v":1100},{"$f":"SA!HO32-SA!HN32","v":1900},{"$f":"SA!HP32-SA!HO32","v":-1800},{"$f":"SA!HQ32-SA!HP32","v":700},{"$f":"SA!HR32-SA!HQ32","v":900},{"$f":"SA!HS32-SA!HR32","v":900},{"$f":"SA!HT32-SA!HS32","v":1200},{"$f":"SA!HU32-SA!HT32","v":3300},{"$f":"SA!HV32-SA!HU32","v":-4500},{"$f":"SA!HW32-SA!HV32","v":-2600},{"$f":"SA!HX32-SA!HW32","v":2300},{"$f":"SA!HY32-SA!HX32","v":0},{"$f":"SA!HZ32-SA!HY32","v":-5700},{"$f":"SA!IA32-SA!HZ32","v":-2300},{"$f":"SA!IB32-SA!IA32","v":2300},{"$f":"SA!IC32-SA!IB32","v":-200},{"$f":"SA!ID32-SA!IC32","v":1500},{"$f":"SA!IE32-SA!ID32","v":3800},{"$f":"SA!IF32-SA!IE32","v":-1500},{"$f":"SA!IG32-SA!IF32","v":-2800},{"$f":"SA!IH32-SA!IG32","v":600},{"$f":"SA!II32-SA!IH32","v":0},{"$f":"SA!IJ32-SA!II32","v":-1800},{"$f":"SA!IK32-SA!IJ32","v":800},{"$f":"SA!IL32-SA!IK32","v":-404400},"n/a",null,null,"Government",-10600,-3050,-1600,-450,300,1400,2900,11200,3169.8101692728965]
["Federal Government",{"$f":"SA!BN33-SA!BM33","v":0},{"$f":"SA!BO33-SA!BN33","v":0},{"$f":"SA!BP33-SA!BO33","v":-100},{"$f":"SA!BQ33-SA!BP33","v":100},{"$f":"SA!BR33-SA!BQ33","v":0},{"$f":"SA!BS33-SA!BR33","v":-200},{"$f":"SA!BT33-SA!BS33","v":0},{"$f":"SA!BU33-SA!BT33","v":0},{"$f":"SA!BV33-SA!BU33","v":0},{"$f":"SA!BW33-SA!BV33","v":-100},{"$f":"SA!BX33-SA!BW33","v":0},{"$f":"SA!BY33-SA!BX33","v":0},{"$f":"SA!BZ33-SA!BY33","v":0},{"$f":"SA!CA33-SA!BZ33","v":0},{"$f":"SA!CB33-SA!CA33","v":200},{"$f":"SA!CC33-SA!CB33","v":0},{"$f":"SA!CD33-SA!CC33","v":-100},{"$f":"SA!CE33-SA!CD33","v":100},{"$f":"SA!CF33-SA!CE33","v":0},{"$f":"SA!CG33-SA!CF33","v":-100},{"$f":"SA!CH33-SA!CG33","v":100},{"$f":"SA!CI33-SA!CH33","v":-100},{"$f":"SA!CJ33-SA!CI33","v":100},{"$f":"SA!CK33-SA!CJ33","v":0},{"$f":"SA!CL33-SA!CK33","v":100},{"$f":"SA!CM33-SA!CL33","v":-200},{"$f":"SA!CN33-SA!CM33","v":0},{"$f":"SA!CO33-SA!CN33","v":0},{"$f":"SA!CP33-SA!CO33","v":0},{"$f":"SA!CQ33-SA!CP33","v":100},{"$f":"SA!CR33-SA!CQ33","v":-100},{"$f":"SA!CS33-SA!CR33","v":100},{"$f":"SA!CT33-SA!CS33","v":-100},{"$f":"SA!CU33-SA!CT33","v":200},{"$f":"SA!CV33-SA!CU33","v":-100},{"$f":"SA!CW33-SA!CV33","v":-200},{"$f":"SA!CX33-SA!CW33","v":300},{"$f":"SA!CY33-SA!CX33","v":100},{"$f":"SA!CZ33-SA!CY33","v":0},{"$f":"SA!DA33-SA!CZ33","v":0},{"$f":"SA!DB33-SA!DA33","v":100},{"$f":"SA!DC33-SA!DB33","v":0},{"$f":"SA!DD33-SA!DC33","v":200},{"$f":"SA!DE33-SA!DD33","v":0},{"$f":"SA!DF33-SA!DE33","v":0},{"$f":"SA!DG33-SA!DF33","v":-200},{"$f":"SA!DH33-SA!DG33","v":100},{"$f":"SA!DI33-SA!DH33","v":100},{"$f":"SA!DJ33-SA!DI33","v":100},{"$f":"SA!DK33-SA!DJ33","v":0},{"$f":"SA!DL33-SA!DK33","v":-200},{"$f":"SA!DM33-SA!DL33","v":2200},{"$f":"SA!DN33-SA!DM33","v":0},{"$f":"SA!DO33-SA!DN33","v":-2100},{"$f":"SA!DP33-SA!DO33","v":-200},{"$f":"SA!DQ33-SA!DP33","v":100},{"$f":"SA!DR33-SA!DQ33","v":-100},{"$f":"SA!DS33-SA!DR33","v":200},{"$f":"SA!DT33-SA!DS33","v":-100},{"$f":"SA!DU33-SA!DT33","v":0},{"$f":"SA!DV33-SA!DU33","v":-100},{"$f":"SA!DW33-SA!DV33","v":0},{"$f":"SA!DX33-SA!DW33","v":700},{"$f":"SA!DY33-SA!DX33","v":3200},{"$f":"SA!DZ33-SA!DY33","v":4400},{"$f":"SA!EA33-SA!DZ33","v":-3600},{"$f":"SA!EB33-SA!EA33","v":-1900},{"$f":"SA!EC33-SA!EB33","v":-1900},{"$f":"SA!ED33-SA!EC33","v":-800},{"$f":"SA!EE33-SA!ED33","v":-100},{"$f":"SA!EF33-SA!EE33","v":0},{"$f":"SA!EG33-SA!EF33","v":-100},{"$f":"SA!EH33-SA!EG33","v":0},{"$f":"SA!EI33-SA!EH33","v":-100},{"$f":"SA!EJ33-SA!EI33","v":100},{"$f":"SA!EK33-SA!EJ33","v":0},{"$f":"SA!EL33-SA!EK33","v":-100},{"$f":"SA!EM33-SA!EL33","v":0},{"$f":"SA!EN33-SA!EM33","v":100},{"$f":"SA!EO33-SA!EN33","v":-100},{"$f":"SA!EP33-SA!EO33","v":0},{"$f":"SA!EQ33-SA!EP33","v":0},{"$f":"SA!ER33-SA!EQ33","v":-300},{"$f":"SA!ES33-SA!ER33","v":0},{"$f":"SA!ET33-SA!ES33","v":-100},{"$f":"SA!EU33-SA!ET33","v":0},{"$f":"SA!EV33-SA!EU33","v":100},{"$f":"SA!EW33-SA!EV33","v":-100},{"$f":"SA!EX33-SA!EW33","v":0},{"$f":"SA!EY33-SA!EX33","v":0},{"$f":"SA!EZ33-SA!EY33","v":100},{"$f":"SA!FA33-SA!EZ33","v":0},{"$f":"SA!FB33-SA!FA33","v":-100},{"$f":"SA!FC33-SA!FB33","v":100},{"$f":"SA!FD33-SA!FC33","v":-400},{"$f":"SA!FE33-SA!FD33","v":200},{"$f":"SA!FF33-SA!FE33","v":-100},{"$f":"SA!FG33-SA!FF33","v":100},{"$f":"SA!FH33-SA!FG33","v":-300},{"$f":"SA!FI33-SA!FH33","v":200},{"$f":"SA!FJ33-SA!FI33","v":-100},{"$f":"SA!FK33-SA!FJ33","v":-100},{"$f":"SA!FL33-SA!FK33","v":0},{"$f":"SA!FM33-SA!FL33","v":-100},{"$f":"SA!FN33-SA!FM33","v":100},{"$f":"SA!FO33-SA!FN33","v":-100},{"$f":"SA!FP33-SA!FO33","v":200},{"$f":"SA!FQ33-SA!FP33","v":-300},{"$f":"SA!FR33-SA!FQ33","v":200},{"$f":"SA!FS33-SA!FR33","v":0},{"$f":"SA!FT33-SA!FS33","v":0},{"$f":"SA!FU33-SA!FT33","v":0},{"$f":"SA!FV33-SA!FU33","v":0},{"$f":"SA!FW33-SA!FV33","v":-100},{"$f":"SA!FX33-SA!FW33","v":100},{"$f":"SA!FY33-SA!FX33","v":100},{"$f":"SA!FZ33-SA!FY33","v":0},{"$f":"SA!GA33-SA!FZ33","v":0},{"$f":"SA!GB33-SA!GA33","v":100},{"$f":"SA!GC33-SA!GB33","v":0},{"$f":"SA!GD33-SA!GC33","v":-100},{"$f":"SA!GE33-SA!GD33","v":0},{"$f":"SA!GF33-SA!GE33","v":0},{"$f":"SA!GG33-SA!GF33","v":100},{"$f":"SA!GH33-SA!GG33","v":0},{"$f":"SA!GI33-SA!GH33","v":100},{"$f":"SA!GJ33-SA!GI33","v":0},{"$f":"SA!GK33-SA!GJ33","v":-100},{"$f":"SA!GL33-SA!GK33","v":0},{"$f":"SA!GM33-SA!GL33","v":0},{"$f":"SA!GN33-SA!GM33","v":100},{"$f":"SA!GO33-SA!GN33","v":0},{"$f":"SA!GP33-SA!GO33","v":0},{"$f":"SA!GQ33-SA!GP33","v":0},{"$f":"SA!GR33-SA!GQ33","v":100},{"$f":"SA!GS33-SA!GR33","v":-100},{"$f":"SA!GT33-SA!GS33","v":0},{"$f":"SA!GU33-SA!GT33","v":200},{"$f":"SA!GV33-SA!GU33","v":-200},{"$f":"SA!GW33-SA!GV33","v":200},{"$f":"SA!GX33-SA!GW33","v":100},{"$f":"SA!GY33-SA!GX33","v":-100},{"$f":"SA!GZ33-SA!GY33","v":100},{"$f":"SA!HA33-SA!GZ33","v":-100},{"$f":"SA!HB33-SA!HA33","v":100},{"$f":"SA!HC33-SA!HB33","v":-100},{"$f":"SA!HD33-SA!HC33","v":100},{"$f":"SA!HE33-SA!HD33","v":-300},{"$f":"SA!HF33-SA!HE33","v":200},{"$f":"SA!HG33-SA!HF33","v":0},{"$f":"SA!HH33-SA!HG33","v":0},{"$f":"SA!HI33-SA!HH33","v":-300},{"$f":"SA!HJ33-SA!HI33","v":200},{"$f":"SA!HK33-SA!HJ33","v":0},{"$f":"SA!HL33-SA!HK33","v":0},{"$f":"SA!HM33-SA!HL33","v":0},{"$f":"SA!HN33-SA!HM33","v":100},{"$f":"SA!HO33-SA!HN33","v":0},{"$f":"SA!HP33-SA!HO33","v":-100},{"$f":"SA!HQ33-SA!HP33","v":0},{"$f":"SA!HR33-SA!HQ33","v":100},{"$f":"SA!HS33-SA!HR33","v":0},{"$f":"SA!HT33-SA!HS33","v":0},{"$f":"SA!HU33-SA!HT33","v":100},{"$f":"SA!HV33-SA!HU33","v":100},{"$f":"SA!HW33-SA!HV33","v":0},{"$f":"SA!HX33-SA!HW33","v":0},{"$f":"SA!HY33-SA!HX33","v":-200},{"$f":"SA!HZ33-SA!HY33","v":-100},{"$f":"SA!IA33-SA!HZ33","v":0},{"$f":"SA!IB33-SA!IA33","v":-100},{"$f":"SA!IC33-SA!IB33","v":100},{"$f":"SA!ID33-SA!IC33","v":100},{"$f":"SA!IE33-SA!ID33","v":0},{"$f":"SA!IF33-SA!IE33","v":0},{"$f":"SA!IG33-SA!IF33","v":500},{"$f":"SA!IH33-SA!IG33","v":-200},{"$f":"SA!II33-SA!IH33","v":-100},{"$f":"SA!IJ33-SA!II33","v":-100},{"$f":"SA!IK33-SA!IJ33","v":0},{"$f":"SA!IL33-SA!IK33","v":-29200},"n/a",null,null,"Federal Government",-3600,-100,-100,0,0,100,100,4400,607.34680175351548]
["State Government",{"$f":"SA!BN34-SA!BM34","v":1900},{"$f":"SA!BO34-SA!BN34","v":-2700},{"$f":"SA!BP34-SA!BO34","v":-600},{"$f":"SA!BQ34-SA!BP34","v":-400},{"$f":"SA!BR34-SA!BQ34","v":100},{"$f":"SA!BS34-SA!BR34","v":-500},{"$f":"SA!BT34-SA!BS34","v":1100},{"$f":"SA!BU34-SA!BT34","v":-900},{"$f":"SA!BV34-SA!BU34","v":3700},{"$f":"SA!BW34-SA!BV34","v":-2300},{"$f":"SA!BX34-SA!BW34","v":-200},{"$f":"SA!BY34-SA!BX34","v":1400},{"$f":"SA!BZ34-SA!BY34","v":500},{"$f":"SA!CA34-SA!BZ34","v":-1200},{"$f":"SA!CB34-SA!CA34","v":-600},{"$f":"SA!CC34-SA!CB34","v":0},{"$f":"SA!CD34-SA!CC34","v":-600},{"$f":"SA!CE34-SA!CD34","v":2700},{"$f":"SA!CF34-SA!CE34","v":-400},{"$f":"SA!CG34-SA!CF34","v":200},{"$f":"SA!CH34-SA!CG34","v":1700},{"$f":"SA!CI34-SA!CH34","v":-2100},{"$f":"SA!CJ34-SA!CI34","v":-1000},{"$f":"SA!CK34-SA!CJ34","v":700},{"$f":"SA!CL34-SA!CK34","v":-400},{"$f":"SA!CM34-SA!CL34","v":400},{"$f":"SA!CN34-SA!CM34","v":600},{"$f":"SA!CO34-SA!CN34","v":-1000},{"$f":"SA!CP34-SA!CO34","v":900},{"$f":"SA!CQ34-SA!CP34","v":700},{"$f":"SA!CR34-SA!CQ34","v":-1000},{"$f":"SA!CS34-SA!CR34","v":600},{"$f":"SA!CT34-SA!CS34","v":300},{"$f":"SA!CU34-SA!CT34","v":-1700},{"$f":"SA!CV34-SA!CU34","v":-100},{"$f":"SA!CW34-SA!CV34","v":1000},{"$f":"SA!CX34-SA!CW34","v":1400},{"$f":"SA!CY34-SA!CX34","v":-1100},{"$f":"SA!CZ34-SA!CY34","v":-400},{"$f":"SA!DA34-SA!CZ34","v":-800},{"$f":"SA!DB34-SA!DA34","v":1300},{"$f":"SA!DC34-SA!DB34","v":-600},{"$f":"SA!DD34-SA!DC34","v":900},{"$f":"SA!DE34-SA!DD34","v":-200},{"$f":"SA!DF34-SA!DE34","v":-400},{"$f":"SA!DG34-SA!DF34","v":1400},{"$f":"SA!DH34-SA!DG34","v":-600},{"$f":"SA!DI34-SA!DH34","v":-100},{"$f":"SA!DJ34-SA!DI34","v":-700},{"$f":"SA!DK34-SA!DJ34","v":-500},{"$f":"SA!DL34-SA!DK34","v":100},{"$f":"SA!DM34-SA!DL34","v":-3600},{"$f":"SA!DN34-SA!DM34","v":1300},{"$f":"SA!DO34-SA!DN34","v":-1400},{"$f":"SA!DP34-SA!DO34","v":-300},{"$f":"SA!DQ34-SA!DP34","v":-100},{"$f":"SA!DR34-SA!DQ34","v":-1800},{"$f":"SA!DS34-SA!DR34","v":100},{"$f":"SA!DT34-SA!DS34","v":800},{"$f":"SA!DU34-SA!DT34","v":1000},{"$f":"SA!DV34-SA!DU34","v":-1400},{"$f":"SA!DW34-SA!DV34","v":500},{"$f":"SA!DX34-SA!DW34","v":-600},{"$f":"SA!DY34-SA!DX34","v":1700},{"$f":"SA!DZ34-SA!DY34","v":0},{"$f":"SA!EA34-SA!DZ34","v":1400},{"$f":"SA!EB34-SA!EA34","v":-100},{"$f":"SA!EC34-SA!EB34","v":0},{"$f":"SA!ED34-SA!EC34","v":-500},{"$f":"SA!EE34-SA!ED34","v":-600},{"$f":"SA!EF34-SA!EE34","v":-600},{"$f":"SA!EG34-SA!EF34","v":-1700},{"$f":"SA!EH34-SA!EG34","v":0},{"$f":"SA!EI34-SA!EH34","v":200},{"$f":"SA!EJ34-SA!EI34","v":600},{"$f":"SA!EK34-SA!EJ34","v":-1300},{"$f":"SA!EL34-SA!EK34","v":3100},{"$f":"SA!EM34-SA!EL34","v":-2800},{"$f":"SA!EN34-SA!EM34","v":-100},{"$f":"SA!EO34-SA!EN34","v":-5300},{"$f":"SA!EP34-SA!EO34","v":2700},{"$f":"SA!EQ34-SA!EP34","v":1200},{"$f":"SA!ER34-SA!EQ34","v":100},{"$f":"SA!ES34-SA!ER34","v":700},{"$f":"SA!ET34-SA!ES34","v":-9200},{"$f":"SA!EU34-SA!ET34","v":3100},{"$f":"SA!EV34-SA!EU34","v":5400},{"$f":"SA!EW34-SA!EV34","v":600},{"$f":"SA!EX34-SA!EW34","v":400},{"$f":"SA!EY34-SA!EX34","v":-1900},{"$f":"SA!EZ34-SA!EY34","v":1400},{"$f":"SA!FA34-SA!EZ34","v":-400},{"$f":"SA!FB34-SA!FA34","v":1800},{"$f":"SA!FC34-SA!FB34","v":-600},{"$f":"SA!FD34-SA!FC34","v":0},{"$f":"SA!FE34-SA!FD34","v":-500},{"$f":"SA!FF34-SA!FE34","v":-9500},{"$f":"SA!FG34-SA!FF34","v":9800},{"$f":"SA!FH34-SA!FG34","v":-700},{"$f":"SA!FI34-SA!FH34","v":100},{"$f":"SA!FJ34-SA!FI34","v":-2100},{"$f":"SA!FK34-SA!FJ34","v":1700},{"$f":"SA!FL34-SA!FK34","v":800},{"$f":"SA!FM34-SA!FL34","v":600},{"$f":"SA!FN34-SA!FM34","v":1000},{"$f":"SA!FO34-SA!FN34","v":400},{"$f":"SA!FP34-SA!FO34","v":-700},{"$f":"SA!FQ34-SA!FP34","v":100},{"$f":"SA!FR34-SA!FQ34","v":600},{"$f":"SA!FS34-SA!FR34","v":-500},{"$f":"SA!FT34-SA!FS34","v":-800},{"$f":"SA!FU34-SA!FT34","v":400},{"$f":"SA!FV34-SA!FU34","v":-800},{"$f":"SA!FW34-SA!FV34","v":500},{"$f":"SA!FX34-SA!FW34","v":100},{"$f":"SA!FY34-SA!FX34","v":400},{"$f":"SA!FZ34-SA!FY34","v":1100},{"$f":"SA!GA34-SA!FZ34","v":-1000},{"$f":"SA!GB34-SA!GA34","v":800},{"$f":"SA!GC34-SA!GB34","v":-200},{"$f":"SA!GD34-SA!GC34","v":-400},{"$f":"SA!GE34-SA!GD34","v":200},{"$f":"SA!GF34-SA!GE34","v":0},{"$f":"SA!GG34-SA!GF34","v":-500},{"$f":"SA!GH34-SA!GG34","v":-900},{"$f":"SA!GI34-SA!GH34","v":-300},{"$f":"SA!GJ34-SA!GI34","v":300},{"$f":"SA!GK34-SA!GJ34","v":-900},{"$f":"SA!GL34-SA!GK34","v":0},{"$f":"SA!GM34-SA!GL34","v":-700},{"$f":"SA!GN34-SA!GM34","v":-200},{"$f":"SA!GO34-SA!GN34","v":800},{"$f":"SA!GP34-SA!GO34","v":-200},{"$f":"SA!GQ34-SA!GP34","v":-100},{"$f":"SA!GR34-SA!GQ34","v":0},{"$f":"SA!GS34-SA!GR34","v":-300},{"$f":"SA!GT34-SA!GS34","v":-100},{"$f":"SA!GU34-SA!GT34","v":200},{"$f":"SA!GV34-SA!GU34","v":100},{"$f":"SA!GW34-SA!GV34","v":-100},{"$f":"SA!GX34-SA!GW34","v":-400},{"$f":"SA!GY34-SA!GX34","v":900},{"$f":"SA!GZ34-SA!GY34","v":0},{"$f":"SA!HA34-SA!GZ34","v":-300},{"$f":"SA!HB34-SA!HA34","v":-300},{"$f":"SA!HC34-SA!HB34","v":200},{"$f":"SA!HD34-SA!HC34","v":-5100},{"$f":"SA!HE34-SA!HD34","v":5300},{"$f":"SA!HF34-SA!HE34","v":700},{"$f":"SA!HG34-SA!HF34","v":0},{"$f":"SA!HH34-SA!HG34","v":-300},{"$f":"SA!HI34-SA!HH34","v":200},{"$f":"SA!HJ34-SA!HI34","v":-1000},{"$f":"SA!HK34-SA!HJ34","v":-700},{"$f":"SA!HL34-SA!HK34","v":400},{"$f":"SA!HM34-SA!HL34","v":-3100},{"$f":"SA!HN34-SA!HM34","v":200},{"$f":"SA!HO34-SA!HN34","v":1400},{"$f":"SA!HP34-SA!HO34","v":-700},{"$f":"SA!HQ34-SA!HP34","v":800},{"$f":"SA!HR34-SA!HQ34","v":300},{"$f":"SA!HS34-SA!HR34","v":200},{"$f":"SA!HT34-SA!HS34","v":-200},{"$f":"SA!HU34-SA!HT34","v":-500},{"$f":"SA!HV34-SA!HU34","v":600},{"$f":"SA!HW34-SA!HV34","v":-500},{"$f":"SA!HX34-SA!HW34","v":700},{"$f":"SA!HY34-SA!HX34","v":600},{"$f":"SA!HZ34-SA!HY34","v":-3100},{"$f":"SA!IA34-SA!HZ34","v":700},{"$f":"SA!IB34-SA!IA34","v":-200},{"$f":"SA!IC34-SA!IB34","v":-1000},{"$f":"SA!ID34-SA!IC34","v":1000},{"$f":"SA!IE34-SA!ID34","v":1000},{"$f":"SA!IF34-SA!IE34","v":700},{"$f":"SA!IG34-SA!IF34","v":-1700},{"$f":"SA!IH34-SA!IG34","v":-600},{"$f":"SA!II34-SA!IH34","v":600},{"$f":"SA!IJ34-SA!II34","v":100},{"$f":"SA!IK34-SA!IJ34","v":-200},{"$f":"SA!IL34-SA!IK34","v":-92200},"n/a",null,null,"State Government",-9500,-1000,-500,-100,50.000000000001421,499.99999999999858,1000,9800,1855.5960178207415]
["Local Government",{"$f":"SA!BN35-SA!BM35","v":2900},{"$f":"SA!BO35-SA!BN35","v":2200},{"$f":"SA!BP35-SA!BO35","v":-1300},{"$f":"SA!BQ35-SA!BP35","v":700},{"$f":"SA!BR35-SA!BQ35","v":-500},{"$f":"SA!BS35-SA!BR35","v":-700},{"$f":"SA!BT35-SA!BS35","v":300},{"$f":"SA!BU35-SA!BT35","v":600},{"$f":"SA!BV35-SA!BU35","v":800},{"$f":"SA!BW35-SA!BV35","v":100},{"$f":"SA!BX35-SA!BW35","v":-1800},{"$f":"SA!BY35-SA!BX35","v":1300},{"$f":"SA!BZ35-SA!BY35","v":-1600},{"$f":"SA!CA35-SA!BZ35","v":100},{"$f":"SA!CB35-SA!CA35","v":1300},{"$f":"SA!CC35-SA!CB35","v":-100},{"$f":"SA!CD35-SA!CC35","v":-900},{"$f":"SA!CE35-SA!CD35","v":300},{"$f":"SA!CF35-SA!CE35","v":-700},{"$f":"SA!CG35-SA!CF35","v":0},{"$f":"SA!CH35-SA!CG35","v":400},{"$f":"SA!CI35-SA!CH35","v":-1500},{"$f":"SA!CJ35-SA!CI35","v":1500},{"$f":"SA!CK35-SA!CJ35","v":-1200},{"$f":"SA!CL35-SA!CK35","v":0},{"$f":"SA!CM35-SA!CL35","v":-1400},{"$f":"SA!CN35-SA!CM35","v":200},{"$f":"SA!CO35-SA!CN35","v":2200},{"$f":"SA!CP35-SA!CO35","v":0},{"$f":"SA!CQ35-SA!CP35","v":3800},{"$f":"SA!CR35-SA!CQ35","v":-2300},{"$f":"SA!CS35-SA!CR35","v":600},{"$f":"SA!CT35-SA!CS35","v":2600},{"$f":"SA!CU35-SA!CT35","v":-3900},{"$f":"SA!CV35-SA!CU35","v":-1600},{"$f":"SA!CW35-SA!CV35","v":2800},{"$f":"SA!CX35-SA!CW35","v":1400},{"$f":"SA!CY35-SA!CX35","v":-200},{"$f":"SA!CZ35-SA!CY35","v":-700},{"$f":"SA!DA35-SA!CZ35","v":-500},{"$f":"SA!DB35-SA!DA35","v":1500},{"$f":"SA!DC35-SA!DB35","v":100},{"$f":"SA!DD35-SA!DC35","v":1400},{"$f":"SA!DE35-SA!DD35","v":-1100},{"$f":"SA!DF35-SA!DE35","v":11400},{"$f":"SA!DG35-SA!DF35","v":-7900},{"$f":"SA!DH35-SA!DG35","v":4000},{"$f":"SA!DI35-SA!DH35","v":-3600},{"$f":"SA!DJ35-SA!DI35","v":-1500},{"$f":"SA!DK35-SA!DJ35","v":1100},{"$f":"SA!DL35-SA!DK35","v":-300},{"$f":"SA!DM35-SA!DL35","v":700},{"$f":"SA!DN35-SA!DM35","v":200},{"$f":"SA!DO35-SA!DN35","v":400},{"$f":"SA!DP35-SA!DO35","v":1100},{"$f":"SA!DQ35-SA!DP35","v":-2600},{"$f":"SA!DR35-SA!DQ35","v":300},{"$f":"SA!DS35-SA!DR35","v":2600},{"$f":"SA!DT35-SA!DS35","v":-2400},{"$f":"SA!DU35-SA!DT35","v":1000},{"$f":"SA!DV35-SA!DU35","v":500},{"$f":"SA!DW35-SA!DV35","v":-2500},{"$f":"SA!DX35-SA!DW35","v":800},{"$f":"SA!DY35-SA!DX35","v":-1500},{"$f":"SA!DZ35-SA!DY35","v":-300},{"$f":"SA!EA35-SA!DZ35","v":-600},{"$f":"SA!EB35-SA!EA35","v":-1700},{"$f":"SA!EC35-SA!EB35","v":100},{"$f":"SA!ED35-SA!EC35","v":2200},{"$f":"SA!EE35-SA!ED35","v":1200},{"$f":"SA!EF35-SA!EE35","v":1600},{"$f":"SA!EG35-SA!EF35","v":-3200},{"$f":"SA!EH35-SA!EG35","v":2400},{"$f":"SA!EI35-SA!EH35","v":1300},{"$f":"SA!EJ35-SA!EI35","v":-600},{"$f":"SA!EK35-SA!EJ35","v":-1400},{"$f":"SA!EL35-SA!EK35","v":-1500},{"$f":"SA!EM35-SA!EL35","v":-100},{"$f":"SA!EN35-SA!EM35","v":4500},{"$f":"SA!EO35-SA!EN35","v":300},{"$f":"SA!EP35-SA!EO35","v":-4400},{"$f":"SA!EQ35-SA!EP35","v":-4500},{"$f":"SA!ER35-SA!EQ35","v":-2300},{"$f":"SA!ES35-SA!ER35","v":3800},{"$f":"SA!ET35-SA!ES35","v":-300},{"$f":"SA!EU35-SA!ET35","v":-300},{"$f":"SA!EV35-SA!EU35","v":1000},{"$f":"SA!EW35-SA!EV35","v":3000},{"$f":"SA!EX35-SA!EW35","v":3600},{"$f":"SA!EY35-SA!EX35","v":-3600},{"$f":"SA!EZ35-SA!EY35","v":-4300},{"$f":"SA!FA35-SA!EZ35","v":3300},{"$f":"SA!FB35-SA!FA35","v":-3700},{"$f":"SA!FC35-SA!FB35","v":1300},{"$f":"SA!FD35-SA!FC35","v":4700},{"$f":"SA!FE35-SA!FD35","v":-4300},{"$f":"SA!FF35-SA!FE35","v":-1000},{"$f":"SA!FG35-SA!FF35","v":1300},{"$f":"SA!FH35-SA!FG35","v":-1000},{"$f":"SA!FI35-SA!FH35","v":-2500},{"$f":"SA!FJ35-SA!FI35","v":2500},{"$f":"SA!FK35-SA!FJ35","v":-100},{"$f":"SA!FL35-SA!FK35","v":-1000},{"$f":"SA!FM35-SA!FL35","v":-1500},{"$f":"SA!FN35-SA!FM35","v":2900},{"$f":"SA!FO35-SA!FN35","v":-800},{"$f":"SA!FP35-SA!FO35","v":-3100},{"$f":"SA!FQ35-SA!FP35","v":2700},{"$f":"SA!FR35-SA!FQ35","v":-100},{"$f":"SA!FS35-SA!FR35","v":-1400},{"$f":"SA!FT35-SA!FS35","v":1100},{"$f":"SA!FU35-SA!FT35","v":-600},{"$f":"SA!FV35-SA!FU35","v":1400},{"$f":"SA!FW35-SA!FV35","v":1100},{"$f":"SA!FX35-SA!FW35","v":-700},{"$f":"SA!FY35-SA!FX35","v":5500},{"$f":"SA!FZ35-SA!FY35","v":-5100},{"$f":"SA!GA35-SA!FZ35","v":0},{"$f":"SA!GB35-SA!GA35","v":2000},{"$f":"SA!GC35-SA!GB35","v":-3900},{"$f":"SA!GD35-SA!GC35","v":-600},{"$f":"SA!GE35-SA!GD35","v":1300},{"$f":"SA!GF35-SA!GE35","v":-1100},{"$f":"SA!GG35-SA!GF35","v":1600},{"$f":"SA!GH35-SA!GG35","v":-100},{"$f":"SA!GI35-SA!GH35","v":500},{"$f":"SA!GJ35-SA!GI35","v":-1400},{"$f":"SA!GK35-SA!GJ35","v":0},{"$f":"SA!GL35-SA!GK35","v":-100},{"$f":"SA!GM35-SA!GL35","v":600},{"$f":"SA!GN35-SA!GM35","v":-5700},{"$f":"SA!GO35-SA!GN35","v":5300},{"$f":"SA!GP35-SA!GO35","v":2000},{"$f":"SA!GQ35-SA!GP35","v":100},{"$f":"SA!GR35-SA!GQ35","v":-1000},{"$f":"SA!GS35-SA!GR35","v":2400},{"$f":"SA!GT35-SA!GS35","v":-2900},{"$f":"SA!GU35-SA!GT35","v":1700},{"$f":"SA!GV35-SA!GU35","v":1300},{"$f":"SA!GW35-SA!GV35","v":6500},{"$f":"SA!GX35-SA!GW35","v":-6900},{"$f":"SA!GY35-SA!GX35","v":-1600},{"$f":"SA!GZ35-SA!GY35","v":5100},{"$f":"SA!HA35-SA!GZ35","v":-3900},{"$f":"SA!HB35-SA!HA35","v":-2400},{"$f":"SA!HC35-SA!HB35","v":-400},{"$f":"SA!HD35-SA!HC35","v":1700},{"$f":"SA!HE35-SA!HD35","v":-2500},{"$f":"SA!HF35-SA!HE35","v":1500},{"$f":"SA!HG35-SA!HF35","v":-3300},{"$f":"SA!HH35-SA!HG35","v":2700},{"$f":"SA!HI35-SA!HH35","v":-2800},{"$f":"SA!HJ35-SA!HI35","v":2900},{"$f":"SA!HK35-SA!HJ35","v":800},{"$f":"SA!HL35-SA!HK35","v":-4200},{"$f":"SA!HM35-SA!HL35","v":4600},{"$f":"SA!HN35-SA!HM35","v":800},{"$f":"SA!HO35-SA!HN35","v":500},{"$f":"SA!HP35-SA!HO35","v":-1000},{"$f":"SA!HQ35-SA!HP35","v":-100},{"$f":"SA!HR35-SA!HQ35","v":500},{"$f":"SA!HS35-SA!HR35","v":700},{"$f":"SA!HT35-SA!HS35","v":1400},{"$f":"SA!HU35-SA!HT35","v":3700},{"$f":"SA!HV35-SA!HU35","v":-5200},{"$f":"SA!HW35-SA!HV35","v":-2100},{"$f":"SA!HX35-SA!HW35","v":1600},{"$f":"SA!HY35-SA!HX35","v":-400},{"$f":"SA!HZ35-SA!HY35","v":-2500},{"$f":"SA!IA35-SA!HZ35","v":-3000},{"$f":"SA!IB35-SA!IA35","v":2600},{"$f":"SA!IC35-SA!IB35","v":700},{"$f":"SA!ID35-SA!IC35","v":400},{"$f":"SA!IE35-SA!ID35","v":2800},{"$f":"SA!IF35-SA!IE35","v":-2200},{"$f":"SA!IG35-SA!IF35","v":-1600},{"$f":"SA!IH35-SA!IG35","v":1400},{"$f":"SA!II35-SA!IH35","v":-500},{"$f":"SA!IJ35-SA!II35","v":-1800},{"$f":"SA!IK35-SA!IJ35","v":1000},{"$f":"SA!IL35-SA!IK35","v":-283000},"n/a",null,null,"Local Government",-7900,-2500,-1000,-100,300,1199.9999999999986,2400,11400,2548.7339909078564]
[]
[null,null,null,null,null,null,null,null,null,null,null,null,null,"Housing Market Prices Peaks",null,null,null,null,null,null,null,null,null,null,null,"Housing Market Price Declines Begin",null,null,null,null,"Peak","Decline",null,"Floods",null,null,null,null,null,null,null,null,"Floods",null,null,null,null,null,"GM Closes",null,null,null,null,null,null,null,null,null,null,null,null,null,null,null,null,null,null,null,null,null,null,null,null,"Act 10 Protests",null,null,null,null,"Act 10 Passes",null,null,"Education Cuts begin",null,null,null,null,null,null,null,null,"Severe Drought",null,null,null,null,null,null,null,null,null,null,null,"Flooding",null,null,null,null,null,"Severe Winter Weather/Late Spring"]
[null,null,null,null,null,null,null,null,null,null,null,null,null,null,null,null,null,null,null,null,null,null,null,null,null,null,null,null,null,null,null,null,null,null,null,null,null,null,null,null,null,null,null,null,null,null,"Great Recession",null,null,null,null,null,null,null,null,null,null,null,null,null,null,null,null,null,null,null,null,null,null,null,null,null,null,null,null,null,null,null,null,null,null,null,null,null,null,null,null,null,null,null,null,null,null,null,null,null,null,null,null,null,null,null,null,null,null,null,null,null,null,null,null,null,null,null,null,null,null,null,null,null,null,null,null,null,null,null,null,null,null,null,null,null,null,null,null,null,null,null,null,null,null,null,null,null,null,null,null,null,null,null,null,null,null,null,null,null,null,null,null,null,"Long Winter!"]
["3 Month Change","2005-01-01","2005-02-01","2005-03-01","2005-04-01","2005-05-01","2005-06-01","2005-07-01","2005-08-01","2005-09-01","2005-10-01","2005-11-01","2005-12-01","2006-01-01","2006-02-01","2006-03-01","2006-04-01","2006-05-01","2006-06-01","2006-07-01","2006-08-01","2006-09-01","2006-10-01","2006-11-01","2006-12-01","2007-01-01","2007-02-01","2007-03-01","2007-04-01","2007-05-01","2007-06-01","2007-07-01","2007-08-01","2007-09-01","2007-10-01","2007-11-01","2007-12-01","2008-01-01","2008-02-01","2008-03-01","2008-04-01","2008-05-01","2008-06-01","2008-07-01","2008-08-01","2008-09-01","2008-10-01","2008-11-01","2008-12-01","2009-01-01","2009-02-01","2009-03-01","2009-04-01","2009-05-01","2009-06-01","2009-07-01","2009-08-01","2009-09-01","2009-10-01","2009-11-01","2009-12-01","2010-01-01","2010-02-01","2010-03-01","2010-04-01","2010-05-01","2010-06-01","2010-07-01","2010-08-01","2010-09-01","2010-10-01","2010-11-01","2010-12-01","2011-01-01","2011-02-01","2011-03-01","2011-04-01","2011-05-01","2011-06-01","2011-07-01","2011-08-01","2011-09-01","2011-10-01","2011-11-01","2011-12-01","2012-01-01","2012-02-01","2012-03-01","2012-04-01","2012-05-01","2012-06-01","2012-07-01","2012-08-01","2012-09-01","2012-10-01","2012-11-01","2012-12-01","2013-01-01","2013-02-01","2013-03-01","2013-04-01","2013-05-01","2013-06-01","2013-07-01","2013-08-01","2013-09-01","2013-10-01","2013-11-01","2013-12-01","2014-01-01","2014-02-01","2014-03-01","2014-04-01","2014-05-01","2014-06-01",{"$f":"EDATE(DK77,1)","v":"2014-07-01"},{"$f":"EDATE(DL77,1)","v":"2014-08-01"},"2014-09-01","2014-10-01","2014-11-01","2014-12-01","2015-01-01","2015-02-01","2015-03-01","2015-04-01","2015-05-01","2015-06-01","2015-07-01","2015-08-01","2015-09-01","2015-10-01","2015-11-01","2015-12-01","2016-01-01",{"$f":"EDATE(ED77,1)","v":"2016-02-01"},{"$f":"EDATE(EE77,1)","v":"2016-03-01"},{"$f":"EDATE(EF77,1)","v":"2016-04-01"},{"$f":"EDATE(EG77,1)","v":"2016-05-01"},{"$f":"EDATE(EH77,1)","v":"2016-06-01"},{"$f":"EDATE(EI77,1)","v":"2016-07-01"},{"$f":"EDATE(EJ77,1)","v":"2016-08-01"},{"$f":"EDATE(EK77,1)","v":"2016-09-01"},"2016-10-01","2016-11-01",{"$f":"EDATE(EN77,1)","v":"2016-12-01"},{"$f":"EDATE(EO77,1)","v":"2017-01-01"},{"$f":"EDATE(EP77,1)","v":"2017-02-01"},{"$f":"EDATE(EQ77,1)","v":"2017-03-01"},"2017-04-01","2017-05-01","2017-06-01","2017-07-01","2017-08-01","2017-09-01","2017-10-01","2017-11-01",{"$f":"EDATE(EZ77,1)","v":"2017-12-01"},{"$f":"EDATE(FA77,1)","v":"2018-01-01"},"2018-02-01","2018-03-01","2018-04-01","2018-05-01","2018-06-01","2018-07-01","2018-08-01","2018-09-01","2018-10-01","2018-11-01","2018-12-01",{"$f":"EDATE(FM77,1)","v":"2019-01-01"},{"$f":"EDATE(FN77,1)","v":"2019-02-01"},{"$f":"EDATE(FO77,1)","v":"2019-03-01"},{"$f":"EDATE(FP77,1)","v":"2019-04-01"},{"$f":"EDATE(FQ77,1)","v":"2019-05-01"},{"$f":"EDATE(FR77,1)","v":"2019-06-01"},{"$f":"EDATE(FS77,1)","v":"2019-07-01"},{"$f":"EDATE(FT77,1)","v":"2019-08-01"},{"$f":"EDATE(FU77,1)","v":"2019-09-01"},{"$f":"EDATE(FV77,1)","v":"2019-10-01"},{"$f":"EDATE(FW77,1)","v":"2019-11-01"},{"$f":"EDATE(FX77,1)","v":"2019-12-01"},{"$f":"EDATE(FY77,1)","v":"2020-01-01"},"3mo Sig","# Positive Sig Changes since October 2017","12 mo Trend","3 Month Change","Min",0.15,0.3,0.45,0.55000000000000004,0.7,0.85,"Max","Std Deviation"]
["Total Non Farm",{"$f":"SA!BN2-SA!BK2","v":1000},{"$f":"SA!BO2-SA!BL2","v":6500},{"$f":"SA!BP2-SA!BM2","v":9900},{"$f":"SA!BQ2-SA!BN2","v":17800},{"$f":"SA!BR2-SA!BO2","v":6400},{"$f":"SA!BS2-SA!BP2","v":900},{"$f":"SA!BT2-SA!BQ2","v":1500},{"$f":"SA!BU2-SA!BR2","v":8800},{"$f":"SA!BV2-SA!BS2","v":18200},{"$f":"SA!BW2-SA!BT2","v":5300},{"$f":"SA!BX2-SA!BU2","v":5500},{"$f":"SA!BY2-SA!BV2","v":3700},{"$f":"SA!BZ2-SA!BW2","v":6300},{"$f":"SA!CA2-SA!BX2","v":7100},{"$f":"SA!CB2-SA!BY2","v":5100},{"$f":"SA!CC2-SA!BZ2","v":13000},{"$f":"SA!CD2-SA!CA2","v":2400},{"$f":"SA!CE2-SA!CB2","v":7600},{"$f":"SA!CF2-SA!CC2","v":-1100},{"$f":"SA!CG2-SA!CD2","v":6300},{"$f":"SA!CH2-SA!CE2","v":1800},{"$f":"SA!CI2-SA!CF2","v":1400},{"$f":"SA!CJ2-SA!CG2","v":1300},{"$f":"SA!CK2-SA!CH2","v":1000},{"$f":"SA!CL2-SA!CI2","v":7900},{"$f":"SA!CM2-SA!CJ2","v":5700},{"$f":"SA!CN2-SA!CK2","v":7700},{"$f":"SA!CO2-SA!CL2","v":3100},{"$f":"SA!CP2-SA!CM2","v":10300},{"$f":"SA!CQ2-SA!CN2","v":14100},{"$f":"SA!CR2-SA!CO2","v":7800},{"$f":"SA!CS2-SA!CP2","v":1100},{"$f":"SA!CT2-SA!CQ2","v":-8000},{"$f":"SA!CU2-SA!CR2","v":-8100},{"$f":"SA!CV2-SA!CS2","v":-6900},{"$f":"SA!CW2-SA!CT2","v":-1600},{"$f":"SA!CX2-SA!CU2","v":9200},{"$f":"SA!CY2-SA!CV2","v":8900},{"$f":"SA!CZ2-SA!CW2","v":1100},{"$f":"SA!DA2-SA!CX2","v":-7800},{"$f":"SA!DB2-SA!CY2","v":-4800},{"$f":"SA!DC2-SA!CZ2","v":-4100},{"$f":"SA!DD2-SA!DA2","v":-2400},{"$f":"SA!DE2-SA!DB2","v":-9800},{"$f":"SA!DF2-SA!DC2","v":-4600},{"$f":"SA!DG2-SA!DD2","v":-13800},{"$f":"SA!DH2-SA!DE2","v":-18000},{"$f":"SA!DI2-SA!DF2","v":-35200},{"$f":"SA!DJ2-SA!DG2","v":-49400},{"$f":"SA!DK2-SA!DH2","v":-57000},{"$f":"SA!DL2-SA!DI2","v":-64000},{"$f":"SA!DM2-SA!DJ2","v":-60000},{"$f":"SA!DN2-SA!DK2","v":-44000},{"$f":"SA!DO2-SA!DL2","v":-35700},{"$f":"SA!DP2-SA!DM2","v":-25300},{"$f":"SA!DQ2-SA!DN2","v":-31800},{"$f":"SA!DR2-SA!DO2","v":-20400},{"$f":"SA!DS2-SA!DP2","v":-8700},{"$f":"SA!DT2-SA!DQ2","v":-4800},{"$f":"SA!DU2-SA!DR2","v":-4300},{"$f":"SA!DV2-SA!DS2","v":-5000},{"$f":"SA!DW2-SA!DT2","v":-1600},{"$f":"SA!DX2-SA!DU2","v":1400},{"$f":"SA!DY2-SA!DV2","v":13100},{"$f":"SA!DZ2-SA!DW2","v":15600},{"$f":"SA!EA2-SA!DX2","v":11800},{"$f":"SA!EB2-SA!DY2","v":3900},{"$f":"SA!EC2-SA!DZ2","v":4300},{"$f":"SA!ED2-SA!EA2","v":4600},{"$f":"SA!EE2-SA!EB2","v":10500},{"$f":"SA!EF2-SA!EC2","v":8700},{"$f":"SA!EG2-SA!ED2","v":8200},{"$f":"SA!EH2-SA!EE2","v":3200},{"$f":"SA!EI2-SA!EF2","v":3800},{"$f":"SA!EJ2-SA!EG2","v":8500},{"$f":"SA!EK2-SA!EH2","v":8200},{"$f":"SA!EL2-SA!EI2","v":7100},{"$f":"SA!EM2-SA!EJ2","v":1700},{"$f":"SA!EN2-SA!EK2","v":11200},{"$f":"SA!EO2-SA!EL2","v":7200},{"$f":"SA!EP2-SA!EM2","v":13100},{"$f":"SA!EQ2-SA!EN2","v":-4900},{"$f":"SA!ER2-SA!EO2","v":-1100},{"$f":"SA!ES2-SA!EP2","v":1800},{"$f":"SA!ET2-SA!EQ2","v":1900},{"$f":"SA!EU2-SA!ER2","v":7800},{"$f":"SA!EV2-SA!ES2","v":16400},{"$f":"SA!EW2-SA!ET2","v":29000},{"$f":"SA!EX2-SA!EU2","v":20800},{"$f":"SA!EY2-SA!EV2","v":5600},{"$f":"SA!EZ2-SA!EW2","v":-11400},{"$f":"SA!FA2-SA!EX2","v":-5400},{"$f":"SA!FB2-SA!EY2","v":800},{"$f":"SA!FC2-SA!EZ2","v":14400},{"$f":"SA!FD2-SA!FA2","v":18400},{"$f":"SA!FE2-SA!FB2","v":9400},{"$f":"SA!FF2-SA!FC2","v":-4200},{"$f":"SA!FG2-SA!FD2","v":4600},{"$f":"SA!FH2-SA!FE2","v":9500},{"$f":"SA!FI2-SA!FF2","v":7600},{"$f":"SA!FJ2-SA!FG2","v":1700},{"$f":"SA!FK2-SA!FH2","v":4600},{"$f":"SA!FL2-SA!FI2","v":16400},{"$f":"SA!FM2-SA!FJ2","v":11100},{"$f":"SA!FN2-SA!FK2","v":13400},{"$f":"SA!FO2-SA!FL2","v":13000},{"$f":"SA!FP2-SA!FM2","v":7700},{"$f":"SA!FQ2-SA!FN2","v":5600},{"$f":"SA!FR2-SA!FO2","v":9000},{"$f":"SA!FS2-SA!FP2","v":9800},{"$f":"SA!FT2-SA!FQ2","v":8000},{"$f":"SA!FU2-SA!FR2","v":9300},{"$f":"SA!FV2-SA!FS2","v":12700},{"$f":"SA!FW2-SA!FT2","v":16600},{"$f":"SA!FX2-SA!FU2","v":12700},{"$f":"SA!FY2-SA!FV2","v":19800},{"$f":"SA!FZ2-SA!FW2","v":11800},{"$f":"SA!GA2-SA!FX2","v":12200},{"$f":"SA!GB2-SA!FY2","v":11200},{"$f":"SA!GC2-SA!FZ2","v":7900},{"$f":"SA!GD2-SA!GA2","v":9400},{"$f":"SA!GE2-SA!GB2","v":1200},{"$f":"SA!GF2-SA!GC2","v":9400},{"$f":"SA!GG2-SA!GD2","v":8700},{"$f":"SA!GH2-SA!GE2","v":12100},{"$f":"SA!GI2-SA!GF2","v":9900},{"$f":"SA!GJ2-SA!GG2","v":12500},{"$f":"SA!GK2-SA!GH2","v":8100},{"$f":"SA!GL2-SA!GI2","v":8300},{"$f":"SA!GM2-SA!GJ2","v":8000},{"$f":"SA!GN2-SA!GK2","v":4700},{"$f":"SA!GO2-SA!GL2","v":11200},{"$f":"SA!GP2-SA!GM2","v":14400},{"$f":"SA!GQ2-SA!GN2","v":19300},{"$f":"SA!GR2-SA!GO2","v":10300},{"$f":"SA!GS2-SA!GP2","v":8700},{"$f":"SA!GT2-SA!GQ2","v":-200},{"$f":"SA!GU2-SA!GR2","v":-900},{"$f":"SA!GV2-SA!GS2","v":1900},{"$f":"SA!GW2-SA!GT2","v":15300},{"$f":"SA!GX2-SA!GU2","v":11700},{"$f":"SA!GY2-SA!GV2","v":2300},{"$f":"SA!GZ2-SA!GW2","v":1300},{"$f":"SA!HA2-SA!GX2","v":2300},{"$f":"SA!HB2-SA!GY2","v":9700},{"$f":"SA!HC2-SA!GZ2","v":6200},{"$f":"SA!HD2-SA!HA2","v":10800},{"$f":"SA!HE2-SA!HB2","v":4000},{"$f":"SA!HF2-SA!HC2","v":-100},{"$f":"SA!HG2-SA!HD2","v":1900},{"$f":"SA!HH2-SA!HE2","v":1600},{"$f":"SA!HI2-SA!HF2","v":-200},{"$f":"SA!HJ2-SA!HG2","v":-2600},{"$f":"SA!HK2-SA!HH2","v":1000},{"$f":"SA!HL2-SA!HI2","v":2700},{"$f":"SA!HM2-SA!HJ2","v":9800},{"$f":"SA!HN2-SA!HK2","v":14300},{"$f":"SA!HO2-SA!HL2","v":20900},{"$f":"SA!HP2-SA!HM2","v":20200},{"$f":"SA!HQ2-SA!HN2","v":7100},{"$f":"SA!HR2-SA!HO2","v":1600},{"$f":"SA!HS2-SA!HP2","v":2800},{"$f":"SA!HT2-SA!HQ2","v":16100},{"$f":"SA!HU2-SA!HR2","v":17600},{"$f":"SA!HV2-SA!HS2","v":5900},{"$f":"SA!HW2-SA!HT2","v":-5300},{"$f":"SA!HX2-SA!HU2","v":6200},{"$f":"SA!HY2-SA!HV2","v":19400},{"$f":"SA!HZ2-SA!HW2","v":9200},{"$f":"SA!IA2-SA!HX2","v":-7600},{"$f":"SA!IB2-SA!HY2","v":-20800},{"$f":"SA!IC2-SA!HZ2","v":-8300},{"$f":"SA!ID2-SA!IA2","v":-1900},{"$f":"SA!IE2-SA!IB2","v":5500},{"$f":"SA!IF2-SA!IC2","v":1300},{"$f":"SA!IG2-SA!ID2","v":-4300},{"$f":"SA!IH2-SA!IE2","v":-5800},{"$f":"SA!II2-SA!IF2","v":800},{"$f":"SA!IJ2-SA!IG2","v":3000},{"$f":"SA!IK2-SA!IH2","v":11000},{"$f":"SA!IL2-SA!II2","v":-2982400},16163.77,{"$f":"COUNTIF(EY78:FY78, \">\" &GA78)","v":4},null,"Total Non Farm",{"$f":"MIN(B78:FN78)","v":-64000},{"$f":"_xlfn.PERCENTILE.EXC($B78:$FN78,0.15)","v":-4700},{"$f":"_xlfn.PERCENTILE.EXC($B78:$FN78,0.3)","v":1400},{"$f":"_xlfn.PERCENTILE.EXC($B78:$FN78,0.45)","v":4650},{"$f":"_xlfn.PERCENTILE.EXC($B78:$FN78,0.55)","v":7150.0000000000018},{"$f":"_xlfn.PERCENTILE.EXC($B78:$FN78,0.7)","v":9399.9999999999982},{"$f":"_xlfn.PERCENTILE.EXC($B78:$FN78,0.85)","v":13000},{"$f":"MAX(B78:FN78)","v":29000},{"$f":"STDEVP(B78:FN78)","v":13948.638673724052}]
["Total Private",{"$f":"SA!BN3-SA!BK3","v":-2100},{"$f":"SA!BO3-SA!BL3","v":5100},{"$f":"SA!BP3-SA!BM3","v":7600},{"$f":"SA!BQ3-SA!BN3","v":19900},{"$f":"SA!BR3-SA!BO3","v":8400},{"$f":"SA!BS3-SA!BP3","v":2300},{"$f":"SA!BT3-SA!BQ3","v":1900},{"$f":"SA!BU3-SA!BR3","v":9100},{"$f":"SA!BV3-SA!BS3","v":12600},{"$f":"SA!BW3-SA!BT3","v":3400},{"$f":"SA!BX3-SA!BU3","v":5300},{"$f":"SA!BY3-SA!BV3","v":5300},{"$f":"SA!BZ3-SA!BW3","v":6700},{"$f":"SA!CA3-SA!BX3","v":6600},{"$f":"SA!CB3-SA!BY3","v":6400},{"$f":"SA!CC3-SA!BZ3","v":13300},{"$f":"SA!CD3-SA!CA3","v":3200},{"$f":"SA!CE3-SA!CB3","v":6200},{"$f":"SA!CF3-SA!CC3","v":-1500},{"$f":"SA!CG3-SA!CD3","v":4200},{"$f":"SA!CH3-SA!CE3","v":600},{"$f":"SA!CI3-SA!CF3","v":2800},{"$f":"SA!CJ3-SA!CG3","v":2200},{"$f":"SA!CK3-SA!CH3","v":4600},{"$f":"SA!CL3-SA!CI3","v":8100},{"$f":"SA!CM3-SA!CJ3","v":7700},{"$f":"SA!CN3-SA!CK3","v":8400},{"$f":"SA!CO3-SA!CL3","v":2300},{"$f":"SA!CP3-SA!CM3","v":7400},{"$f":"SA!CQ3-SA!CN3","v":7400},{"$f":"SA!CR3-SA!CO3","v":5700},{"$f":"SA!CS3-SA!CP3","v":-1400},{"$f":"SA!CT3-SA!CQ3","v":-8700},{"$f":"SA!CU3-SA!CR3","v":-6800},{"$f":"SA!CV3-SA!CS3","v":-2500},{"$f":"SA!CW3-SA!CT3","v":2000},{"$f":"SA!CX3-SA!CU3","v":4300},{"$f":"SA!CY3-SA!CV3","v":3400},{"$f":"SA!CZ3-SA!CW3","v":300},{"$f":"SA!DA3-SA!CX3","v":-4200},{"$f":"SA!DB3-SA!CY3","v":-5300},{"$f":"SA!DC3-SA!CZ3","v":-5200},{"$f":"SA!DD3-SA!DA3","v":-7300},{"$f":"SA!DE3-SA!DB3","v":-10500},{"$f":"SA!DF3-SA!DC3","v":-16800},{"$f":"SA!DG3-SA!DD3","v":-16800},{"$f":"SA!DH3-SA!DE3","v":-25800},{"$f":"SA!DI3-SA!DF3","v":-28400},{"$f":"SA!DJ3-SA!DG3","v":-47200},{"$f":"SA!DK3-SA!DH3","v":-51900},{"$f":"SA!DL3-SA!DI3","v":-62100},{"$f":"SA!DM3-SA!DJ3","v":-59500},{"$f":"SA!DN3-SA!DK3","v":-44400},{"$f":"SA!DO3-SA!DL3","v":-33400},{"$f":"SA!DP3-SA!DM3","v":-24300},{"$f":"SA!DQ3-SA!DN3","v":-26700},{"$f":"SA!DR3-SA!DO3","v":-16800},{"$f":"SA!DS3-SA!DP3","v":-7400},{"$f":"SA!DT3-SA!DQ3","v":-4400},{"$f":"SA!DU3-SA!DR3","v":-7500},{"$f":"SA!DV3-SA!DS3","v":-4300},{"$f":"SA!DW3-SA!DT3","v":-600},{"$f":"SA!DX3-SA!DU3","v":3500},{"$f":"SA!DY3-SA!DV3","v":10800},{"$f":"SA!DZ3-SA!DW3","v":7200},{"$f":"SA!EA3-SA!DX3","v":7100},{"$f":"SA!EB3-SA!DY3","v":6300},{"$f":"SA!EC3-SA!DZ3","v":12600},{"$f":"SA!ED3-SA!EA3","v":9200},{"$f":"SA!EE3-SA!EB3","v":10900},{"$f":"SA!EF3-SA!EC3","v":6300},{"$f":"SA!EG3-SA!ED3","v":11700},{"$f":"SA!EH3-SA!EE3","v":4800},{"$f":"SA!EI3-SA!EF3","v":5000},{"$f":"SA!EJ3-SA!EG3","v":4600},{"$f":"SA!EK3-SA!EH3","v":9400},{"$f":"SA!EL3-SA!EI3","v":8200},{"$f":"SA!EM3-SA!EJ3","v":5800},{"$f":"SA!EN3-SA!EK3","v":8100},{"$f":"SA!EO3-SA!EL3","v":10700},{"$f":"SA!EP3-SA!EM3","v":15400},{"$f":"SA!EQ3-SA!EN3","v":5200},{"$f":"SA!ER3-SA!EO3","v":6400},{"$f":"SA!ES3-SA!EP3","v":3100},{"$f":"SA!ET3-SA!EQ3","v":9500},{"$f":"SA!EU3-SA!ER3","v":10100},{"$f":"SA!EV3-SA!ES3","v":16700},{"$f":"SA!EW3-SA!ET3","v":16200},{"$f":"SA!EX3-SA!EU3","v":6800},{"$f":"SA!EY3-SA!EV3","v":3600},{"$f":"SA!EZ3-SA!EW3","v":-7100},{"$f":"SA!FA3-SA!EX3","v":0},{"$f":"SA!FB3-SA!EY3","v":2700},{"$f":"SA!FC3-SA!EZ3","v":12700},{"$f":"SA!FD3-SA!FA3","v":15300},{"$f":"SA!FE3-SA!FB3","v":8900},{"$f":"SA!FF3-SA!FC3","v":6700},{"$f":"SA!FG3-SA!FD3","v":8600},{"$f":"SA!FH3-SA!FE3","v":10900},{"$f":"SA!FI3-SA!FF3","v":600},{"$f":"SA!FJ3-SA!FG3","v":5600},{"$f":"SA!FK3-SA!FH3","v":5000},{"$f":"SA!FL3-SA!FI3","v":14800},{"$f":"SA!FM3-SA!FJ3","v":10800},{"$f":"SA!FN3-SA!FK3","v":10600},{"$f":"SA!FO3-SA!FL3","v":10500},{"$f":"SA!FP3-SA!FM3","v":7800},{"$f":"SA!FQ3-SA!FN3","v":7200},{"$f":"SA!FR3-SA!FO3","v":9400},{"$f":"SA!FS3-SA!FP3","v":8500},{"$f":"SA!FT3-SA!FQ3","v":8900},{"$f":"SA!FU3-SA!FR3","v":11100},{"$f":"SA!FV3-SA!FS3","v":12000},{"$f":"SA!FW3-SA!FT3","v":14700},{"$f":"SA!FX3-SA!FU3","v":11100},{"$f":"SA!FY3-SA!FV3","v":12800},{"$f":"SA!FZ3-SA!FW3","v":10300},{"$f":"SA!GA3-SA!FX3","v":11200},{"$f":"SA!GB3-SA!FY3","v":13300},{"$f":"SA!GC3-SA!FZ3","v":10100},{"$f":"SA!GD3-SA!GA3","v":11700},{"$f":"SA!GE3-SA!GB3","v":4900},{"$f":"SA!GF3-SA!GC3","v":10100},{"$f":"SA!GG3-SA!GD3","v":7100},{"$f":"SA!GH3-SA!GE3","v":13000},{"$f":"SA!GI3-SA!GF3","v":9400},{"$f":"SA!GJ3-SA!GG3","v":14300},{"$f":"SA!GK3-SA!GH3","v":9900},{"$f":"SA!GL3-SA!GI3","v":10500},{"$f":"SA!GM3-SA!GJ3","v":9200},{"$f":"SA!GN3-SA!GK3","v":10700},{"$f":"SA!GO3-SA!GL3","v":11000},{"$f":"SA!GP3-SA!GM3","v":12300},{"$f":"SA!GQ3-SA!GN3","v":11400},{"$f":"SA!GR3-SA!GO3","v":9400},{"$f":"SA!GS3-SA!GP3","v":7600},{"$f":"SA!GT3-SA!GQ3","v":1700},{"$f":"SA!GU3-SA!GR3","v":-2000},{"$f":"SA!GV3-SA!GS3","v":1600},{"$f":"SA!GW3-SA!GT3","v":5400},{"$f":"SA!GX3-SA!GU3","v":11100},{"$f":"SA!GY3-SA!GV3","v":3700},{"$f":"SA!GZ3-SA!GW3","v":4100},{"$f":"SA!HA3-SA!GX3","v":2200},{"$f":"SA!HB3-SA!GY3","v":11400},{"$f":"SA!HC3-SA!GZ3","v":13400},{"$f":"SA!HD3-SA!HA3","v":17000},{"$f":"SA!HE3-SA!HB3","v":5100},{"$f":"SA!HF3-SA!HC3","v":-1700},{"$f":"SA!HG3-SA!HD3","v":300},{"$f":"SA!HH3-SA!HE3","v":100},{"$f":"SA!HI3-SA!HF3","v":3600},{"$f":"SA!HJ3-SA!HG3","v":-4200},{"$f":"SA!HK3-SA!HH3","v":1700},{"$f":"SA!HL3-SA!HI3","v":4300},{"$f":"SA!HM3-SA!HJ3","v":12000},{"$f":"SA!HN3-SA!HK3","v":15500},{"$f":"SA!HO3-SA!HL3","v":16400},{"$f":"SA!HP3-SA!HM3","v":19000},{"$f":"SA!HQ3-SA!HN3","v":6300},{"$f":"SA!HR3-SA!HO3","v":1800},{"$f":"SA!HS3-SA!HP3","v":300},{"$f":"SA!HT3-SA!HQ3","v":13100},{"$f":"SA!HU3-SA!HR3","v":12200},{"$f":"SA!HV3-SA!HS3","v":5900},{"$f":"SA!HW3-SA!HT3","v":-1500},{"$f":"SA!HX3-SA!HU3","v":11000},{"$f":"SA!HY3-SA!HV3","v":19700},{"$f":"SA!HZ3-SA!HW3","v":12600},{"$f":"SA!IA3-SA!HX3","v":400},{"$f":"SA!IB3-SA!HY3","v":-15100},{"$f":"SA!IC3-SA!HZ3","v":-8100},{"$f":"SA!ID3-SA!IA3","v":-5500},{"$f":"SA!IE3-SA!IB3","v":400},{"$f":"SA!IF3-SA!IC3","v":-2500},{"$f":"SA!IG3-SA!ID3","v":-3800},{"$f":"SA!IH3-SA!IE3","v":-2100},{"$f":"SA!II3-SA!IF3","v":3000},{"$f":"SA!IJ3-SA!IG3","v":4200},{"$f":"SA!IK3-SA!IH3","v":12000},{"$f":"SA!IL3-SA!II3","v":-2577000},15596.245000000001,{"$f":"COUNTIF(EY79:FY79, \">\" &GA79)","v":3},null,"Total Private",-62100,-4200,2300,5350,7150.0000000000018,9899.9999999999945,12100,19900,13211.422353911175]
["Goods Producing",{"$f":"SA!BN4-SA!BK4","v":-3400},{"$f":"SA!BO4-SA!BL4","v":700},{"$f":"SA!BP4-SA!BM4","v":-200},{"$f":"SA!BQ4-SA!BN4","v":5100},{"$f":"SA!BR4-SA!BO4","v":-400},{"$f":"SA!BS4-SA!BP4","v":-700},{"$f":"SA!BT4-SA!BQ4","v":600},{"$f":"SA!BU4-SA!BR4","v":1000},{"$f":"SA!BV4-SA!BS4","v":500},{"$f":"SA!BW4-SA!BT4","v":-1700},{"$f":"SA!BX4-SA!BU4","v":-1100},{"$f":"SA!BY4-SA!BV4","v":-900},{"$f":"SA!BZ4-SA!BW4","v":2500},{"$f":"SA!CA4-SA!BX4","v":2700},{"$f":"SA!CB4-SA!BY4","v":3200},{"$f":"SA!CC4-SA!BZ4","v":2200},{"$f":"SA!CD4-SA!CA4","v":-600},{"$f":"SA!CE4-SA!CB4","v":1300},{"$f":"SA!CF4-SA!CC4","v":-2300},{"$f":"SA!CG4-SA!CD4","v":-700},{"$f":"SA!CH4-SA!CE4","v":-4000},{"$f":"SA!CI4-SA!CF4","v":-4100},{"$f":"SA!CJ4-SA!CG4","v":-5700},{"$f":"SA!CK4-SA!CH4","v":-3000},{"$f":"SA!CL4-SA!CI4","v":-700},{"$f":"SA!CM4-SA!CJ4","v":-100},{"$f":"SA!CN4-SA!CK4","v":500},{"$f":"SA!CO4-SA!CL4","v":-1100},{"$f":"SA!CP4-SA!CM4","v":1900},{"$f":"SA!CQ4-SA!CN4","v":0},{"$f":"SA!CR4-SA!CO4","v":0},{"$f":"SA!CS4-SA!CP4","v":-3000},{"$f":"SA!CT4-SA!CQ4","v":-5400},{"$f":"SA!CU4-SA!CR4","v":-5200},{"$f":"SA!CV4-SA!CS4","v":-3700},{"$f":"SA!CW4-SA!CT4","v":-2300},{"$f":"SA!CX4-SA!CU4","v":-1600},{"$f":"SA!CY4-SA!CV4","v":-1300},{"$f":"SA!CZ4-SA!CW4","v":-1100},{"$f":"SA!DA4-SA!CX4","v":-4100},{"$f":"SA!DB4-SA!CY4","v":-4900},{"$f":"SA!DC4-SA!CZ4","v":-4300},{"$f":"SA!DD4-SA!DA4","v":-6000},{"$f":"SA!DE4-SA!DB4","v":-8300},{"$f":"SA!DF4-SA!DC4","v":-12000},{"$f":"SA!DG4-SA!DD4","v":-10100},{"$f":"SA!DH4-SA!DE4","v":-12600},{"$f":"SA!DI4-SA!DF4","v":-15400},{"$f":"SA!DJ4-SA!DG4","v":-24400},{"$f":"SA!DK4-SA!DH4","v":-29800},{"$f":"SA!DL4-SA!DI4","v":-34200},{"$f":"SA!DM4-SA!DJ4","v":-34800},{"$f":"SA!DN4-SA!DK4","v":-29400},{"$f":"SA!DO4-SA!DL4","v":-24900},{"$f":"SA!DP4-SA!DM4","v":-18000},{"$f":"SA!DQ4-SA!DN4","v":-14400},{"$f":"SA!DR4-SA!DO4","v":-4200},{"$f":"SA!DS4-SA!DP4","v":-1400},{"$f":"SA!DT4-SA!DQ4","v":-700},{"$f":"SA!DU4-SA!DR4","v":-5300},{"$f":"SA!DV4-SA!DS4","v":-4000},{"$f":"SA!DW4-SA!DT4","v":-2300},{"$f":"SA!DX4-SA!DU4","v":200},{"$f":"SA!DY4-SA!DV4","v":4600},{"$f":"SA!DZ4-SA!DW4","v":3400},{"$f":"SA!EA4-SA!DX4","v":2800},{"$f":"SA!EB4-SA!DY4","v":1500},{"$f":"SA!EC4-SA!DZ4","v":3400},{"$f":"SA!ED4-SA!EA4","v":3200},{"$f":"SA!EE4-SA!EB4","v":2400},{"$f":"SA!EF4-SA!EC4","v":1300},{"$f":"SA!EG4-SA!ED4","v":1500},{"$f":"SA!EH4-SA!EE4","v":1800},{"$f":"SA!EI4-SA!EF4","v":3500},{"$f":"SA!EJ4-SA!EG4","v":4100},{"$f":"SA!EK4-SA!EH4","v":6000},{"$f":"SA!EL4-SA!EI4","v":5500},{"$f":"SA!EM4-SA!EJ4","v":4200},{"$f":"SA!EN4-SA!EK4","v":3700},{"$f":"SA!EO4-SA!EL4","v":3400},{"$f":"SA!EP4-SA!EM4","v":3600},{"$f":"SA!EQ4-SA!EN4","v":300},{"$f":"SA!ER4-SA!EO4","v":1000},{"$f":"SA!ES4-SA!EP4","v":2100},{"$f":"SA!ET4-SA!EQ4","v":4400},{"$f":"SA!EU4-SA!ER4","v":4500},{"$f":"SA!EV4-SA!ES4","v":5400},{"$f":"SA!EW4-SA!ET4","v":7100},{"$f":"SA!EX4-SA!EU4","v":2000},{"$f":"SA!EY4-SA!EV4","v":1300},{"$f":"SA!EZ4-SA!EW4","v":-2100},{"$f":"SA!FA4-SA!EX4","v":900},{"$f":"SA!FB4-SA!EY4","v":400},{"$f":"SA!FC4-SA!EZ4","v":2200},{"$f":"SA!FD4-SA!FA4","v":2200},{"$f":"SA!FE4-SA!FB4","v":3800},{"$f":"SA!FF4-SA!FC4","v":2900},{"$f":"SA!FG4-SA!FD4","v":4500},{"$f":"SA!FH4-SA!FE4","v":1800},{"$f":"SA!FI4-SA!FF4","v":-2900},{"$f":"SA!FJ4-SA!FG4","v":-800},{"$f":"SA!FK4-SA!FH4","v":500},{"$f":"SA!FL4-SA!FI4","v":3600},{"$f":"SA!FM4-SA!FJ4","v":2200},{"$f":"SA!FN4-SA!FK4","v":1800},{"$f":"SA!FO4-SA!FL4","v":3800},{"$f":"SA!FP4-SA!FM4","v":3400},{"$f":"SA!FQ4-SA!FN4","v":1300},{"$f":"SA!FR4-SA!FO4","v":2400},{"$f":"SA!FS4-SA!FP4","v":1500},{"$f":"SA!FT4-SA!FQ4","v":4300},{"$f":"SA!FU4-SA!FR4","v":3500},{"$f":"SA!FV4-SA!FS4","v":4800},{"$f":"SA!FW4-SA!FT4","v":5300},{"$f":"SA!FX4-SA!FU4","v":5800},{"$f":"SA!FY4-SA!FV4","v":5400},{"$f":"SA!FZ4-SA!FW4","v":4400},{"$f":"SA!GA4-SA!FX4","v":3500},{"$f":"SA!GB4-SA!FY4","v":2700},{"$f":"SA!GC4-SA!FZ4","v":2400},{"$f":"SA!GD4-SA!GA4","v":2600},{"$f":"SA!GE4-SA!GB4","v":2600},{"$f":"SA!GF4-SA!GC4","v":1500},{"$f":"SA!GG4-SA!GD4","v":800},{"$f":"SA!GH4-SA!GE4","v":800},{"$f":"SA!GI4-SA!GF4","v":900},{"$f":"SA!GJ4-SA!GG4","v":600},{"$f":"SA!GK4-SA!GH4","v":-1300},{"$f":"SA!GL4-SA!GI4","v":-700},{"$f":"SA!GM4-SA!GJ4","v":-800},{"$f":"SA!GN4-SA!GK4","v":700},{"$f":"SA!GO4-SA!GL4","v":1300},{"$f":"SA!GP4-SA!GM4","v":1200},{"$f":"SA!GQ4-SA!GN4","v":800},{"$f":"SA!GR4-SA!GO4","v":300},{"$f":"SA!GS4-SA!GP4","v":-100},{"$f":"SA!GT4-SA!GQ4","v":-1000},{"$f":"SA!GU4-SA!GR4","v":-2500},{"$f":"SA!GV4-SA!GS4","v":-2500},{"$f":"SA!GW4-SA!GT4","v":-900},{"$f":"SA!GX4-SA!GU4","v":200},{"$f":"SA!GY4-SA!GV4","v":1700},{"$f":"SA!GZ4-SA!GW4","v":2200},{"$f":"SA!HA4-SA!GX4","v":3300},{"$f":"SA!HB4-SA!GY4","v":3500},{"$f":"SA!HC4-SA!GZ4","v":4200},{"$f":"SA!HD4-SA!HA4","v":4100},{"$f":"SA!HE4-SA!HB4","v":3400},{"$f":"SA!HF4-SA!HC4","v":1600},{"$f":"SA!HG4-SA!HD4","v":1300},{"$f":"SA!HH4-SA!HE4","v":800},{"$f":"SA!HI4-SA!HF4","v":1200},{"$f":"SA!HJ4-SA!HG4","v":500},{"$f":"SA!HK4-SA!HH4","v":2000},{"$f":"SA!HL4-SA!HI4","v":3600},{"$f":"SA!HM4-SA!HJ4","v":5300},{"$f":"SA!HN4-SA!HK4","v":7300},{"$f":"SA!HO4-SA!HL4","v":9700},{"$f":"SA!HP4-SA!HM4","v":11700},{"$f":"SA!HQ4-SA!HN4","v":7400},{"$f":"SA!HR4-SA!HO4","v":5800},{"$f":"SA!HS4-SA!HP4","v":7300},{"$f":"SA!HT4-SA!HQ4","v":10300},{"$f":"SA!HU4-SA!HR4","v":9600},{"$f":"SA!HV4-SA!HS4","v":6000},{"$f":"SA!HW4-SA!HT4","v":4300},{"$f":"SA!HX4-SA!HU4","v":2400},{"$f":"SA!HY4-SA!HV4","v":1400},{"$f":"SA!HZ4-SA!HW4","v":-11900},{"$f":"SA!IA4-SA!HX4","v":-13400},{"$f":"SA!IB4-SA!HY4","v":-15400},{"$f":"SA!IC4-SA!HZ4","v":-5400},{"$f":"SA!ID4-SA!IA4","v":-1800},{"$f":"SA!IE4-SA!IB4","v":300},{"$f":"SA!IF4-SA!IC4","v":-100},{"$f":"SA!IG4-SA!ID4","v":-1400},{"$f":"SA!IH4-SA!IE4","v":-3400},{"$f":"SA!II4-SA!IF4","v":-800},{"$f":"SA!IJ4-SA!IG4","v":-500},{"$f":"SA!IK4-SA!IH4","v":3700},{"$f":"SA!IL4-SA!II4","v":-601800},7369.6,{"$f":"COUNTIF(EY80:FY80, \">\" &GA80)","v":5},null,"Goods Producing",-34800,-4000,-700,800,1500,2700,4300,11700,7157.5433499060355]
["Service-Providing",{"$f":"SA!BN5-SA!BK5","v":4400},{"$f":"SA!BO5-SA!BL5","v":5800},{"$f":"SA!BP5-SA!BM5","v":10100},{"$f":"SA!BQ5-SA!BN5","v":12700},{"$f":"SA!BR5-SA!BO5","v":6800},{"$f":"SA!BS5-SA!BP5","v":1600},{"$f":"SA!BT5-SA!BQ5","v":900},{"$f":"SA!BU5-SA!BR5","v":7800},{"$f":"SA!BV5-SA!BS5","v":17700},{"$f":"SA!BW5-SA!BT5","v":7000},{"$f":"SA!BX5-SA!BU5","v":6600},{"$f":"SA!BY5-SA!BV5","v":4600},{"$f":"SA!BZ5-SA!BW5","v":3800},{"$f":"SA!CA5-SA!BX5","v":4400},{"$f":"SA!CB5-SA!BY5","v":1900},{"$f":"SA!CC5-SA!BZ5","v":10800},{"$f":"SA!CD5-SA!CA5","v":3000},{"$f":"SA!CE5-SA!CB5","v":6300},{"$f":"SA!CF5-SA!CC5","v":1200},{"$f":"SA!CG5-SA!CD5","v":7000},{"$f":"SA!CH5-SA!CE5","v":5800},{"$f":"SA!CI5-SA!CF5","v":5500},{"$f":"SA!CJ5-SA!CG5","v":7000},{"$f":"SA!CK5-SA!CH5","v":4000},{"$f":"SA!CL5-SA!CI5","v":8600},{"$f":"SA!CM5-SA!CJ5","v":5800},{"$f":"SA!CN5-SA!CK5","v":7200},{"$f":"SA!CO5-SA!CL5","v":4200},{"$f":"SA!CP5-SA!CM5","v":8400},{"$f":"SA!CQ5-SA!CN5","v":14100},{"$f":"SA!CR5-SA!CO5","v":7800},{"$f":"SA!CS5-SA!CP5","v":4100},{"$f":"SA!CT5-SA!CQ5","v":-2600},{"$f":"SA!CU5-SA!CR5","v":-2900},{"$f":"SA!CV5-SA!CS5","v":-3200},{"$f":"SA!CW5-SA!CT5","v":700},{"$f":"SA!CX5-SA!CU5","v":10800},{"$f":"SA!CY5-SA!CV5","v":10200},{"$f":"SA!CZ5-SA!CW5","v":2200},{"$f":"SA!DA5-SA!CX5","v":-3700},{"$f":"SA!DB5-SA!CY5","v":100},{"$f":"SA!DC5-SA!CZ5","v":200},{"$f":"SA!DD5-SA!DA5","v":3600},{"$f":"SA!DE5-SA!DB5","v":-1500},{"$f":"SA!DF5-SA!DC5","v":7400},{"$f":"SA!DG5-SA!DD5","v":-3700},{"$f":"SA!DH5-SA!DE5","v":-5400},{"$f":"SA!DI5-SA!DF5","v":-19800},{"$f":"SA!DJ5-SA!DG5","v":-25000},{"$f":"SA!DK5-SA!DH5","v":-27200},{"$f":"SA!DL5-SA!DI5","v":-29800},{"$f":"SA!DM5-SA!DJ5","v":-25200},{"$f":"SA!DN5-SA!DK5","v":-14600},{"$f":"SA!DO5-SA!DL5","v":-10800},{"$f":"SA!DP5-SA!DM5","v":-7300},{"$f":"SA!DQ5-SA!DN5","v":-17400},{"$f":"SA!DR5-SA!DO5","v":-16200},{"$f":"SA!DS5-SA!DP5","v":-7300},{"$f":"SA!DT5-SA!DQ5","v":-4100},{"$f":"SA!DU5-SA!DR5","v":1000},{"$f":"SA!DV5-SA!DS5","v":-1000},{"$f":"SA!DW5-SA!DT5","v":700},{"$f":"SA!DX5-SA!DU5","v":1200},{"$f":"SA!DY5-SA!DV5","v":8500},{"$f":"SA!DZ5-SA!DW5","v":12200},{"$f":"SA!EA5-SA!DX5","v":9000},{"$f":"SA!EB5-SA!DY5","v":2400},{"$f":"SA!EC5-SA!DZ5","v":900},{"$f":"SA!ED5-SA!EA5","v":1400},{"$f":"SA!EE5-SA!EB5","v":8100},{"$f":"SA!EF5-SA!EC5","v":7400},{"$f":"SA!EG5-SA!ED5","v":6700},{"$f":"SA!EH5-SA!EE5","v":1400},{"$f":"SA!EI5-SA!EF5","v":300},{"$f":"SA!EJ5-SA!EG5","v":4400},{"$f":"SA!EK5-SA!EH5","v":2200},{"$f":"SA!EL5-SA!EI5","v":1600},{"$f":"SA!EM5-SA!EJ5","v":-2500},{"$f":"SA!EN5-SA!EK5","v":7500},{"$f":"SA!EO5-SA!EL5","v":3800},{"$f":"SA!EP5-SA!EM5","v":9500},{"$f":"SA!EQ5-SA!EN5","v":-5200},{"$f":"SA!ER5-SA!EO5","v":-2100},{"$f":"SA!ES5-SA!EP5","v":-300},{"$f":"SA!ET5-SA!EQ5","v":-2500},{"$f":"SA!EU5-SA!ER5","v":3300},{"$f":"SA!EV5-SA!ES5","v":11000},{"$f":"SA!EW5-SA!ET5","v":21900},{"$f":"SA!EX5-SA!EU5","v":18800},{"$f":"SA!EY5-SA!EV5","v":4300},{"$f":"SA!EZ5-SA!EW5","v":-9300},{"$f":"SA!FA5-SA!EX5","v":-6300},{"$f":"SA!FB5-SA!EY5","v":400},{"$f":"SA!FC5-SA!EZ5","v":12200},{"$f":"SA!FD5-SA!FA5","v":16200},{"$f":"SA!FE5-SA!FB5","v":5600},{"$f":"SA!FF5-SA!FC5","v":-7100},{"$f":"SA!FG5-SA!FD5","v":100},{"$f":"SA!FH5-SA!FE5","v":7700},{"$f":"SA!FI5-SA!FF5","v":10500},{"$f":"SA!FJ5-SA!FG5","v":2500},{"$f":"SA!FK5-SA!FH5","v":4100},{"$f":"SA!FL5-SA!FI5","v":12800},{"$f":"SA!FM5-SA!FJ5","v":8900},{"$f":"SA!FN5-SA!FK5","v":11600},{"$f":"SA!FO5-SA!FL5","v":9200},{"$f":"SA!FP5-SA!FM5","v":4300},{"$f":"SA!FQ5-SA!FN5","v":4300},{"$f":"SA!FR5-SA!FO5","v":6600},{"$f":"SA!FS5-SA!FP5","v":8300},{"$f":"SA!FT5-SA!FQ5","v":3700},{"$f":"SA!FU5-SA!FR5","v":5800},{"$f":"SA!FV5-SA!FS5","v":7900},{"$f":"SA!FW5-SA!FT5","v":11300},{"$f":"SA!FX5-SA!FU5","v":6900},{"$f":"SA!FY5-SA!FV5","v":14400},{"$f":"SA!FZ5-SA!FW5","v":7400},{"$f":"SA!GA5-SA!FX5","v":8700},{"$f":"SA!GB5-SA!FY5","v":8500},{"$f":"SA!GC5-SA!FZ5","v":5500},{"$f":"SA!GD5-SA!GA5","v":6800},{"$f":"SA!GE5-SA!GB5","v":-1400},{"$f":"SA!GF5-SA!GC5","v":7900},{"$f":"SA!GG5-SA!GD5","v":7900},{"$f":"SA!GH5-SA!GE5","v":11300},{"$f":"SA!GI5-SA!GF5","v":9000},{"$f":"SA!GJ5-SA!GG5","v":11900},{"$f":"SA!GK5-SA!GH5","v":9400},{"$f":"SA!GL5-SA!GI5","v":9000},{"$f":"SA!GM5-SA!GJ5","v":8800},{"$f":"SA!GN5-SA!GK5","v":4000},{"$f":"SA!GO5-SA!GL5","v":9900},{"$f":"SA!GP5-SA!GM5","v":13200},{"$f":"SA!GQ5-SA!GN5","v":18500},{"$f":"SA!GR5-SA!GO5","v":10000},{"$f":"SA!GS5-SA!GP5","v":8800},{"$f":"SA!GT5-SA!GQ5","v":800},{"$f":"SA!GU5-SA!GR5","v":1600},{"$f":"SA!GV5-SA!GS5","v":4400},{"$f":"SA!GW5-SA!GT5","v":16200},{"$f":"SA!GX5-SA!GU5","v":11500},{"$f":"SA!GY5-SA!GV5","v":600},{"$f":"SA!GZ5-SA!GW5","v":-900},{"$f":"SA!HA5-SA!GX5","v":-1000},{"$f":"SA!HB5-SA!GY5","v":6200},{"$f":"SA!HC5-SA!GZ5","v":2000},{"$f":"SA!HD5-SA!HA5","v":6700},{"$f":"SA!HE5-SA!HB5","v":600},{"$f":"SA!HF5-SA!HC5","v":-1700},{"$f":"SA!HG5-SA!HD5","v":600},{"$f":"SA!HH5-SA!HE5","v":800},{"$f":"SA!HI5-SA!HF5","v":-1400},{"$f":"SA!HJ5-SA!HG5","v":-3100},{"$f":"SA!HK5-SA!HH5","v":-1000},{"$f":"SA!HL5-SA!HI5","v":-900},{"$f":"SA!HM5-SA!HJ5","v":4500},{"$f":"SA!HN5-SA!HK5","v":7000},{"$f":"SA!HO5-SA!HL5","v":11200},{"$f":"SA!HP5-SA!HM5","v":8500},{"$f":"SA!HQ5-SA!HN5","v":-300},{"$f":"SA!HR5-SA!HO5","v":-4200},{"$f":"SA!HS5-SA!HP5","v":-4500},{"$f":"SA!HT5-SA!HQ5","v":5800},{"$f":"SA!HU5-SA!HR5","v":8000},{"$f":"SA!HV5-SA!HS5","v":-100},{"$f":"SA!HW5-SA!HT5","v":-9600},{"$f":"SA!HX5-SA!HU5","v":3800},{"$f":"SA!HY5-SA!HV5","v":18000},{"$f":"SA!HZ5-SA!HW5","v":21100},{"$f":"SA!IA5-SA!HX5","v":5800},{"$f":"SA!IB5-SA!HY5","v":-5400},{"$f":"SA!IC5-SA!HZ5","v":-2900},{"$f":"SA!ID5-SA!IA5","v":-100},{"$f":"SA!IE5-SA!IB5","v":5200},{"$f":"SA!IF5-SA!IC5","v":1400},{"$f":"SA!IG5-SA!ID5","v":-2900},{"$f":"SA!IH5-SA!IE5","v":-2400},{"$f":"SA!II5-SA!IF5","v":1600},{"$f":"SA!IJ5-SA!IG5","v":3500},{"$f":"SA!IK5-SA!IH5","v":7300},{"$f":"SA!IL5-SA!II5","v":-2380600},"n/a",{"$f":"COUNTIF(EY81:FA81, \">\" &FC81)","v":0},null,"Service-Providing",-29800,-2750,700,3900,5700.0000000000027,7800,10350,21900,8288.0675252501187]
["Private Service Providing",{"$f":"SA!BN6-SA!BK6","v":1300},{"$f":"SA!BO6-SA!BL6","v":4400},{"$f":"SA!BP6-SA!BM6","v":7800},{"$f":"SA!BQ6-SA!BN6","v":14800},{"$f":"SA!BR6-SA!BO6","v":8800},{"$f":"SA!BS6-SA!BP6","v":3000},{"$f":"SA!BT6-SA!BQ6","v":1300},{"$f":"SA!BU6-SA!BR6","v":8100},{"$f":"SA!BV6-SA!BS6","v":12100},{"$f":"SA!BW6-SA!BT6","v":5100},{"$f":"SA!BX6-SA!BU6","v":6400},{"$f":"SA!BY6-SA!BV6","v":6200},{"$f":"SA!BZ6-SA!BW6","v":4200},{"$f":"SA!CA6-SA!BX6","v":3900},{"$f":"SA!CB6-SA!BY6","v":3200},{"$f":"SA!CC6-SA!BZ6","v":11100},{"$f":"SA!CD6-SA!CA6","v":3800},{"$f":"SA!CE6-SA!CB6","v":4900},{"$f":"SA!CF6-SA!CC6","v":800},{"$f":"SA!CG6-SA!CD6","v":4900},{"$f":"SA!CH6-SA!CE6","v":4600},{"$f":"SA!CI6-SA!CF6","v":6900},{"$f":"SA!CJ6-SA!CG6","v":7900},{"$f":"SA!CK6-SA!CH6","v":7600},{"$f":"SA!CL6-SA!CI6","v":8800},{"$f":"SA!CM6-SA!CJ6","v":7800},{"$f":"SA!CN6-SA!CK6","v":7900},{"$f":"SA!CO6-SA!CL6","v":3400},{"$f":"SA!CP6-SA!CM6","v":5500},{"$f":"SA!CQ6-SA!CN6","v":7400},{"$f":"SA!CR6-SA!CO6","v":5700},{"$f":"SA!CS6-SA!CP6","v":1600},{"$f":"SA!CT6-SA!CQ6","v":-3300},{"$f":"SA!CU6-SA!CR6","v":-1600},{"$f":"SA!CV6-SA!CS6","v":1200},{"$f":"SA!CW6-SA!CT6","v":4300},{"$f":"SA!CX6-SA!CU6","v":5900},{"$f":"SA!CY6-SA!CV6","v":4700},{"$f":"SA!CZ6-SA!CW6","v":1400},{"$f":"SA!DA6-SA!CX6","v":-100},{"$f":"SA!DB6-SA!CY6","v":-400},{"$f":"SA!DC6-SA!CZ6","v":-900},{"$f":"SA!DD6-SA!DA6","v":-1300},{"$f":"SA!DE6-SA!DB6","v":-2200},{"$f":"SA!DF6-SA!DC6","v":-4800},{"$f":"SA!DG6-SA!DD6","v":-6700},{"$f":"SA!DH6-SA!DE6","v":-13200},{"$f":"SA!DI6-SA!DF6","v":-13000},{"$f":"SA!DJ6-SA!DG6","v":-22800},{"$f":"SA!DK6-SA!DH6","v":-22100},{"$f":"SA!DL6-SA!DI6","v":-27900},{"$f":"SA!DM6-SA!DJ6","v":-24700},{"$f":"SA!DN6-SA!DK6","v":-15000},{"$f":"SA!DO6-SA!DL6","v":-8500},{"$f":"SA!DP6-SA!DM6","v":-6300},{"$f":"SA!DQ6-SA!DN6","v":-12300},{"$f":"SA!DR6-SA!DO6","v":-12600},{"$f":"SA!DS6-SA!DP6","v":-6000},{"$f":"SA!DT6-SA!DQ6","v":-3700},{"$f":"SA!DU6-SA!DR6","v":-2200},{"$f":"SA!DV6-SA!DS6","v":-300},{"$f":"SA!DW6-SA!DT6","v":1700},{"$f":"SA!DX6-SA!DU6","v":3300},{"$f":"SA!DY6-SA!DV6","v":6200},{"$f":"SA!DZ6-SA!DW6","v":3800},{"$f":"SA!EA6-SA!DX6","v":4300},{"$f":"SA!EB6-SA!DY6","v":4800},{"$f":"SA!EC6-SA!DZ6","v":9200},{"$f":"SA!ED6-SA!EA6","v":6000},{"$f":"SA!EE6-SA!EB6","v":8500},{"$f":"SA!EF6-SA!EC6","v":5000},{"$f":"SA!EG6-SA!ED6","v":10200},{"$f":"SA!EH6-SA!EE6","v":3000},{"$f":"SA!EI6-SA!EF6","v":1500},{"$f":"SA!EJ6-SA!EG6","v":500},{"$f":"SA!EK6-SA!EH6","v":3400},{"$f":"SA!EL6-SA!EI6","v":2700},{"$f":"SA!EM6-SA!EJ6","v":1600},{"$f":"SA!EN6-SA!EK6","v":4400},{"$f":"SA!EO6-SA!EL6","v":7300},{"$f":"SA!EP6-SA!EM6","v":11800},{"$f":"SA!EQ6-SA!EN6","v":4900},{"$f":"SA!ER6-SA!EO6","v":5400},{"$f":"SA!ES6-SA!EP6","v":1000},{"$f":"SA!ET6-SA!EQ6","v":5100},{"$f":"SA!EU6-SA!ER6","v":5600},{"$f":"SA!EV6-SA!ES6","v":11300},{"$f":"SA!EW6-SA!ET6","v":9100},{"$f":"SA!EX6-SA!EU6","v":4800},{"$f":"SA!EY6-SA!EV6","v":2300},{"$f":"SA!EZ6-SA!EW6","v":-5000},{"$f":"SA!FA6-SA!EX6","v":-900},{"$f":"SA!FB6-SA!EY6","v":2300},{"$f":"SA!FC6-SA!EZ6","v":10500},{"$f":"SA!FD6-SA!FA6","v":13100},{"$f":"SA!FE6-SA!FB6","v":5100},{"$f":"SA!FF6-SA!FC6","v":3800},{"$f":"SA!FG6-SA!FD6","v":4100},{"$f":"SA!FH6-SA!FE6","v":9100},{"$f":"SA!FI6-SA!FF6","v":3500},{"$f":"SA!FJ6-SA!FG6","v":6400},{"$f":"SA!FK6-SA!FH6","v":4500},{"$f":"SA!FL6-SA!FI6","v":11200},{"$f":"SA!FM6-SA!FJ6","v":8600},{"$f":"SA!FN6-SA!FK6","v":8800},{"$f":"SA!FO6-SA!FL6","v":6700},{"$f":"SA!FP6-SA!FM6","v":4400},{"$f":"SA!FQ6-SA!FN6","v":5900},{"$f":"SA!FR6-SA!FO6","v":7000},{"$f":"SA!FS6-SA!FP6","v":7000},{"$f":"SA!FT6-SA!FQ6","v":4600},{"$f":"SA!FU6-SA!FR6","v":7600},{"$f":"SA!FV6-SA!FS6","v":7200},{"$f":"SA!FW6-SA!FT6","v":9400},{"$f":"SA!FX6-SA!FU6","v":5300},{"$f":"SA!FY6-SA!FV6","v":7400},{"$f":"SA!FZ6-SA!FW6","v":5900},{"$f":"SA!GA6-SA!FX6","v":7700},{"$f":"SA!GB6-SA!FY6","v":10600},{"$f":"SA!GC6-SA!FZ6","v":7700},{"$f":"SA!GD6-SA!GA6","v":9100},{"$f":"SA!GE6-SA!GB6","v":2300},{"$f":"SA!GF6-SA!GC6","v":8600},{"$f":"SA!GG6-SA!GD6","v":6300},{"$f":"SA!GH6-SA!GE6","v":12200},{"$f":"SA!GI6-SA!GF6","v":8500},{"$f":"SA!GJ6-SA!GG6","v":13700},{"$f":"SA!GK6-SA!GH6","v":11200},{"$f":"SA!GL6-SA!GI6","v":11200},{"$f":"SA!GM6-SA!GJ6","v":10000},{"$f":"SA!GN6-SA!GK6","v":10000},{"$f":"SA!GO6-SA!GL6","v":9700},{"$f":"SA!GP6-SA!GM6","v":11100},{"$f":"SA!GQ6-SA!GN6","v":10600},{"$f":"SA!GR6-SA!GO6","v":9100},{"$f":"SA!GS6-SA!GP6","v":7700},{"$f":"SA!GT6-SA!GQ6","v":2700},{"$f":"SA!GU6-SA!GR6","v":500},{"$f":"SA!GV6-SA!GS6","v":4100},{"$f":"SA!GW6-SA!GT6","v":6300},{"$f":"SA!GX6-SA!GU6","v":10900},{"$f":"SA!GY6-SA!GV6","v":2000},{"$f":"SA!GZ6-SA!GW6","v":1900},{"$f":"SA!HA6-SA!GX6","v":-1100},{"$f":"SA!HB6-SA!GY6","v":7900},{"$f":"SA!HC6-SA!GZ6","v":9200},{"$f":"SA!HD6-SA!HA6","v":12900},{"$f":"SA!HE6-SA!HB6","v":1700},{"$f":"SA!HF6-SA!HC6","v":-3300},{"$f":"SA!HG6-SA!HD6","v":-1000},{"$f":"SA!HH6-SA!HE6","v":-700},{"$f":"SA!HI6-SA!HF6","v":2400},{"$f":"SA!HJ6-SA!HG6","v":-4700},{"$f":"SA!HK6-SA!HH6","v":-300},{"$f":"SA!HL6-SA!HI6","v":700},{"$f":"SA!HM6-SA!HJ6","v":6700},{"$f":"SA!HN6-SA!HK6","v":8200},{"$f":"SA!HO6-SA!HL6","v":6700},{"$f":"SA!HP6-SA!HM6","v":7300},{"$f":"SA!HQ6-SA!HN6","v":-1100},{"$f":"SA!HR6-SA!HO6","v":-4000},{"$f":"SA!HS6-SA!HP6","v":-7000},{"$f":"SA!HT6-SA!HQ6","v":2800},{"$f":"SA!HU6-SA!HR6","v":2600},{"$f":"SA!HV6-SA!HS6","v":-100},{"$f":"SA!HW6-SA!HT6","v":-5800},{"$f":"SA!HX6-SA!HU6","v":8600},{"$f":"SA!HY6-SA!HV6","v":18300},{"$f":"SA!HZ6-SA!HW6","v":24500},{"$f":"SA!IA6-SA!HX6","v":13800},{"$f":"SA!IB6-SA!HY6","v":300},{"$f":"SA!IC6-SA!HZ6","v":-2700},{"$f":"SA!ID6-SA!IA6","v":-3700},{"$f":"SA!IE6-SA!IB6","v":100},{"$f":"SA!IF6-SA!IC6","v":-2400},{"$f":"SA!IG6-SA!ID6","v":-2400},{"$f":"SA!IH6-SA!IE6","v":1300},{"$f":"SA!II6-SA!IF6","v":3800},{"$f":"SA!IJ6-SA!IG6","v":4700},{"$f":"SA!IK6-SA!IH6","v":8300},{"$f":"SA!IL6-SA!II6","v":-1975200},13745.62,{"$f":"COUNTIF(EY82:FY82, \">\" &GA82)","v":3},null,"Private Service Providing",-27900,-1450,1700,4300,5200.0000000000027,7400,9200,24500,7257.715216720132]
["Mining and Logging",{"$f":"SA!BN7-SA!BK7","v":0},{"$f":"SA!BO7-SA!BL7","v":-100},{"$f":"SA!BP7-SA!BM7","v":0},{"$f":"SA!BQ7-SA!BN7","v":0},{"$f":"SA!BR7-SA!BO7","v":0},{"$f":"SA!BS7-SA!BP7","v":0},{"$f":"SA!BT7-SA!BQ7","v":100},{"$f":"SA!BU7-SA!BR7","v":100},{"$f":"SA!BV7-SA!BS7","v":0},{"$f":"SA!BW7-SA!BT7","v":-100},{"$f":"SA!BX7-SA!BU7","v":0},{"$f":"SA!BY7-SA!BV7","v":-100},{"$f":"SA!BZ7-SA!BW7","v":100},{"$f":"SA!CA7-SA!BX7","v":0},{"$f":"SA!CB7-SA!BY7","v":100},{"$f":"SA!CC7-SA!BZ7","v":0},{"$f":"SA!CD7-SA!CA7","v":0},{"$f":"SA!CE7-SA!CB7","v":0},{"$f":"SA!CF7-SA!CC7","v":-100},{"$f":"SA!CG7-SA!CD7","v":-100},{"$f":"SA!CH7-SA!CE7","v":-100},{"$f":"SA!CI7-SA!CF7","v":0},{"$f":"SA!CJ7-SA!CG7","v":-100},{"$f":"SA!CK7-SA!CH7","v":-100},{"$f":"SA!CL7-SA!CI7","v":-100},{"$f":"SA!CM7-SA!CJ7","v":0},{"$f":"SA!CN7-SA!CK7","v":0},{"$f":"SA!CO7-SA!CL7","v":0},{"$f":"SA!CP7-SA!CM7","v":-100},{"$f":"SA!CQ7-SA!CN7","v":-200},{"$f":"SA!CR7-SA!CO7","v":-100},{"$f":"SA!CS7-SA!CP7","v":-100},{"$f":"SA!CT7-SA!CQ7","v":0},{"$f":"SA!CU7-SA!CR7","v":-100},{"$f":"SA!CV7-SA!CS7","v":0},{"$f":"SA!CW7-SA!CT7","v":-200},{"$f":"SA!CX7-SA!CU7","v":-100},{"$f":"SA!CY7-SA!CV7","v":-100},{"$f":"SA!CZ7-SA!CW7","v":0},{"$f":"SA!DA7-SA!CX7","v":-100},{"$f":"SA!DB7-SA!CY7","v":-200},{"$f":"SA!DC7-SA!CZ7","v":0},{"$f":"SA!DD7-SA!DA7","v":0},{"$f":"SA!DE7-SA!DB7","v":100},{"$f":"SA!DF7-SA!DC7","v":0},{"$f":"SA!DG7-SA!DD7","v":-100},{"$f":"SA!DH7-SA!DE7","v":-100},{"$f":"SA!DI7-SA!DF7","v":-200},{"$f":"SA!DJ7-SA!DG7","v":-100},{"$f":"SA!DK7-SA!DH7","v":-200},{"$f":"SA!DL7-SA!DI7","v":-200},{"$f":"SA!DM7-SA!DJ7","v":-300},{"$f":"SA!DN7-SA!DK7","v":-100},{"$f":"SA!DO7-SA!DL7","v":-100},{"$f":"SA!DP7-SA!DM7","v":100},{"$f":"SA!DQ7-SA!DN7","v":0},{"$f":"SA!DR7-SA!DO7","v":100},{"$f":"SA!DS7-SA!DP7","v":0},{"$f":"SA!DT7-SA!DQ7","v":-100},{"$f":"SA!DU7-SA!DR7","v":0},{"$f":"SA!DV7-SA!DS7","v":-100},{"$f":"SA!DW7-SA!DT7","v":0},{"$f":"SA!DX7-SA!DU7","v":-100},{"$f":"SA!DY7-SA!DV7","v":100},{"$f":"SA!DZ7-SA!DW7","v":100},{"$f":"SA!EA7-SA!DX7","v":0},{"$f":"SA!EB7-SA!DY7","v":0},{"$f":"SA!EC7-SA!DZ7","v":0},{"$f":"SA!ED7-SA!EA7","v":0},{"$f":"SA!EE7-SA!EB7","v":0},{"$f":"SA!EF7-SA!EC7","v":-100},{"$f":"SA!EG7-SA!ED7","v":0},{"$f":"SA!EH7-SA!EE7","v":0},{"$f":"SA!EI7-SA!EF7","v":100},{"$f":"SA!EJ7-SA!EG7","v":100},{"$f":"SA!EK7-SA!EH7","v":-100},{"$f":"SA!EL7-SA!EI7","v":-100},{"$f":"SA!EM7-SA!EJ7","v":100},{"$f":"SA!EN7-SA!EK7","v":100},{"$f":"SA!EO7-SA!EL7","v":100},{"$f":"SA!EP7-SA!EM7","v":0},{"$f":"SA!EQ7-SA!EN7","v":200},{"$f":"SA!ER7-SA!EO7","v":300},{"$f":"SA!ES7-SA!EP7","v":200},{"$f":"SA!ET7-SA!EQ7","v":100},{"$f":"SA!EU7-SA!ER7","v":100},{"$f":"SA!EV7-SA!ES7","v":200},{"$f":"SA!EW7-SA!ET7","v":300},{"$f":"SA!EX7-SA!EU7","v":100},{"$f":"SA!EY7-SA!EV7","v":0},{"$f":"SA!EZ7-SA!EW7","v":-100},{"$f":"SA!FA7-SA!EX7","v":0},{"$f":"SA!FB7-SA!EY7","v":0},{"$f":"SA!FC7-SA!EZ7","v":0},{"$f":"SA!FD7-SA!FA7","v":0},{"$f":"SA!FE7-SA!FB7","v":100},{"$f":"SA!FF7-SA!FC7","v":100},{"$f":"SA!FG7-SA!FD7","v":100},{"$f":"SA!FH7-SA!FE7","v":-100},{"$f":"SA!FI7-SA!FF7","v":-100},{"$f":"SA!FJ7-SA!FG7","v":100},{"$f":"SA!FK7-SA!FH7","v":200},{"$f":"SA!FL7-SA!FI7","v":200},{"$f":"SA!FM7-SA!FJ7","v":100},{"$f":"SA!FN7-SA!FK7","v":100},{"$f":"SA!FO7-SA!FL7","v":100},{"$f":"SA!FP7-SA!FM7","v":0},{"$f":"SA!FQ7-SA!FN7","v":0},{"$f":"SA!FR7-SA!FO7","v":100},{"$f":"SA!FS7-SA!FP7","v":100},{"$f":"SA!FT7-SA!FQ7","v":0},{"$f":"SA!FU7-SA!FR7","v":0},{"$f":"SA!FV7-SA!FS7","v":100},{"$f":"SA!FW7-SA!FT7","v":200},{"$f":"SA!FX7-SA!FU7","v":200},{"$f":"SA!FY7-SA!FV7","v":200},{"$f":"SA!FZ7-SA!FW7","v":200},{"$f":"SA!GA7-SA!FX7","v":200},{"$f":"SA!GB7-SA!FY7","v":100},{"$f":"SA!GC7-SA!FZ7","v":200},{"$f":"SA!GD7-SA!GA7","v":100},{"$f":"SA!GE7-SA!GB7","v":100},{"$f":"SA!GF7-SA!GC7","v":-100},{"$f":"SA!GG7-SA!GD7","v":-100},{"$f":"SA!GH7-SA!GE7","v":-100},{"$f":"SA!GI7-SA!GF7","v":-100},{"$f":"SA!GJ7-SA!GG7","v":-200},{"$f":"SA!GK7-SA!GH7","v":-200},{"$f":"SA!GL7-SA!GI7","v":-200},{"$f":"SA!GM7-SA!GJ7","v":-100},{"$f":"SA!GN7-SA!GK7","v":-100},{"$f":"SA!GO7-SA!GL7","v":100},{"$f":"SA!GP7-SA!GM7","v":0},{"$f":"SA!GQ7-SA!GN7","v":-100},{"$f":"SA!GR7-SA!GO7","v":-200},{"$f":"SA!GS7-SA!GP7","v":-200},{"$f":"SA!GT7-SA!GQ7","v":-100},{"$f":"SA!GU7-SA!GR7","v":-200},{"$f":"SA!GV7-SA!GS7","v":-200},{"$f":"SA!GW7-SA!GT7","v":-100},{"$f":"SA!GX7-SA!GU7","v":-100},{"$f":"SA!GY7-SA!GV7","v":100},{"$f":"SA!GZ7-SA!GW7","v":0},{"$f":"SA!HA7-SA!GX7","v":200},{"$f":"SA!HB7-SA!GY7","v":200},{"$f":"SA!HC7-SA!GZ7","v":300},{"$f":"SA!HD7-SA!HA7","v":400},{"$f":"SA!HE7-SA!HB7","v":400},{"$f":"SA!HF7-SA!HC7","v":300},{"$f":"SA!HG7-SA!HD7","v":200},{"$f":"SA!HH7-SA!HE7","v":100},{"$f":"SA!HI7-SA!HF7","v":300},{"$f":"SA!HJ7-SA!HG7","v":200},{"$f":"SA!HK7-SA!HH7","v":100},{"$f":"SA!HL7-SA!HI7","v":0},{"$f":"SA!HM7-SA!HJ7","v":-100},{"$f":"SA!HN7-SA!HK7","v":100},{"$f":"SA!HO7-SA!HL7","v":0},{"$f":"SA!HP7-SA!HM7","v":100},{"$f":"SA!HQ7-SA!HN7","v":0},{"$f":"SA!HR7-SA!HO7","v":-100},{"$f":"SA!HS7-SA!HP7","v":0},{"$f":"SA!HT7-SA!HQ7","v":0},{"$f":"SA!HU7-SA!HR7","v":100},{"$f":"SA!HV7-SA!HS7","v":0},{"$f":"SA!HW7-SA!HT7","v":0},{"$f":"SA!HX7-SA!HU7","v":0},{"$f":"SA!HY7-SA!HV7","v":0},{"$f":"SA!HZ7-SA!HW7","v":100},{"$f":"SA!IA7-SA!HX7","v":200},{"$f":"SA!IB7-SA!HY7","v":200},{"$f":"SA!IC7-SA!HZ7","v":100},{"$f":"SA!ID7-SA!IA7","v":0},{"$f":"SA!IE7-SA!IB7","v":0},{"$f":"SA!IF7-SA!IC7","v":-100},{"$f":"SA!IG7-SA!ID7","v":-100},{"$f":"SA!IH7-SA!IE7","v":-200},{"$f":"SA!II7-SA!IF7","v":0},{"$f":"SA!IJ7-SA!IG7","v":0},{"$f":"SA!IK7-SA!IH7","v":0},{"$f":"SA!IL7-SA!II7","v":-4700},475.40500000000003,{"$f":"COUNTIF(EY83:FY83, \">\" &GA83)","v":0},null,"Mining and Logging",-300,-100,-100,0,0,100,100,400,127.70925190977168]
["Construction",{"$f":"SA!BN9-SA!BK9","v":100},{"$f":"SA!BO9-SA!BL9","v":100},{"$f":"SA!BP9-SA!BM9","v":-400},{"$f":"SA!BQ9-SA!BN9","v":800},{"$f":"SA!BR9-SA!BO9","v":-100},{"$f":"SA!BS9-SA!BP9","v":-100},{"$f":"SA!BT9-SA!BQ9","v":0},{"$f":"SA!BU9-SA!BR9","v":300},{"$f":"SA!BV9-SA!BS9","v":600},{"$f":"SA!BW9-SA!BT9","v":-300},{"$f":"SA!BX9-SA!BU9","v":300},{"$f":"SA!BY9-SA!BV9","v":-300},{"$f":"SA!BZ9-SA!BW9","v":1699.9999999999854},{"$f":"SA!CA9-SA!BX9","v":1799.9999999999854},{"$f":"SA!CB9-SA!BY9","v":1200},{"$f":"SA!CC9-SA!BZ9","v":900.00000000001455},{"$f":"SA!CD9-SA!CA9","v":-1899.9999999999854},{"$f":"SA!CE9-SA!CB9","v":0},{"$f":"SA!CF9-SA!CC9","v":-2900},{"$f":"SA!CG9-SA!CD9","v":-800},{"$f":"SA!CH9-SA!CE9","v":-2200},{"$f":"SA!CI9-SA!CF9","v":-1500},{"$f":"SA!CJ9-SA!CG9","v":-2300},{"$f":"SA!CK9-SA!CH9","v":-100},{"$f":"SA!CL9-SA!CI9","v":1600},{"$f":"SA!CM9-SA!CJ9","v":600},{"$f":"SA!CN9-SA!CK9","v":1700},{"$f":"SA!CO9-SA!CL9","v":-800},{"$f":"SA!CP9-SA!CM9","v":1800},{"$f":"SA!CQ9-SA!CN9","v":-1300},{"$f":"SA!CR9-SA!CO9","v":-400},{"$f":"SA!CS9-SA!CP9","v":-1200},{"$f":"SA!CT9-SA!CQ9","v":-1300},{"$f":"SA!CU9-SA!CR9","v":-700},{"$f":"SA!CV9-SA!CS9","v":-900},{"$f":"SA!CW9-SA!CT9","v":-1400},{"$f":"SA!CX9-SA!CU9","v":-2700},{"$f":"SA!CY9-SA!CV9","v":-3000},{"$f":"SA!CZ9-SA!CW9","v":-2500},{"$f":"SA!DA9-SA!CX9","v":-3200},{"$f":"SA!DB9-SA!CY9","v":-2400},{"$f":"SA!DC9-SA!CZ9","v":-1900},{"$f":"SA!DD9-SA!DA9","v":-600},{"$f":"SA!DE9-SA!DB9","v":-1400},{"$f":"SA!DF9-SA!DC9","v":-2400},{"$f":"SA!DG9-SA!DD9","v":-3000},{"$f":"SA!DH9-SA!DE9","v":-4500},{"$f":"SA!DI9-SA!DF9","v":-5400},{"$f":"SA!DJ9-SA!DG9","v":-7400},{"$f":"SA!DK9-SA!DH9","v":-6000},{"$f":"SA!DL9-SA!DI9","v":-6600},{"$f":"SA!DM9-SA!DJ9","v":-5700},{"$f":"SA!DN9-SA!DK9","v":-5000},{"$f":"SA!DO9-SA!DL9","v":-3600},{"$f":"SA!DP9-SA!DM9","v":-2400},{"$f":"SA!DQ9-SA!DN9","v":-3500},{"$f":"SA!DR9-SA!DO9","v":-2600},{"$f":"SA!DS9-SA!DP9","v":-2200},{"$f":"SA!DT9-SA!DQ9","v":-1500},{"$f":"SA!DU9-SA!DR9","v":-2000},{"$f":"SA!DV9-SA!DS9","v":-1700},{"$f":"SA!DW9-SA!DT9","v":-1800},{"$f":"SA!DX9-SA!DU9","v":-1600},{"$f":"SA!DY9-SA!DV9","v":400},{"$f":"SA!DZ9-SA!DW9","v":-1700},{"$f":"SA!EA9-SA!DX9","v":-1400},{"$f":"SA!EB9-SA!DY9","v":-3300},{"$f":"SA!EC9-SA!DZ9","v":-400},{"$f":"SA!ED9-SA!EA9","v":-100},{"$f":"SA!EE9-SA!EB9","v":1100},{"$f":"SA!EF9-SA!EC9","v":-200},{"$f":"SA!EG9-SA!ED9","v":-700},{"$f":"SA!EH9-SA!EE9","v":-1700},{"$f":"SA!EI9-SA!EF9","v":-1000},{"$f":"SA!EJ9-SA!EG9","v":-600},{"$f":"SA!EK9-SA!EH9","v":-600},{"$f":"SA!EL9-SA!EI9","v":0},{"$f":"SA!EM9-SA!EJ9","v":0},{"$f":"SA!EN9-SA!EK9","v":700},{"$f":"SA!EO9-SA!EL9","v":500},{"$f":"SA!EP9-SA!EM9","v":600},{"$f":"SA!EQ9-SA!EN9","v":-400},{"$f":"SA!ER9-SA!EO9","v":-100},{"$f":"SA!ES9-SA!EP9","v":-100},{"$f":"SA!ET9-SA!EQ9","v":400},{"$f":"SA!EU9-SA!ER9","v":600},{"$f":"SA!EV9-SA!ES9","v":1400},{"$f":"SA!EW9-SA!ET9","v":3400},{"$f":"SA!EX9-SA!EU9","v":-900},{"$f":"SA!EY9-SA!EV9","v":-1900},{"$f":"SA!EZ9-SA!EW9","v":-4400},{"$f":"SA!FA9-SA!EX9","v":-800},{"$f":"SA!FB9-SA!EY9","v":200},{"$f":"SA!FC9-SA!EZ9","v":1800},{"$f":"SA!FD9-SA!FA9","v":2000},{"$f":"SA!FE9-SA!FB9","v":3300},{"$f":"SA!FF9-SA!FC9","v":2900},{"$f":"SA!FG9-SA!FD9","v":3900},{"$f":"SA!FH9-SA!FE9","v":1800},{"$f":"SA!FI9-SA!FF9","v":-1800},{"$f":"SA!FJ9-SA!FG9","v":400},{"$f":"SA!FK9-SA!FH9","v":500},{"$f":"SA!FL9-SA!FI9","v":4000},{"$f":"SA!FM9-SA!FJ9","v":1700},{"$f":"SA!FN9-SA!FK9","v":1800},{"$f":"SA!FO9-SA!FL9","v":1300},{"$f":"SA!FP9-SA!FM9","v":900},{"$f":"SA!FQ9-SA!FN9","v":-800},{"$f":"SA!FR9-SA!FO9","v":300},{"$f":"SA!FS9-SA!FP9","v":0},{"$f":"SA!FT9-SA!FQ9","v":2100},{"$f":"SA!FU9-SA!FR9","v":800},{"$f":"SA!FV9-SA!FS9","v":1500},{"$f":"SA!FW9-SA!FT9","v":2200},{"$f":"SA!FX9-SA!FU9","v":2700},{"$f":"SA!FY9-SA!FV9","v":2600},{"$f":"SA!FZ9-SA!FW9","v":2100},{"$f":"SA!GA9-SA!FX9","v":1900},{"$f":"SA!GB9-SA!FY9","v":1500},{"$f":"SA!GC9-SA!FZ9","v":900},{"$f":"SA!GD9-SA!GA9","v":1800},{"$f":"SA!GE9-SA!GB9","v":1200},{"$f":"SA!GF9-SA!GC9","v":900},{"$f":"SA!GG9-SA!GD9","v":1100},{"$f":"SA!GH9-SA!GE9","v":2100},{"$f":"SA!GI9-SA!GF9","v":2100},{"$f":"SA!GJ9-SA!GG9","v":900},{"$f":"SA!GK9-SA!GH9","v":-100},{"$f":"SA!GL9-SA!GI9","v":0},{"$f":"SA!GM9-SA!GJ9","v":300},{"$f":"SA!GN9-SA!GK9","v":900},{"$f":"SA!GO9-SA!GL9","v":2100},{"$f":"SA!GP9-SA!GM9","v":1600},{"$f":"SA!GQ9-SA!GN9","v":1700},{"$f":"SA!GR9-SA!GO9","v":1000},{"$f":"SA!GS9-SA!GP9","v":500},{"$f":"SA!GT9-SA!GQ9","v":-500},{"$f":"SA!GU9-SA!GR9","v":-1100},{"$f":"SA!GV9-SA!GS9","v":-100},{"$f":"SA!GW9-SA!GT9","v":1000},{"$f":"SA!GX9-SA!GU9","v":1500},{"$f":"SA!GY9-SA!GV9","v":1200},{"$f":"SA!GZ9-SA!GW9","v":1500},{"$f":"SA!HA9-SA!GX9","v":1100},{"$f":"SA!HB9-SA!GY9","v":1700},{"$f":"SA!HC9-SA!GZ9","v":2100},{"$f":"SA!HD9-SA!HA9","v":1900},{"$f":"SA!HE9-SA!HB9","v":2000},{"$f":"SA!HF9-SA!HC9","v":600},{"$f":"SA!HG9-SA!HD9","v":1000},{"$f":"SA!HH9-SA!HE9","v":300},{"$f":"SA!HI9-SA!HF9","v":500},{"$f":"SA!HJ9-SA!HG9","v":500},{"$f":"SA!HK9-SA!HH9","v":-1000},{"$f":"SA!HL9-SA!HI9","v":-900},{"$f":"SA!HM9-SA!HJ9","v":-300},{"$f":"SA!HN9-SA!HK9","v":1800},{"$f":"SA!HO9-SA!HL9","v":3200},{"$f":"SA!HP9-SA!HM9","v":4400},{"$f":"SA!HQ9-SA!HN9","v":2100},{"$f":"SA!HR9-SA!HO9","v":1900},{"$f":"SA!HS9-SA!HP9","v":1300},{"$f":"SA!HT9-SA!HQ9","v":2800},{"$f":"SA!HU9-SA!HR9","v":2400},{"$f":"SA!HV9-SA!HS9","v":1900},{"$f":"SA!HW9-SA!HT9","v":2300},{"$f":"SA!HX9-SA!HU9","v":1100},{"$f":"SA!HY9-SA!HV9","v":900},{"$f":"SA!HZ9-SA!HW9","v":600},{"$f":"SA!IA9-SA!HX9","v":700},{"$f":"SA!IB9-SA!HY9","v":-1300},{"$f":"SA!IC9-SA!HZ9","v":-3900},{"$f":"SA!ID9-SA!IA9","v":-1600},{"$f":"SA!IE9-SA!IB9","v":200},{"$f":"SA!IF9-SA!IC9","v":3100},{"$f":"SA!IG9-SA!ID9","v":1500},{"$f":"SA!IH9-SA!IE9","v":2700},{"$f":"SA!II9-SA!IF9","v":2600},{"$f":"SA!IJ9-SA!IG9","v":2200},{"$f":"SA!IK9-SA!IH9","v":600},{"$f":"SA!IL9-SA!II9","v":-127700},4678.38,{"$f":"COUNTIF(EY84:FY84, \">\" &GA84)","v":0},null,"Construction",-7400,-1950,-800,0,500,1100,1900,4400,2047.3217155751508]
["Manufacturing",{"$f":"SA!BN10-SA!BK10","v":-3500},{"$f":"SA!BO10-SA!BL10","v":700},{"$f":"SA!BP10-SA!BM10","v":200},{"$f":"SA!BQ10-SA!BN10","v":4300},{"$f":"SA!BR10-SA!BO10","v":-300},{"$f":"SA!BS10-SA!BP10","v":-600},{"$f":"SA!BT10-SA!BQ10","v":500},{"$f":"SA!BU10-SA!BR10","v":600},{"$f":"SA!BV10-SA!BS10","v":-100},{"$f":"SA!BW10-SA!BT10","v":-1300},{"$f":"SA!BX10-SA!BU10","v":-1400},{"$f":"SA!BY10-SA!BV10","v":-500},{"$f":"SA!BZ10-SA!BW10","v":700},{"$f":"SA!CA10-SA!BX10","v":900},{"$f":"SA!CB10-SA!BY10","v":1900},{"$f":"SA!CC10-SA!BZ10","v":1300},{"$f":"SA!CD10-SA!CA10","v":1300},{"$f":"SA!CE10-SA!CB10","v":1300},{"$f":"SA!CF10-SA!CC10","v":700},{"$f":"SA!CG10-SA!CD10","v":200},{"$f":"SA!CH10-SA!CE10","v":-1700},{"$f":"SA!CI10-SA!CF10","v":-2600},{"$f":"SA!CJ10-SA!CG10","v":-3300},{"$f":"SA!CK10-SA!CH10","v":-2800},{"$f":"SA!CL10-SA!CI10","v":-2200},{"$f":"SA!CM10-SA!CJ10","v":-700},{"$f":"SA!CN10-SA!CK10","v":-1200},{"$f":"SA!CO10-SA!CL10","v":-300},{"$f":"SA!CP10-SA!CM10","v":200},{"$f":"SA!CQ10-SA!CN10","v":1500},{"$f":"SA!CR10-SA!CO10","v":500},{"$f":"SA!CS10-SA!CP10","v":-1700},{"$f":"SA!CT10-SA!CQ10","v":-4100},{"$f":"SA!CU10-SA!CR10","v":-4400},{"$f":"SA!CV10-SA!CS10","v":-2800},{"$f":"SA!CW10-SA!CT10","v":-700},{"$f":"SA!CX10-SA!CU10","v":1200},{"$f":"SA!CY10-SA!CV10","v":1800},{"$f":"SA!CZ10-SA!CW10","v":1400},{"$f":"SA!DA10-SA!CX10","v":-800},{"$f":"SA!DB10-SA!CY10","v":-2300},{"$f":"SA!DC10-SA!CZ10","v":-2400},{"$f":"SA!DD10-SA!DA10","v":-5400},{"$f":"SA!DE10-SA!DB10","v":-7000},{"$f":"SA!DF10-SA!DC10","v":-9600},{"$f":"SA!DG10-SA!DD10","v":-7000},{"$f":"SA!DH10-SA!DE10","v":-8000},{"$f":"SA!DI10-SA!DF10","v":-9800},{"$f":"SA!DJ10-SA!DG10","v":-16900},{"$f":"SA!DK10-SA!DH10","v":-23600},{"$f":"SA!DL10-SA!DI10","v":-27400},{"$f":"SA!DM10-SA!DJ10","v":-28800},{"$f":"SA!DN10-SA!DK10","v":-24300},{"$f":"SA!DO10-SA!DL10","v":-21200},{"$f":"SA!DP10-SA!DM10","v":-15700},{"$f":"SA!DQ10-SA!DN10","v":-10900},{"$f":"SA!DR10-SA!DO10","v":-1700},{"$f":"SA!DS10-SA!DP10","v":800},{"$f":"SA!DT10-SA!DQ10","v":900},{"$f":"SA!DU10-SA!DR10","v":-3300},{"$f":"SA!DV10-SA!DS10","v":-2200},{"$f":"SA!DW10-SA!DT10","v":-500},{"$f":"SA!DX10-SA!DU10","v":1900},{"$f":"SA!DY10-SA!DV10","v":4100},{"$f":"SA!DZ10-SA!DW10","v":5000},{"$f":"SA!EA10-SA!DX10","v":4200},{"$f":"SA!EB10-SA!DY10","v":4800},{"$f":"SA!EC10-SA!DZ10","v":3800},{"$f":"SA!ED10-SA!EA10","v":3300},{"$f":"SA!EE10-SA!EB10","v":1300},{"$f":"SA!EF10-SA!EC10","v":1600},{"$f":"SA!EG10-SA!ED10","v":2200},{"$f":"SA!EH10-SA!EE10","v":3500},{"$f":"SA!EI10-SA!EF10","v":4400},{"$f":"SA!EJ10-SA!EG10","v":4600},{"$f":"SA!EK10-SA!EH10","v":6700},{"$f":"SA!EL10-SA!EI10","v":5600},{"$f":"SA!EM10-SA!EJ10","v":4100},{"$f":"SA!EN10-SA!EK10","v":2900},{"$f":"SA!EO10-SA!EL10","v":2800},{"$f":"SA!EP10-SA!EM10","v":3000},{"$f":"SA!EQ10-SA!EN10","v":500},{"$f":"SA!ER10-SA!EO10","v":800},{"$f":"SA!ES10-SA!EP10","v":2000},{"$f":"SA!ET10-SA!EQ10","v":3900},{"$f":"SA!EU10-SA!ER10","v":3800},{"$f":"SA!EV10-SA!ES10","v":3800},{"$f":"SA!EW10-SA!ET10","v":3400},{"$f":"SA!EX10-SA!EU10","v":2800},{"$f":"SA!EY10-SA!EV10","v":3200},{"$f":"SA!EZ10-SA!EW10","v":2400},{"$f":"SA!FA10-SA!EX10","v":1700},{"$f":"SA!FB10-SA!EY10","v":200},{"$f":"SA!FC10-SA!EZ10","v":400},{"$f":"SA!FD10-SA!FA10","v":200},{"$f":"SA!FE10-SA!FB10","v":400},{"$f":"SA!FF10-SA!FC10","v":-100},{"$f":"SA!FG10-SA!FD10","v":500},{"$f":"SA!FH10-SA!FE10","v":100},{"$f":"SA!FI10-SA!FF10","v":-1000},{"$f":"SA!FJ10-SA!FG10","v":-1300},{"$f":"SA!FK10-SA!FH10","v":-200},{"$f":"SA!FL10-SA!FI10","v":-600},{"$f":"SA!FM10-SA!FJ10","v":400},{"$f":"SA!FN10-SA!FK10","v":-100},{"$f":"SA!FO10-SA!FL10","v":2400},{"$f":"SA!FP10-SA!FM10","v":2500},{"$f":"SA!FQ10-SA!FN10","v":2100},{"$f":"SA!FR10-SA!FO10","v":2000},{"$f":"SA!FS10-SA!FP10","v":1400},{"$f":"SA!FT10-SA!FQ10","v":2200},{"$f":"SA!FU10-SA!FR10","v":2700},{"$f":"SA!FV10-SA!FS10","v":3200},{"$f":"SA!FW10-SA!FT10","v":2900},{"$f":"SA!FX10-SA!FU10","v":2900},{"$f":"SA!FY10-SA!FV10","v":2600},{"$f":"SA!FZ10-SA!FW10","v":2100},{"$f":"SA!GA10-SA!FX10","v":1400},{"$f":"SA!GB10-SA!FY10","v":1100},{"$f":"SA!GC10-SA!FZ10","v":1300},{"$f":"SA!GD10-SA!GA10","v":700},{"$f":"SA!GE10-SA!GB10","v":1300},{"$f":"SA!GF10-SA!GC10","v":700},{"$f":"SA!GG10-SA!GD10","v":-200},{"$f":"SA!GH10-SA!GE10","v":-1200},{"$f":"SA!GI10-SA!GF10","v":-1100},{"$f":"SA!GJ10-SA!GG10","v":-100},{"$f":"SA!GK10-SA!GH10","v":-1000},{"$f":"SA!GL10-SA!GI10","v":-500},{"$f":"SA!GM10-SA!GJ10","v":-1000},{"$f":"SA!GN10-SA!GK10","v":-100},{"$f":"SA!GO10-SA!GL10","v":-900},{"$f":"SA!GP10-SA!GM10","v":-400},{"$f":"SA!GQ10-SA!GN10","v":-800},{"$f":"SA!GR10-SA!GO10","v":-500},{"$f":"SA!GS10-SA!GP10","v":-400},{"$f":"SA!GT10-SA!GQ10","v":-400},{"$f":"SA!GU10-SA!GR10","v":-1200},{"$f":"SA!GV10-SA!GS10","v":-2200},{"$f":"SA!GW10-SA!GT10","v":-1800},{"$f":"SA!GX10-SA!GU10","v":-1200},{"$f":"SA!GY10-SA!GV10","v":400},{"$f":"SA!GZ10-SA!GW10","v":700},{"$f":"SA!HA10-SA!GX10","v":2000},{"$f":"SA!HB10-SA!GY10","v":1600},{"$f":"SA!HC10-SA!GZ10","v":1800},{"$f":"SA!HD10-SA!HA10","v":1800},{"$f":"SA!HE10-SA!HB10","v":1000},{"$f":"SA!HF10-SA!HC10","v":700},{"$f":"SA!HG10-SA!HD10","v":100},{"$f":"SA!HH10-SA!HE10","v":400},{"$f":"SA!HI10-SA!HF10","v":400},{"$f":"SA!HJ10-SA!HG10","v":-200},{"$f":"SA!HK10-SA!HH10","v":2900},{"$f":"SA!HL10-SA!HI10","v":4500},{"$f":"SA!HM10-SA!HJ10","v":5700},{"$f":"SA!HN10-SA!HK10","v":5400},{"$f":"SA!HO10-SA!HL10","v":6500},{"$f":"SA!HP10-SA!HM10","v":7200},{"$f":"SA!HQ10-SA!HN10","v":5300},{"$f":"SA!HR10-SA!HO10","v":4000},{"$f":"SA!HS10-SA!HP10","v":6000},{"$f":"SA!HT10-SA!HQ10","v":7500},{"$f":"SA!HU10-SA!HR10","v":7100},{"$f":"SA!HV10-SA!HS10","v":4100},{"$f":"SA!HW10-SA!HT10","v":2000},{"$f":"SA!HX10-SA!HU10","v":1300},{"$f":"SA!HY10-SA!HV10","v":500},{"$f":"SA!HZ10-SA!HW10","v":-12600},{"$f":"SA!IA10-SA!HX10","v":-14300},{"$f":"SA!IB10-SA!HY10","v":-14300},{"$f":"SA!IC10-SA!HZ10","v":-1600},{"$f":"SA!ID10-SA!IA10","v":-200},{"$f":"SA!IE10-SA!IB10","v":100},{"$f":"SA!IF10-SA!IC10","v":-3100},{"$f":"SA!IG10-SA!ID10","v":-2800},{"$f":"SA!IH10-SA!IE10","v":-5900},{"$f":"SA!II10-SA!IF10","v":-3400},{"$f":"SA!IJ10-SA!IG10","v":-2700},{"$f":"SA!IK10-SA!IH10","v":3100},{"$f":"SA!IL10-SA!II10","v":-469400},5673.6050000000005,{"$f":"COUNTIF(EY85:FY85, \">\" &GA85)","v":6},null,"Manufacturing",-28800,-2250,-500,400,750.00000000000136,1900,3650,7500,5657.074403713048]
["  Durable Goods",{"$f":"SA!BN11-SA!BK11","v":-2300},{"$f":"SA!BO11-SA!BL11","v":1600},{"$f":"SA!BP11-SA!BM11","v":1100},{"$f":"SA!BQ11-SA!BN11","v":5400},{"$f":"SA!BR11-SA!BO11","v":500},{"$f":"SA!BS11-SA!BP11","v":300},{"$f":"SA!BT11-SA!BQ11","v":100},{"$f":"SA!BU11-SA!BR11","v":800},{"$f":"SA!BV11-SA!BS11","v":100},{"$f":"SA!BW11-SA!BT11","v":-100},{"$f":"SA!BX11-SA!BU11","v":-900},{"$f":"SA!BY11-SA!BV11","v":-300},{"$f":"SA!BZ11-SA!BW11","v":800},{"$f":"SA!CA11-SA!BX11","v":1300},{"$f":"SA!CB11-SA!BY11","v":2500},{"$f":"SA!CC11-SA!BZ11","v":1500},{"$f":"SA!CD11-SA!CA11","v":1800},{"$f":"SA!CE11-SA!CB11","v":1600},{"$f":"SA!CF11-SA!CC11","v":1200},{"$f":"SA!CG11-SA!CD11","v":700},{"$f":"SA!CH11-SA!CE11","v":-1000},{"$f":"SA!CI11-SA!CF11","v":-1800},{"$f":"SA!CJ11-SA!CG11","v":-2800},{"$f":"SA!CK11-SA!CH11","v":-2400},{"$f":"SA!CL11-SA!CI11","v":-2200},{"$f":"SA!CM11-SA!CJ11","v":-1000},{"$f":"SA!CN11-SA!CK11","v":-1600},{"$f":"SA!CO11-SA!CL11","v":200},{"$f":"SA!CP11-SA!CM11","v":300},{"$f":"SA!CQ11-SA!CN11","v":700},{"$f":"SA!CR11-SA!CO11","v":-600},{"$f":"SA!CS11-SA!CP11","v":-1800},{"$f":"SA!CT11-SA!CQ11","v":-3000},{"$f":"SA!CU11-SA!CR11","v":-3400},{"$f":"SA!CV11-SA!CS11","v":-2600},{"$f":"SA!CW11-SA!CT11","v":-1000},{"$f":"SA!CX11-SA!CU11","v":600},{"$f":"SA!CY11-SA!CV11","v":1300},{"$f":"SA!CZ11-SA!CW11","v":1300},{"$f":"SA!DA11-SA!CX11","v":-600},{"$f":"SA!DB11-SA!CY11","v":-1500},{"$f":"SA!DC11-SA!CZ11","v":-2000},{"$f":"SA!DD11-SA!DA11","v":-3100},{"$f":"SA!DE11-SA!DB11","v":-5000},{"$f":"SA!DF11-SA!DC11","v":-6700},{"$f":"SA!DG11-SA!DD11","v":-6400},{"$f":"SA!DH11-SA!DE11","v":-6400},{"$f":"SA!DI11-SA!DF11","v":-7900},{"$f":"SA!DJ11-SA!DG11","v":-13200},{"$f":"SA!DK11-SA!DH11","v":-19300},{"$f":"SA!DL11-SA!DI11","v":-22800},{"$f":"SA!DM11-SA!DJ11","v":-24200},{"$f":"SA!DN11-SA!DK11","v":-20300.000000000029},{"$f":"SA!DO11-SA!DL11","v":-17500.000000000029},{"$f":"SA!DP11-SA!DM11","v":-11700},{"$f":"SA!DQ11-SA!DN11","v":-8699.9999999999709},{"$f":"SA!DR11-SA!DO11","v":-1599.9999999999709},{"$f":"SA!DS11-SA!DP11","v":400},{"$f":"SA!DT11-SA!DQ11","v":1000},{"$f":"SA!DU11-SA!DR11","v":-2100},{"$f":"SA!DV11-SA!DS11","v":-2300},{"$f":"SA!DW11-SA!DT11","v":-500},{"$f":"SA!DX11-SA!DU11","v":1600},{"$f":"SA!DY11-SA!DV11","v":3500},{"$f":"SA!DZ11-SA!DW11","v":3900.0000000000291},{"$f":"SA!EA11-SA!DX11","v":2800.0000000000291},{"$f":"SA!EB11-SA!DY11","v":2599.9999999999709},{"$f":"SA!EC11-SA!DZ11","v":2699.9999999999709},{"$f":"SA!ED11-SA!EA11","v":2899.9999999999709},{"$f":"SA!EE11-SA!EB11","v":2000},{"$f":"SA!EF11-SA!EC11","v":1400},{"$f":"SA!EG11-SA!ED11","v":2100},{"$f":"SA!EH11-SA!EE11","v":3000.0000000000291},{"$f":"SA!EI11-SA!EF11","v":4200},{"$f":"SA!EJ11-SA!EG11","v":3900},{"$f":"SA!EK11-SA!EH11","v":5300},{"$f":"SA!EL11-SA!EI11","v":4000},{"$f":"SA!EM11-SA!EJ11","v":3500},{"$f":"SA!EN11-SA!EK11","v":2800},{"$f":"SA!EO11-SA!EL11","v":2400},{"$f":"SA!EP11-SA!EM11","v":1800},{"$f":"SA!EQ11-SA!EN11","v":0},{"$f":"SA!ER11-SA!EO11","v":900},{"$f":"SA!ES11-SA!EP11","v":1900},{"$f":"SA!ET11-SA!EQ11","v":3600},{"$f":"SA!EU11-SA!ER11","v":3400},{"$f":"SA!EV11-SA!ES11","v":3700},{"$f":"SA!EW11-SA!ET11","v":2700},{"$f":"SA!EX11-SA!EU11","v":2300},{"$f":"SA!EY11-SA!EV11","v":2400},{"$f":"SA!EZ11-SA!EW11","v":2100},{"$f":"SA!FA11-SA!EX11","v":1200},{"$f":"SA!FB11-SA!EY11","v":-300},{"$f":"SA!FC11-SA!EZ11","v":-200},{"$f":"SA!FD11-SA!FA11","v":-300},{"$f":"SA!FE11-SA!FB11","v":0},{"$f":"SA!FF11-SA!FC11","v":-200},{"$f":"SA!FG11-SA!FD11","v":300},{"$f":"SA!FH11-SA!FE11","v":200},{"$f":"SA!FI11-SA!FF11","v":-900},{"$f":"SA!FJ11-SA!FG11","v":-1200},{"$f":"SA!FK11-SA!FH11","v":-300},{"$f":"SA!FL11-SA!FI11","v":-1000},{"$f":"SA!FM11-SA!FJ11","v":-200},{"$f":"SA!FN11-SA!FK11","v":-800},{"$f":"SA!FO11-SA!FL11","v":1500},{"$f":"SA!FP11-SA!FM11","v":1500},{"$f":"SA!FQ11-SA!FN11","v":1000},{"$f":"SA!FR11-SA!FO11","v":800},{"$f":"SA!FS11-SA!FP11","v":100},{"$f":"SA!FT11-SA!FQ11","v":1000},{"$f":"SA!FU11-SA!FR11","v":1800},{"$f":"SA!FV11-SA!FS11","v":2600},{"$f":"SA!FW11-SA!FT11","v":2600},{"$f":"SA!FX11-SA!FU11","v":2000},{"$f":"SA!FY11-SA!FV11","v":1700},{"$f":"SA!FZ11-SA!FW11","v":1000},{"$f":"SA!GA11-SA!FX11","v":1100},{"$f":"SA!GB11-SA!FY11","v":900},{"$f":"SA!GC11-SA!FZ11","v":1500},{"$f":"SA!GD11-SA!GA11","v":600},{"$f":"SA!GE11-SA!GB11","v":800},{"$f":"SA!GF11-SA!GC11","v":200},{"$f":"SA!GG11-SA!GD11","v":-500},{"$f":"SA!GH11-SA!GE11","v":-1400},{"$f":"SA!GI11-SA!GF11","v":-1600},{"$f":"SA!GJ11-SA!GG11","v":-800},{"$f":"SA!GK11-SA!GH11","v":-1400},{"$f":"SA!GL11-SA!GI11","v":-900},{"$f":"SA!GM11-SA!GJ11","v":-1500},{"$f":"SA!GN11-SA!GK11","v":-700},{"$f":"SA!GO11-SA!GL11","v":-1700},{"$f":"SA!GP11-SA!GM11","v":-900},{"$f":"SA!GQ11-SA!GN11","v":-1000},{"$f":"SA!GR11-SA!GO11","v":-800},{"$f":"SA!GS11-SA!GP11","v":-1100},{"$f":"SA!GT11-SA!GQ11","v":-1100},{"$f":"SA!GU11-SA!GR11","v":-1700},{"$f":"SA!GV11-SA!GS11","v":-2200},{"$f":"SA!GW11-SA!GT11","v":-2200},{"$f":"SA!GX11-SA!GU11","v":-1600},{"$f":"SA!GY11-SA!GV11","v":-300},{"$f":"SA!GZ11-SA!GW11","v":100},{"$f":"SA!HA11-SA!GX11","v":1000},{"$f":"SA!HB11-SA!GY11","v":700},{"$f":"SA!HC11-SA!GZ11","v":900},{"$f":"SA!HD11-SA!HA11","v":900},{"$f":"SA!HE11-SA!HB11","v":700},{"$f":"SA!HF11-SA!HC11","v":700},{"$f":"SA!HG11-SA!HD11","v":500},{"$f":"SA!HH11-SA!HE11","v":700},{"$f":"SA!HI11-SA!HF11","v":300},{"$f":"SA!HJ11-SA!HG11","v":-500},{"$f":"SA!HK11-SA!HH11","v":2800},{"$f":"SA!HL11-SA!HI11","v":4300},{"$f":"SA!HM11-SA!HJ11","v":5000},{"$f":"SA!HN11-SA!HK11","v":4300},{"$f":"SA!HO11-SA!HL11","v":5400},{"$f":"SA!HP11-SA!HM11","v":6200},{"$f":"SA!HQ11-SA!HN11","v":3400},{"$f":"SA!HR11-SA!HO11","v":1700},{"$f":"SA!HS11-SA!HP11","v":3800},{"$f":"SA!HT11-SA!HQ11","v":5800},{"$f":"SA!HU11-SA!HR11","v":5000},{"$f":"SA!HV11-SA!HS11","v":1800},{"$f":"SA!HW11-SA!HT11","v":-500},{"$f":"SA!HX11-SA!HU11","v":-1300},{"$f":"SA!HY11-SA!HV11","v":-800},{"$f":"SA!HZ11-SA!HW11","v":-8800},{"$f":"SA!IA11-SA!HX11","v":-9400},{"$f":"SA!IB11-SA!HY11","v":-9900},{"$f":"SA!IC11-SA!HZ11","v":-2000},{"$f":"SA!ID11-SA!IA11","v":-700},{"$f":"SA!IE11-SA!IB11","v":-1100},{"$f":"SA!IF11-SA!IC11","v":-2700},{"$f":"SA!IG11-SA!ID11","v":-3000},{"$f":"SA!IH11-SA!IE11","v":-3500},{"$f":"SA!II11-SA!IF11","v":-2200},{"$f":"SA!IJ11-SA!IG11","v":-1400},{"$f":"SA!IK11-SA!IH11","v":500},{"$f":"SA!IL11-SA!II11","v":-280800},3732.5050000000001,{"$f":"COUNTIF(EY86:FY86, \">\" &GA86)","v":8},null,"  Durable Goods",-24200,-2150,-900,100,700,1500,2750,6200,4592.0638250478696]
["  Non-Durable Goods",{"$f":"SA!BN12-SA!BK12","v":-1200},{"$f":"SA!BO12-SA!BL12","v":-900},{"$f":"SA!BP12-SA!BM12","v":-900},{"$f":"SA!BQ12-SA!BN12","v":-1100},{"$f":"SA!BR12-SA!BO12","v":-800},{"$f":"SA!BS12-SA!BP12","v":-900},{"$f":"SA!BT12-SA!BQ12","v":400},{"$f":"SA!BU12-SA!BR12","v":-200},{"$f":"SA!BV12-SA!BS12","v":-200},{"$f":"SA!BW12-SA!BT12","v":-1200},{"$f":"SA!BX12-SA!BU12","v":-500},{"$f":"SA!BY12-SA!BV12","v":-200},{"$f":"SA!BZ12-SA!BW12","v":-100},{"$f":"SA!CA12-SA!BX12","v":-400},{"$f":"SA!CB12-SA!BY12","v":-600},{"$f":"SA!CC12-SA!BZ12","v":-200},{"$f":"SA!CD12-SA!CA12","v":-500},{"$f":"SA!CE12-SA!CB12","v":-300},{"$f":"SA!CF12-SA!CC12","v":-500},{"$f":"SA!CG12-SA!CD12","v":-500},{"$f":"SA!CH12-SA!CE12","v":-700},{"$f":"SA!CI12-SA!CF12","v":-800},{"$f":"SA!CJ12-SA!CG12","v":-500},{"$f":"SA!CK12-SA!CH12","v":-400},{"$f":"SA!CL12-SA!CI12","v":0},{"$f":"SA!CM12-SA!CJ12","v":300},{"$f":"SA!CN12-SA!CK12","v":400},{"$f":"SA!CO12-SA!CL12","v":-500},{"$f":"SA!CP12-SA!CM12","v":-100},{"$f":"SA!CQ12-SA!CN12","v":800},{"$f":"SA!CR12-SA!CO12","v":1100},{"$f":"SA!CS12-SA!CP12","v":100},{"$f":"SA!CT12-SA!CQ12","v":-1100},{"$f":"SA!CU12-SA!CR12","v":-1000},{"$f":"SA!CV12-SA!CS12","v":-200},{"$f":"SA!CW12-SA!CT12","v":300},{"$f":"SA!CX12-SA!CU12","v":600},{"$f":"SA!CY12-SA!CV12","v":500},{"$f":"SA!CZ12-SA!CW12","v":100},{"$f":"SA!DA12-SA!CX12","v":-200},{"$f":"SA!DB12-SA!CY12","v":-800},{"$f":"SA!DC12-SA!CZ12","v":-400},{"$f":"SA!DD12-SA!DA12","v":-2300},{"$f":"SA!DE12-SA!DB12","v":-2000},{"$f":"SA!DF12-SA!DC12","v":-2900},{"$f":"SA!DG12-SA!DD12","v":-600},{"$f":"SA!DH12-SA!DE12","v":-1600},{"$f":"SA!DI12-SA!DF12","v":-1900},{"$f":"SA!DJ12-SA!DG12","v":-3700},{"$f":"SA!DK12-SA!DH12","v":-4300},{"$f":"SA!DL12-SA!DI12","v":-4600},{"$f":"SA!DM12-SA!DJ12","v":-4600},{"$f":"SA!DN12-SA!DK12","v":-4000},{"$f":"SA!DO12-SA!DL12","v":-3700},{"$f":"SA!DP12-SA!DM12","v":-4000},{"$f":"SA!DQ12-SA!DN12","v":-2200},{"$f":"SA!DR12-SA!DO12","v":-100},{"$f":"SA!DS12-SA!DP12","v":400},{"$f":"SA!DT12-SA!DQ12","v":-100},{"$f":"SA!DU12-SA!DR12","v":-1200},{"$f":"SA!DV12-SA!DS12","v":100},{"$f":"SA!DW12-SA!DT12","v":0},{"$f":"SA!DX12-SA!DU12","v":300},{"$f":"SA!DY12-SA!DV12","v":600},{"$f":"SA!DZ12-SA!DW12","v":1100},{"$f":"SA!EA12-SA!DX12","v":1400},{"$f":"SA!EB12-SA!DY12","v":2200},{"$f":"SA!EC12-SA!DZ12","v":1100},{"$f":"SA!ED12-SA!EA12","v":400},{"$f":"SA!EE12-SA!EB12","v":-700},{"$f":"SA!EF12-SA!EC12","v":200},{"$f":"SA!EG12-SA!ED12","v":100},{"$f":"SA!EH12-SA!EE12","v":500},{"$f":"SA!EI12-SA!EF12","v":200},{"$f":"SA!EJ12-SA!EG12","v":700},{"$f":"SA!EK12-SA!EH12","v":1400},{"$f":"SA!EL12-SA!EI12","v":1600},{"$f":"SA!EM12-SA!EJ12","v":600},{"$f":"SA!EN12-SA!EK12","v":100},{"$f":"SA!EO12-SA!EL12","v":400},{"$f":"SA!EP12-SA!EM12","v":1200},{"$f":"SA!EQ12-SA!EN12","v":500},{"$f":"SA!ER12-SA!EO12","v":-100},{"$f":"SA!ES12-SA!EP12","v":100},{"$f":"SA!ET12-SA!EQ12","v":300},{"$f":"SA!EU12-SA!ER12","v":400},{"$f":"SA!EV12-SA!ES12","v":100},{"$f":"SA!EW12-SA!ET12","v":700},{"$f":"SA!EX12-SA!EU12","v":500},{"$f":"SA!EY12-SA!EV12","v":800},{"$f":"SA!EZ12-SA!EW12","v":300},{"$f":"SA!FA12-SA!EX12","v":500},{"$f":"SA!FB12-SA!EY12","v":500},{"$f":"SA!FC12-SA!EZ12","v":600},{"$f":"SA!FD12-SA!FA12","v":500},{"$f":"SA!FE12-SA!FB12","v":400},{"$f":"SA!FF12-SA!FC12","v":100},{"$f":"SA!FG12-SA!FD12","v":200},{"$f":"SA!FH12-SA!FE12","v":-100},{"$f":"SA!FI12-SA!FF12","v":-100},{"$f":"SA!FJ12-SA!FG12","v":-100},{"$f":"SA!FK12-SA!FH12","v":100},{"$f":"SA!FL12-SA!FI12","v":400},{"$f":"SA!FM12-SA!FJ12","v":600},{"$f":"SA!FN12-SA!FK12","v":700},{"$f":"SA!FO12-SA!FL12","v":900},{"$f":"SA!FP12-SA!FM12","v":1000},{"$f":"SA!FQ12-SA!FN12","v":1100},{"$f":"SA!FR12-SA!FO12","v":1200},{"$f":"SA!FS12-SA!FP12","v":1300},{"$f":"SA!FT12-SA!FQ12","v":1200},{"$f":"SA!FU12-SA!FR12","v":900},{"$f":"SA!FV12-SA!FS12","v":600},{"$f":"SA!FW12-SA!FT12","v":300},{"$f":"SA!FX12-SA!FU12","v":900},{"$f":"SA!FY12-SA!FV12","v":900},{"$f":"SA!FZ12-SA!FW12","v":1100},{"$f":"SA!GA12-SA!FX12","v":300},{"$f":"SA!GB12-SA!FY12","v":200},{"$f":"SA!GC12-SA!FZ12","v":-200},{"$f":"SA!GD12-SA!GA12","v":100},{"$f":"SA!GE12-SA!GB12","v":500},{"$f":"SA!GF12-SA!GC12","v":500},{"$f":"SA!GG12-SA!GD12","v":300},{"$f":"SA!GH12-SA!GE12","v":200},{"$f":"SA!GI12-SA!GF12","v":500},{"$f":"SA!GJ12-SA!GG12","v":700},{"$f":"SA!GK12-SA!GH12","v":400},{"$f":"SA!GL12-SA!GI12","v":400},{"$f":"SA!GM12-SA!GJ12","v":500},{"$f":"SA!GN12-SA!GK12","v":600},{"$f":"SA!GO12-SA!GL12","v":800},{"$f":"SA!GP12-SA!GM12","v":500},{"$f":"SA!GQ12-SA!GN12","v":200},{"$f":"SA!GR12-SA!GO12","v":300},{"$f":"SA!GS12-SA!GP12","v":700},{"$f":"SA!GT12-SA!GQ12","v":700},{"$f":"SA!GU12-SA!GR12","v":500},{"$f":"SA!GV12-SA!GS12","v":0},{"$f":"SA!GW12-SA!GT12","v":400},{"$f":"SA!GX12-SA!GU12","v":400},{"$f":"SA!GY12-SA!GV12","v":700},{"$f":"SA!GZ12-SA!GW12","v":600},{"$f":"SA!HA12-SA!GX12","v":1000},{"$f":"SA!HB12-SA!GY12","v":900},{"$f":"SA!HC12-SA!GZ12","v":900},{"$f":"SA!HD12-SA!HA12","v":900},{"$f":"SA!HE12-SA!HB12","v":300},{"$f":"SA!HF12-SA!HC12","v":0},{"$f":"SA!HG12-SA!HD12","v":-400},{"$f":"SA!HH12-SA!HE12","v":-300},{"$f":"SA!HI12-SA!HF12","v":100},{"$f":"SA!HJ12-SA!HG12","v":300},{"$f":"SA!HK12-SA!HH12","v":100},{"$f":"SA!HL12-SA!HI12","v":200},{"$f":"SA!HM12-SA!HJ12","v":700},{"$f":"SA!HN12-SA!HK12","v":1100},{"$f":"SA!HO12-SA!HL12","v":1100},{"$f":"SA!HP12-SA!HM12","v":1000},{"$f":"SA!HQ12-SA!HN12","v":1900},{"$f":"SA!HR12-SA!HO12","v":2300},{"$f":"SA!HS12-SA!HP12","v":2200},{"$f":"SA!HT12-SA!HQ12","v":1700},{"$f":"SA!HU12-SA!HR12","v":2100},{"$f":"SA!HV12-SA!HS12","v":2300},{"$f":"SA!HW12-SA!HT12","v":2500},{"$f":"SA!HX12-SA!HU12","v":2600},{"$f":"SA!HY12-SA!HV12","v":1300},{"$f":"SA!HZ12-SA!HW12","v":-3800},{"$f":"SA!IA12-SA!HX12","v":-4900},{"$f":"SA!IB12-SA!HY12","v":-4400},{"$f":"SA!IC12-SA!HZ12","v":400},{"$f":"SA!ID12-SA!IA12","v":500},{"$f":"SA!IE12-SA!IB12","v":1200},{"$f":"SA!IF12-SA!IC12","v":-400},{"$f":"SA!IG12-SA!ID12","v":200},{"$f":"SA!IH12-SA!IE12","v":-2400},{"$f":"SA!II12-SA!IF12","v":-1200},{"$f":"SA!IJ12-SA!IG12","v":-1300},{"$f":"SA!IK12-SA!IH12","v":2600},{"$f":"SA!IL12-SA!II12","v":-188600},4273.71,{"$f":"COUNTIF(EY87:FY87, \">\" &GA87)","v":0},null,"  Non-Durable Goods",-4600,-800,-100,200,400,600,1000,2600,1263.9986779344765]
["Trade, Transportation, and Utilities",{"$f":"SA!BN13-SA!BK13","v":-900},{"$f":"SA!BO13-SA!BL13","v":-200},{"$f":"SA!BP13-SA!BM13","v":800},{"$f":"SA!BQ13-SA!BN13","v":3500},{"$f":"SA!BR13-SA!BO13","v":1700},{"$f":"SA!BS13-SA!BP13","v":-300},{"$f":"SA!BT13-SA!BQ13","v":300},{"$f":"SA!BU13-SA!BR13","v":2100},{"$f":"SA!BV13-SA!BS13","v":3600},{"$f":"SA!BW13-SA!BT13","v":3500},{"$f":"SA!BX13-SA!BU13","v":2500},{"$f":"SA!BY13-SA!BV13","v":3600},{"$f":"SA!BZ13-SA!BW13","v":-3600},{"$f":"SA!CA13-SA!BX13","v":-2800},{"$f":"SA!CB13-SA!BY13","v":-3400},{"$f":"SA!CC13-SA!BZ13","v":1700},{"$f":"SA!CD13-SA!CA13","v":-300},{"$f":"SA!CE13-SA!CB13","v":100},{"$f":"SA!CF13-SA!CC13","v":-1300},{"$f":"SA!CG13-SA!CD13","v":600},{"$f":"SA!CH13-SA!CE13","v":0},{"$f":"SA!CI13-SA!CF13","v":1100},{"$f":"SA!CJ13-SA!CG13","v":1400},{"$f":"SA!CK13-SA!CH13","v":2700},{"$f":"SA!CL13-SA!CI13","v":3600},{"$f":"SA!CM13-SA!CJ13","v":2100},{"$f":"SA!CN13-SA!CK13","v":900},{"$f":"SA!CO13-SA!CL13","v":-1500},{"$f":"SA!CP13-SA!CM13","v":600},{"$f":"SA!CQ13-SA!CN13","v":500},{"$f":"SA!CR13-SA!CO13","v":1100},{"$f":"SA!CS13-SA!CP13","v":-2600},{"$f":"SA!CT13-SA!CQ13","v":-2600},{"$f":"SA!CU13-SA!CR13","v":-2600},{"$f":"SA!CV13-SA!CS13","v":-300},{"$f":"SA!CW13-SA!CT13","v":-800},{"$f":"SA!CX13-SA!CU13","v":1300},{"$f":"SA!CY13-SA!CV13","v":100},{"$f":"SA!CZ13-SA!CW13","v":100},{"$f":"SA!DA13-SA!CX13","v":-1400},{"$f":"SA!DB13-SA!CY13","v":-2300},{"$f":"SA!DC13-SA!CZ13","v":-3600},{"$f":"SA!DD13-SA!DA13","v":-3700},{"$f":"SA!DE13-SA!DB13","v":-3200},{"$f":"SA!DF13-SA!DC13","v":-3600},{"$f":"SA!DG13-SA!DD13","v":-5500},{"$f":"SA!DH13-SA!DE13","v":-7500},{"$f":"SA!DI13-SA!DF13","v":-7300},{"$f":"SA!DJ13-SA!DG13","v":-8200},{"$f":"SA!DK13-SA!DH13","v":-7300},{"$f":"SA!DL13-SA!DI13","v":-8900},{"$f":"SA!DM13-SA!DJ13","v":-8200},{"$f":"SA!DN13-SA!DK13","v":-5799.9999999999418},{"$f":"SA!DO13-SA!DL13","v":-3399.9999999999418},{"$f":"SA!DP13-SA!DM13","v":-3700.0000000000582},{"$f":"SA!DQ13-SA!DN13","v":-4800.0000000000582},{"$f":"SA!DR13-SA!DO13","v":-5500},{"$f":"SA!DS13-SA!DP13","v":-3599.9999999998836},{"$f":"SA!DT13-SA!DQ13","v":-4700},{"$f":"SA!DU13-SA!DR13","v":-4600.0000000000582},{"$f":"SA!DV13-SA!DS13","v":-3900.0000000000582},{"$f":"SA!DW13-SA!DT13","v":-2300},{"$f":"SA!DX13-SA!DU13","v":-600},{"$f":"SA!DY13-SA!DV13","v":200},{"$f":"SA!DZ13-SA!DW13","v":400},{"$f":"SA!EA13-SA!DX13","v":-100},{"$f":"SA!EB13-SA!DY13","v":-400},{"$f":"SA!EC13-SA!DZ13","v":-300},{"$f":"SA!ED13-SA!EA13","v":-500},{"$f":"SA!EE13-SA!EB13","v":1800},{"$f":"SA!EF13-SA!EC13","v":500},{"$f":"SA!EG13-SA!ED13","v":1400},{"$f":"SA!EH13-SA!EE13","v":-1000},{"$f":"SA!EI13-SA!EF13","v":300},{"$f":"SA!EJ13-SA!EG13","v":500},{"$f":"SA!EK13-SA!EH13","v":1800},{"$f":"SA!EL13-SA!EI13","v":500},{"$f":"SA!EM13-SA!EJ13","v":-600},{"$f":"SA!EN13-SA!EK13","v":100},{"$f":"SA!EO13-SA!EL13","v":2300},{"$f":"SA!EP13-SA!EM13","v":3800},{"$f":"SA!EQ13-SA!EN13","v":1300},{"$f":"SA!ER13-SA!EO13","v":1100.0000000000582},{"$f":"SA!ES13-SA!EP13","v":0},{"$f":"SA!ET13-SA!EQ13","v":400},{"$f":"SA!EU13-SA!ER13","v":-500},{"$f":"SA!EV13-SA!ES13","v":-500},{"$f":"SA!EW13-SA!ET13","v":-1500},{"$f":"SA!EX13-SA!EU13","v":-500.00000000005821},{"$f":"SA!EY13-SA!EV13","v":-600},{"$f":"SA!EZ13-SA!EW13","v":-200},{"$f":"SA!FA13-SA!EX13","v":-900},{"$f":"SA!FB13-SA!EY13","v":700},{"$f":"SA!FC13-SA!EZ13","v":2400.0000000000582},{"$f":"SA!FD13-SA!FA13","v":4200},{"$f":"SA!FE13-SA!FB13","v":2199.9999999999418},{"$f":"SA!FF13-SA!FC13","v":1500},{"$f":"SA!FG13-SA!FD13","v":799.99999999994179},{"$f":"SA!FH13-SA!FE13","v":1400.0000000001164},{"$f":"SA!FI13-SA!FF13","v":1399.9999999999418},{"$f":"SA!FJ13-SA!FG13","v":1000},{"$f":"SA!FK13-SA!FH13","v":1799.9999999999418},{"$f":"SA!FL13-SA!FI13","v":1600.0000000000582},{"$f":"SA!FM13-SA!FJ13","v":1700.0000000000582},{"$f":"SA!FN13-SA!FK13","v":1000},{"$f":"SA!FO13-SA!FL13","v":1399.9999999999418},{"$f":"SA!FP13-SA!FM13","v":1000},{"$f":"SA!FQ13-SA!FN13","v":2299.9999999999418},{"$f":"SA!FR13-SA!FO13","v":2100.0000000000582},{"$f":"SA!FS13-SA!FP13","v":2600},{"$f":"SA!FT13-SA!FQ13","v":2100.0000000000582},{"$f":"SA!FU13-SA!FR13","v":3399.9999999999418},{"$f":"SA!FV13-SA!FS13","v":1900},{"$f":"SA!FW13-SA!FT13","v":1700},{"$f":"SA!FX13-SA!FU13","v":400},{"$f":"SA!FY13-SA!FV13","v":1000},{"$f":"SA!FZ13-SA!FW13","v":800},{"$f":"SA!GA13-SA!FX13","v":100},{"$f":"SA!GB13-SA!FY13","v":2300},{"$f":"SA!GC13-SA!FZ13","v":1300},{"$f":"SA!GD13-SA!GA13","v":2000},{"$f":"SA!GE13-SA!GB13","v":-500},{"$f":"SA!GF13-SA!GC13","v":1400},{"$f":"SA!GG13-SA!GD13","v":500},{"$f":"SA!GH13-SA!GE13","v":2800},{"$f":"SA!GI13-SA!GF13","v":2200},{"$f":"SA!GJ13-SA!GG13","v":5300},{"$f":"SA!GK13-SA!GH13","v":4800},{"$f":"SA!GL13-SA!GI13","v":5900},{"$f":"SA!GM13-SA!GJ13","v":3400},{"$f":"SA!GN13-SA!GK13","v":1800},{"$f":"SA!GO13-SA!GL13","v":-1500},{"$f":"SA!GP13-SA!GM13","v":1400},{"$f":"SA!GQ13-SA!GN13","v":3100},{"$f":"SA!GR13-SA!GO13","v":4200},{"$f":"SA!GS13-SA!GP13","v":3100},{"$f":"SA!GT13-SA!GQ13","v":800},{"$f":"SA!GU13-SA!GR13","v":800},{"$f":"SA!GV13-SA!GS13","v":500},{"$f":"SA!GW13-SA!GT13","v":1100},{"$f":"SA!GX13-SA!GU13","v":1400},{"$f":"SA!GY13-SA!GV13","v":-300},{"$f":"SA!GZ13-SA!GW13","v":-700},{"$f":"SA!HA13-SA!GX13","v":-900},{"$f":"SA!HB13-SA!GY13","v":2200},{"$f":"SA!HC13-SA!GZ13","v":3900},{"$f":"SA!HD13-SA!HA13","v":3200},{"$f":"SA!HE13-SA!HB13","v":-500},{"$f":"SA!HF13-SA!HC13","v":-2200},{"$f":"SA!HG13-SA!HD13","v":-1400},{"$f":"SA!HH13-SA!HE13","v":-1000},{"$f":"SA!HI13-SA!HF13","v":0},{"$f":"SA!HJ13-SA!HG13","v":0},{"$f":"SA!HK13-SA!HH13","v":-4400},{"$f":"SA!HL13-SA!HI13","v":-3600},{"$f":"SA!HM13-SA!HJ13","v":-2400},{"$f":"SA!HN13-SA!HK13","v":4100},{"$f":"SA!HO13-SA!HL13","v":3700},{"$f":"SA!HP13-SA!HM13","v":5200},{"$f":"SA!HQ13-SA!HN13","v":1300},{"$f":"SA!HR13-SA!HO13","v":-600},{"$f":"SA!HS13-SA!HP13","v":-2000},{"$f":"SA!HT13-SA!HQ13","v":2000},{"$f":"SA!HU13-SA!HR13","v":2400},{"$f":"SA!HV13-SA!HS13","v":-2600},{"$f":"SA!HW13-SA!HT13","v":-7500},{"$f":"SA!HX13-SA!HU13","v":-4000},{"$f":"SA!HY13-SA!HV13","v":2000},{"$f":"SA!HZ13-SA!HW13","v":11400},{"$f":"SA!IA13-SA!HX13","v":9200},{"$f":"SA!IB13-SA!HY13","v":6600},{"$f":"SA!IC13-SA!HZ13","v":-2200},{"$f":"SA!ID13-SA!IA13","v":-3600},{"$f":"SA!IE13-SA!IB13","v":-2200},{"$f":"SA!IF13-SA!IC13","v":800},{"$f":"SA!IG13-SA!ID13","v":2200},{"$f":"SA!IH13-SA!IE13","v":2900},{"$f":"SA!II13-SA!IF13","v":1400},{"$f":"SA!IJ13-SA!IG13","v":-400},{"$f":"SA!IK13-SA!IH13","v":-1300},{"$f":"SA!IL13-SA!II13","v":-548600},6312,{"$f":"COUNTIF(EY88:FY88, \">\" &GA88)","v":3},null,"Trade, Transportation, and Utilities",-8900,-3299.9999999999709,-600,100,799.9999999999709,1499.9999999999986,2450.0000000000291,11400,2955.4053975196448]
["  Wholesale Trade",{"$f":"SA!BN14-SA!BK14","v":700},{"$f":"SA!BO14-SA!BL14","v":600},{"$f":"SA!BP14-SA!BM14","v":300},{"$f":"SA!BQ14-SA!BN14","v":1100},{"$f":"SA!BR14-SA!BO14","v":1000},{"$f":"SA!BS14-SA!BP14","v":1300},{"$f":"SA!BT14-SA!BQ14","v":700},{"$f":"SA!BU14-SA!BR14","v":700},{"$f":"SA!BV14-SA!BS14","v":800},{"$f":"SA!BW14-SA!BT14","v":800},{"$f":"SA!BX14-SA!BU14","v":800},{"$f":"SA!BY14-SA!BV14","v":900},{"$f":"SA!BZ14-SA!BW14","v":1000},{"$f":"SA!CA14-SA!BX14","v":1000},{"$f":"SA!CB14-SA!BY14","v":1000},{"$f":"SA!CC14-SA!BZ14","v":600},{"$f":"SA!CD14-SA!CA14","v":300},{"$f":"SA!CE14-SA!CB14","v":400},{"$f":"SA!CF14-SA!CC14","v":400},{"$f":"SA!CG14-SA!CD14","v":700},{"$f":"SA!CH14-SA!CE14","v":500},{"$f":"SA!CI14-SA!CF14","v":400},{"$f":"SA!CJ14-SA!CG14","v":200},{"$f":"SA!CK14-SA!CH14","v":200},{"$f":"SA!CL14-SA!CI14","v":200},{"$f":"SA!CM14-SA!CJ14","v":500},{"$f":"SA!CN14-SA!CK14","v":300},{"$f":"SA!CO14-SA!CL14","v":400},{"$f":"SA!CP14-SA!CM14","v":300},{"$f":"SA!CQ14-SA!CN14","v":500},{"$f":"SA!CR14-SA!CO14","v":600},{"$f":"SA!CS14-SA!CP14","v":100},{"$f":"SA!CT14-SA!CQ14","v":100},{"$f":"SA!CU14-SA!CR14","v":-200},{"$f":"SA!CV14-SA!CS14","v":300},{"$f":"SA!CW14-SA!CT14","v":200},{"$f":"SA!CX14-SA!CU14","v":400},{"$f":"SA!CY14-SA!CV14","v":100},{"$f":"SA!CZ14-SA!CW14","v":200},{"$f":"SA!DA14-SA!CX14","v":0},{"$f":"SA!DB14-SA!CY14","v":300},{"$f":"SA!DC14-SA!CZ14","v":-200},{"$f":"SA!DD14-SA!DA14","v":-400},{"$f":"SA!DE14-SA!DB14","v":-700},{"$f":"SA!DF14-SA!DC14","v":-900},{"$f":"SA!DG14-SA!DD14","v":-1400},{"$f":"SA!DH14-SA!DE14","v":-1500},{"$f":"SA!DI14-SA!DF14","v":-1700},{"$f":"SA!DJ14-SA!DG14","v":-1400},{"$f":"SA!DK14-SA!DH14","v":-2000},{"$f":"SA!DL14-SA!DI14","v":-2100},{"$f":"SA!DM14-SA!DJ14","v":-3200},{"$f":"SA!DN14-SA!DK14","v":-2700},{"$f":"SA!DO14-SA!DL14","v":-2600},{"$f":"SA!DP14-SA!DM14","v":-1800},{"$f":"SA!DQ14-SA!DN14","v":-2000},{"$f":"SA!DR14-SA!DO14","v":-1700},{"$f":"SA!DS14-SA!DP14","v":-900},{"$f":"SA!DT14-SA!DQ14","v":-800},{"$f":"SA!DU14-SA!DR14","v":-700},{"$f":"SA!DV14-SA!DS14","v":-1200},{"$f":"SA!DW14-SA!DT14","v":-1000},{"$f":"SA!DX14-SA!DU14","v":-900},{"$f":"SA!DY14-SA!DV14","v":0},{"$f":"SA!DZ14-SA!DW14","v":300},{"$f":"SA!EA14-SA!DX14","v":400},{"$f":"SA!EB14-SA!DY14","v":400},{"$f":"SA!EC14-SA!DZ14","v":600},{"$f":"SA!ED14-SA!EA14","v":400},{"$f":"SA!EE14-SA!EB14","v":500},{"$f":"SA!EF14-SA!EC14","v":200},{"$f":"SA!EG14-SA!ED14","v":600},{"$f":"SA!EH14-SA!EE14","v":200},{"$f":"SA!EI14-SA!EF14","v":400},{"$f":"SA!EJ14-SA!EG14","v":400},{"$f":"SA!EK14-SA!EH14","v":500},{"$f":"SA!EL14-SA!EI14","v":700},{"$f":"SA!EM14-SA!EJ14","v":500},{"$f":"SA!EN14-SA!EK14","v":1200},{"$f":"SA!EO14-SA!EL14","v":1000},{"$f":"SA!EP14-SA!EM14","v":1600},{"$f":"SA!EQ14-SA!EN14","v":600},{"$f":"SA!ER14-SA!EO14","v":600},{"$f":"SA!ES14-SA!EP14","v":200},{"$f":"SA!ET14-SA!EQ14","v":400},{"$f":"SA!EU14-SA!ER14","v":400},{"$f":"SA!EV14-SA!ES14","v":500},{"$f":"SA!EW14-SA!ET14","v":600},{"$f":"SA!EX14-SA!EU14","v":200},{"$f":"SA!EY14-SA!EV14","v":0},{"$f":"SA!EZ14-SA!EW14","v":-400},{"$f":"SA!FA14-SA!EX14","v":-300},{"$f":"SA!FB14-SA!EY14","v":-100},{"$f":"SA!FC14-SA!EZ14","v":400},{"$f":"SA!FD14-SA!FA14","v":800},{"$f":"SA!FE14-SA!FB14","v":600},{"$f":"SA!FF14-SA!FC14","v":1500},{"$f":"SA!FG14-SA!FD14","v":1400},{"$f":"SA!FH14-SA!FE14","v":1200},{"$f":"SA!FI14-SA!FF14","v":0},{"$f":"SA!FJ14-SA!FG14","v":0},{"$f":"SA!FK14-SA!FH14","v":400},{"$f":"SA!FL14-SA!FI14","v":200},{"$f":"SA!FM14-SA!FJ14","v":100},{"$f":"SA!FN14-SA!FK14","v":0},{"$f":"SA!FO14-SA!FL14","v":300},{"$f":"SA!FP14-SA!FM14","v":300},{"$f":"SA!FQ14-SA!FN14","v":300},{"$f":"SA!FR14-SA!FO14","v":0},{"$f":"SA!FS14-SA!FP14","v":100},{"$f":"SA!FT14-SA!FQ14","v":300},{"$f":"SA!FU14-SA!FR14","v":500},{"$f":"SA!FV14-SA!FS14","v":500},{"$f":"SA!FW14-SA!FT14","v":400},{"$f":"SA!FX14-SA!FU14","v":600},{"$f":"SA!FY14-SA!FV14","v":700},{"$f":"SA!FZ14-SA!FW14","v":400},{"$f":"SA!GA14-SA!FX14","v":0},{"$f":"SA!GB14-SA!FY14","v":0},{"$f":"SA!GC14-SA!FZ14","v":200},{"$f":"SA!GD14-SA!GA14","v":1000},{"$f":"SA!GE14-SA!GB14","v":600},{"$f":"SA!GF14-SA!GC14","v":700},{"$f":"SA!GG14-SA!GD14","v":400},{"$f":"SA!GH14-SA!GE14","v":900},{"$f":"SA!GI14-SA!GF14","v":900},{"$f":"SA!GJ14-SA!GG14","v":900},{"$f":"SA!GK14-SA!GH14","v":600},{"$f":"SA!GL14-SA!GI14","v":400},{"$f":"SA!GM14-SA!GJ14","v":700},{"$f":"SA!GN14-SA!GK14","v":1000},{"$f":"SA!GO14-SA!GL14","v":1000},{"$f":"SA!GP14-SA!GM14","v":500},{"$f":"SA!GQ14-SA!GN14","v":300},{"$f":"SA!GR14-SA!GO14","v":400},{"$f":"SA!GS14-SA!GP14","v":400},{"$f":"SA!GT14-SA!GQ14","v":100},{"$f":"SA!GU14-SA!GR14","v":-300},{"$f":"SA!GV14-SA!GS14","v":100},{"$f":"SA!GW14-SA!GT14","v":200},{"$f":"SA!GX14-SA!GU14","v":700},{"$f":"SA!GY14-SA!GV14","v":-100},{"$f":"SA!GZ14-SA!GW14","v":-100},{"$f":"SA!HA14-SA!GX14","v":0},{"$f":"SA!HB14-SA!GY14","v":300},{"$f":"SA!HC14-SA!GZ14","v":500},{"$f":"SA!HD14-SA!HA14","v":300},{"$f":"SA!HE14-SA!HB14","v":0},{"$f":"SA!HF14-SA!HC14","v":200},{"$f":"SA!HG14-SA!HD14","v":300},{"$f":"SA!HH14-SA!HE14","v":500},{"$f":"SA!HI14-SA!HF14","v":500},{"$f":"SA!HJ14-SA!HG14","v":500},{"$f":"SA!HK14-SA!HH14","v":-400},{"$f":"SA!HL14-SA!HI14","v":-300},{"$f":"SA!HM14-SA!HJ14","v":-1500},{"$f":"SA!HN14-SA!HK14","v":200},{"$f":"SA!HO14-SA!HL14","v":100},{"$f":"SA!HP14-SA!HM14","v":800},{"$f":"SA!HQ14-SA!HN14","v":0},{"$f":"SA!HR14-SA!HO14","v":-200},{"$f":"SA!HS14-SA!HP14","v":500},{"$f":"SA!HT14-SA!HQ14","v":800},{"$f":"SA!HU14-SA!HR14","v":400},{"$f":"SA!HV14-SA!HS14","v":-1400},{"$f":"SA!HW14-SA!HT14","v":-2500},{"$f":"SA!HX14-SA!HU14","v":-1700},{"$f":"SA!HY14-SA!HV14","v":1000},{"$f":"SA!HZ14-SA!HW14","v":5200},{"$f":"SA!IA14-SA!HX14","v":3700},{"$f":"SA!IB14-SA!HY14","v":2200},{"$f":"SA!IC14-SA!HZ14","v":-2100},{"$f":"SA!ID14-SA!IA14","v":-1100},{"$f":"SA!IE14-SA!IB14","v":-200},{"$f":"SA!IF14-SA!IC14","v":800},{"$f":"SA!IG14-SA!ID14","v":1400},{"$f":"SA!IH14-SA!IE14","v":400},{"$f":"SA!II14-SA!IF14","v":-700},{"$f":"SA!IJ14-SA!IG14","v":-2700},{"$f":"SA!IK14-SA!IH14","v":-700},{"$f":"SA!IL14-SA!II14","v":-126700},2877.105,{"$f":"COUNTIF(EY89:FY89, \">\" &GA89)","v":2},null,"  Wholesale Trade",-3200,-400,100,300,400,500,800,5200,914.89240638562012]
["  Retail Trade",{"$f":"SA!BN15-SA!BK15","v":-1400},{"$f":"SA!BO15-SA!BL15","v":-500},{"$f":"SA!BP15-SA!BM15","v":100},{"$f":"SA!BQ15-SA!BN15","v":1800},{"$f":"SA!BR15-SA!BO15","v":300},{"$f":"SA!BS15-SA!BP15","v":-1500},{"$f":"SA!BT15-SA!BQ15","v":-500},{"$f":"SA!BU15-SA!BR15","v":900},{"$f":"SA!BV15-SA!BS15","v":2200},{"$f":"SA!BW15-SA!BT15","v":3200},{"$f":"SA!BX15-SA!BU15","v":1800},{"$f":"SA!BY15-SA!BV15","v":2500},{"$f":"SA!BZ15-SA!BW15","v":-6100},{"$f":"SA!CA15-SA!BX15","v":-4900},{"$f":"SA!CB15-SA!BY15","v":-5300},{"$f":"SA!CC15-SA!BZ15","v":900},{"$f":"SA!CD15-SA!CA15","v":-600},{"$f":"SA!CE15-SA!CB15","v":-500},{"$f":"SA!CF15-SA!CC15","v":-1600},{"$f":"SA!CG15-SA!CD15","v":-200},{"$f":"SA!CH15-SA!CE15","v":-600},{"$f":"SA!CI15-SA!CF15","v":500},{"$f":"SA!CJ15-SA!CG15","v":1300},{"$f":"SA!CK15-SA!CH15","v":2300},{"$f":"SA!CL15-SA!CI15","v":3100},{"$f":"SA!CM15-SA!CJ15","v":1100},{"$f":"SA!CN15-SA!CK15","v":800},{"$f":"SA!CO15-SA!CL15","v":-1600},{"$f":"SA!CP15-SA!CM15","v":200},{"$f":"SA!CQ15-SA!CN15","v":-900},{"$f":"SA!CR15-SA!CO15","v":700},{"$f":"SA!CS15-SA!CP15","v":-2600},{"$f":"SA!CT15-SA!CQ15","v":-1800},{"$f":"SA!CU15-SA!CR15","v":-3000},{"$f":"SA!CV15-SA!CS15","v":-900},{"$f":"SA!CW15-SA!CT15","v":-1300},{"$f":"SA!CX15-SA!CU15","v":500},{"$f":"SA!CY15-SA!CV15","v":200},{"$f":"SA!CZ15-SA!CW15","v":400},{"$f":"SA!DA15-SA!CX15","v":-200},{"$f":"SA!DB15-SA!CY15","v":-1300},{"$f":"SA!DC15-SA!CZ15","v":-1900},{"$f":"SA!DD15-SA!DA15","v":-2100},{"$f":"SA!DE15-SA!DB15","v":-1400},{"$f":"SA!DF15-SA!DC15","v":-1500},{"$f":"SA!DG15-SA!DD15","v":-2900},{"$f":"SA!DH15-SA!DE15","v":-4800},{"$f":"SA!DI15-SA!DF15","v":-4600},{"$f":"SA!DJ15-SA!DG15","v":-5100},{"$f":"SA!DK15-SA!DH15","v":-3400},{"$f":"SA!DL15-SA!DI15","v":-4700},{"$f":"SA!DM15-SA!DJ15","v":-3800},{"$f":"SA!DN15-SA!DK15","v":-3000},{"$f":"SA!DO15-SA!DL15","v":-1500},{"$f":"SA!DP15-SA!DM15","v":-1600},{"$f":"SA!DQ15-SA!DN15","v":-2000},{"$f":"SA!DR15-SA!DO15","v":-2500},{"$f":"SA!DS15-SA!DP15","v":-1800},{"$f":"SA!DT15-SA!DQ15","v":-2400},{"$f":"SA!DU15-SA!DR15","v":-2400},{"$f":"SA!DV15-SA!DS15","v":-1800},{"$f":"SA!DW15-SA!DT15","v":-1100},{"$f":"SA!DX15-SA!DU15","v":200},{"$f":"SA!DY15-SA!DV15","v":-100},{"$f":"SA!DZ15-SA!DW15","v":300},{"$f":"SA!EA15-SA!DX15","v":-600},{"$f":"SA!EB15-SA!DY15","v":-700},{"$f":"SA!EC15-SA!DZ15","v":-500},{"$f":"SA!ED15-SA!EA15","v":-100},{"$f":"SA!EE15-SA!EB15","v":1800},{"$f":"SA!EF15-SA!EC15","v":500},{"$f":"SA!EG15-SA!ED15","v":800},{"$f":"SA!EH15-SA!EE15","v":-800},{"$f":"SA!EI15-SA!EF15","v":300},{"$f":"SA!EJ15-SA!EG15","v":600},{"$f":"SA!EK15-SA!EH15","v":1900},{"$f":"SA!EL15-SA!EI15","v":300},{"$f":"SA!EM15-SA!EJ15","v":-600},{"$f":"SA!EN15-SA!EK15","v":-1000},{"$f":"SA!EO15-SA!EL15","v":1200},{"$f":"SA!EP15-SA!EM15","v":1900},{"$f":"SA!EQ15-SA!EN15","v":800},{"$f":"SA!ER15-SA!EO15","v":600},{"$f":"SA!ES15-SA!EP15","v":100},{"$f":"SA!ET15-SA!EQ15","v":200},{"$f":"SA!EU15-SA!ER15","v":-600},{"$f":"SA!EV15-SA!ES15","v":-500},{"$f":"SA!EW15-SA!ET15","v":-1300},{"$f":"SA!EX15-SA!EU15","v":-700},{"$f":"SA!EY15-SA!EV15","v":-1000},{"$f":"SA!EZ15-SA!EW15","v":-700},{"$f":"SA!FA15-SA!EX15","v":-500},{"$f":"SA!FB15-SA!EY15","v":700},{"$f":"SA!FC15-SA!EZ15","v":2100},{"$f":"SA!FD15-SA!FA15","v":3400},{"$f":"SA!FE15-SA!FB15","v":1800},{"$f":"SA!FF15-SA!FC15","v":200},{"$f":"SA!FG15-SA!FD15","v":-700},{"$f":"SA!FH15-SA!FE15","v":0},{"$f":"SA!FI15-SA!FF15","v":1400},{"$f":"SA!FJ15-SA!FG15","v":1200},{"$f":"SA!FK15-SA!FH15","v":2300},{"$f":"SA!FL15-SA!FI15","v":1800},{"$f":"SA!FM15-SA!FJ15","v":1500},{"$f":"SA!FN15-SA!FK15","v":700},{"$f":"SA!FO15-SA!FL15","v":800},{"$f":"SA!FP15-SA!FM15","v":700},{"$f":"SA!FQ15-SA!FN15","v":2000},{"$f":"SA!FR15-SA!FO15","v":1700},{"$f":"SA!FS15-SA!FP15","v":1900},{"$f":"SA!FT15-SA!FQ15","v":900},{"$f":"SA!FU15-SA!FR15","v":2000},{"$f":"SA!FV15-SA!FS15","v":1000},{"$f":"SA!FW15-SA!FT15","v":900},{"$f":"SA!FX15-SA!FU15","v":0},{"$f":"SA!FY15-SA!FV15","v":200},{"$f":"SA!FZ15-SA!FW15","v":100},{"$f":"SA!GA15-SA!FX15","v":-400},{"$f":"SA!GB15-SA!FY15","v":1200},{"$f":"SA!GC15-SA!FZ15","v":200},{"$f":"SA!GD15-SA!GA15","v":300},{"$f":"SA!GE15-SA!GB15","v":-1100},{"$f":"SA!GF15-SA!GC15","v":300},{"$f":"SA!GG15-SA!GD15","v":-200},{"$f":"SA!GH15-SA!GE15","v":1200},{"$f":"SA!GI15-SA!GF15","v":500},{"$f":"SA!GJ15-SA!GG15","v":1500},{"$f":"SA!GK15-SA!GH15","v":1300},{"$f":"SA!GL15-SA!GI15","v":2800},{"$f":"SA!GM15-SA!GJ15","v":2000},{"$f":"SA!GN15-SA!GK15","v":700},{"$f":"SA!GO15-SA!GL15","v":-2500},{"$f":"SA!GP15-SA!GM15","v":1000},{"$f":"SA!GQ15-SA!GN15","v":2300},{"$f":"SA!GR15-SA!GO15","v":3700},{"$f":"SA!GS15-SA!GP15","v":2300},{"$f":"SA!GT15-SA!GQ15","v":600},{"$f":"SA!GU15-SA!GR15","v":600},{"$f":"SA!GV15-SA!GS15","v":-200},{"$f":"SA!GW15-SA!GT15","v":300},{"$f":"SA!GX15-SA!GU15","v":300},{"$f":"SA!GY15-SA!GV15","v":-400},{"$f":"SA!GZ15-SA!GW15","v":-1100},{"$f":"SA!HA15-SA!GX15","v":-1500},{"$f":"SA!HB15-SA!GY15","v":1100},{"$f":"SA!HC15-SA!GZ15","v":3300},{"$f":"SA!HD15-SA!HA15","v":2800},{"$f":"SA!HE15-SA!HB15","v":-400},{"$f":"SA!HF15-SA!HC15","v":-2700},{"$f":"SA!HG15-SA!HD15","v":-1600},{"$f":"SA!HH15-SA!HE15","v":-1700},{"$f":"SA!HI15-SA!HF15","v":-800},{"$f":"SA!HJ15-SA!HG15","v":-1100},{"$f":"SA!HK15-SA!HH15","v":-4400},{"$f":"SA!HL15-SA!HI15","v":-3300},{"$f":"SA!HM15-SA!HJ15","v":-3500},{"$f":"SA!HN15-SA!HK15","v":1300},{"$f":"SA!HO15-SA!HL15","v":2300},{"$f":"SA!HP15-SA!HM15","v":4000},{"$f":"SA!HQ15-SA!HN15","v":2200},{"$f":"SA!HR15-SA!HO15","v":-1000},{"$f":"SA!HS15-SA!HP15","v":-1600},{"$f":"SA!HT15-SA!HQ15","v":-800},{"$f":"SA!HU15-SA!HR15","v":0},{"$f":"SA!HV15-SA!HS15","v":-3000},{"$f":"SA!HW15-SA!HT15","v":-5600},{"$f":"SA!HX15-SA!HU15","v":-2900},{"$f":"SA!HY15-SA!HV15","v":-100},{"$f":"SA!HZ15-SA!HW15","v":7400},{"$f":"SA!IA15-SA!HX15","v":8000},{"$f":"SA!IB15-SA!HY15","v":6500},{"$f":"SA!IC15-SA!HZ15","v":200},{"$f":"SA!ID15-SA!IA15","v":-3200},{"$f":"SA!IE15-SA!IB15","v":-2800},{"$f":"SA!IF15-SA!IC15","v":-1300},{"$f":"SA!IG15-SA!ID15","v":-300},{"$f":"SA!IH15-SA!IE15","v":2300},{"$f":"SA!II15-SA!IF15","v":2700},{"$f":"SA!IJ15-SA!IG15","v":2900},{"$f":"SA!IK15-SA!IH15","v":1900},{"$f":"SA!IL15-SA!II15","v":-309600},4318.125,{"$f":"COUNTIF(EY90:FY90, \">\" &GA90)","v":3},null,"  Retail Trade",-6100,-2050,-1000,-200,200,800,1800,7400,2027.1151315233935]
["  Transportation, Warehousing, and Utilities",{"$f":"SA!BN16-SA!BK16","v":-200},{"$f":"SA!BO16-SA!BL16","v":-300},{"$f":"SA!BP16-SA!BM16","v":400},{"$f":"SA!BQ16-SA!BN16","v":600},{"$f":"SA!BR16-SA!BO16","v":400},{"$f":"SA!BS16-SA!BP16","v":-100},{"$f":"SA!BT16-SA!BQ16","v":100},{"$f":"SA!BU16-SA!BR16","v":500},{"$f":"SA!BV16-SA!BS16","v":600},{"$f":"SA!BW16-SA!BT16","v":-500},{"$f":"SA!BX16-SA!BU16","v":-100},{"$f":"SA!BY16-SA!BV16","v":200},{"$f":"SA!BZ16-SA!BW16","v":1500},{"$f":"SA!CA16-SA!BX16","v":1100},{"$f":"SA!CB16-SA!BY16","v":900},{"$f":"SA!CC16-SA!BZ16","v":200},{"$f":"SA!CD16-SA!CA16","v":0},{"$f":"SA!CE16-SA!CB16","v":200},{"$f":"SA!CF16-SA!CC16","v":-100},{"$f":"SA!CG16-SA!CD16","v":100},{"$f":"SA!CH16-SA!CE16","v":100},{"$f":"SA!CI16-SA!CF16","v":200},{"$f":"SA!CJ16-SA!CG16","v":-100},{"$f":"SA!CK16-SA!CH16","v":200},{"$f":"SA!CL16-SA!CI16","v":300},{"$f":"SA!CM16-SA!CJ16","v":500},{"$f":"SA!CN16-SA!CK16","v":-200},{"$f":"SA!CO16-SA!CL16","v":-300},{"$f":"SA!CP16-SA!CM16","v":100},{"$f":"SA!CQ16-SA!CN16","v":900},{"$f":"SA!CR16-SA!CO16","v":-200},{"$f":"SA!CS16-SA!CP16","v":-100},{"$f":"SA!CT16-SA!CQ16","v":-900},{"$f":"SA!CU16-SA!CR16","v":600},{"$f":"SA!CV16-SA!CS16","v":300},{"$f":"SA!CW16-SA!CT16","v":300},{"$f":"SA!CX16-SA!CU16","v":400},{"$f":"SA!CY16-SA!CV16","v":-200},{"$f":"SA!CZ16-SA!CW16","v":-500},{"$f":"SA!DA16-SA!CX16","v":-1200},{"$f":"SA!DB16-SA!CY16","v":-1300},{"$f":"SA!DC16-SA!CZ16","v":-1500},{"$f":"SA!DD16-SA!DA16","v":-1200},{"$f":"SA!DE16-SA!DB16","v":-1100},{"$f":"SA!DF16-SA!DC16","v":-1200},{"$f":"SA!DG16-SA!DD16","v":-1200},{"$f":"SA!DH16-SA!DE16","v":-1200},{"$f":"SA!DI16-SA!DF16","v":-1000},{"$f":"SA!DJ16-SA!DG16","v":-1700},{"$f":"SA!DK16-SA!DH16","v":-1900},{"$f":"SA!DL16-SA!DI16","v":-2100},{"$f":"SA!DM16-SA!DJ16","v":-1200},{"$f":"SA!DN16-SA!DK16","v":-100},{"$f":"SA!DO16-SA!DL16","v":700},{"$f":"SA!DP16-SA!DM16","v":-300},{"$f":"SA!DQ16-SA!DN16","v":-800},{"$f":"SA!DR16-SA!DO16","v":-1300},{"$f":"SA!DS16-SA!DP16","v":-900},{"$f":"SA!DT16-SA!DQ16","v":-1500},{"$f":"SA!DU16-SA!DR16","v":-1500},{"$f":"SA!DV16-SA!DS16","v":-900},{"$f":"SA!DW16-SA!DT16","v":-200},{"$f":"SA!DX16-SA!DU16","v":100},{"$f":"SA!DY16-SA!DV16","v":300},{"$f":"SA!DZ16-SA!DW16","v":-200},{"$f":"SA!EA16-SA!DX16","v":100},{"$f":"SA!EB16-SA!DY16","v":-100},{"$f":"SA!EC16-SA!DZ16","v":-400},{"$f":"SA!ED16-SA!EA16","v":-800},{"$f":"SA!EE16-SA!EB16","v":-500},{"$f":"SA!EF16-SA!EC16","v":-200},{"$f":"SA!EG16-SA!ED16","v":0},{"$f":"SA!EH16-SA!EE16","v":-400},{"$f":"SA!EI16-SA!EF16","v":-400},{"$f":"SA!EJ16-SA!EG16","v":-500},{"$f":"SA!EK16-SA!EH16","v":-600},{"$f":"SA!EL16-SA!EI16","v":-500},{"$f":"SA!EM16-SA!EJ16","v":-500},{"$f":"SA!EN16-SA!EK16","v":-100},{"$f":"SA!EO16-SA!EL16","v":100},{"$f":"SA!EP16-SA!EM16","v":300},{"$f":"SA!EQ16-SA!EN16","v":-100},{"$f":"SA!ER16-SA!EO16","v":-100},{"$f":"SA!ES16-SA!EP16","v":-300},{"$f":"SA!ET16-SA!EQ16","v":-200},{"$f":"SA!EU16-SA!ER16","v":-300},{"$f":"SA!EV16-SA!ES16","v":-500},{"$f":"SA!EW16-SA!ET16","v":-800},{"$f":"SA!EX16-SA!EU16","v":0},{"$f":"SA!EY16-SA!EV16","v":400},{"$f":"SA!EZ16-SA!EW16","v":900},{"$f":"SA!FA16-SA!EX16","v":-100},{"$f":"SA!FB16-SA!EY16","v":100},{"$f":"SA!FC16-SA!EZ16","v":-100},{"$f":"SA!FD16-SA!FA16","v":0},{"$f":"SA!FE16-SA!FB16","v":-200},{"$f":"SA!FF16-SA!FC16","v":-200},{"$f":"SA!FG16-SA!FD16","v":100},{"$f":"SA!FH16-SA!FE16","v":200},{"$f":"SA!FI16-SA!FF16","v":0},{"$f":"SA!FJ16-SA!FG16","v":-200},{"$f":"SA!FK16-SA!FH16","v":-900},{"$f":"SA!FL16-SA!FI16","v":-400},{"$f":"SA!FM16-SA!FJ16","v":100},{"$f":"SA!FN16-SA!FK16","v":300},{"$f":"SA!FO16-SA!FL16","v":300},{"$f":"SA!FP16-SA!FM16","v":0},{"$f":"SA!FQ16-SA!FN16","v":0},{"$f":"SA!FR16-SA!FO16","v":400},{"$f":"SA!FS16-SA!FP16","v":600},{"$f":"SA!FT16-SA!FQ16","v":900},{"$f":"SA!FU16-SA!FR16","v":900},{"$f":"SA!FV16-SA!FS16","v":400},{"$f":"SA!FW16-SA!FT16","v":400},{"$f":"SA!FX16-SA!FU16","v":-200},{"$f":"SA!FY16-SA!FV16","v":100},{"$f":"SA!FZ16-SA!FW16","v":300},{"$f":"SA!GA16-SA!FX16","v":500},{"$f":"SA!GB16-SA!FY16","v":1100},{"$f":"SA!GC16-SA!FZ16","v":900},{"$f":"SA!GD16-SA!GA16","v":700},{"$f":"SA!GE16-SA!GB16","v":0},{"$f":"SA!GF16-SA!GC16","v":400},{"$f":"SA!GG16-SA!GD16","v":300},{"$f":"SA!GH16-SA!GE16","v":700},{"$f":"SA!GI16-SA!GF16","v":800},{"$f":"SA!GJ16-SA!GG16","v":2900},{"$f":"SA!GK16-SA!GH16","v":2900},{"$f":"SA!GL16-SA!GI16","v":2700},{"$f":"SA!GM16-SA!GJ16","v":700},{"$f":"SA!GN16-SA!GK16","v":100},{"$f":"SA!GO16-SA!GL16","v":0},{"$f":"SA!GP16-SA!GM16","v":-100},{"$f":"SA!GQ16-SA!GN16","v":500},{"$f":"SA!GR16-SA!GO16","v":100},{"$f":"SA!GS16-SA!GP16","v":400},{"$f":"SA!GT16-SA!GQ16","v":100},{"$f":"SA!GU16-SA!GR16","v":500},{"$f":"SA!GV16-SA!GS16","v":600},{"$f":"SA!GW16-SA!GT16","v":600},{"$f":"SA!GX16-SA!GU16","v":400},{"$f":"SA!GY16-SA!GV16","v":200},{"$f":"SA!GZ16-SA!GW16","v":500},{"$f":"SA!HA16-SA!GX16","v":600},{"$f":"SA!HB16-SA!GY16","v":800},{"$f":"SA!HC16-SA!GZ16","v":100},{"$f":"SA!HD16-SA!HA16","v":100},{"$f":"SA!HE16-SA!HB16","v":-100},{"$f":"SA!HF16-SA!HC16","v":300},{"$f":"SA!HG16-SA!HD16","v":-100},{"$f":"SA!HH16-SA!HE16","v":200},{"$f":"SA!HI16-SA!HF16","v":300},{"$f":"SA!HJ16-SA!HG16","v":600},{"$f":"SA!HK16-SA!HH16","v":400},{"$f":"SA!HL16-SA!HI16","v":0},{"$f":"SA!HM16-SA!HJ16","v":2600},{"$f":"SA!HN16-SA!HK16","v":2600},{"$f":"SA!HO16-SA!HL16","v":1300},{"$f":"SA!HP16-SA!HM16","v":400},{"$f":"SA!HQ16-SA!HN16","v":-900},{"$f":"SA!HR16-SA!HO16","v":600},{"$f":"SA!HS16-SA!HP16","v":-900},{"$f":"SA!HT16-SA!HQ16","v":2000},{"$f":"SA!HU16-SA!HR16","v":2000},{"$f":"SA!HV16-SA!HS16","v":1800},{"$f":"SA!HW16-SA!HT16","v":600},{"$f":"SA!HX16-SA!HU16","v":600},{"$f":"SA!HY16-SA!HV16","v":1100},{"$f":"SA!HZ16-SA!HW16","v":-1200},{"$f":"SA!IA16-SA!HX16","v":-2500},{"$f":"SA!IB16-SA!HY16","v":-2100},{"$f":"SA!IC16-SA!HZ16","v":-300},{"$f":"SA!ID16-SA!IA16","v":700},{"$f":"SA!IE16-SA!IB16","v":800},{"$f":"SA!IF16-SA!IC16","v":1300},{"$f":"SA!IG16-SA!ID16","v":1100},{"$f":"SA!IH16-SA!IE16","v":200},{"$f":"SA!II16-SA!IF16","v":-600},{"$f":"SA!IJ16-SA!IG16","v":-600},{"$f":"SA!IK16-SA!IH16","v":-2500},{"$f":"SA!IL16-SA!II16","v":-112300},3594.3249999999998,{"$f":"COUNTIF(EY91:FY91, \">\" &GA91)","v":0},null,"  Transportation, Warehousing, and Utilities",-2100,-800,-200,0,100,400,650,2900,829.03526119488492]
["Information",{"$f":"SA!BN17-SA!BK17","v":-100},{"$f":"SA!BO17-SA!BL17","v":100},{"$f":"SA!BP17-SA!BM17","v":100},{"$f":"SA!BQ17-SA!BN17","v":400},{"$f":"SA!BR17-SA!BO17","v":200},{"$f":"SA!BS17-SA!BP17","v":400},{"$f":"SA!BT17-SA!BQ17","v":-300},{"$f":"SA!BU17-SA!BR17","v":-200},{"$f":"SA!BV17-SA!BS17","v":-200},{"$f":"SA!BW17-SA!BT17","v":-100},{"$f":"SA!BX17-SA!BU17","v":-100},{"$f":"SA!BY17-SA!BV17","v":-200},{"$f":"SA!BZ17-SA!BW17","v":0},{"$f":"SA!CA17-SA!BX17","v":0},{"$f":"SA!CB17-SA!BY17","v":-100},{"$f":"SA!CC17-SA!BZ17","v":-400},{"$f":"SA!CD17-SA!CA17","v":-500},{"$f":"SA!CE17-SA!CB17","v":-500},{"$f":"SA!CF17-SA!CC17","v":-100},{"$f":"SA!CG17-SA!CD17","v":0},{"$f":"SA!CH17-SA!CE17","v":100},{"$f":"SA!CI17-SA!CF17","v":200},{"$f":"SA!CJ17-SA!CG17","v":300},{"$f":"SA!CK17-SA!CH17","v":400},{"$f":"SA!CL17-SA!CI17","v":500},{"$f":"SA!CM17-SA!CJ17","v":400},{"$f":"SA!CN17-SA!CK17","v":300},{"$f":"SA!CO17-SA!CL17","v":200},{"$f":"SA!CP17-SA!CM17","v":300},{"$f":"SA!CQ17-SA!CN17","v":500},{"$f":"SA!CR17-SA!CO17","v":500},{"$f":"SA!CS17-SA!CP17","v":400},{"$f":"SA!CT17-SA!CQ17","v":200},{"$f":"SA!CU17-SA!CR17","v":0},{"$f":"SA!CV17-SA!CS17","v":-100},{"$f":"SA!CW17-SA!CT17","v":-100},{"$f":"SA!CX17-SA!CU17","v":-200},{"$f":"SA!CY17-SA!CV17","v":-100},{"$f":"SA!CZ17-SA!CW17","v":-100},{"$f":"SA!DA17-SA!CX17","v":200},{"$f":"SA!DB17-SA!CY17","v":900},{"$f":"SA!DC17-SA!CZ17","v":400},{"$f":"SA!DD17-SA!DA17","v":-200},{"$f":"SA!DE17-SA!DB17","v":-1100},{"$f":"SA!DF17-SA!DC17","v":-800},{"$f":"SA!DG17-SA!DD17","v":-600},{"$f":"SA!DH17-SA!DE17","v":-700},{"$f":"SA!DI17-SA!DF17","v":-600},{"$f":"SA!DJ17-SA!DG17","v":-500},{"$f":"SA!DK17-SA!DH17","v":-100},{"$f":"SA!DL17-SA!DI17","v":-500},{"$f":"SA!DM17-SA!DJ17","v":-900},{"$f":"SA!DN17-SA!DK17","v":-900},{"$f":"SA!DO17-SA!DL17","v":-600},{"$f":"SA!DP17-SA!DM17","v":-500},{"$f":"SA!DQ17-SA!DN17","v":-800},{"$f":"SA!DR17-SA!DO17","v":-700},{"$f":"SA!DS17-SA!DP17","v":-900},{"$f":"SA!DT17-SA!DQ17","v":-600},{"$f":"SA!DU17-SA!DR17","v":-400},{"$f":"SA!DV17-SA!DS17","v":-100},{"$f":"SA!DW17-SA!DT17","v":-500},{"$f":"SA!DX17-SA!DU17","v":-500},{"$f":"SA!DY17-SA!DV17","v":-400},{"$f":"SA!DZ17-SA!DW17","v":0},{"$f":"SA!EA17-SA!DX17","v":100},{"$f":"SA!EB17-SA!DY17","v":300},{"$f":"SA!EC17-SA!DZ17","v":300},{"$f":"SA!ED17-SA!EA17","v":100},{"$f":"SA!EE17-SA!EB17","v":-200},{"$f":"SA!EF17-SA!EC17","v":100},{"$f":"SA!EG17-SA!ED17","v":100},{"$f":"SA!EH17-SA!EE17","v":400},{"$f":"SA!EI17-SA!EF17","v":100},{"$f":"SA!EJ17-SA!EG17","v":0},{"$f":"SA!EK17-SA!EH17","v":200},{"$f":"SA!EL17-SA!EI17","v":-100},{"$f":"SA!EM17-SA!EJ17","v":-400},{"$f":"SA!EN17-SA!EK17","v":-300},{"$f":"SA!EO17-SA!EL17","v":-200},{"$f":"SA!EP17-SA!EM17","v":300},{"$f":"SA!EQ17-SA!EN17","v":-100},{"$f":"SA!ER17-SA!EO17","v":0},{"$f":"SA!ES17-SA!EP17","v":-200},{"$f":"SA!ET17-SA!EQ17","v":-300},{"$f":"SA!EU17-SA!ER17","v":-300},{"$f":"SA!EV17-SA!ES17","v":-300},{"$f":"SA!EW17-SA!ET17","v":0},{"$f":"SA!EX17-SA!EU17","v":-100},{"$f":"SA!EY17-SA!EV17","v":300},{"$f":"SA!EZ17-SA!EW17","v":0},{"$f":"SA!FA17-SA!EX17","v":200},{"$f":"SA!FB17-SA!EY17","v":0},{"$f":"SA!FC17-SA!EZ17","v":200},{"$f":"SA!FD17-SA!FA17","v":200},{"$f":"SA!FE17-SA!FB17","v":-100},{"$f":"SA!FF17-SA!FC17","v":300},{"$f":"SA!FG17-SA!FD17","v":300},{"$f":"SA!FH17-SA!FE17","v":600},{"$f":"SA!FI17-SA!FF17","v":300},{"$f":"SA!FJ17-SA!FG17","v":300},{"$f":"SA!FK17-SA!FH17","v":200},{"$f":"SA!FL17-SA!FI17","v":100},{"$f":"SA!FM17-SA!FJ17","v":0},{"$f":"SA!FN17-SA!FK17","v":0},{"$f":"SA!FO17-SA!FL17","v":100},{"$f":"SA!FP17-SA!FM17","v":100},{"$f":"SA!FQ17-SA!FN17","v":200},{"$f":"SA!FR17-SA!FO17","v":100},{"$f":"SA!FS17-SA!FP17","v":200},{"$f":"SA!FT17-SA!FQ17","v":200},{"$f":"SA!FU17-SA!FR17","v":100},{"$f":"SA!FV17-SA!FS17","v":100},{"$f":"SA!FW17-SA!FT17","v":100},{"$f":"SA!FX17-SA!FU17","v":400},{"$f":"SA!FY17-SA!FV17","v":400},{"$f":"SA!FZ17-SA!FW17","v":100},{"$f":"SA!GA17-SA!FX17","v":200},{"$f":"SA!GB17-SA!FY17","v":200},{"$f":"SA!GC17-SA!FZ17","v":500},{"$f":"SA!GD17-SA!GA17","v":400},{"$f":"SA!GE17-SA!GB17","v":100},{"$f":"SA!GF17-SA!GC17","v":0},{"$f":"SA!GG17-SA!GD17","v":-100},{"$f":"SA!GH17-SA!GE17","v":300},{"$f":"SA!GI17-SA!GF17","v":200},{"$f":"SA!GJ17-SA!GG17","v":500},{"$f":"SA!GK17-SA!GH17","v":700},{"$f":"SA!GL17-SA!GI17","v":700},{"$f":"SA!GM17-SA!GJ17","v":400},{"$f":"SA!GN17-SA!GK17","v":0},{"$f":"SA!GO17-SA!GL17","v":0},{"$f":"SA!GP17-SA!GM17","v":-100},{"$f":"SA!GQ17-SA!GN17","v":-100},{"$f":"SA!GR17-SA!GO17","v":100},{"$f":"SA!GS17-SA!GP17","v":100},{"$f":"SA!GT17-SA!GQ17","v":100},{"$f":"SA!GU17-SA!GR17","v":-400},{"$f":"SA!GV17-SA!GS17","v":-300},{"$f":"SA!GW17-SA!GT17","v":-200},{"$f":"SA!GX17-SA!GU17","v":-100},{"$f":"SA!GY17-SA!GV17","v":-300},{"$f":"SA!GZ17-SA!GW17","v":-500},{"$f":"SA!HA17-SA!GX17","v":-300},{"$f":"SA!HB17-SA!GY17","v":-200},{"$f":"SA!HC17-SA!GZ17","v":-100},{"$f":"SA!HD17-SA!HA17","v":0},{"$f":"SA!HE17-SA!HB17","v":-400},{"$f":"SA!HF17-SA!HC17","v":-600},{"$f":"SA!HG17-SA!HD17","v":-800},{"$f":"SA!HH17-SA!HE17","v":-600},{"$f":"SA!HI17-SA!HF17","v":-600},{"$f":"SA!HJ17-SA!HG17","v":-500},{"$f":"SA!HK17-SA!HH17","v":-500},{"$f":"SA!HL17-SA!HI17","v":-600},{"$f":"SA!HM17-SA!HJ17","v":-300},{"$f":"SA!HN17-SA!HK17","v":-300},{"$f":"SA!HO17-SA!HL17","v":-100},{"$f":"SA!HP17-SA!HM17","v":-300},{"$f":"SA!HQ17-SA!HN17","v":-100},{"$f":"SA!HR17-SA!HO17","v":-100},{"$f":"SA!HS17-SA!HP17","v":-400},{"$f":"SA!HT17-SA!HQ17","v":-500},{"$f":"SA!HU17-SA!HR17","v":-400},{"$f":"SA!HV17-SA!HS17","v":300},{"$f":"SA!HW17-SA!HT17","v":800},{"$f":"SA!HX17-SA!HU17","v":1300},{"$f":"SA!HY17-SA!HV17","v":1000},{"$f":"SA!HZ17-SA!HW17","v":700},{"$f":"SA!IA17-SA!HX17","v":0},{"$f":"SA!IB17-SA!HY17","v":0},{"$f":"SA!IC17-SA!HZ17","v":200},{"$f":"SA!ID17-SA!IA17","v":200},{"$f":"SA!IE17-SA!IB17","v":300},{"$f":"SA!IF17-SA!IC17","v":500},{"$f":"SA!IG17-SA!ID17","v":800},{"$f":"SA!IH17-SA!IE17","v":600},{"$f":"SA!II17-SA!IF17","v":0},{"$f":"SA!IJ17-SA!IG17","v":0},{"$f":"SA!IK17-SA!IH17","v":100},{"$f":"SA!IL17-SA!II17","v":-48400},1394.96,{"$f":"COUNTIF(EY92:FY92, \">\" &GA92)","v":0},null,"Information",-1100,-500,-200,-100,0,200,300,1300,391.07636513093945]
["Financial Activities",{"$f":"SA!BN18-SA!BK18","v":0},{"$f":"SA!BO18-SA!BL18","v":-700},{"$f":"SA!BP18-SA!BM18","v":-500},{"$f":"SA!BQ18-SA!BN18","v":-100},{"$f":"SA!BR18-SA!BO18","v":400},{"$f":"SA!BS18-SA!BP18","v":100},{"$f":"SA!BT18-SA!BQ18","v":500},{"$f":"SA!BU18-SA!BR18","v":700},{"$f":"SA!BV18-SA!BS18","v":600},{"$f":"SA!BW18-SA!BT18","v":200},{"$f":"SA!BX18-SA!BU18","v":300},{"$f":"SA!BY18-SA!BV18","v":200},{"$f":"SA!BZ18-SA!BW18","v":300},{"$f":"SA!CA18-SA!BX18","v":-100},{"$f":"SA!CB18-SA!BY18","v":100},{"$f":"SA!CC18-SA!BZ18","v":700},{"$f":"SA!CD18-SA!CA18","v":1300},{"$f":"SA!CE18-SA!CB18","v":1000},{"$f":"SA!CF18-SA!CC18","v":1000},{"$f":"SA!CG18-SA!CD18","v":400},{"$f":"SA!CH18-SA!CE18","v":800},{"$f":"SA!CI18-SA!CF18","v":200},{"$f":"SA!CJ18-SA!CG18","v":500},{"$f":"SA!CK18-SA!CH18","v":400},{"$f":"SA!CL18-SA!CI18","v":400},{"$f":"SA!CM18-SA!CJ18","v":200},{"$f":"SA!CN18-SA!CK18","v":-200},{"$f":"SA!CO18-SA!CL18","v":-200},{"$f":"SA!CP18-SA!CM18","v":-400},{"$f":"SA!CQ18-SA!CN18","v":100},{"$f":"SA!CR18-SA!CO18","v":-200},{"$f":"SA!CS18-SA!CP18","v":-300},{"$f":"SA!CT18-SA!CQ18","v":-400},{"$f":"SA!CU18-SA!CR18","v":1100},{"$f":"SA!CV18-SA!CS18","v":1500},{"$f":"SA!CW18-SA!CT18","v":1400},{"$f":"SA!CX18-SA!CU18","v":300},{"$f":"SA!CY18-SA!CV18","v":800},{"$f":"SA!CZ18-SA!CW18","v":400},{"$f":"SA!DA18-SA!CX18","v":400},{"$f":"SA!DB18-SA!CY18","v":200},{"$f":"SA!DC18-SA!CZ18","v":100},{"$f":"SA!DD18-SA!DA18","v":100},{"$f":"SA!DE18-SA!DB18","v":-400},{"$f":"SA!DF18-SA!DC18","v":-700},{"$f":"SA!DG18-SA!DD18","v":-1200},{"$f":"SA!DH18-SA!DE18","v":-1100},{"$f":"SA!DI18-SA!DF18","v":-800},{"$f":"SA!DJ18-SA!DG18","v":-400},{"$f":"SA!DK18-SA!DH18","v":-800},{"$f":"SA!DL18-SA!DI18","v":-900},{"$f":"SA!DM18-SA!DJ18","v":-1000},{"$f":"SA!DN18-SA!DK18","v":-700},{"$f":"SA!DO18-SA!DL18","v":-600},{"$f":"SA!DP18-SA!DM18","v":-1100},{"$f":"SA!DQ18-SA!DN18","v":-1000},{"$f":"SA!DR18-SA!DO18","v":-1400},{"$f":"SA!DS18-SA!DP18","v":-1000},{"$f":"SA!DT18-SA!DQ18","v":-1200},{"$f":"SA!DU18-SA!DR18","v":-900},{"$f":"SA!DV18-SA!DS18","v":-1100},{"$f":"SA!DW18-SA!DT18","v":-1000},{"$f":"SA!DX18-SA!DU18","v":-400},{"$f":"SA!DY18-SA!DV18","v":-600},{"$f":"SA!DZ18-SA!DW18","v":-600},{"$f":"SA!EA18-SA!DX18","v":-1100},{"$f":"SA!EB18-SA!DY18","v":-500},{"$f":"SA!EC18-SA!DZ18","v":-700},{"$f":"SA!ED18-SA!EA18","v":-500},{"$f":"SA!EE18-SA!EB18","v":-300},{"$f":"SA!EF18-SA!EC18","v":0},{"$f":"SA!EG18-SA!ED18","v":0},{"$f":"SA!EH18-SA!EE18","v":-600},{"$f":"SA!EI18-SA!EF18","v":-500},{"$f":"SA!EJ18-SA!EG18","v":-400},{"$f":"SA!EK18-SA!EH18","v":-100},{"$f":"SA!EL18-SA!EI18","v":-500},{"$f":"SA!EM18-SA!EJ18","v":-600},{"$f":"SA!EN18-SA!EK18","v":-300},{"$f":"SA!EO18-SA!EL18","v":-300},{"$f":"SA!EP18-SA!EM18","v":400},{"$f":"SA!EQ18-SA!EN18","v":0},{"$f":"SA!ER18-SA!EO18","v":300},{"$f":"SA!ES18-SA!EP18","v":-400},{"$f":"SA!ET18-SA!EQ18","v":500},{"$f":"SA!EU18-SA!ER18","v":500},{"$f":"SA!EV18-SA!ES18","v":700},{"$f":"SA!EW18-SA!ET18","v":-300},{"$f":"SA!EX18-SA!EU18","v":-200},{"$f":"SA!EY18-SA!EV18","v":-400},{"$f":"SA!EZ18-SA!EW18","v":-100},{"$f":"SA!FA18-SA!EX18","v":-100},{"$f":"SA!FB18-SA!EY18","v":0},{"$f":"SA!FC18-SA!EZ18","v":0},{"$f":"SA!FD18-SA!FA18","v":-200},{"$f":"SA!FE18-SA!FB18","v":-100},{"$f":"SA!FF18-SA!FC18","v":-300},{"$f":"SA!FG18-SA!FD18","v":0},{"$f":"SA!FH18-SA!FE18","v":0},{"$f":"SA!FI18-SA!FF18","v":-200},{"$f":"SA!FJ18-SA!FG18","v":0},{"$f":"SA!FK18-SA!FH18","v":-100},{"$f":"SA!FL18-SA!FI18","v":400},{"$f":"SA!FM18-SA!FJ18","v":0},{"$f":"SA!FN18-SA!FK18","v":0},{"$f":"SA!FO18-SA!FL18","v":-400},{"$f":"SA!FP18-SA!FM18","v":-300},{"$f":"SA!FQ18-SA!FN18","v":-400},{"$f":"SA!FR18-SA!FO18","v":-1300},{"$f":"SA!FS18-SA!FP18","v":-900},{"$f":"SA!FT18-SA!FQ18","v":-700},{"$f":"SA!FU18-SA!FR18","v":900},{"$f":"SA!FV18-SA!FS18","v":600},{"$f":"SA!FW18-SA!FT18","v":600},{"$f":"SA!FX18-SA!FU18","v":100},{"$f":"SA!FY18-SA!FV18","v":400},{"$f":"SA!FZ18-SA!FW18","v":700},{"$f":"SA!GA18-SA!FX18","v":300},{"$f":"SA!GB18-SA!FY18","v":0},{"$f":"SA!GC18-SA!FZ18","v":-100},{"$f":"SA!GD18-SA!GA18","v":400},{"$f":"SA!GE18-SA!GB18","v":600},{"$f":"SA!GF18-SA!GC18","v":400},{"$f":"SA!GG18-SA!GD18","v":200},{"$f":"SA!GH18-SA!GE18","v":300},{"$f":"SA!GI18-SA!GF18","v":300},{"$f":"SA!GJ18-SA!GG18","v":500},{"$f":"SA!GK18-SA!GH18","v":-200},{"$f":"SA!GL18-SA!GI18","v":-200},{"$f":"SA!GM18-SA!GJ18","v":100},{"$f":"SA!GN18-SA!GK18","v":300},{"$f":"SA!GO18-SA!GL18","v":200},{"$f":"SA!GP18-SA!GM18","v":-300},{"$f":"SA!GQ18-SA!GN18","v":0},{"$f":"SA!GR18-SA!GO18","v":0},{"$f":"SA!GS18-SA!GP18","v":300},{"$f":"SA!GT18-SA!GQ18","v":0},{"$f":"SA!GU18-SA!GR18","v":100},{"$f":"SA!GV18-SA!GS18","v":700},{"$f":"SA!GW18-SA!GT18","v":800},{"$f":"SA!GX18-SA!GU18","v":700},{"$f":"SA!GY18-SA!GV18","v":200},{"$f":"SA!GZ18-SA!GW18","v":400},{"$f":"SA!HA18-SA!GX18","v":100},{"$f":"SA!HB18-SA!GY18","v":600},{"$f":"SA!HC18-SA!GZ18","v":600},{"$f":"SA!HD18-SA!HA18","v":1200},{"$f":"SA!HE18-SA!HB18","v":200},{"$f":"SA!HF18-SA!HC18","v":-300},{"$f":"SA!HG18-SA!HD18","v":-500},{"$f":"SA!HH18-SA!HE18","v":-300},{"$f":"SA!HI18-SA!HF18","v":-100},{"$f":"SA!HJ18-SA!HG18","v":-500},{"$f":"SA!HK18-SA!HH18","v":-500},{"$f":"SA!HL18-SA!HI18","v":-1200},{"$f":"SA!HM18-SA!HJ18","v":-1700},{"$f":"SA!HN18-SA!HK18","v":-1300},{"$f":"SA!HO18-SA!HL18","v":-100},{"$f":"SA!HP18-SA!HM18","v":-100},{"$f":"SA!HQ18-SA!HN18","v":-400},{"$f":"SA!HR18-SA!HO18","v":-1200},{"$f":"SA!HS18-SA!HP18","v":-700},{"$f":"SA!HT18-SA!HQ18","v":-500},{"$f":"SA!HU18-SA!HR18","v":-500},{"$f":"SA!HV18-SA!HS18","v":-400},{"$f":"SA!HW18-SA!HT18","v":500},{"$f":"SA!HX18-SA!HU18","v":600},{"$f":"SA!HY18-SA!HV18","v":1600},{"$f":"SA!HZ18-SA!HW18","v":2900},{"$f":"SA!IA18-SA!HX18","v":3000},{"$f":"SA!IB18-SA!HY18","v":2600},{"$f":"SA!IC18-SA!HZ18","v":-100},{"$f":"SA!ID18-SA!IA18","v":-100},{"$f":"SA!IE18-SA!IB18","v":600},{"$f":"SA!IF18-SA!IC18","v":800},{"$f":"SA!IG18-SA!ID18","v":500},{"$f":"SA!IH18-SA!IE18","v":-1700},{"$f":"SA!II18-SA!IF18","v":-2000},{"$f":"SA!IJ18-SA!IG18","v":-700},{"$f":"SA!IK18-SA!IH18","v":500},{"$f":"SA!IL18-SA!II18","v":-152300},2441.1799999999998,{"$f":"COUNTIF(EY93:FY93, \">\" &GA93)","v":3},null,"Financial Activities",-1700,-700,-400,-100,0,300,600,2900,648.35386356319725]
["Real Estate and Rental and Leasing",{"$f":"SA!BN20-SA!BK20","v":100},{"$f":"SA!BO20-SA!BL20","v":-100},{"$f":"SA!BP20-SA!BM20","v":200},{"$f":"SA!BQ20-SA!BN20","v":100},{"$f":"SA!BR20-SA!BO20","v":200},{"$f":"SA!BS20-SA!BP20","v":-100},{"$f":"SA!BT20-SA!BQ20","v":100},{"$f":"SA!BU20-SA!BR20","v":0},{"$f":"SA!BV20-SA!BS20","v":300},{"$f":"SA!BW20-SA!BT20","v":-200},{"$f":"SA!BX20-SA!BU20","v":100},{"$f":"SA!BY20-SA!BV20","v":0},{"$f":"SA!BZ20-SA!BW20","v":200},{"$f":"SA!CA20-SA!BX20","v":0},{"$f":"SA!CB20-SA!BY20","v":-100},{"$f":"SA!CC20-SA!BZ20","v":0},{"$f":"SA!CD20-SA!CA20","v":100},{"$f":"SA!CE20-SA!CB20","v":200},{"$f":"SA!CF20-SA!CC20","v":300},{"$f":"SA!CG20-SA!CD20","v":100},{"$f":"SA!CH20-SA!CE20","v":0},{"$f":"SA!CI20-SA!CF20","v":-300},{"$f":"SA!CJ20-SA!CG20","v":-100},{"$f":"SA!CK20-SA!CH20","v":-100},{"$f":"SA!CL20-SA!CI20","v":0},{"$f":"SA!CM20-SA!CJ20","v":0},{"$f":"SA!CN20-SA!CK20","v":0},{"$f":"SA!CO20-SA!CL20","v":0},{"$f":"SA!CP20-SA!CM20","v":0},{"$f":"SA!CQ20-SA!CN20","v":0},{"$f":"SA!CR20-SA!CO20","v":-100},{"$f":"SA!CS20-SA!CP20","v":-200},{"$f":"SA!CT20-SA!CQ20","v":-200},{"$f":"SA!CU20-SA!CR20","v":0},{"$f":"SA!CV20-SA!CS20","v":-100},{"$f":"SA!CW20-SA!CT20","v":-100},{"$f":"SA!CX20-SA!CU20","v":-400},{"$f":"SA!CY20-SA!CV20","v":-100},{"$f":"SA!CZ20-SA!CW20","v":-200},{"$f":"SA!DA20-SA!CX20","v":-100},{"$f":"SA!DB20-SA!CY20","v":-300},{"$f":"SA!DC20-SA!CZ20","v":-300},{"$f":"SA!DD20-SA!DA20","v":-300},{"$f":"SA!DE20-SA!DB20","v":-400},{"$f":"SA!DF20-SA!DC20","v":-500},{"$f":"SA!DG20-SA!DD20","v":-300},{"$f":"SA!DH20-SA!DE20","v":-200},{"$f":"SA!DI20-SA!DF20","v":-100},{"$f":"SA!DJ20-SA!DG20","v":-700},{"$f":"SA!DK20-SA!DH20","v":-800},{"$f":"SA!DL20-SA!DI20","v":-900},{"$f":"SA!DM20-SA!DJ20","v":-700},{"$f":"SA!DN20-SA!DK20","v":-400},{"$f":"SA!DO20-SA!DL20","v":-200},{"$f":"SA!DP20-SA!DM20","v":-100},{"$f":"SA!DQ20-SA!DN20","v":-200},{"$f":"SA!DR20-SA!DO20","v":-300},{"$f":"SA!DS20-SA!DP20","v":-200},{"$f":"SA!DT20-SA!DQ20","v":-400},{"$f":"SA!DU20-SA!DR20","v":-300},{"$f":"SA!DV20-SA!DS20","v":0},{"$f":"SA!DW20-SA!DT20","v":100},{"$f":"SA!DX20-SA!DU20","v":0},{"$f":"SA!DY20-SA!DV20","v":-400},{"$f":"SA!DZ20-SA!DW20","v":-400},{"$f":"SA!EA20-SA!DX20","v":-500},{"$f":"SA!EB20-SA!DY20","v":-300},{"$f":"SA!EC20-SA!DZ20","v":-300},{"$f":"SA!ED20-SA!EA20","v":-200},{"$f":"SA!EE20-SA!EB20","v":0},{"$f":"SA!EF20-SA!EC20","v":0},{"$f":"SA!EG20-SA!ED20","v":100},{"$f":"SA!EH20-SA!EE20","v":-200},{"$f":"SA!EI20-SA!EF20","v":-100},{"$f":"SA!EJ20-SA!EG20","v":0},{"$f":"SA!EK20-SA!EH20","v":100},{"$f":"SA!EL20-SA!EI20","v":-200},{"$f":"SA!EM20-SA!EJ20","v":-200},{"$f":"SA!EN20-SA!EK20","v":-300},{"$f":"SA!EO20-SA!EL20","v":-100},{"$f":"SA!EP20-SA!EM20","v":-100},{"$f":"SA!EQ20-SA!EN20","v":-100},{"$f":"SA!ER20-SA!EO20","v":0},{"$f":"SA!ES20-SA!EP20","v":-100},{"$f":"SA!ET20-SA!EQ20","v":100},{"$f":"SA!EU20-SA!ER20","v":0},{"$f":"SA!EV20-SA!ES20","v":0},{"$f":"SA!EW20-SA!ET20","v":-100},{"$f":"SA!EX20-SA!EU20","v":100},{"$f":"SA!EY20-SA!EV20","v":100},{"$f":"SA!EZ20-SA!EW20","v":200},{"$f":"SA!FA20-SA!EX20","v":0},{"$f":"SA!FB20-SA!EY20","v":-100},{"$f":"SA!FC20-SA!EZ20","v":-100},{"$f":"SA!FD20-SA!FA20","v":-100},{"$f":"SA!FE20-SA!FB20","v":100},{"$f":"SA!FF20-SA!FC20","v":100},{"$f":"SA!FG20-SA!FD20","v":200},{"$f":"SA!FH20-SA!FE20","v":200},{"$f":"SA!FI20-SA!FF20","v":0},{"$f":"SA!FJ20-SA!FG20","v":200},{"$f":"SA!FK20-SA!FH20","v":0},{"$f":"SA!FL20-SA!FI20","v":200},{"$f":"SA!FM20-SA!FJ20","v":-100},{"$f":"SA!FN20-SA!FK20","v":100},{"$f":"SA!FO20-SA!FL20","v":-200},{"$f":"SA!FP20-SA!FM20","v":-100},{"$f":"SA!FQ20-SA!FN20","v":-200},{"$f":"SA!FR20-SA!FO20","v":-100},{"$f":"SA!FS20-SA!FP20","v":0},{"$f":"SA!FT20-SA!FQ20","v":100},{"$f":"SA!FU20-SA!FR20","v":300},{"$f":"SA!FV20-SA!FS20","v":100},{"$f":"SA!FW20-SA!FT20","v":100},{"$f":"SA!FX20-SA!FU20","v":-100},{"$f":"SA!FY20-SA!FV20","v":0},{"$f":"SA!FZ20-SA!FW20","v":100},{"$f":"SA!GA20-SA!FX20","v":0},{"$f":"SA!GB20-SA!FY20","v":-100},{"$f":"SA!GC20-SA!FZ20","v":-300},{"$f":"SA!GD20-SA!GA20","v":0},{"$f":"SA!GE20-SA!GB20","v":200},{"$f":"SA!GF20-SA!GC20","v":300},{"$f":"SA!GG20-SA!GD20","v":200},{"$f":"SA!GH20-SA!GE20","v":400},{"$f":"SA!GI20-SA!GF20","v":300},{"$f":"SA!GJ20-SA!GG20","v":500},{"$f":"SA!GK20-SA!GH20","v":200},{"$f":"SA!GL20-SA!GI20","v":300},{"$f":"SA!GM20-SA!GJ20","v":200},{"$f":"SA!GN20-SA!GK20","v":200},{"$f":"SA!GO20-SA!GL20","v":100},{"$f":"SA!GP20-SA!GM20","v":-200},{"$f":"SA!GQ20-SA!GN20","v":100},{"$f":"SA!GR20-SA!GO20","v":0},{"$f":"SA!GS20-SA!GP20","v":300},{"$f":"SA!GT20-SA!GQ20","v":0},{"$f":"SA!GU20-SA!GR20","v":0},{"$f":"SA!GV20-SA!GS20","v":200},{"$f":"SA!GW20-SA!GT20","v":300},{"$f":"SA!GX20-SA!GU20","v":400},{"$f":"SA!GY20-SA!GV20","v":300},{"$f":"SA!GZ20-SA!GW20","v":300},{"$f":"SA!HA20-SA!GX20","v":300},{"$f":"SA!HB20-SA!GY20","v":200},{"$f":"SA!HC20-SA!GZ20","v":200},{"$f":"SA!HD20-SA!HA20","v":300},{"$f":"SA!HE20-SA!HB20","v":200},{"$f":"SA!HF20-SA!HC20","v":0},{"$f":"SA!HG20-SA!HD20","v":200},{"$f":"SA!HH20-SA!HE20","v":100},{"$f":"SA!HI20-SA!HF20","v":100},{"$f":"SA!HJ20-SA!HG20","v":-200},{"$f":"SA!HK20-SA!HH20","v":100},{"$f":"SA!HL20-SA!HI20","v":300},{"$f":"SA!HM20-SA!HJ20","v":100},{"$f":"SA!HN20-SA!HK20","v":0},{"$f":"SA!HO20-SA!HL20","v":0},{"$f":"SA!HP20-SA!HM20","v":200},{"$f":"SA!HQ20-SA!HN20","v":0},{"$f":"SA!HR20-SA!HO20","v":0},{"$f":"SA!HS20-SA!HP20","v":-100},{"$f":"SA!HT20-SA!HQ20","v":200},{"$f":"SA!HU20-SA!HR20","v":100},{"$f":"SA!HV20-SA!HS20","v":200},{"$f":"SA!HW20-SA!HT20","v":100},{"$f":"SA!HX20-SA!HU20","v":100},{"$f":"SA!HY20-SA!HV20","v":200},{"$f":"SA!HZ20-SA!HW20","v":200},{"$f":"SA!IA20-SA!HX20","v":500},{"$f":"SA!IB20-SA!HY20","v":100},{"$f":"SA!IC20-SA!HZ20","v":-200},{"$f":"SA!ID20-SA!IA20","v":-600},{"$f":"SA!IE20-SA!IB20","v":-200},{"$f":"SA!IF20-SA!IC20","v":100},{"$f":"SA!IG20-SA!ID20","v":200},{"$f":"SA!IH20-SA!IE20","v":0},{"$f":"SA!II20-SA!IF20","v":-100},{"$f":"SA!IJ20-SA!IG20","v":-100},{"$f":"SA!IK20-SA!IH20","v":100},{"$f":"SA!IL20-SA!II20","v":-26800},1646.645,{"$f":"COUNTIF(EY94:FY94, \">\" &GA94)","v":0},null,"Real Estate and Rental and Leasing",-900,-200,-100,0,0,100,200,500,227.15420675673442]
["Professional and Business Services",{"$f":"SA!BN21-SA!BK21","v":2199.9999999999709},{"$f":"SA!BO21-SA!BL21","v":2800},{"$f":"SA!BP21-SA!BM21","v":3899.9999999999709},{"$f":"SA!BQ21-SA!BN21","v":4000},{"$f":"SA!BR21-SA!BO21","v":2100},{"$f":"SA!BS21-SA!BP21","v":600},{"$f":"SA!BT21-SA!BQ21","v":1300},{"$f":"SA!BU21-SA!BR21","v":3200},{"$f":"SA!BV21-SA!BS21","v":3700},{"$f":"SA!BW21-SA!BT21","v":-300},{"$f":"SA!BX21-SA!BU21","v":900},{"$f":"SA!BY21-SA!BV21","v":1600},{"$f":"SA!BZ21-SA!BW21","v":2600},{"$f":"SA!CA21-SA!BX21","v":2200},{"$f":"SA!CB21-SA!BY21","v":1400},{"$f":"SA!CC21-SA!BZ21","v":5600},{"$f":"SA!CD21-SA!CA21","v":3200},{"$f":"SA!CE21-SA!CB21","v":3400},{"$f":"SA!CF21-SA!CC21","v":-800},{"$f":"SA!CG21-SA!CD21","v":-100},{"$f":"SA!CH21-SA!CE21","v":200},{"$f":"SA!CI21-SA!CF21","v":1800},{"$f":"SA!CJ21-SA!CG21","v":2400},{"$f":"SA!CK21-SA!CH21","v":600},{"$f":"SA!CL21-SA!CI21","v":1600},{"$f":"SA!CM21-SA!CJ21","v":1600},{"$f":"SA!CN21-SA!CK21","v":3900},{"$f":"SA!CO21-SA!CL21","v":3800},{"$f":"SA!CP21-SA!CM21","v":4000},{"$f":"SA!CQ21-SA!CN21","v":4300},{"$f":"SA!CR21-SA!CO21","v":1800},{"$f":"SA!CS21-SA!CP21","v":1500},{"$f":"SA!CT21-SA!CQ21","v":-500},{"$f":"SA!CU21-SA!CR21","v":-300},{"$f":"SA!CV21-SA!CS21","v":500},{"$f":"SA!CW21-SA!CT21","v":2400},{"$f":"SA!CX21-SA!CU21","v":3300},{"$f":"SA!CY21-SA!CV21","v":3300},{"$f":"SA!CZ21-SA!CW21","v":700},{"$f":"SA!DA21-SA!CX21","v":-700},{"$f":"SA!DB21-SA!CY21","v":-1400},{"$f":"SA!DC21-SA!CZ21","v":100},{"$f":"SA!DD21-SA!DA21","v":500},{"$f":"SA!DE21-SA!DB21","v":700},{"$f":"SA!DF21-SA!DC21","v":-1400},{"$f":"SA!DG21-SA!DD21","v":-4400},{"$f":"SA!DH21-SA!DE21","v":-8000},{"$f":"SA!DI21-SA!DF21","v":-8300},{"$f":"SA!DJ21-SA!DG21","v":-10200},{"$f":"SA!DK21-SA!DH21","v":-11900},{"$f":"SA!DL21-SA!DI21","v":-14599.999999999971},{"$f":"SA!DM21-SA!DJ21","v":-11700},{"$f":"SA!DN21-SA!DK21","v":-6900},{"$f":"SA!DO21-SA!DL21","v":-4000},{"$f":"SA!DP21-SA!DM21","v":-1900},{"$f":"SA!DQ21-SA!DN21","v":-2699.9999999999709},{"$f":"SA!DR21-SA!DO21","v":-600.0000000000291},{"$f":"SA!DS21-SA!DP21","v":2099.9999999999709},{"$f":"SA!DT21-SA!DQ21","v":5299.9999999999709},{"$f":"SA!DU21-SA!DR21","v":6000},{"$f":"SA!DV21-SA!DS21","v":4200.0000000000291},{"$f":"SA!DW21-SA!DT21","v":4800},{"$f":"SA!DX21-SA!DU21","v":2500},{"$f":"SA!DY21-SA!DV21","v":7400},{"$f":"SA!DZ21-SA!DW21","v":5200},{"$f":"SA!EA21-SA!DX21","v":6800},{"$f":"SA!EB21-SA!DY21","v":3600},{"$f":"SA!EC21-SA!DZ21","v":5200},{"$f":"SA!ED21-SA!EA21","v":4900},{"$f":"SA!EE21-SA!EB21","v":5900},{"$f":"SA!EF21-SA!EC21","v":4900},{"$f":"SA!EG21-SA!ED21","v":6800},{"$f":"SA!EH21-SA!EE21","v":4600},{"$f":"SA!EI21-SA!EF21","v":2900},{"$f":"SA!EJ21-SA!EG21","v":3000},{"$f":"SA!EK21-SA!EH21","v":500},{"$f":"SA!EL21-SA!EI21","v":500},{"$f":"SA!EM21-SA!EJ21","v":-800},{"$f":"SA!EN21-SA!EK21","v":1900},{"$f":"SA!EO21-SA!EL21","v":2200},{"$f":"SA!EP21-SA!EM21","v":3200},{"$f":"SA!EQ21-SA!EN21","v":1300},{"$f":"SA!ER21-SA!EO21","v":2000},{"$f":"SA!ES21-SA!EP21","v":0},{"$f":"SA!ET21-SA!EQ21","v":1900},{"$f":"SA!EU21-SA!ER21","v":1700},{"$f":"SA!EV21-SA!ES21","v":5200},{"$f":"SA!EW21-SA!ET21","v":4300},{"$f":"SA!EX21-SA!EU21","v":2300},{"$f":"SA!EY21-SA!EV21","v":-300},{"$f":"SA!EZ21-SA!EW21","v":-1900},{"$f":"SA!FA21-SA!EX21","v":-800},{"$f":"SA!FB21-SA!EY21","v":100},{"$f":"SA!FC21-SA!EZ21","v":1900},{"$f":"SA!FD21-SA!FA21","v":4200},{"$f":"SA!FE21-SA!FB21","v":400},{"$f":"SA!FF21-SA!FC21","v":900},{"$f":"SA!FG21-SA!FD21","v":1300},{"$f":"SA!FH21-SA!FE21","v":6300},{"$f":"SA!FI21-SA!FF21","v":2500},{"$f":"SA!FJ21-SA!FG21","v":2000},{"$f":"SA!FK21-SA!FH21","v":200},{"$f":"SA!FL21-SA!FI21","v":3800},{"$f":"SA!FM21-SA!FJ21","v":2900},{"$f":"SA!FN21-SA!FK21","v":1900},{"$f":"SA!FO21-SA!FL21","v":600},{"$f":"SA!FP21-SA!FM21","v":200},{"$f":"SA!FQ21-SA!FN21","v":2000},{"$f":"SA!FR21-SA!FO21","v":2600},{"$f":"SA!FS21-SA!FP21","v":2100},{"$f":"SA!FT21-SA!FQ21","v":0},{"$f":"SA!FU21-SA!FR21","v":400},{"$f":"SA!FV21-SA!FS21","v":1200},{"$f":"SA!FW21-SA!FT21","v":1200},{"$f":"SA!FX21-SA!FU21","v":700},{"$f":"SA!FY21-SA!FV21","v":1100},{"$f":"SA!FZ21-SA!FW21","v":1500},{"$f":"SA!GA21-SA!FX21","v":3100},{"$f":"SA!GB21-SA!FY21","v":3800},{"$f":"SA!GC21-SA!FZ21","v":1400},{"$f":"SA!GD21-SA!GA21","v":500},{"$f":"SA!GE21-SA!GB21","v":-2100},{"$f":"SA!GF21-SA!GC21","v":1200},{"$f":"SA!GG21-SA!GD21","v":1400},{"$f":"SA!GH21-SA!GE21","v":3300},{"$f":"SA!GI21-SA!GF21","v":2600},{"$f":"SA!GJ21-SA!GG21","v":3700},{"$f":"SA!GK21-SA!GH21","v":4200},{"$f":"SA!GL21-SA!GI21","v":2700},{"$f":"SA!GM21-SA!GJ21","v":1700},{"$f":"SA!GN21-SA!GK21","v":1100},{"$f":"SA!GO21-SA!GL21","v":3800},{"$f":"SA!GP21-SA!GM21","v":5100},{"$f":"SA!GQ21-SA!GN21","v":3800},{"$f":"SA!GR21-SA!GO21","v":2100},{"$f":"SA!GS21-SA!GP21","v":100},{"$f":"SA!GT21-SA!GQ21","v":-800},{"$f":"SA!GU21-SA!GR21","v":-900},{"$f":"SA!GV21-SA!GS21","v":-600},{"$f":"SA!GW21-SA!GT21","v":200},{"$f":"SA!GX21-SA!GU21","v":1400},{"$f":"SA!GY21-SA!GV21","v":-100},{"$f":"SA!GZ21-SA!GW21","v":500},{"$f":"SA!HA21-SA!GX21","v":-200},{"$f":"SA!HB21-SA!GY21","v":1500},{"$f":"SA!HC21-SA!GZ21","v":-100},{"$f":"SA!HD21-SA!HA21","v":2000},{"$f":"SA!HE21-SA!HB21","v":1600},{"$f":"SA!HF21-SA!HC21","v":2200},{"$f":"SA!HG21-SA!HD21","v":100},{"$f":"SA!HH21-SA!HE21","v":-300},{"$f":"SA!HI21-SA!HF21","v":-600},{"$f":"SA!HJ21-SA!HG21","v":-1400},{"$f":"SA!HK21-SA!HH21","v":600},{"$f":"SA!HL21-SA!HI21","v":2700},{"$f":"SA!HM21-SA!HJ21","v":4700},{"$f":"SA!HN21-SA!HK21","v":700},{"$f":"SA!HO21-SA!HL21","v":-300},{"$f":"SA!HP21-SA!HM21","v":1700},{"$f":"SA!HQ21-SA!HN21","v":4000},{"$f":"SA!HR21-SA!HO21","v":2100},{"$f":"SA!HS21-SA!HP21","v":-5100},{"$f":"SA!HT21-SA!HQ21","v":-7600},{"$f":"SA!HU21-SA!HR21","v":-6100},{"$f":"SA!HV21-SA!HS21","v":-1300},{"$f":"SA!HW21-SA!HT21","v":-300},{"$f":"SA!HX21-SA!HU21","v":-100},{"$f":"SA!HY21-SA!HV21","v":-1500},{"$f":"SA!HZ21-SA!HW21","v":1900},{"$f":"SA!IA21-SA!HX21","v":3500},{"$f":"SA!IB21-SA!HY21","v":3600},{"$f":"SA!IC21-SA!HZ21","v":4300},{"$f":"SA!ID21-SA!IA21","v":500},{"$f":"SA!IE21-SA!IB21","v":-1900},{"$f":"SA!IF21-SA!IC21","v":-6700},{"$f":"SA!IG21-SA!ID21","v":-3300},{"$f":"SA!IH21-SA!IE21","v":500},{"$f":"SA!II21-SA!IF21","v":5000},{"$f":"SA!IJ21-SA!IG21","v":3600},{"$f":"SA!IK21-SA!IH21","v":2000},{"$f":"SA!IL21-SA!II21","v":-326600},6260.87,{"$f":"COUNTIF(EY95:FY95, \">\" &GA95)","v":0},null,"Professional and Business Services",-14599.999999999971,-800,200,1300,1800,2600,3950,7400,3347.0228913492424]
["  Professional, Scientific, and Technical Services",{"$f":"SA!BN22-SA!BK22","v":1100},{"$f":"SA!BO22-SA!BL22","v":900},{"$f":"SA!BP22-SA!BM22","v":1000},{"$f":"SA!BQ22-SA!BN22","v":400},{"$f":"SA!BR22-SA!BO22","v":400},{"$f":"SA!BS22-SA!BP22","v":500},{"$f":"SA!BT22-SA!BQ22","v":1100},{"$f":"SA!BU22-SA!BR22","v":1300},{"$f":"SA!BV22-SA!BS22","v":1300},{"$f":"SA!BW22-SA!BT22","v":800},{"$f":"SA!BX22-SA!BU22","v":700},{"$f":"SA!BY22-SA!BV22","v":900},{"$f":"SA!BZ22-SA!BW22","v":900},{"$f":"SA!CA22-SA!BX22","v":800},{"$f":"SA!CB22-SA!BY22","v":300},{"$f":"SA!CC22-SA!BZ22","v":1100},{"$f":"SA!CD22-SA!CA22","v":800},{"$f":"SA!CE22-SA!CB22","v":1100},{"$f":"SA!CF22-SA!CC22","v":300},{"$f":"SA!CG22-SA!CD22","v":400},{"$f":"SA!CH22-SA!CE22","v":200},{"$f":"SA!CI22-SA!CF22","v":300},{"$f":"SA!CJ22-SA!CG22","v":300},{"$f":"SA!CK22-SA!CH22","v":100},{"$f":"SA!CL22-SA!CI22","v":600},{"$f":"SA!CM22-SA!CJ22","v":700},{"$f":"SA!CN22-SA!CK22","v":1200},{"$f":"SA!CO22-SA!CL22","v":1100},{"$f":"SA!CP22-SA!CM22","v":1400},{"$f":"SA!CQ22-SA!CN22","v":1300},{"$f":"SA!CR22-SA!CO22","v":1000},{"$f":"SA!CS22-SA!CP22","v":800},{"$f":"SA!CT22-SA!CQ22","v":600},{"$f":"SA!CU22-SA!CR22","v":300},{"$f":"SA!CV22-SA!CS22","v":300},{"$f":"SA!CW22-SA!CT22","v":300},{"$f":"SA!CX22-SA!CU22","v":500},{"$f":"SA!CY22-SA!CV22","v":600},{"$f":"SA!CZ22-SA!CW22","v":500},{"$f":"SA!DA22-SA!CX22","v":1600},{"$f":"SA!DB22-SA!CY22","v":1000},{"$f":"SA!DC22-SA!CZ22","v":1100},{"$f":"SA!DD22-SA!DA22","v":-300},{"$f":"SA!DE22-SA!DB22","v":200},{"$f":"SA!DF22-SA!DC22","v":200},{"$f":"SA!DG22-SA!DD22","v":-100},{"$f":"SA!DH22-SA!DE22","v":-800},{"$f":"SA!DI22-SA!DF22","v":-1200},{"$f":"SA!DJ22-SA!DG22","v":-1600},{"$f":"SA!DK22-SA!DH22","v":-1800},{"$f":"SA!DL22-SA!DI22","v":-2400},{"$f":"SA!DM22-SA!DJ22","v":-2800},{"$f":"SA!DN22-SA!DK22","v":-3200},{"$f":"SA!DO22-SA!DL22","v":-2700},{"$f":"SA!DP22-SA!DM22","v":-2400},{"$f":"SA!DQ22-SA!DN22","v":-1900},{"$f":"SA!DR22-SA!DO22","v":-1700},{"$f":"SA!DS22-SA!DP22","v":-900},{"$f":"SA!DT22-SA!DQ22","v":100},{"$f":"SA!DU22-SA!DR22","v":-200},{"$f":"SA!DV22-SA!DS22","v":-100},{"$f":"SA!DW22-SA!DT22","v":-600},{"$f":"SA!DX22-SA!DU22","v":0},{"$f":"SA!DY22-SA!DV22","v":0},{"$f":"SA!DZ22-SA!DW22","v":200},{"$f":"SA!EA22-SA!DX22","v":100},{"$f":"SA!EB22-SA!DY22","v":600},{"$f":"SA!EC22-SA!DZ22","v":600},{"$f":"SA!ED22-SA!EA22","v":400},{"$f":"SA!EE22-SA!EB22","v":700},{"$f":"SA!EF22-SA!EC22","v":800},{"$f":"SA!EG22-SA!ED22","v":1500},{"$f":"SA!EH22-SA!EE22","v":1000},{"$f":"SA!EI22-SA!EF22","v":1100},{"$f":"SA!EJ22-SA!EG22","v":500},{"$f":"SA!EK22-SA!EH22","v":1000},{"$f":"SA!EL22-SA!EI22","v":500},{"$f":"SA!EM22-SA!EJ22","v":300},{"$f":"SA!EN22-SA!EK22","v":-200},{"$f":"SA!EO22-SA!EL22","v":200},{"$f":"SA!EP22-SA!EM22","v":900},{"$f":"SA!EQ22-SA!EN22","v":500},{"$f":"SA!ER22-SA!EO22","v":1000},{"$f":"SA!ES22-SA!EP22","v":100},{"$f":"SA!ET22-SA!EQ22","v":500},{"$f":"SA!EU22-SA!ER22","v":0},{"$f":"SA!EV22-SA!ES22","v":800},{"$f":"SA!EW22-SA!ET22","v":800},{"$f":"SA!EX22-SA!EU22","v":700},{"$f":"SA!EY22-SA!EV22","v":900},{"$f":"SA!EZ22-SA!EW22","v":100},{"$f":"SA!FA22-SA!EX22","v":100},{"$f":"SA!FB22-SA!EY22","v":-300},{"$f":"SA!FC22-SA!EZ22","v":700},{"$f":"SA!FD22-SA!FA22","v":2100},{"$f":"SA!FE22-SA!FB22","v":400},{"$f":"SA!FF22-SA!FC22","v":300},{"$f":"SA!FG22-SA!FD22","v":-900},{"$f":"SA!FH22-SA!FE22","v":800},{"$f":"SA!FI22-SA!FF22","v":400},{"$f":"SA!FJ22-SA!FG22","v":300},{"$f":"SA!FK22-SA!FH22","v":0},{"$f":"SA!FL22-SA!FI22","v":900},{"$f":"SA!FM22-SA!FJ22","v":500},{"$f":"SA!FN22-SA!FK22","v":900},{"$f":"SA!FO22-SA!FL22","v":100},{"$f":"SA!FP22-SA!FM22","v":-400},{"$f":"SA!FQ22-SA!FN22","v":800},{"$f":"SA!FR22-SA!FO22","v":100},{"$f":"SA!FS22-SA!FP22","v":900},{"$f":"SA!FT22-SA!FQ22","v":-200},{"$f":"SA!FU22-SA!FR22","v":400},{"$f":"SA!FV22-SA!FS22","v":400},{"$f":"SA!FW22-SA!FT22","v":500},{"$f":"SA!FX22-SA!FU22","v":500},{"$f":"SA!FY22-SA!FV22","v":600},{"$f":"SA!FZ22-SA!FW22","v":0},{"$f":"SA!GA22-SA!FX22","v":0},{"$f":"SA!GB22-SA!FY22","v":100},{"$f":"SA!GC22-SA!FZ22","v":800},{"$f":"SA!GD22-SA!GA22","v":1800},{"$f":"SA!GE22-SA!GB22","v":1400},{"$f":"SA!GF22-SA!GC22","v":1400},{"$f":"SA!GG22-SA!GD22","v":600},{"$f":"SA!GH22-SA!GE22","v":1200},{"$f":"SA!GI22-SA!GF22","v":1000},{"$f":"SA!GJ22-SA!GG22","v":1000},{"$f":"SA!GK22-SA!GH22","v":700},{"$f":"SA!GL22-SA!GI22","v":700},{"$f":"SA!GM22-SA!GJ22","v":1100},{"$f":"SA!GN22-SA!GK22","v":1200},{"$f":"SA!GO22-SA!GL22","v":1100},{"$f":"SA!GP22-SA!GM22","v":700},{"$f":"SA!GQ22-SA!GN22","v":600},{"$f":"SA!GR22-SA!GO22","v":500},{"$f":"SA!GS22-SA!GP22","v":800},{"$f":"SA!GT22-SA!GQ22","v":600},{"$f":"SA!GU22-SA!GR22","v":100},{"$f":"SA!GV22-SA!GS22","v":400},{"$f":"SA!GW22-SA!GT22","v":600},{"$f":"SA!GX22-SA!GU22","v":1300},{"$f":"SA!GY22-SA!GV22","v":200},{"$f":"SA!GZ22-SA!GW22","v":0},{"$f":"SA!HA22-SA!GX22","v":-300},{"$f":"SA!HB22-SA!GY22","v":100},{"$f":"SA!HC22-SA!GZ22","v":200},{"$f":"SA!HD22-SA!HA22","v":400},{"$f":"SA!HE22-SA!HB22","v":300},{"$f":"SA!HF22-SA!HC22","v":400},{"$f":"SA!HG22-SA!HD22","v":700},{"$f":"SA!HH22-SA!HE22","v":400},{"$f":"SA!HI22-SA!HF22","v":200},{"$f":"SA!HJ22-SA!HG22","v":-200},{"$f":"SA!HK22-SA!HH22","v":400},{"$f":"SA!HL22-SA!HI22","v":500},{"$f":"SA!HM22-SA!HJ22","v":1300},{"$f":"SA!HN22-SA!HK22","v":1400},{"$f":"SA!HO22-SA!HL22","v":500},{"$f":"SA!HP22-SA!HM22","v":-300},{"$f":"SA!HQ22-SA!HN22","v":-600},{"$f":"SA!HR22-SA!HO22","v":-600},{"$f":"SA!HS22-SA!HP22","v":-2500},{"$f":"SA!HT22-SA!HQ22","v":-3100},{"$f":"SA!HU22-SA!HR22","v":-2300},{"$f":"SA!HV22-SA!HS22","v":0},{"$f":"SA!HW22-SA!HT22","v":200},{"$f":"SA!HX22-SA!HU22","v":400},{"$f":"SA!HY22-SA!HV22","v":0},{"$f":"SA!HZ22-SA!HW22","v":4500},{"$f":"SA!IA22-SA!HX22","v":5000},{"$f":"SA!IB22-SA!HY22","v":4900},{"$f":"SA!IC22-SA!HZ22","v":1000},{"$f":"SA!ID22-SA!IA22","v":-200},{"$f":"SA!IE22-SA!IB22","v":-900},{"$f":"SA!IF22-SA!IC22","v":0},{"$f":"SA!IG22-SA!ID22","v":700},{"$f":"SA!IH22-SA!IE22","v":1500},{"$f":"SA!II22-SA!IF22","v":1300},{"$f":"SA!IJ22-SA!IG22","v":1300},{"$f":"SA!IK22-SA!IH22","v":700},{"$f":"SA!IL22-SA!II22","v":-113900},3054.7649999999999,{"$f":"COUNTIF(EY96:FY96, \">\" &GA96)","v":3},null,"  Professional, Scientific, and Technical Services",-3200,-200,200,400,500,800,1100,4500,968.57561430847056]
["  Administrative and Support and Waste Management and Remediation Services",{"$f":"SA!BN24-SA!BK24","v":900},{"$f":"SA!BO24-SA!BL24","v":1600},{"$f":"SA!BP24-SA!BM24","v":2399.9999999999854},{"$f":"SA!BQ24-SA!BN24","v":3100},{"$f":"SA!BR24-SA!BO24","v":1500},{"$f":"SA!BS24-SA!BP24","v":0},{"$f":"SA!BT24-SA!BQ24","v":200},{"$f":"SA!BU24-SA!BR24","v":1700.0000000000146},{"$f":"SA!BV24-SA!BS24","v":2300.0000000000146},{"$f":"SA!BW24-SA!BT24","v":-900.00000000001455},{"$f":"SA!BX24-SA!BU24","v":399.9999999999709},{"$f":"SA!BY24-SA!BV24","v":800},{"$f":"SA!BZ24-SA!BW24","v":1800.0000000000146},{"$f":"SA!CA24-SA!BX24","v":1700.0000000000146},{"$f":"SA!CB24-SA!BY24","v":1400},{"$f":"SA!CC24-SA!BZ24","v":4000},{"$f":"SA!CD24-SA!CA24","v":1800},{"$f":"SA!CE24-SA!CB24","v":1500},{"$f":"SA!CF24-SA!CC24","v":-1500},{"$f":"SA!CG24-SA!CD24","v":-1000},{"$f":"SA!CH24-SA!CE24","v":-400},{"$f":"SA!CI24-SA!CF24","v":900},{"$f":"SA!CJ24-SA!CG24","v":1500},{"$f":"SA!CK24-SA!CH24","v":0},{"$f":"SA!CL24-SA!CI24","v":200},{"$f":"SA!CM24-SA!CJ24","v":0},{"$f":"SA!CN24-SA!CK24","v":1700},{"$f":"SA!CO24-SA!CL24","v":2000},{"$f":"SA!CP24-SA!CM24","v":2100},{"$f":"SA!CQ24-SA!CN24","v":2700},{"$f":"SA!CR24-SA!CO24","v":1200},{"$f":"SA!CS24-SA!CP24","v":1200},{"$f":"SA!CT24-SA!CQ24","v":-600},{"$f":"SA!CU24-SA!CR24","v":-700},{"$f":"SA!CV24-SA!CS24","v":-100},{"$f":"SA!CW24-SA!CT24","v":1800},{"$f":"SA!CX24-SA!CU24","v":2300},{"$f":"SA!CY24-SA!CV24","v":2100},{"$f":"SA!CZ24-SA!CW24","v":-400},{"$f":"SA!DA24-SA!CX24","v":-2700},{"$f":"SA!DB24-SA!CY24","v":-3000},{"$f":"SA!DC24-SA!CZ24","v":-1700},{"$f":"SA!DD24-SA!DA24","v":-200},{"$f":"SA!DE24-SA!DB24","v":-200},{"$f":"SA!DF24-SA!DC24","v":-2400},{"$f":"SA!DG24-SA!DD24","v":-4500},{"$f":"SA!DH24-SA!DE24","v":-7499.9999999999854},{"$f":"SA!DI24-SA!DF24","v":-7300},{"$f":"SA!DJ24-SA!DG24","v":-8600},{"$f":"SA!DK24-SA!DH24","v":-9900.0000000000146},{"$f":"SA!DL24-SA!DI24","v":-11700},{"$f":"SA!DM24-SA!DJ24","v":-8500},{"$f":"SA!DN24-SA!DK24","v":-3400},{"$f":"SA!DO24-SA!DL24","v":-1300},{"$f":"SA!DP24-SA!DM24","v":100},{"$f":"SA!DQ24-SA!DN24","v":-1100},{"$f":"SA!DR24-SA!DO24","v":700},{"$f":"SA!DS24-SA!DP24","v":2800},{"$f":"SA!DT24-SA!DQ24","v":4900},{"$f":"SA!DU24-SA!DR24","v":5800},{"$f":"SA!DV24-SA!DS24","v":4500},{"$f":"SA!DW24-SA!DT24","v":5100},{"$f":"SA!DX24-SA!DU24","v":2200},{"$f":"SA!DY24-SA!DV24","v":6000.0000000000146},{"$f":"SA!DZ24-SA!DW24","v":4100},{"$f":"SA!EA24-SA!DX24","v":5800},{"$f":"SA!EB24-SA!DY24","v":2699.9999999999854},{"$f":"SA!EC24-SA!DZ24","v":3600},{"$f":"SA!ED24-SA!EA24","v":3700},{"$f":"SA!EE24-SA!EB24","v":3900},{"$f":"SA!EF24-SA!EC24","v":3200},{"$f":"SA!EG24-SA!ED24","v":4100},{"$f":"SA!EH24-SA!EE24","v":2700},{"$f":"SA!EI24-SA!EF24","v":1000},{"$f":"SA!EJ24-SA!EG24","v":1900},{"$f":"SA!EK24-SA!EH24","v":-1300},{"$f":"SA!EL24-SA!EI24","v":-700},{"$f":"SA!EM24-SA!EJ24","v":-1800},{"$f":"SA!EN24-SA!EK24","v":1500},{"$f":"SA!EO24-SA!EL24","v":1300},{"$f":"SA!EP24-SA!EM24","v":1400},{"$f":"SA!EQ24-SA!EN24","v":-100},{"$f":"SA!ER24-SA!EO24","v":300},{"$f":"SA!ES24-SA!EP24","v":-600},{"$f":"SA!ET24-SA!EQ24","v":800},{"$f":"SA!EU24-SA!ER24","v":1100},{"$f":"SA!EV24-SA!ES24","v":3700},{"$f":"SA!EW24-SA!ET24","v":2900},{"$f":"SA!EX24-SA!EU24","v":1000},{"$f":"SA!EY24-SA!EV24","v":-1800},{"$f":"SA!EZ24-SA!EW24","v":-2400},{"$f":"SA!FA24-SA!EX24","v":-1200},{"$f":"SA!FB24-SA!EY24","v":400},{"$f":"SA!FC24-SA!EZ24","v":1000},{"$f":"SA!FD24-SA!FA24","v":1600},{"$f":"SA!FE24-SA!FB24","v":-800},{"$f":"SA!FF24-SA!FC24","v":-400},{"$f":"SA!FG24-SA!FD24","v":1400},{"$f":"SA!FH24-SA!FE24","v":4500},{"$f":"SA!FI24-SA!FF24","v":1700},{"$f":"SA!FJ24-SA!FG24","v":1200},{"$f":"SA!FK24-SA!FH24","v":-100},{"$f":"SA!FL24-SA!FI24","v":2500},{"$f":"SA!FM24-SA!FJ24","v":1900},{"$f":"SA!FN24-SA!FK24","v":800},{"$f":"SA!FO24-SA!FL24","v":-100},{"$f":"SA!FP24-SA!FM24","v":100},{"$f":"SA!FQ24-SA!FN24","v":600},{"$f":"SA!FR24-SA!FO24","v":2900},{"$f":"SA!FS24-SA!FP24","v":1600},{"$f":"SA!FT24-SA!FQ24","v":600},{"$f":"SA!FU24-SA!FR24","v":-400},{"$f":"SA!FV24-SA!FS24","v":400},{"$f":"SA!FW24-SA!FT24","v":300},{"$f":"SA!FX24-SA!FU24","v":-100},{"$f":"SA!FY24-SA!FV24","v":0},{"$f":"SA!FZ24-SA!FW24","v":1100},{"$f":"SA!GA24-SA!FX24","v":2800},{"$f":"SA!GB24-SA!FY24","v":3700},{"$f":"SA!GC24-SA!FZ24","v":500},{"$f":"SA!GD24-SA!GA24","v":-2600},{"$f":"SA!GE24-SA!GB24","v":-5000},{"$f":"SA!GF24-SA!GC24","v":-2000},{"$f":"SA!GG24-SA!GD24","v":-300},{"$f":"SA!GH24-SA!GE24","v":700},{"$f":"SA!GI24-SA!GF24","v":200},{"$f":"SA!GJ24-SA!GG24","v":700},{"$f":"SA!GK24-SA!GH24","v":1200},{"$f":"SA!GL24-SA!GI24","v":-200},{"$f":"SA!GM24-SA!GJ24","v":-1200},{"$f":"SA!GN24-SA!GK24","v":-1500},{"$f":"SA!GO24-SA!GL24","v":1000},{"$f":"SA!GP24-SA!GM24","v":2700},{"$f":"SA!GQ24-SA!GN24","v":1900},{"$f":"SA!GR24-SA!GO24","v":200},{"$f":"SA!GS24-SA!GP24","v":-1600},{"$f":"SA!GT24-SA!GQ24","v":-2100},{"$f":"SA!GU24-SA!GR24","v":-1100},{"$f":"SA!GV24-SA!GS24","v":-1200},{"$f":"SA!GW24-SA!GT24","v":-600},{"$f":"SA!GX24-SA!GU24","v":0},{"$f":"SA!GY24-SA!GV24","v":-100},{"$f":"SA!GZ24-SA!GW24","v":700},{"$f":"SA!HA24-SA!GX24","v":400},{"$f":"SA!HB24-SA!GY24","v":400},{"$f":"SA!HC24-SA!GZ24","v":-1300},{"$f":"SA!HD24-SA!HA24","v":600},{"$f":"SA!HE24-SA!HB24","v":1500},{"$f":"SA!HF24-SA!HC24","v":2100},{"$f":"SA!HG24-SA!HD24","v":-300},{"$f":"SA!HH24-SA!HE24","v":-100},{"$f":"SA!HI24-SA!HF24","v":-400},{"$f":"SA!HJ24-SA!HG24","v":-800},{"$f":"SA!HK24-SA!HH24","v":100},{"$f":"SA!HL24-SA!HI24","v":2000},{"$f":"SA!HM24-SA!HJ24","v":2500},{"$f":"SA!HN24-SA!HK24","v":-500},{"$f":"SA!HO24-SA!HL24","v":-900},{"$f":"SA!HP24-SA!HM24","v":2300},{"$f":"SA!HQ24-SA!HN24","v":3500},{"$f":"SA!HR24-SA!HO24","v":2300},{"$f":"SA!HS24-SA!HP24","v":-2600},{"$f":"SA!HT24-SA!HQ24","v":-3200},{"$f":"SA!HU24-SA!HR24","v":-2500},{"$f":"SA!HV24-SA!HS24","v":-300},{"$f":"SA!HW24-SA!HT24","v":-500},{"$f":"SA!HX24-SA!HU24","v":-1000},{"$f":"SA!HY24-SA!HV24","v":-1800},{"$f":"SA!HZ24-SA!HW24","v":-500},{"$f":"SA!IA24-SA!HX24","v":500},{"$f":"SA!IB24-SA!HY24","v":900},{"$f":"SA!IC24-SA!HZ24","v":3200},{"$f":"SA!ID24-SA!IA24","v":900},{"$f":"SA!IE24-SA!IB24","v":-900},{"$f":"SA!IF24-SA!IC24","v":-6800},{"$f":"SA!IG24-SA!ID24","v":-4100},{"$f":"SA!IH24-SA!IE24","v":-1100},{"$f":"SA!II24-SA!IF24","v":3900},{"$f":"SA!IJ24-SA!IG24","v":2800},{"$f":"SA!IK24-SA!IH24","v":1700},{"$f":"SA!IL24-SA!II24","v":-146300},5300.1900000000005,{"$f":"COUNTIF(EY97:FY97, \">\" &GA97)","v":0},null,"  Administrative and Support and Waste Management and Remediation Services",-11700,-1500,-400,200,750.00000000000136,1600,2699.9999999999927,6000.0000000000146,2645.8743805596218]
["Education and Health Services",{"$f":"SA!BN25-SA!BK25","v":2200},{"$f":"SA!BO25-SA!BL25","v":2000},{"$f":"SA!BP25-SA!BM25","v":2100},{"$f":"SA!BQ25-SA!BN25","v":1900},{"$f":"SA!BR25-SA!BO25","v":2200},{"$f":"SA!BS25-SA!BP25","v":1800},{"$f":"SA!BT25-SA!BQ25","v":1700},{"$f":"SA!BU25-SA!BR25","v":1700},{"$f":"SA!BV25-SA!BS25","v":2200},{"$f":"SA!BW25-SA!BT25","v":1700},{"$f":"SA!BX25-SA!BU25","v":2000},{"$f":"SA!BY25-SA!BV25","v":1200},{"$f":"SA!BZ25-SA!BW25","v":2300},{"$f":"SA!CA25-SA!BX25","v":2500},{"$f":"SA!CB25-SA!BY25","v":1900},{"$f":"SA!CC25-SA!BZ25","v":1800},{"$f":"SA!CD25-SA!CA25","v":1200},{"$f":"SA!CE25-SA!CB25","v":2000},{"$f":"SA!CF25-SA!CC25","v":2200},{"$f":"SA!CG25-SA!CD25","v":1900},{"$f":"SA!CH25-SA!CE25","v":2200},{"$f":"SA!CI25-SA!CF25","v":2100},{"$f":"SA!CJ25-SA!CG25","v":2200},{"$f":"SA!CK25-SA!CH25","v":1300},{"$f":"SA!CL25-SA!CI25","v":200},{"$f":"SA!CM25-SA!CJ25","v":500},{"$f":"SA!CN25-SA!CK25","v":1000},{"$f":"SA!CO25-SA!CL25","v":1500},{"$f":"SA!CP25-SA!CM25","v":1400},{"$f":"SA!CQ25-SA!CN25","v":1900},{"$f":"SA!CR25-SA!CO25","v":2300},{"$f":"SA!CS25-SA!CP25","v":2500},{"$f":"SA!CT25-SA!CQ25","v":2600},{"$f":"SA!CU25-SA!CR25","v":-500},{"$f":"SA!CV25-SA!CS25","v":-1600},{"$f":"SA!CW25-SA!CT25","v":-1500},{"$f":"SA!CX25-SA!CU25","v":1300},{"$f":"SA!CY25-SA!CV25","v":2100},{"$f":"SA!CZ25-SA!CW25","v":1600},{"$f":"SA!DA25-SA!CX25","v":2300},{"$f":"SA!DB25-SA!CY25","v":2400},{"$f":"SA!DC25-SA!CZ25","v":2800},{"$f":"SA!DD25-SA!DA25","v":2600},{"$f":"SA!DE25-SA!DB25","v":2900},{"$f":"SA!DF25-SA!DC25","v":2900},{"$f":"SA!DG25-SA!DD25","v":3500},{"$f":"SA!DH25-SA!DE25","v":4000},{"$f":"SA!DI25-SA!DF25","v":4700},{"$f":"SA!DJ25-SA!DG25","v":2300},{"$f":"SA!DK25-SA!DH25","v":1800},{"$f":"SA!DL25-SA!DI25","v":300},{"$f":"SA!DM25-SA!DJ25","v":300},{"$f":"SA!DN25-SA!DK25","v":100},{"$f":"SA!DO25-SA!DL25","v":1300},{"$f":"SA!DP25-SA!DM25","v":1600},{"$f":"SA!DQ25-SA!DN25","v":1500},{"$f":"SA!DR25-SA!DO25","v":-1600},{"$f":"SA!DS25-SA!DP25","v":-300},{"$f":"SA!DT25-SA!DQ25","v":-1300},{"$f":"SA!DU25-SA!DR25","v":-400},{"$f":"SA!DV25-SA!DS25","v":700},{"$f":"SA!DW25-SA!DT25","v":1600},{"$f":"SA!DX25-SA!DU25","v":2900},{"$f":"SA!DY25-SA!DV25","v":-1700},{"$f":"SA!DZ25-SA!DW25","v":-2500},{"$f":"SA!EA25-SA!DX25","v":-1900},{"$f":"SA!EB25-SA!DY25","v":2300},{"$f":"SA!EC25-SA!DZ25","v":3600},{"$f":"SA!ED25-SA!EA25","v":600},{"$f":"SA!EE25-SA!EB25","v":-400},{"$f":"SA!EF25-SA!EC25","v":-1200},{"$f":"SA!EG25-SA!ED25","v":800},{"$f":"SA!EH25-SA!EE25","v":400},{"$f":"SA!EI25-SA!EF25","v":100},{"$f":"SA!EJ25-SA!EG25","v":-1000},{"$f":"SA!EK25-SA!EH25","v":1400},{"$f":"SA!EL25-SA!EI25","v":2100},{"$f":"SA!EM25-SA!EJ25","v":3300},{"$f":"SA!EN25-SA!EK25","v":1800},{"$f":"SA!EO25-SA!EL25","v":1300},{"$f":"SA!EP25-SA!EM25","v":2300},{"$f":"SA!EQ25-SA!EN25","v":1600},{"$f":"SA!ER25-SA!EO25","v":2100},{"$f":"SA!ES25-SA!EP25","v":1700},{"$f":"SA!ET25-SA!EQ25","v":1800},{"$f":"SA!EU25-SA!ER25","v":2100},{"$f":"SA!EV25-SA!ES25","v":2200},{"$f":"SA!EW25-SA!ET25","v":2400},{"$f":"SA!EX25-SA!EU25","v":1700},{"$f":"SA!EY25-SA!EV25","v":1400},{"$f":"SA!EZ25-SA!EW25","v":-2000},{"$f":"SA!FA25-SA!EX25","v":300},{"$f":"SA!FB25-SA!EY25","v":2000},{"$f":"SA!FC25-SA!EZ25","v":6600},{"$f":"SA!FD25-SA!FA25","v":4400},{"$f":"SA!FE25-SA!FB25","v":2700},{"$f":"SA!FF25-SA!FC25","v":-200},{"$f":"SA!FG25-SA!FD25","v":200},{"$f":"SA!FH25-SA!FE25","v":0},{"$f":"SA!FI25-SA!FF25","v":1100},{"$f":"SA!FJ25-SA!FG25","v":1400},{"$f":"SA!FK25-SA!FH25","v":700},{"$f":"SA!FL25-SA!FI25","v":900},{"$f":"SA!FM25-SA!FJ25","v":1500},{"$f":"SA!FN25-SA!FK25","v":2100},{"$f":"SA!FO25-SA!FL25","v":2400},{"$f":"SA!FP25-SA!FM25","v":1400},{"$f":"SA!FQ25-SA!FN25","v":600},{"$f":"SA!FR25-SA!FO25","v":1900},{"$f":"SA!FS25-SA!FP25","v":1600},{"$f":"SA!FT25-SA!FQ25","v":2500},{"$f":"SA!FU25-SA!FR25","v":1300},{"$f":"SA!FV25-SA!FS25","v":1500},{"$f":"SA!FW25-SA!FT25","v":1900},{"$f":"SA!FX25-SA!FU25","v":1500},{"$f":"SA!FY25-SA!FV25","v":1800},{"$f":"SA!FZ25-SA!FW25","v":1400},{"$f":"SA!GA25-SA!FX25","v":1000},{"$f":"SA!GB25-SA!FY25","v":1500},{"$f":"SA!GC25-SA!FZ25","v":1400},{"$f":"SA!GD25-SA!GA25","v":1000},{"$f":"SA!GE25-SA!GB25","v":700},{"$f":"SA!GF25-SA!GC25","v":1300},{"$f":"SA!GG25-SA!GD25","v":1700},{"$f":"SA!GH25-SA!GE25","v":2100},{"$f":"SA!GI25-SA!GF25","v":1200},{"$f":"SA!GJ25-SA!GG25","v":2500},{"$f":"SA!GK25-SA!GH25","v":800},{"$f":"SA!GL25-SA!GI25","v":900},{"$f":"SA!GM25-SA!GJ25","v":1300},{"$f":"SA!GN25-SA!GK25","v":2600},{"$f":"SA!GO25-SA!GL25","v":3400},{"$f":"SA!GP25-SA!GM25","v":2900},{"$f":"SA!GQ25-SA!GN25","v":2900},{"$f":"SA!GR25-SA!GO25","v":2400},{"$f":"SA!GS25-SA!GP25","v":2800},{"$f":"SA!GT25-SA!GQ25","v":2200},{"$f":"SA!GU25-SA!GR25","v":1500},{"$f":"SA!GV25-SA!GS25","v":2600},{"$f":"SA!GW25-SA!GT25","v":2100},{"$f":"SA!GX25-SA!GU25","v":2900},{"$f":"SA!GY25-SA!GV25","v":300},{"$f":"SA!GZ25-SA!GW25","v":900},{"$f":"SA!HA25-SA!GX25","v":100},{"$f":"SA!HB25-SA!GY25","v":1600},{"$f":"SA!HC25-SA!GZ25","v":1800},{"$f":"SA!HD25-SA!HA25","v":2300},{"$f":"SA!HE25-SA!HB25","v":1100},{"$f":"SA!HF25-SA!HC25","v":-200},{"$f":"SA!HG25-SA!HD25","v":2100},{"$f":"SA!HH25-SA!HE25","v":1100},{"$f":"SA!HI25-SA!HF25","v":2100},{"$f":"SA!HJ25-SA!HG25","v":-300},{"$f":"SA!HK25-SA!HH25","v":3000},{"$f":"SA!HL25-SA!HI25","v":1400},{"$f":"SA!HM25-SA!HJ25","v":1900},{"$f":"SA!HN25-SA!HK25","v":-100},{"$f":"SA!HO25-SA!HL25","v":1300},{"$f":"SA!HP25-SA!HM25","v":0},{"$f":"SA!HQ25-SA!HN25","v":-1400},{"$f":"SA!HR25-SA!HO25","v":-2000},{"$f":"SA!HS25-SA!HP25","v":-1000},{"$f":"SA!HT25-SA!HQ25","v":3400},{"$f":"SA!HU25-SA!HR25","v":4100},{"$f":"SA!HV25-SA!HS25","v":5800},{"$f":"SA!HW25-SA!HT25","v":3000},{"$f":"SA!HX25-SA!HU25","v":4200},{"$f":"SA!HY25-SA!HV25","v":3600},{"$f":"SA!HZ25-SA!HW25","v":100},{"$f":"SA!IA25-SA!HX25","v":-3300},{"$f":"SA!IB25-SA!HY25","v":-6300},{"$f":"SA!IC25-SA!HZ25","v":-100},{"$f":"SA!ID25-SA!IA25","v":3600},{"$f":"SA!IE25-SA!IB25","v":4100},{"$f":"SA!IF25-SA!IC25","v":-400},{"$f":"SA!IG25-SA!ID25","v":-2000},{"$f":"SA!IH25-SA!IE25","v":-800},{"$f":"SA!II25-SA!IF25","v":1400},{"$f":"SA!IJ25-SA!IG25","v":2200},{"$f":"SA!IK25-SA!IH25","v":2600},{"$f":"SA!IL25-SA!II25","v":-459500},5806.85,{"$f":"COUNTIF(EY98:FY98, \">\" &GA98)","v":0},null,"Education and Health Services",-2500,100,1100,1500,1800,2199.9999999999986,2600,6600,1416.4019418859384]
["Educational Services",{"$f":"SA!BN26-SA!BK26","v":500},{"$f":"SA!BO26-SA!BL26","v":500},{"$f":"SA!BP26-SA!BM26","v":400},{"$f":"SA!BQ26-SA!BN26","v":200},{"$f":"SA!BR26-SA!BO26","v":200},{"$f":"SA!BS26-SA!BP26","v":200},{"$f":"SA!BT26-SA!BQ26","v":0},{"$f":"SA!BU26-SA!BR26","v":300},{"$f":"SA!BV26-SA!BS26","v":0},{"$f":"SA!BW26-SA!BT26","v":0},{"$f":"SA!BX26-SA!BU26","v":0},{"$f":"SA!BY26-SA!BV26","v":0},{"$f":"SA!BZ26-SA!BW26","v":500},{"$f":"SA!CA26-SA!BX26","v":400},{"$f":"SA!CB26-SA!BY26","v":400},{"$f":"SA!CC26-SA!BZ26","v":500},{"$f":"SA!CD26-SA!CA26","v":500},{"$f":"SA!CE26-SA!CB26","v":400},{"$f":"SA!CF26-SA!CC26","v":300},{"$f":"SA!CG26-SA!CD26","v":-200},{"$f":"SA!CH26-SA!CE26","v":200},{"$f":"SA!CI26-SA!CF26","v":0},{"$f":"SA!CJ26-SA!CG26","v":700},{"$f":"SA!CK26-SA!CH26","v":100},{"$f":"SA!CL26-SA!CI26","v":0},{"$f":"SA!CM26-SA!CJ26","v":-300},{"$f":"SA!CN26-SA!CK26","v":300},{"$f":"SA!CO26-SA!CL26","v":0},{"$f":"SA!CP26-SA!CM26","v":200},{"$f":"SA!CQ26-SA!CN26","v":-200},{"$f":"SA!CR26-SA!CO26","v":400},{"$f":"SA!CS26-SA!CP26","v":300},{"$f":"SA!CT26-SA!CQ26","v":600},{"$f":"SA!CU26-SA!CR26","v":-2100},{"$f":"SA!CV26-SA!CS26","v":-3100},{"$f":"SA!CW26-SA!CT26","v":-2800},{"$f":"SA!CX26-SA!CU26","v":-300},{"$f":"SA!CY26-SA!CV26","v":500},{"$f":"SA!CZ26-SA!CW26","v":0},{"$f":"SA!DA26-SA!CX26","v":700},{"$f":"SA!DB26-SA!CY26","v":500},{"$f":"SA!DC26-SA!CZ26","v":1100},{"$f":"SA!DD26-SA!DA26","v":800},{"$f":"SA!DE26-SA!DB26","v":1100},{"$f":"SA!DF26-SA!DC26","v":1200},{"$f":"SA!DG26-SA!DD26","v":1700},{"$f":"SA!DH26-SA!DE26","v":1900},{"$f":"SA!DI26-SA!DF26","v":2100},{"$f":"SA!DJ26-SA!DG26","v":700},{"$f":"SA!DK26-SA!DH26","v":400},{"$f":"SA!DL26-SA!DI26","v":-400},{"$f":"SA!DM26-SA!DJ26","v":-900},{"$f":"SA!DN26-SA!DK26","v":-900},{"$f":"SA!DO26-SA!DL26","v":300},{"$f":"SA!DP26-SA!DM26","v":1100},{"$f":"SA!DQ26-SA!DN26","v":1200},{"$f":"SA!DR26-SA!DO26","v":-1200},{"$f":"SA!DS26-SA!DP26","v":-1200},{"$f":"SA!DT26-SA!DQ26","v":-1500},{"$f":"SA!DU26-SA!DR26","v":-600},{"$f":"SA!DV26-SA!DS26","v":-100},{"$f":"SA!DW26-SA!DT26","v":200},{"$f":"SA!DX26-SA!DU26","v":600},{"$f":"SA!DY26-SA!DV26","v":-600},{"$f":"SA!DZ26-SA!DW26","v":-1400},{"$f":"SA!EA26-SA!DX26","v":-300},{"$f":"SA!EB26-SA!DY26","v":1500},{"$f":"SA!EC26-SA!DZ26","v":2900},{"$f":"SA!ED26-SA!EA26","v":600},{"$f":"SA!EE26-SA!EB26","v":-1100},{"$f":"SA!EF26-SA!EC26","v":-2100},{"$f":"SA!EG26-SA!ED26","v":-1000},{"$f":"SA!EH26-SA!EE26","v":-100},{"$f":"SA!EI26-SA!EF26","v":-200},{"$f":"SA!EJ26-SA!EG26","v":-1100},{"$f":"SA!EK26-SA!EH26","v":100},{"$f":"SA!EL26-SA!EI26","v":900},{"$f":"SA!EM26-SA!EJ26","v":1600},{"$f":"SA!EN26-SA!EK26","v":700},{"$f":"SA!EO26-SA!EL26","v":500},{"$f":"SA!EP26-SA!EM26","v":700},{"$f":"SA!EQ26-SA!EN26","v":300},{"$f":"SA!ER26-SA!EO26","v":300},{"$f":"SA!ES26-SA!EP26","v":200},{"$f":"SA!ET26-SA!EQ26","v":-1000},{"$f":"SA!EU26-SA!ER26","v":-1100},{"$f":"SA!EV26-SA!ES26","v":-600},{"$f":"SA!EW26-SA!ET26","v":600},{"$f":"SA!EX26-SA!EU26","v":700},{"$f":"SA!EY26-SA!EV26","v":0},{"$f":"SA!EZ26-SA!EW26","v":-4100},{"$f":"SA!FA26-SA!EX26","v":-2400},{"$f":"SA!FB26-SA!EY26","v":-800},{"$f":"SA!FC26-SA!EZ26","v":3900},{"$f":"SA!FD26-SA!FA26","v":2000},{"$f":"SA!FE26-SA!FB26","v":900},{"$f":"SA!FF26-SA!FC26","v":-500},{"$f":"SA!FG26-SA!FD26","v":-400},{"$f":"SA!FH26-SA!FE26","v":-500},{"$f":"SA!FI26-SA!FF26","v":0},{"$f":"SA!FJ26-SA!FG26","v":-100},{"$f":"SA!FK26-SA!FH26","v":-300},{"$f":"SA!FL26-SA!FI26","v":-200},{"$f":"SA!FM26-SA!FJ26","v":100},{"$f":"SA!FN26-SA!FK26","v":200},{"$f":"SA!FO26-SA!FL26","v":500},{"$f":"SA!FP26-SA!FM26","v":200},{"$f":"SA!FQ26-SA!FN26","v":0},{"$f":"SA!FR26-SA!FO26","v":100},{"$f":"SA!FS26-SA!FP26","v":-200},{"$f":"SA!FT26-SA!FQ26","v":0},{"$f":"SA!FU26-SA!FR26","v":-200},{"$f":"SA!FV26-SA!FS26","v":400},{"$f":"SA!FW26-SA!FT26","v":100},{"$f":"SA!FX26-SA!FU26","v":200},{"$f":"SA!FY26-SA!FV26","v":0},{"$f":"SA!FZ26-SA!FW26","v":300},{"$f":"SA!GA26-SA!FX26","v":-100},{"$f":"SA!GB26-SA!FY26","v":-300},{"$f":"SA!GC26-SA!FZ26","v":100},{"$f":"SA!GD26-SA!GA26","v":100},{"$f":"SA!GE26-SA!GB26","v":400},{"$f":"SA!GF26-SA!GC26","v":100},{"$f":"SA!GG26-SA!GD26","v":100},{"$f":"SA!GH26-SA!GE26","v":0},{"$f":"SA!GI26-SA!GF26","v":-200},{"$f":"SA!GJ26-SA!GG26","v":400},{"$f":"SA!GK26-SA!GH26","v":-300},{"$f":"SA!GL26-SA!GI26","v":0},{"$f":"SA!GM26-SA!GJ26","v":-200},{"$f":"SA!GN26-SA!GK26","v":500},{"$f":"SA!GO26-SA!GL26","v":200},{"$f":"SA!GP26-SA!GM26","v":0},{"$f":"SA!GQ26-SA!GN26","v":-300},{"$f":"SA!GR26-SA!GO26","v":0},{"$f":"SA!GS26-SA!GP26","v":300},{"$f":"SA!GT26-SA!GQ26","v":500},{"$f":"SA!GU26-SA!GR26","v":400},{"$f":"SA!GV26-SA!GS26","v":300},{"$f":"SA!GW26-SA!GT26","v":100},{"$f":"SA!GX26-SA!GU26","v":-100},{"$f":"SA!GY26-SA!GV26","v":-300},{"$f":"SA!GZ26-SA!GW26","v":-100},{"$f":"SA!HA26-SA!GX26","v":0},{"$f":"SA!HB26-SA!GY26","v":100},{"$f":"SA!HC26-SA!GZ26","v":300},{"$f":"SA!HD26-SA!HA26","v":200},{"$f":"SA!HE26-SA!HB26","v":200},{"$f":"SA!HF26-SA!HC26","v":-600},{"$f":"SA!HG26-SA!HD26","v":200},{"$f":"SA!HH26-SA!HE26","v":-200},{"$f":"SA!HI26-SA!HF26","v":300},{"$f":"SA!HJ26-SA!HG26","v":200},{"$f":"SA!HK26-SA!HH26","v":300},{"$f":"SA!HL26-SA!HI26","v":500},{"$f":"SA!HM26-SA!HJ26","v":0},{"$f":"SA!HN26-SA!HK26","v":200},{"$f":"SA!HO26-SA!HL26","v":700},{"$f":"SA!HP26-SA!HM26","v":400},{"$f":"SA!HQ26-SA!HN26","v":100},{"$f":"SA!HR26-SA!HO26","v":-800},{"$f":"SA!HS26-SA!HP26","v":-900},{"$f":"SA!HT26-SA!HQ26","v":-600},{"$f":"SA!HU26-SA!HR26","v":-500},{"$f":"SA!HV26-SA!HS26","v":1300},{"$f":"SA!HW26-SA!HT26","v":2000},{"$f":"SA!HX26-SA!HU26","v":2500},{"$f":"SA!HY26-SA!HV26","v":1100},{"$f":"SA!HZ26-SA!HW26","v":600},{"$f":"SA!IA26-SA!HX26","v":-500},{"$f":"SA!IB26-SA!HY26","v":-600},{"$f":"SA!IC26-SA!HZ26","v":-600},{"$f":"SA!ID26-SA!IA26","v":400},{"$f":"SA!IE26-SA!IB26","v":600},{"$f":"SA!IF26-SA!IC26","v":600},{"$f":"SA!IG26-SA!ID26","v":300},{"$f":"SA!IH26-SA!IE26","v":-200},{"$f":"SA!II26-SA!IF26","v":-1000},{"$f":"SA!IJ26-SA!IG26","v":-800},{"$f":"SA!IK26-SA!IH26","v":-500},{"$f":"SA!IL26-SA!II26","v":-52300},4224.3599999999997,{"$f":"COUNTIF(EY99:FY99, \">\" &GA99)","v":0},null,"Educational Services",-4100,-550,-100,100,200,400,700,3900,924.95068507785129]
["Health Care and Social Assistance",{"$f":"SA!BN27-SA!BK27","v":1700},{"$f":"SA!BO27-SA!BL27","v":1500},{"$f":"SA!BP27-SA!BM27","v":1700},{"$f":"SA!BQ27-SA!BN27","v":1700},{"$f":"SA!BR27-SA!BO27","v":2000},{"$f":"SA!BS27-SA!BP27","v":1600},{"$f":"SA!BT27-SA!BQ27","v":1700},{"$f":"SA!BU27-SA!BR27","v":1400},{"$f":"SA!BV27-SA!BS27","v":2200},{"$f":"SA!BW27-SA!BT27","v":1700},{"$f":"SA!BX27-SA!BU27","v":2000},{"$f":"SA!BY27-SA!BV27","v":1200},{"$f":"SA!BZ27-SA!BW27","v":1800},{"$f":"SA!CA27-SA!BX27","v":2100},{"$f":"SA!CB27-SA!BY27","v":1500},{"$f":"SA!CC27-SA!BZ27","v":1300},{"$f":"SA!CD27-SA!CA27","v":700},{"$f":"SA!CE27-SA!CB27","v":1600},{"$f":"SA!CF27-SA!CC27","v":1900},{"$f":"SA!CG27-SA!CD27","v":2100},{"$f":"SA!CH27-SA!CE27","v":2000},{"$f":"SA!CI27-SA!CF27","v":2100},{"$f":"SA!CJ27-SA!CG27","v":1500},{"$f":"SA!CK27-SA!CH27","v":1200},{"$f":"SA!CL27-SA!CI27","v":200},{"$f":"SA!CM27-SA!CJ27","v":800},{"$f":"SA!CN27-SA!CK27","v":700},{"$f":"SA!CO27-SA!CL27","v":1500},{"$f":"SA!CP27-SA!CM27","v":1200},{"$f":"SA!CQ27-SA!CN27","v":2100},{"$f":"SA!CR27-SA!CO27","v":1900},{"$f":"SA!CS27-SA!CP27","v":2200},{"$f":"SA!CT27-SA!CQ27","v":2000},{"$f":"SA!CU27-SA!CR27","v":1600},{"$f":"SA!CV27-SA!CS27","v":1500},{"$f":"SA!CW27-SA!CT27","v":1300},{"$f":"SA!CX27-SA!CU27","v":1600},{"$f":"SA!CY27-SA!CV27","v":1600},{"$f":"SA!CZ27-SA!CW27","v":1600},{"$f":"SA!DA27-SA!CX27","v":1600},{"$f":"SA!DB27-SA!CY27","v":1900},{"$f":"SA!DC27-SA!CZ27","v":1700},{"$f":"SA!DD27-SA!DA27","v":1800},{"$f":"SA!DE27-SA!DB27","v":1800},{"$f":"SA!DF27-SA!DC27","v":1700},{"$f":"SA!DG27-SA!DD27","v":1800},{"$f":"SA!DH27-SA!DE27","v":2100},{"$f":"SA!DI27-SA!DF27","v":2600},{"$f":"SA!DJ27-SA!DG27","v":1600},{"$f":"SA!DK27-SA!DH27","v":1400},{"$f":"SA!DL27-SA!DI27","v":700},{"$f":"SA!DM27-SA!DJ27","v":1200},{"$f":"SA!DN27-SA!DK27","v":1000},{"$f":"SA!DO27-SA!DL27","v":1000},{"$f":"SA!DP27-SA!DM27","v":500},{"$f":"SA!DQ27-SA!DN27","v":300},{"$f":"SA!DR27-SA!DO27","v":-400},{"$f":"SA!DS27-SA!DP27","v":900},{"$f":"SA!DT27-SA!DQ27","v":200},{"$f":"SA!DU27-SA!DR27","v":200},{"$f":"SA!DV27-SA!DS27","v":800},{"$f":"SA!DW27-SA!DT27","v":1400},{"$f":"SA!DX27-SA!DU27","v":2300},{"$f":"SA!DY27-SA!DV27","v":-1100},{"$f":"SA!DZ27-SA!DW27","v":-1100},{"$f":"SA!EA27-SA!DX27","v":-1600},{"$f":"SA!EB27-SA!DY27","v":800},{"$f":"SA!EC27-SA!DZ27","v":700},{"$f":"SA!ED27-SA!EA27","v":0},{"$f":"SA!EE27-SA!EB27","v":700},{"$f":"SA!EF27-SA!EC27","v":900},{"$f":"SA!EG27-SA!ED27","v":1800},{"$f":"SA!EH27-SA!EE27","v":500},{"$f":"SA!EI27-SA!EF27","v":300},{"$f":"SA!EJ27-SA!EG27","v":100},{"$f":"SA!EK27-SA!EH27","v":1300},{"$f":"SA!EL27-SA!EI27","v":1200},{"$f":"SA!EM27-SA!EJ27","v":1700},{"$f":"SA!EN27-SA!EK27","v":1100},{"$f":"SA!EO27-SA!EL27","v":800},{"$f":"SA!EP27-SA!EM27","v":1600},{"$f":"SA!EQ27-SA!EN27","v":1300},{"$f":"SA!ER27-SA!EO27","v":1800},{"$f":"SA!ES27-SA!EP27","v":1500},{"$f":"SA!ET27-SA!EQ27","v":2800},{"$f":"SA!EU27-SA!ER27","v":3200},{"$f":"SA!EV27-SA!ES27","v":2800},{"$f":"SA!EW27-SA!ET27","v":1800},{"$f":"SA!EX27-SA!EU27","v":1000},{"$f":"SA!EY27-SA!EV27","v":1400},{"$f":"SA!EZ27-SA!EW27","v":2100},{"$f":"SA!FA27-SA!EX27","v":2700},{"$f":"SA!FB27-SA!EY27","v":2800},{"$f":"SA!FC27-SA!EZ27","v":2700},{"$f":"SA!FD27-SA!FA27","v":2400},{"$f":"SA!FE27-SA!FB27","v":1800},{"$f":"SA!FF27-SA!FC27","v":300},{"$f":"SA!FG27-SA!FD27","v":600},{"$f":"SA!FH27-SA!FE27","v":500},{"$f":"SA!FI27-SA!FF27","v":1100},{"$f":"SA!FJ27-SA!FG27","v":1500},{"$f":"SA!FK27-SA!FH27","v":1000},{"$f":"SA!FL27-SA!FI27","v":1100},{"$f":"SA!FM27-SA!FJ27","v":1400},{"$f":"SA!FN27-SA!FK27","v":1900},{"$f":"SA!FO27-SA!FL27","v":1900},{"$f":"SA!FP27-SA!FM27","v":1200},{"$f":"SA!FQ27-SA!FN27","v":600},{"$f":"SA!FR27-SA!FO27","v":1800},{"$f":"SA!FS27-SA!FP27","v":1800},{"$f":"SA!FT27-SA!FQ27","v":2500},{"$f":"SA!FU27-SA!FR27","v":1500},{"$f":"SA!FV27-SA!FS27","v":1100},{"$f":"SA!FW27-SA!FT27","v":1800},{"$f":"SA!FX27-SA!FU27","v":1300},{"$f":"SA!FY27-SA!FV27","v":1800},{"$f":"SA!FZ27-SA!FW27","v":1100},{"$f":"SA!GA27-SA!FX27","v":1100},{"$f":"SA!GB27-SA!FY27","v":1800},{"$f":"SA!GC27-SA!FZ27","v":1300},{"$f":"SA!GD27-SA!GA27","v":900},{"$f":"SA!GE27-SA!GB27","v":300},{"$f":"SA!GF27-SA!GC27","v":1200},{"$f":"SA!GG27-SA!GD27","v":1600},{"$f":"SA!GH27-SA!GE27","v":2100},{"$f":"SA!GI27-SA!GF27","v":1400},{"$f":"SA!GJ27-SA!GG27","v":2100},{"$f":"SA!GK27-SA!GH27","v":1100},{"$f":"SA!GL27-SA!GI27","v":900},{"$f":"SA!GM27-SA!GJ27","v":1500},{"$f":"SA!GN27-SA!GK27","v":2100},{"$f":"SA!GO27-SA!GL27","v":3200},{"$f":"SA!GP27-SA!GM27","v":2900},{"$f":"SA!GQ27-SA!GN27","v":3200},{"$f":"SA!GR27-SA!GO27","v":2400},{"$f":"SA!GS27-SA!GP27","v":2500},{"$f":"SA!GT27-SA!GQ27","v":1700},{"$f":"SA!GU27-SA!GR27","v":1100},{"$f":"SA!GV27-SA!GS27","v":2300},{"$f":"SA!GW27-SA!GT27","v":2000},{"$f":"SA!GX27-SA!GU27","v":3000},{"$f":"SA!GY27-SA!GV27","v":600},{"$f":"SA!GZ27-SA!GW27","v":1000},{"$f":"SA!HA27-SA!GX27","v":100},{"$f":"SA!HB27-SA!GY27","v":1500},{"$f":"SA!HC27-SA!GZ27","v":1500},{"$f":"SA!HD27-SA!HA27","v":2100},{"$f":"SA!HE27-SA!HB27","v":900},{"$f":"SA!HF27-SA!HC27","v":400},{"$f":"SA!HG27-SA!HD27","v":1900},{"$f":"SA!HH27-SA!HE27","v":1300},{"$f":"SA!HI27-SA!HF27","v":1800},{"$f":"SA!HJ27-SA!HG27","v":-500},{"$f":"SA!HK27-SA!HH27","v":2700},{"$f":"SA!HL27-SA!HI27","v":900},{"$f":"SA!HM27-SA!HJ27","v":1900},{"$f":"SA!HN27-SA!HK27","v":-300},{"$f":"SA!HO27-SA!HL27","v":600},{"$f":"SA!HP27-SA!HM27","v":-400},{"$f":"SA!HQ27-SA!HN27","v":-1500},{"$f":"SA!HR27-SA!HO27","v":-1200},{"$f":"SA!HS27-SA!HP27","v":-100},{"$f":"SA!HT27-SA!HQ27","v":4000},{"$f":"SA!HU27-SA!HR27","v":4600},{"$f":"SA!HV27-SA!HS27","v":4500},{"$f":"SA!HW27-SA!HT27","v":1000},{"$f":"SA!HX27-SA!HU27","v":1700},{"$f":"SA!HY27-SA!HV27","v":2500},{"$f":"SA!HZ27-SA!HW27","v":-500},{"$f":"SA!IA27-SA!HX27","v":-2800},{"$f":"SA!IB27-SA!HY27","v":-5700},{"$f":"SA!IC27-SA!HZ27","v":500},{"$f":"SA!ID27-SA!IA27","v":3200},{"$f":"SA!IE27-SA!IB27","v":3500},{"$f":"SA!IF27-SA!IC27","v":-1000},{"$f":"SA!IG27-SA!ID27","v":-2300},{"$f":"SA!IH27-SA!IE27","v":-600},{"$f":"SA!II27-SA!IF27","v":2400},{"$f":"SA!IJ27-SA!IG27","v":3000},{"$f":"SA!IK27-SA!IH27","v":3100},{"$f":"SA!IL27-SA!II27","v":-407200},3984.19,{"$f":"COUNTIF(EY100:FY100, \">\" &GA100)","v":3},null,"Health Care and Social Assistance",-1600,550,1100,1400,1600,1800,2100,4600,965.56335581713404]
["Leisure and Hospitality",{"$f":"SA!BN28-SA!BK28","v":-700},{"$f":"SA!BO28-SA!BL28","v":300},{"$f":"SA!BP28-SA!BM28","v":700},{"$f":"SA!BQ28-SA!BN28","v":4700},{"$f":"SA!BR28-SA!BO28","v":2000},{"$f":"SA!BS28-SA!BP28","v":600},{"$f":"SA!BT28-SA!BQ28","v":-2000},{"$f":"SA!BU28-SA!BR28","v":700},{"$f":"SA!BV28-SA!BS28","v":1899.9999999999709},{"$f":"SA!BW28-SA!BT28","v":100},{"$f":"SA!BX28-SA!BU28","v":1000},{"$f":"SA!BY28-SA!BV28","v":-99.999999999970896},{"$f":"SA!BZ28-SA!BW28","v":2700},{"$f":"SA!CA28-SA!BX28","v":2300},{"$f":"SA!CB28-SA!BY28","v":3500},{"$f":"SA!CC28-SA!BZ28","v":1899.9999999999709},{"$f":"SA!CD28-SA!CA28","v":-1200},{"$f":"SA!CE28-SA!CB28","v":-1199.9999999999709},{"$f":"SA!CF28-SA!CC28","v":-500},{"$f":"SA!CG28-SA!CD28","v":1900},{"$f":"SA!CH28-SA!CE28","v":1000},{"$f":"SA!CI28-SA!CF28","v":1300.0000000000291},{"$f":"SA!CJ28-SA!CG28","v":800},{"$f":"SA!CK28-SA!CH28","v":1799.9999999999418},{"$f":"SA!CL28-SA!CI28","v":1600},{"$f":"SA!CM28-SA!CJ28","v":2100},{"$f":"SA!CN28-SA!CK28","v":1300.0000000000291},{"$f":"SA!CO28-SA!CL28","v":-800},{"$f":"SA!CP28-SA!CM28","v":-900},{"$f":"SA!CQ28-SA!CN28","v":-300},{"$f":"SA!CR28-SA!CO28","v":-100.0000000000291},{"$f":"SA!CS28-SA!CP28","v":300},{"$f":"SA!CT28-SA!CQ28","v":-2100},{"$f":"SA!CU28-SA!CR28","v":600.0000000000291},{"$f":"SA!CV28-SA!CS28","v":700},{"$f":"SA!CW28-SA!CT28","v":2000},{"$f":"SA!CX28-SA!CU28","v":-200},{"$f":"SA!CY28-SA!CV28","v":-1599.9999999999709},{"$f":"SA!CZ28-SA!CW28","v":-1400.0000000000291},{"$f":"SA!DA28-SA!CX28","v":-1500},{"$f":"SA!DB28-SA!CY28","v":-1000},{"$f":"SA!DC28-SA!CZ28","v":-1399.9999999999709},{"$f":"SA!DD28-SA!DA28","v":-1000},{"$f":"SA!DE28-SA!DB28","v":-1400.0000000000291},{"$f":"SA!DF28-SA!DC28","v":-1399.9999999999709},{"$f":"SA!DG28-SA!DD28","v":-699.9999999999709},{"$f":"SA!DH28-SA!DE28","v":-800.0000000000291},{"$f":"SA!DI28-SA!DF28","v":-1100.0000000000291},{"$f":"SA!DJ28-SA!DG28","v":-3800.0000000000291},{"$f":"SA!DK28-SA!DH28","v":-2699.9999999999709},{"$f":"SA!DL28-SA!DI28","v":-2800},{"$f":"SA!DM28-SA!DJ28","v":-2300},{"$f":"SA!DN28-SA!DK28","v":-100},{"$f":"SA!DO28-SA!DL28","v":-300},{"$f":"SA!DP28-SA!DM28","v":-200},{"$f":"SA!DQ28-SA!DN28","v":-3800},{"$f":"SA!DR28-SA!DO28","v":-2300},{"$f":"SA!DS28-SA!DP28","v":-2000},{"$f":"SA!DT28-SA!DQ28","v":-1100},{"$f":"SA!DU28-SA!DR28","v":-1600},{"$f":"SA!DV28-SA!DS28","v":500},{"$f":"SA!DW28-SA!DT28","v":-300},{"$f":"SA!DX28-SA!DU28","v":-300},{"$f":"SA!DY28-SA!DV28","v":1000},{"$f":"SA!DZ28-SA!DW28","v":1300},{"$f":"SA!EA28-SA!DX28","v":800},{"$f":"SA!EB28-SA!DY28","v":-200},{"$f":"SA!EC28-SA!DZ28","v":1100},{"$f":"SA!ED28-SA!EA28","v":1300},{"$f":"SA!EE28-SA!EB28","v":1100},{"$f":"SA!EF28-SA!EC28","v":600},{"$f":"SA!EG28-SA!ED28","v":1000},{"$f":"SA!EH28-SA!EE28","v":-400},{"$f":"SA!EI28-SA!EF28","v":-1400},{"$f":"SA!EJ28-SA!EG28","v":-1800},{"$f":"SA!EK28-SA!EH28","v":-500},{"$f":"SA!EL28-SA!EI28","v":0},{"$f":"SA!EM28-SA!EJ28","v":900},{"$f":"SA!EN28-SA!EK28","v":900},{"$f":"SA!EO28-SA!EL28","v":1900},{"$f":"SA!EP28-SA!EM28","v":1500},{"$f":"SA!EQ28-SA!EN28","v":1200},{"$f":"SA!ER28-SA!EO28","v":0},{"$f":"SA!ES28-SA!EP28","v":-500},{"$f":"SA!ET28-SA!EQ28","v":300},{"$f":"SA!EU28-SA!ER28","v":1400},{"$f":"SA!EV28-SA!ES28","v":3900},{"$f":"SA!EW28-SA!ET28","v":4000},{"$f":"SA!EX28-SA!EU28","v":1800.0000000000291},{"$f":"SA!EY28-SA!EV28","v":800.0000000000291},{"$f":"SA!EZ28-SA!EW28","v":-800.0000000000291},{"$f":"SA!FA28-SA!EX28","v":299.99999999994179},{"$f":"SA!FB28-SA!EY28","v":599.9999999999709},{"$f":"SA!FC28-SA!EZ28","v":-399.9999999999709},{"$f":"SA!FD28-SA!FA28","v":400.0000000000291},{"$f":"SA!FE28-SA!FB28","v":100},{"$f":"SA!FF28-SA!FC28","v":1800},{"$f":"SA!FG28-SA!FD28","v":1900},{"$f":"SA!FH28-SA!FE28","v":1000},{"$f":"SA!FI28-SA!FF28","v":-1500},{"$f":"SA!FJ28-SA!FG28","v":1400.0000000000291},{"$f":"SA!FK28-SA!FH28","v":1200},{"$f":"SA!FL28-SA!FI28","v":4099.9999999999709},{"$f":"SA!FM28-SA!FJ28","v":2199.9999999999709},{"$f":"SA!FN28-SA!FK28","v":2900},{"$f":"SA!FO28-SA!FL28","v":1800.0000000000291},{"$f":"SA!FP28-SA!FM28","v":600},{"$f":"SA!FQ28-SA!FN28","v":300},{"$f":"SA!FR28-SA!FO28","v":-300},{"$f":"SA!FS28-SA!FP28","v":-300},{"$f":"SA!FT28-SA!FQ28","v":-1000},{"$f":"SA!FU28-SA!FR28","v":-100},{"$f":"SA!FV28-SA!FS28","v":600},{"$f":"SA!FW28-SA!FT28","v":2100},{"$f":"SA!FX28-SA!FU28","v":300},{"$f":"SA!FY28-SA!FV28","v":300},{"$f":"SA!FZ28-SA!FW28","v":-600},{"$f":"SA!GA28-SA!FX28","v":1600},{"$f":"SA!GB28-SA!FY28","v":1700},{"$f":"SA!GC28-SA!FZ28","v":2200},{"$f":"SA!GD28-SA!GA28","v":2900},{"$f":"SA!GE28-SA!GB28","v":1800},{"$f":"SA!GF28-SA!GC28","v":2500},{"$f":"SA!GG28-SA!GD28","v":1700},{"$f":"SA!GH28-SA!GE28","v":2500},{"$f":"SA!GI28-SA!GF28","v":1600},{"$f":"SA!GJ28-SA!GG28","v":800},{"$f":"SA!GK28-SA!GH28","v":1100},{"$f":"SA!GL28-SA!GI28","v":1200},{"$f":"SA!GM28-SA!GJ28","v":3100},{"$f":"SA!GN28-SA!GK28","v":3900},{"$f":"SA!GO28-SA!GL28","v":3100},{"$f":"SA!GP28-SA!GM28","v":1600},{"$f":"SA!GQ28-SA!GN28","v":600},{"$f":"SA!GR28-SA!GO28","v":300},{"$f":"SA!GS28-SA!GP28","v":600},{"$f":"SA!GT28-SA!GQ28","v":-300},{"$f":"SA!GU28-SA!GR28","v":-900},{"$f":"SA!GV28-SA!GS28","v":500},{"$f":"SA!GW28-SA!GT28","v":1400},{"$f":"SA!GX28-SA!GU28","v":3000},{"$f":"SA!GY28-SA!GV28","v":1900},{"$f":"SA!GZ28-SA!GW28","v":700},{"$f":"SA!HA28-SA!GX28","v":200},{"$f":"SA!HB28-SA!GY28","v":2200},{"$f":"SA!HC28-SA!GZ28","v":3100},{"$f":"SA!HD28-SA!HA28","v":3700},{"$f":"SA!HE28-SA!HB28","v":-600},{"$f":"SA!HF28-SA!HC28","v":-1900},{"$f":"SA!HG28-SA!HD28","v":-100},{"$f":"SA!HH28-SA!HE28","v":900},{"$f":"SA!HI28-SA!HF28","v":1700},{"$f":"SA!HJ28-SA!HG28","v":-1800},{"$f":"SA!HK28-SA!HH28","v":-300},{"$f":"SA!HL28-SA!HI28","v":1200},{"$f":"SA!HM28-SA!HJ28","v":4100},{"$f":"SA!HN28-SA!HK28","v":3600},{"$f":"SA!HO28-SA!HL28","v":1000},{"$f":"SA!HP28-SA!HM28","v":-900},{"$f":"SA!HQ28-SA!HN28","v":-2400},{"$f":"SA!HR28-SA!HO28","v":-1400},{"$f":"SA!HS28-SA!HP28","v":3000},{"$f":"SA!HT28-SA!HQ28","v":5900},{"$f":"SA!HU28-SA!HR28","v":3500},{"$f":"SA!HV28-SA!HS28","v":-1400},{"$f":"SA!HW28-SA!HT28","v":-2300},{"$f":"SA!HX28-SA!HU28","v":5900},{"$f":"SA!HY28-SA!HV28","v":11200},{"$f":"SA!HZ28-SA!HW28","v":4900},{"$f":"SA!IA28-SA!HX28","v":-500},{"$f":"SA!IB28-SA!HY28","v":-9000},{"$f":"SA!IC28-SA!HZ28","v":-4700},{"$f":"SA!ID28-SA!IA28","v":-5000},{"$f":"SA!IE28-SA!IB28","v":100},{"$f":"SA!IF28-SA!IC28","v":2300},{"$f":"SA!IG28-SA!ID28","v":-200},{"$f":"SA!IH28-SA!IE28","v":-1300},{"$f":"SA!II28-SA!IF28","v":-1600},{"$f":"SA!IJ28-SA!IG28","v":1500},{"$f":"SA!IK28-SA!IH28","v":4900},{"$f":"SA!IL28-SA!II28","v":-285700},6693.5050000000001,{"$f":"COUNTIF(EY101:FY101, \">\" &GA101)","v":1},null,"Leisure and Hospitality",-3800.0000000000291,-1299.9999999999854,-300,350.00000000001455,800,1499.9999999999986,2250,11200,1943.7296110705176]
["Arts, Entertainment, and Recreation",{"$f":"SA!BN29-SA!BK29","v":-100},{"$f":"SA!BO29-SA!BL29","v":-600},{"$f":"SA!BP29-SA!BM29","v":-500},{"$f":"SA!BQ29-SA!BN29","v":700},{"$f":"SA!BR29-SA!BO29","v":200},{"$f":"SA!BS29-SA!BP29","v":100},{"$f":"SA!BT29-SA!BQ29","v":-800},{"$f":"SA!BU29-SA!BR29","v":200},{"$f":"SA!BV29-SA!BS29","v":300},{"$f":"SA!BW29-SA!BT29","v":300},{"$f":"SA!BX29-SA!BU29","v":300},{"$f":"SA!BY29-SA!BV29","v":-100},{"$f":"SA!BZ29-SA!BW29","v":-100},{"$f":"SA!CA29-SA!BX29","v":200},{"$f":"SA!CB29-SA!BY29","v":400},{"$f":"SA!CC29-SA!BZ29","v":1200},{"$f":"SA!CD29-SA!CA29","v":-200},{"$f":"SA!CE29-SA!CB29","v":-100},{"$f":"SA!CF29-SA!CC29","v":-900},{"$f":"SA!CG29-SA!CD29","v":300},{"$f":"SA!CH29-SA!CE29","v":300},{"$f":"SA!CI29-SA!CF29","v":200},{"$f":"SA!CJ29-SA!CG29","v":-200},{"$f":"SA!CK29-SA!CH29","v":-100},{"$f":"SA!CL29-SA!CI29","v":400},{"$f":"SA!CM29-SA!CJ29","v":900},{"$f":"SA!CN29-SA!CK29","v":900},{"$f":"SA!CO29-SA!CL29","v":-100},{"$f":"SA!CP29-SA!CM29","v":300},{"$f":"SA!CQ29-SA!CN29","v":300},{"$f":"SA!CR29-SA!CO29","v":600},{"$f":"SA!CS29-SA!CP29","v":-100},{"$f":"SA!CT29-SA!CQ29","v":-400},{"$f":"SA!CU29-SA!CR29","v":100},{"$f":"SA!CV29-SA!CS29","v":400},{"$f":"SA!CW29-SA!CT29","v":500},{"$f":"SA!CX29-SA!CU29","v":300},{"$f":"SA!CY29-SA!CV29","v":-200},{"$f":"SA!CZ29-SA!CW29","v":-500},{"$f":"SA!DA29-SA!CX29","v":-1100},{"$f":"SA!DB29-SA!CY29","v":-400},{"$f":"SA!DC29-SA!CZ29","v":-100},{"$f":"SA!DD29-SA!DA29","v":400},{"$f":"SA!DE29-SA!DB29","v":100},{"$f":"SA!DF29-SA!DC29","v":-700},{"$f":"SA!DG29-SA!DD29","v":200},{"$f":"SA!DH29-SA!DE29","v":-800},{"$f":"SA!DI29-SA!DF29","v":300},{"$f":"SA!DJ29-SA!DG29","v":-900},{"$f":"SA!DK29-SA!DH29","v":-500},{"$f":"SA!DL29-SA!DI29","v":-800},{"$f":"SA!DM29-SA!DJ29","v":-1300},{"$f":"SA!DN29-SA!DK29","v":700},{"$f":"SA!DO29-SA!DL29","v":500},{"$f":"SA!DP29-SA!DM29","v":800},{"$f":"SA!DQ29-SA!DN29","v":-900},{"$f":"SA!DR29-SA!DO29","v":-300},{"$f":"SA!DS29-SA!DP29","v":-500},{"$f":"SA!DT29-SA!DQ29","v":-100},{"$f":"SA!DU29-SA!DR29","v":-800},{"$f":"SA!DV29-SA!DS29","v":100},{"$f":"SA!DW29-SA!DT29","v":-300},{"$f":"SA!DX29-SA!DU29","v":400},{"$f":"SA!DY29-SA!DV29","v":1300},{"$f":"SA!DZ29-SA!DW29","v":700},{"$f":"SA!EA29-SA!DX29","v":-600},{"$f":"SA!EB29-SA!DY29","v":-700},{"$f":"SA!EC29-SA!DZ29","v":200},{"$f":"SA!ED29-SA!EA29","v":800},{"$f":"SA!EE29-SA!EB29","v":-100},{"$f":"SA!EF29-SA!EC29","v":-300},{"$f":"SA!EG29-SA!ED29","v":100},{"$f":"SA!EH29-SA!EE29","v":-100},{"$f":"SA!EI29-SA!EF29","v":100},{"$f":"SA!EJ29-SA!EG29","v":-400},{"$f":"SA!EK29-SA!EH29","v":200},{"$f":"SA!EL29-SA!EI29","v":-500},{"$f":"SA!EM29-SA!EJ29","v":300},{"$f":"SA!EN29-SA!EK29","v":500},{"$f":"SA!EO29-SA!EL29","v":1000},{"$f":"SA!EP29-SA!EM29","v":600},{"$f":"SA!EQ29-SA!EN29","v":400},{"$f":"SA!ER29-SA!EO29","v":300},{"$f":"SA!ES29-SA!EP29","v":300},{"$f":"SA!ET29-SA!EQ29","v":-100},{"$f":"SA!EU29-SA!ER29","v":-300},{"$f":"SA!EV29-SA!ES29","v":900},{"$f":"SA!EW29-SA!ET29","v":1900},{"$f":"SA!EX29-SA!EU29","v":400},{"$f":"SA!EY29-SA!EV29","v":-900},{"$f":"SA!EZ29-SA!EW29","v":-1900},{"$f":"SA!FA29-SA!EX29","v":-300},{"$f":"SA!FB29-SA!EY29","v":500},{"$f":"SA!FC29-SA!EZ29","v":0},{"$f":"SA!FD29-SA!FA29","v":0},{"$f":"SA!FE29-SA!FB29","v":-400},{"$f":"SA!FF29-SA!FC29","v":300},{"$f":"SA!FG29-SA!FD29","v":400},{"$f":"SA!FH29-SA!FE29","v":-100},{"$f":"SA!FI29-SA!FF29","v":-2000},{"$f":"SA!FJ29-SA!FG29","v":600},{"$f":"SA!FK29-SA!FH29","v":400},{"$f":"SA!FL29-SA!FI29","v":2000},{"$f":"SA!FM29-SA!FJ29","v":-200},{"$f":"SA!FN29-SA!FK29","v":500},{"$f":"SA!FO29-SA!FL29","v":500},{"$f":"SA!FP29-SA!FM29","v":500},{"$f":"SA!FQ29-SA!FN29","v":700},{"$f":"SA!FR29-SA!FO29","v":200},{"$f":"SA!FS29-SA!FP29","v":100},{"$f":"SA!FT29-SA!FQ29","v":-700},{"$f":"SA!FU29-SA!FR29","v":-1100},{"$f":"SA!FV29-SA!FS29","v":-200},{"$f":"SA!FW29-SA!FT29","v":200},{"$f":"SA!FX29-SA!FU29","v":1500},{"$f":"SA!FY29-SA!FV29","v":200},{"$f":"SA!FZ29-SA!FW29","v":100},{"$f":"SA!GA29-SA!FX29","v":-300},{"$f":"SA!GB29-SA!FY29","v":500},{"$f":"SA!GC29-SA!FZ29","v":800},{"$f":"SA!GD29-SA!GA29","v":900},{"$f":"SA!GE29-SA!GB29","v":0},{"$f":"SA!GF29-SA!GC29","v":100},{"$f":"SA!GG29-SA!GD29","v":200},{"$f":"SA!GH29-SA!GE29","v":700},{"$f":"SA!GI29-SA!GF29","v":500},{"$f":"SA!GJ29-SA!GG29","v":-600},{"$f":"SA!GK29-SA!GH29","v":-100},{"$f":"SA!GL29-SA!GI29","v":-100},{"$f":"SA!GM29-SA!GJ29","v":1600},{"$f":"SA!GN29-SA!GK29","v":1700},{"$f":"SA!GO29-SA!GL29","v":800},{"$f":"SA!GP29-SA!GM29","v":300},{"$f":"SA!GQ29-SA!GN29","v":-200},{"$f":"SA!GR29-SA!GO29","v":600},{"$f":"SA!GS29-SA!GP29","v":500},{"$f":"SA!GT29-SA!GQ29","v":300},{"$f":"SA!GU29-SA!GR29","v":-100},{"$f":"SA!GV29-SA!GS29","v":300},{"$f":"SA!GW29-SA!GT29","v":400},{"$f":"SA!GX29-SA!GU29","v":800},{"$f":"SA!GY29-SA!GV29","v":400},{"$f":"SA!GZ29-SA!GW29","v":-100},{"$f":"SA!HA29-SA!GX29","v":-600},{"$f":"SA!HB29-SA!GY29","v":900},{"$f":"SA!HC29-SA!GZ29","v":800},{"$f":"SA!HD29-SA!HA29","v":1200},{"$f":"SA!HE29-SA!HB29","v":-700},{"$f":"SA!HF29-SA!HC29","v":-400},{"$f":"SA!HG29-SA!HD29","v":400},{"$f":"SA!HH29-SA!HE29","v":100},{"$f":"SA!HI29-SA!HF29","v":400},{"$f":"SA!HJ29-SA!HG29","v":-1200},{"$f":"SA!HK29-SA!HH29","v":2200},{"$f":"SA!HL29-SA!HI29","v":2100},{"$f":"SA!HM29-SA!HJ29","v":3100},{"$f":"SA!HN29-SA!HK29","v":-800},{"$f":"SA!HO29-SA!HL29","v":-300},{"$f":"SA!HP29-SA!HM29","v":-1200},{"$f":"SA!HQ29-SA!HN29","v":-1900},{"$f":"SA!HR29-SA!HO29","v":-2600},{"$f":"SA!HS29-SA!HP29","v":-1500},{"$f":"SA!HT29-SA!HQ29","v":600},{"$f":"SA!HU29-SA!HR29","v":500},{"$f":"SA!HV29-SA!HS29","v":-300},{"$f":"SA!HW29-SA!HT29","v":1100},{"$f":"SA!HX29-SA!HU29","v":3000},{"$f":"SA!HY29-SA!HV29","v":3000},{"$f":"SA!HZ29-SA!HW29","v":5700},{"$f":"SA!IA29-SA!HX29","v":5400},{"$f":"SA!IB29-SA!HY29","v":2800},{"$f":"SA!IC29-SA!HZ29","v":-2300},{"$f":"SA!ID29-SA!IA29","v":-4500},{"$f":"SA!IE29-SA!IB29","v":-1000},{"$f":"SA!IF29-SA!IC29","v":900},{"$f":"SA!IG29-SA!ID29","v":1300},{"$f":"SA!IH29-SA!IE29","v":1200},{"$f":"SA!II29-SA!IF29","v":400},{"$f":"SA!IJ29-SA!IG29","v":800},{"$f":"SA!IK29-SA!IH29","v":900},{"$f":"SA!IL29-SA!II29","v":-46400},4038.4749999999999,{"$f":"COUNTIF(EY102:FY102, \">\" &GA102)","v":2},null,"Arts, Entertainment, and Recreation",-2600,-600,-200,100,300,400,800,5700,927.58684355353046]
["Accommodation and Food Services",{"$f":"SA!BN30-SA!BK30","v":-600},{"$f":"SA!BO30-SA!BL30","v":900},{"$f":"SA!BP30-SA!BM30","v":1200},{"$f":"SA!BQ30-SA!BN30","v":4000},{"$f":"SA!BR30-SA!BO30","v":1800},{"$f":"SA!BS30-SA!BP30","v":500},{"$f":"SA!BT30-SA!BQ30","v":-1200},{"$f":"SA!BU30-SA!BR30","v":500},{"$f":"SA!BV30-SA!BS30","v":1600},{"$f":"SA!BW30-SA!BT30","v":-200},{"$f":"SA!BX30-SA!BU30","v":700},{"$f":"SA!BY30-SA!BV30","v":0},{"$f":"SA!BZ30-SA!BW30","v":2800},{"$f":"SA!CA30-SA!BX30","v":2100},{"$f":"SA!CB30-SA!BY30","v":3100},{"$f":"SA!CC30-SA!BZ30","v":700},{"$f":"SA!CD30-SA!CA30","v":-1000},{"$f":"SA!CE30-SA!CB30","v":-1100},{"$f":"SA!CF30-SA!CC30","v":400},{"$f":"SA!CG30-SA!CD30","v":1600},{"$f":"SA!CH30-SA!CE30","v":700},{"$f":"SA!CI30-SA!CF30","v":1100},{"$f":"SA!CJ30-SA!CG30","v":1000},{"$f":"SA!CK30-SA!CH30","v":1900},{"$f":"SA!CL30-SA!CI30","v":1200},{"$f":"SA!CM30-SA!CJ30","v":1200},{"$f":"SA!CN30-SA!CK30","v":400},{"$f":"SA!CO30-SA!CL30","v":-700},{"$f":"SA!CP30-SA!CM30","v":-1200},{"$f":"SA!CQ30-SA!CN30","v":-600},{"$f":"SA!CR30-SA!CO30","v":-700},{"$f":"SA!CS30-SA!CP30","v":400},{"$f":"SA!CT30-SA!CQ30","v":-1700},{"$f":"SA!CU30-SA!CR30","v":500},{"$f":"SA!CV30-SA!CS30","v":300},{"$f":"SA!CW30-SA!CT30","v":1500},{"$f":"SA!CX30-SA!CU30","v":-500},{"$f":"SA!CY30-SA!CV30","v":-1400},{"$f":"SA!CZ30-SA!CW30","v":-900},{"$f":"SA!DA30-SA!CX30","v":-400},{"$f":"SA!DB30-SA!CY30","v":-600},{"$f":"SA!DC30-SA!CZ30","v":-1300},{"$f":"SA!DD30-SA!DA30","v":-1400},{"$f":"SA!DE30-SA!DB30","v":-1500},{"$f":"SA!DF30-SA!DC30","v":-700},{"$f":"SA!DG30-SA!DD30","v":-900},{"$f":"SA!DH30-SA!DE30","v":0},{"$f":"SA!DI30-SA!DF30","v":-1400},{"$f":"SA!DJ30-SA!DG30","v":-2900},{"$f":"SA!DK30-SA!DH30","v":-2200},{"$f":"SA!DL30-SA!DI30","v":-2000},{"$f":"SA!DM30-SA!DJ30","v":-1000},{"$f":"SA!DN30-SA!DK30","v":-800},{"$f":"SA!DO30-SA!DL30","v":-800},{"$f":"SA!DP30-SA!DM30","v":-1000},{"$f":"SA!DQ30-SA!DN30","v":-2900},{"$f":"SA!DR30-SA!DO30","v":-2000},{"$f":"SA!DS30-SA!DP30","v":-1500},{"$f":"SA!DT30-SA!DQ30","v":-1000},{"$f":"SA!DU30-SA!DR30","v":-800},{"$f":"SA!DV30-SA!DS30","v":400},{"$f":"SA!DW30-SA!DT30","v":0},{"$f":"SA!DX30-SA!DU30","v":-700},{"$f":"SA!DY30-SA!DV30","v":-300},{"$f":"SA!DZ30-SA!DW30","v":600},{"$f":"SA!EA30-SA!DX30","v":1400},{"$f":"SA!EB30-SA!DY30","v":500},{"$f":"SA!EC30-SA!DZ30","v":900},{"$f":"SA!ED30-SA!EA30","v":500},{"$f":"SA!EE30-SA!EB30","v":1200},{"$f":"SA!EF30-SA!EC30","v":900},{"$f":"SA!EG30-SA!ED30","v":900},{"$f":"SA!EH30-SA!EE30","v":-300},{"$f":"SA!EI30-SA!EF30","v":-1500},{"$f":"SA!EJ30-SA!EG30","v":-1400},{"$f":"SA!EK30-SA!EH30","v":-700},{"$f":"SA!EL30-SA!EI30","v":500},{"$f":"SA!EM30-SA!EJ30","v":600},{"$f":"SA!EN30-SA!EK30","v":400},{"$f":"SA!EO30-SA!EL30","v":900},{"$f":"SA!EP30-SA!EM30","v":900},{"$f":"SA!EQ30-SA!EN30","v":800},{"$f":"SA!ER30-SA!EO30","v":-300},{"$f":"SA!ES30-SA!EP30","v":-800},{"$f":"SA!ET30-SA!EQ30","v":400},{"$f":"SA!EU30-SA!ER30","v":1700},{"$f":"SA!EV30-SA!ES30","v":3000},{"$f":"SA!EW30-SA!ET30","v":2100},{"$f":"SA!EX30-SA!EU30","v":1400},{"$f":"SA!EY30-SA!EV30","v":1700},{"$f":"SA!EZ30-SA!EW30","v":1100},{"$f":"SA!FA30-SA!EX30","v":600},{"$f":"SA!FB30-SA!EY30","v":100},{"$f":"SA!FC30-SA!EZ30","v":-400},{"$f":"SA!FD30-SA!FA30","v":400},{"$f":"SA!FE30-SA!FB30","v":500},{"$f":"SA!FF30-SA!FC30","v":1500},{"$f":"SA!FG30-SA!FD30","v":1500},{"$f":"SA!FH30-SA!FE30","v":1100},{"$f":"SA!FI30-SA!FF30","v":500},{"$f":"SA!FJ30-SA!FG30","v":800},{"$f":"SA!FK30-SA!FH30","v":800},{"$f":"SA!FL30-SA!FI30","v":2100},{"$f":"SA!FM30-SA!FJ30","v":2400},{"$f":"SA!FN30-SA!FK30","v":2400},{"$f":"SA!FO30-SA!FL30","v":1300},{"$f":"SA!FP30-SA!FM30","v":100},{"$f":"SA!FQ30-SA!FN30","v":-400},{"$f":"SA!FR30-SA!FO30","v":-500},{"$f":"SA!FS30-SA!FP30","v":-400},{"$f":"SA!FT30-SA!FQ30","v":-300},{"$f":"SA!FU30-SA!FR30","v":1000},{"$f":"SA!FV30-SA!FS30","v":800},{"$f":"SA!FW30-SA!FT30","v":1900},{"$f":"SA!FX30-SA!FU30","v":-1200},{"$f":"SA!FY30-SA!FV30","v":100},{"$f":"SA!FZ30-SA!FW30","v":-700},{"$f":"SA!GA30-SA!FX30","v":1900},{"$f":"SA!GB30-SA!FY30","v":1200},{"$f":"SA!GC30-SA!FZ30","v":1400},{"$f":"SA!GD30-SA!GA30","v":2000},{"$f":"SA!GE30-SA!GB30","v":1800},{"$f":"SA!GF30-SA!GC30","v":2400},{"$f":"SA!GG30-SA!GD30","v":1500},{"$f":"SA!GH30-SA!GE30","v":1800},{"$f":"SA!GI30-SA!GF30","v":1100},{"$f":"SA!GJ30-SA!GG30","v":1400},{"$f":"SA!GK30-SA!GH30","v":1200},{"$f":"SA!GL30-SA!GI30","v":1300},{"$f":"SA!GM30-SA!GJ30","v":1500},{"$f":"SA!GN30-SA!GK30","v":2200},{"$f":"SA!GO30-SA!GL30","v":2300},{"$f":"SA!GP30-SA!GM30","v":1300},{"$f":"SA!GQ30-SA!GN30","v":800},{"$f":"SA!GR30-SA!GO30","v":-300},{"$f":"SA!GS30-SA!GP30","v":100},{"$f":"SA!GT30-SA!GQ30","v":-600},{"$f":"SA!GU30-SA!GR30","v":-800},{"$f":"SA!GV30-SA!GS30","v":200},{"$f":"SA!GW30-SA!GT30","v":1000},{"$f":"SA!GX30-SA!GU30","v":2200},{"$f":"SA!GY30-SA!GV30","v":1500},{"$f":"SA!GZ30-SA!GW30","v":800},{"$f":"SA!HA30-SA!GX30","v":800},{"$f":"SA!HB30-SA!GY30","v":1300},{"$f":"SA!HC30-SA!GZ30","v":2300},{"$f":"SA!HD30-SA!HA30","v":2500},{"$f":"SA!HE30-SA!HB30","v":100},{"$f":"SA!HF30-SA!HC30","v":-1500},{"$f":"SA!HG30-SA!HD30","v":-500},{"$f":"SA!HH30-SA!HE30","v":800},{"$f":"SA!HI30-SA!HF30","v":1300},{"$f":"SA!HJ30-SA!HG30","v":-600},{"$f":"SA!HK30-SA!HH30","v":-2500},{"$f":"SA!HL30-SA!HI30","v":-900},{"$f":"SA!HM30-SA!HJ30","v":1000},{"$f":"SA!HN30-SA!HK30","v":4400},{"$f":"SA!HO30-SA!HL30","v":1300},{"$f":"SA!HP30-SA!HM30","v":300},{"$f":"SA!HQ30-SA!HN30","v":-500},{"$f":"SA!HR30-SA!HO30","v":1200},{"$f":"SA!HS30-SA!HP30","v":4500},{"$f":"SA!HT30-SA!HQ30","v":5300},{"$f":"SA!HU30-SA!HR30","v":3000},{"$f":"SA!HV30-SA!HS30","v":-1100},{"$f":"SA!HW30-SA!HT30","v":-3400},{"$f":"SA!HX30-SA!HU30","v":2900},{"$f":"SA!HY30-SA!HV30","v":8200},{"$f":"SA!HZ30-SA!HW30","v":-800},{"$f":"SA!IA30-SA!HX30","v":-5900},{"$f":"SA!IB30-SA!HY30","v":-11800},{"$f":"SA!IC30-SA!HZ30","v":-2400},{"$f":"SA!ID30-SA!IA30","v":-500},{"$f":"SA!IE30-SA!IB30","v":1100},{"$f":"SA!IF30-SA!IC30","v":1400},{"$f":"SA!IG30-SA!ID30","v":-1500},{"$f":"SA!IH30-SA!IE30","v":-2500},{"$f":"SA!II30-SA!IF30","v":-2000},{"$f":"SA!IJ30-SA!IG30","v":700},{"$f":"SA!IK30-SA!IH30","v":4000},{"$f":"SA!IL30-SA!II30","v":-239300},5338.0249999999996,{"$f":"COUNTIF(EY103:FY103, \">\" &GA103)","v":1},null,"Accommodation and Food Services",-3400,-1000,-400,400,800,1200,1850,8200,1542.2720220802112]
["Other Services",{"$f":"SA!BN31-SA!BK31","v":-1400},{"$f":"SA!BO31-SA!BL31","v":100},{"$f":"SA!BP31-SA!BM31","v":700},{"$f":"SA!BQ31-SA!BN31","v":400},{"$f":"SA!BR31-SA!BO31","v":200},{"$f":"SA!BS31-SA!BP31","v":-200},{"$f":"SA!BT31-SA!BQ31","v":-200},{"$f":"SA!BU31-SA!BR31","v":-100},{"$f":"SA!BV31-SA!BS31","v":300},{"$f":"SA!BW31-SA!BT31","v":0},{"$f":"SA!BX31-SA!BU31","v":-200},{"$f":"SA!BY31-SA!BV31","v":-100},{"$f":"SA!BZ31-SA!BW31","v":-100},{"$f":"SA!CA31-SA!BX31","v":-200},{"$f":"SA!CB31-SA!BY31","v":-200},{"$f":"SA!CC31-SA!BZ31","v":-200},{"$f":"SA!CD31-SA!CA31","v":100},{"$f":"SA!CE31-SA!CB31","v":100},{"$f":"SA!CF31-SA!CC31","v":300},{"$f":"SA!CG31-SA!CD31","v":200},{"$f":"SA!CH31-SA!CE31","v":300},{"$f":"SA!CI31-SA!CF31","v":200},{"$f":"SA!CJ31-SA!CG31","v":300},{"$f":"SA!CK31-SA!CH31","v":400},{"$f":"SA!CL31-SA!CI31","v":900},{"$f":"SA!CM31-SA!CJ31","v":900},{"$f":"SA!CN31-SA!CK31","v":700},{"$f":"SA!CO31-SA!CL31","v":400},{"$f":"SA!CP31-SA!CM31","v":500},{"$f":"SA!CQ31-SA!CN31","v":400},{"$f":"SA!CR31-SA!CO31","v":300},{"$f":"SA!CS31-SA!CP31","v":-200},{"$f":"SA!CT31-SA!CQ31","v":-500},{"$f":"SA!CU31-SA!CR31","v":100},{"$f":"SA!CV31-SA!CS31","v":500},{"$f":"SA!CW31-SA!CT31","v":900},{"$f":"SA!CX31-SA!CU31","v":100},{"$f":"SA!CY31-SA!CV31","v":100},{"$f":"SA!CZ31-SA!CW31","v":100},{"$f":"SA!DA31-SA!CX31","v":600},{"$f":"SA!DB31-SA!CY31","v":800},{"$f":"SA!DC31-SA!CZ31","v":700},{"$f":"SA!DD31-SA!DA31","v":400},{"$f":"SA!DE31-SA!DB31","v":300},{"$f":"SA!DF31-SA!DC31","v":200},{"$f":"SA!DG31-SA!DD31","v":2200},{"$f":"SA!DH31-SA!DE31","v":900},{"$f":"SA!DI31-SA!DF31","v":400},{"$f":"SA!DJ31-SA!DG31","v":-2000},{"$f":"SA!DK31-SA!DH31","v":-1100},{"$f":"SA!DL31-SA!DI31","v":-500},{"$f":"SA!DM31-SA!DJ31","v":-900},{"$f":"SA!DN31-SA!DK31","v":-700},{"$f":"SA!DO31-SA!DL31","v":-900},{"$f":"SA!DP31-SA!DM31","v":-500},{"$f":"SA!DQ31-SA!DN31","v":-700},{"$f":"SA!DR31-SA!DO31","v":-500},{"$f":"SA!DS31-SA!DP31","v":-300},{"$f":"SA!DT31-SA!DQ31","v":-100},{"$f":"SA!DU31-SA!DR31","v":-300},{"$f":"SA!DV31-SA!DS31","v":-600},{"$f":"SA!DW31-SA!DT31","v":-600},{"$f":"SA!DX31-SA!DU31","v":-300},{"$f":"SA!DY31-SA!DV31","v":300},{"$f":"SA!DZ31-SA!DW31","v":0},{"$f":"SA!EA31-SA!DX31","v":-300},{"$f":"SA!EB31-SA!DY31","v":-300},{"$f":"SA!EC31-SA!DZ31","v":0},{"$f":"SA!ED31-SA!EA31","v":100},{"$f":"SA!EE31-SA!EB31","v":600},{"$f":"SA!EF31-SA!EC31","v":100},{"$f":"SA!EG31-SA!ED31","v":100},{"$f":"SA!EH31-SA!EE31","v":-400},{"$f":"SA!EI31-SA!EF31","v":0},{"$f":"SA!EJ31-SA!EG31","v":200},{"$f":"SA!EK31-SA!EH31","v":100},{"$f":"SA!EL31-SA!EI31","v":200},{"$f":"SA!EM31-SA!EJ31","v":-200},{"$f":"SA!EN31-SA!EK31","v":300},{"$f":"SA!EO31-SA!EL31","v":100},{"$f":"SA!EP31-SA!EM31","v":300},{"$f":"SA!EQ31-SA!EN31","v":-400},{"$f":"SA!ER31-SA!EO31","v":-100},{"$f":"SA!ES31-SA!EP31","v":400},{"$f":"SA!ET31-SA!EQ31","v":500},{"$f":"SA!EU31-SA!ER31","v":700},{"$f":"SA!EV31-SA!ES31","v":100},{"$f":"SA!EW31-SA!ET31","v":200},{"$f":"SA!EX31-SA!EU31","v":-200},{"$f":"SA!EY31-SA!EV31","v":1100},{"$f":"SA!EZ31-SA!EW31","v":0},{"$f":"SA!FA31-SA!EX31","v":100},{"$f":"SA!FB31-SA!EY31","v":-1100},{"$f":"SA!FC31-SA!EZ31","v":-200},{"$f":"SA!FD31-SA!FA31","v":-100},{"$f":"SA!FE31-SA!FB31","v":-100},{"$f":"SA!FF31-SA!FC31","v":-200},{"$f":"SA!FG31-SA!FD31","v":-400},{"$f":"SA!FH31-SA!FE31","v":-200},{"$f":"SA!FI31-SA!FF31","v":-100},{"$f":"SA!FJ31-SA!FG31","v":300},{"$f":"SA!FK31-SA!FH31","v":500},{"$f":"SA!FL31-SA!FI31","v":300},{"$f":"SA!FM31-SA!FJ31","v":300},{"$f":"SA!FN31-SA!FK31","v":900},{"$f":"SA!FO31-SA!FL31","v":800},{"$f":"SA!FP31-SA!FM31","v":1400},{"$f":"SA!FQ31-SA!FN31","v":900},{"$f":"SA!FR31-SA!FO31","v":1900},{"$f":"SA!FS31-SA!FP31","v":1700},{"$f":"SA!FT31-SA!FQ31","v":1500},{"$f":"SA!FU31-SA!FR31","v":1600},{"$f":"SA!FV31-SA!FS31","v":1300},{"$f":"SA!FW31-SA!FT31","v":1800},{"$f":"SA!FX31-SA!FU31","v":1900},{"$f":"SA!FY31-SA!FV31","v":2400},{"$f":"SA!FZ31-SA!FW31","v":2000},{"$f":"SA!GA31-SA!FX31","v":1400},{"$f":"SA!GB31-SA!FY31","v":1100},{"$f":"SA!GC31-SA!FZ31","v":1000},{"$f":"SA!GD31-SA!GA31","v":1900},{"$f":"SA!GE31-SA!GB31","v":1700},{"$f":"SA!GF31-SA!GC31","v":1800},{"$f":"SA!GG31-SA!GD31","v":900},{"$f":"SA!GH31-SA!GE31","v":900},{"$f":"SA!GI31-SA!GF31","v":400},{"$f":"SA!GJ31-SA!GG31","v":400},{"$f":"SA!GK31-SA!GH31","v":-200},{"$f":"SA!GL31-SA!GI31","v":0},{"$f":"SA!GM31-SA!GJ31","v":0},{"$f":"SA!GN31-SA!GK31","v":300},{"$f":"SA!GO31-SA!GL31","v":700},{"$f":"SA!GP31-SA!GM31","v":500},{"$f":"SA!GQ31-SA!GN31","v":300},{"$f":"SA!GR31-SA!GO31","v":0},{"$f":"SA!GS31-SA!GP31","v":700},{"$f":"SA!GT31-SA!GQ31","v":700},{"$f":"SA!GU31-SA!GR31","v":300},{"$f":"SA!GV31-SA!GS31","v":700},{"$f":"SA!GW31-SA!GT31","v":900},{"$f":"SA!GX31-SA!GU31","v":1600},{"$f":"SA!GY31-SA!GV31","v":300},{"$f":"SA!GZ31-SA!GW31","v":600},{"$f":"SA!HA31-SA!GX31","v":-100},{"$f":"SA!HB31-SA!GY31","v":0},{"$f":"SA!HC31-SA!GZ31","v":0},{"$f":"SA!HD31-SA!HA31","v":500},{"$f":"SA!HE31-SA!HB31","v":300},{"$f":"SA!HF31-SA!HC31","v":-300},{"$f":"SA!HG31-SA!HD31","v":-400},{"$f":"SA!HH31-SA!HE31","v":-500},{"$f":"SA!HI31-SA!HF31","v":-100},{"$f":"SA!HJ31-SA!HG31","v":-200},{"$f":"SA!HK31-SA!HH31","v":1800},{"$f":"SA!HL31-SA!HI31","v":800},{"$f":"SA!HM31-SA!HJ31","v":400},{"$f":"SA!HN31-SA!HK31","v":1500},{"$f":"SA!HO31-SA!HL31","v":1200},{"$f":"SA!HP31-SA!HM31","v":1700},{"$f":"SA!HQ31-SA!HN31","v":-2100},{"$f":"SA!HR31-SA!HO31","v":-800},{"$f":"SA!HS31-SA!HP31","v":-800},{"$f":"SA!HT31-SA!HQ31","v":100},{"$f":"SA!HU31-SA!HR31","v":-400},{"$f":"SA!HV31-SA!HS31","v":-500},{"$f":"SA!HW31-SA!HT31","v":0},{"$f":"SA!HX31-SA!HU31","v":700},{"$f":"SA!HY31-SA!HV31","v":400},{"$f":"SA!HZ31-SA!HW31","v":2600},{"$f":"SA!IA31-SA!HX31","v":1900},{"$f":"SA!IB31-SA!HY31","v":2800},{"$f":"SA!IC31-SA!HZ31","v":-100},{"$f":"SA!ID31-SA!IA31","v":700},{"$f":"SA!IE31-SA!IB31","v":-900},{"$f":"SA!IF31-SA!IC31","v":300},{"$f":"SA!IG31-SA!ID31","v":-400},{"$f":"SA!IH31-SA!IE31","v":1100},{"$f":"SA!II31-SA!IF31","v":-400},{"$f":"SA!IJ31-SA!IG31","v":-1500},{"$f":"SA!IK31-SA!IH31","v":-500},{"$f":"SA!IL31-SA!II31","v":-154100},4844.5249999999996,{"$f":"COUNTIF(EY104:FY104, \">\" &GA104)","v":0},null,"Other Services",-2100,-300,-100,100,300,500,900,2600,756.84336314382927]
["Government",{"$f":"SA!BN32-SA!BK32","v":3100},{"$f":"SA!BO32-SA!BL32","v":1400},{"$f":"SA!BP32-SA!BM32","v":2300},{"$f":"SA!BQ32-SA!BN32","v":-2100},{"$f":"SA!BR32-SA!BO32","v":-2000},{"$f":"SA!BS32-SA!BP32","v":-1400},{"$f":"SA!BT32-SA!BQ32","v":-400},{"$f":"SA!BU32-SA!BR32","v":-300},{"$f":"SA!BV32-SA!BS32","v":5600},{"$f":"SA!BW32-SA!BT32","v":1900},{"$f":"SA!BX32-SA!BU32","v":200},{"$f":"SA!BY32-SA!BV32","v":-1600},{"$f":"SA!BZ32-SA!BW32","v":-400},{"$f":"SA!CA32-SA!BX32","v":500},{"$f":"SA!CB32-SA!BY32","v":-1300},{"$f":"SA!CC32-SA!BZ32","v":-300},{"$f":"SA!CD32-SA!CA32","v":-800},{"$f":"SA!CE32-SA!CB32","v":1400},{"$f":"SA!CF32-SA!CC32","v":400},{"$f":"SA!CG32-SA!CD32","v":2100},{"$f":"SA!CH32-SA!CE32","v":1200},{"$f":"SA!CI32-SA!CF32","v":-1400},{"$f":"SA!CJ32-SA!CG32","v":-900},{"$f":"SA!CK32-SA!CH32","v":-3600},{"$f":"SA!CL32-SA!CI32","v":-200},{"$f":"SA!CM32-SA!CJ32","v":-2000},{"$f":"SA!CN32-SA!CK32","v":-700},{"$f":"SA!CO32-SA!CL32","v":800},{"$f":"SA!CP32-SA!CM32","v":2900},{"$f":"SA!CQ32-SA!CN32","v":6700},{"$f":"SA!CR32-SA!CO32","v":2100},{"$f":"SA!CS32-SA!CP32","v":2500},{"$f":"SA!CT32-SA!CQ32","v":700},{"$f":"SA!CU32-SA!CR32","v":-1300},{"$f":"SA!CV32-SA!CS32","v":-4400},{"$f":"SA!CW32-SA!CT32","v":-3600},{"$f":"SA!CX32-SA!CU32","v":4900},{"$f":"SA!CY32-SA!CV32","v":5500},{"$f":"SA!CZ32-SA!CW32","v":800},{"$f":"SA!DA32-SA!CX32","v":-3600},{"$f":"SA!DB32-SA!CY32","v":500},{"$f":"SA!DC32-SA!CZ32","v":1100},{"$f":"SA!DD32-SA!DA32","v":4900},{"$f":"SA!DE32-SA!DB32","v":700},{"$f":"SA!DF32-SA!DC32","v":12200},{"$f":"SA!DG32-SA!DD32","v":3000},{"$f":"SA!DH32-SA!DE32","v":7800},{"$f":"SA!DI32-SA!DF32","v":-6800},{"$f":"SA!DJ32-SA!DG32","v":-2200},{"$f":"SA!DK32-SA!DH32","v":-5100},{"$f":"SA!DL32-SA!DI32","v":-1900},{"$f":"SA!DM32-SA!DJ32","v":-500},{"$f":"SA!DN32-SA!DK32","v":400},{"$f":"SA!DO32-SA!DL32","v":-2300},{"$f":"SA!DP32-SA!DM32","v":-1000},{"$f":"SA!DQ32-SA!DN32","v":-5100},{"$f":"SA!DR32-SA!DO32","v":-3600},{"$f":"SA!DS32-SA!DP32","v":-1300},{"$f":"SA!DT32-SA!DQ32","v":-400},{"$f":"SA!DU32-SA!DR32","v":3200},{"$f":"SA!DV32-SA!DS32","v":-700},{"$f":"SA!DW32-SA!DT32","v":-1000},{"$f":"SA!DX32-SA!DU32","v":-2100},{"$f":"SA!DY32-SA!DV32","v":2300},{"$f":"SA!DZ32-SA!DW32","v":8400},{"$f":"SA!EA32-SA!DX32","v":4700},{"$f":"SA!EB32-SA!DY32","v":-2400},{"$f":"SA!EC32-SA!DZ32","v":-8300},{"$f":"SA!ED32-SA!EA32","v":-4600},{"$f":"SA!EE32-SA!EB32","v":-400},{"$f":"SA!EF32-SA!EC32","v":2400},{"$f":"SA!EG32-SA!ED32","v":-3500},{"$f":"SA!EH32-SA!EE32","v":-1600},{"$f":"SA!EI32-SA!EF32","v":-1200},{"$f":"SA!EJ32-SA!EG32","v":3900},{"$f":"SA!EK32-SA!EH32","v":-1200},{"$f":"SA!EL32-SA!EI32","v":-1100},{"$f":"SA!EM32-SA!EJ32","v":-4100},{"$f":"SA!EN32-SA!EK32","v":3100},{"$f":"SA!EO32-SA!EL32","v":-3500},{"$f":"SA!EP32-SA!EM32","v":-2300},{"$f":"SA!EQ32-SA!EN32","v":-10100},{"$f":"SA!ER32-SA!EO32","v":-7500},{"$f":"SA!ES32-SA!EP32","v":-1300},{"$f":"SA!ET32-SA!EQ32","v":-7600},{"$f":"SA!EU32-SA!ER32","v":-2300},{"$f":"SA!EV32-SA!ES32","v":-300},{"$f":"SA!EW32-SA!ET32","v":12800},{"$f":"SA!EX32-SA!EU32","v":14000},{"$f":"SA!EY32-SA!EV32","v":2000},{"$f":"SA!EZ32-SA!EW32","v":-4300},{"$f":"SA!FA32-SA!EX32","v":-5400},{"$f":"SA!FB32-SA!EY32","v":-1900},{"$f":"SA!FC32-SA!EZ32","v":1700},{"$f":"SA!FD32-SA!FA32","v":3100},{"$f":"SA!FE32-SA!FB32","v":500},{"$f":"SA!FF32-SA!FC32","v":-10900},{"$f":"SA!FG32-SA!FD32","v":-4000},{"$f":"SA!FH32-SA!FE32","v":-1400},{"$f":"SA!FI32-SA!FF32","v":7000},{"$f":"SA!FJ32-SA!FG32","v":-3900},{"$f":"SA!FK32-SA!FH32","v":-400},{"$f":"SA!FL32-SA!FI32","v":1600},{"$f":"SA!FM32-SA!FJ32","v":300},{"$f":"SA!FN32-SA!FK32","v":2800},{"$f":"SA!FO32-SA!FL32","v":2500},{"$f":"SA!FP32-SA!FM32","v":-100},{"$f":"SA!FQ32-SA!FN32","v":-1600},{"$f":"SA!FR32-SA!FO32","v":-400},{"$f":"SA!FS32-SA!FP32","v":1300},{"$f":"SA!FT32-SA!FQ32","v":-900},{"$f":"SA!FU32-SA!FR32","v":-1800},{"$f":"SA!FV32-SA!FS32","v":700},{"$f":"SA!FW32-SA!FT32","v":1900},{"$f":"SA!FX32-SA!FU32","v":1600},{"$f":"SA!FY32-SA!FV32","v":7000},{"$f":"SA!FZ32-SA!FW32","v":1500},{"$f":"SA!GA32-SA!FX32","v":1000},{"$f":"SA!GB32-SA!FY32","v":-2100},{"$f":"SA!GC32-SA!FZ32","v":-2200},{"$f":"SA!GD32-SA!GA32","v":-2300},{"$f":"SA!GE32-SA!GB32","v":-3700},{"$f":"SA!GF32-SA!GC32","v":-700},{"$f":"SA!GG32-SA!GD32","v":1600},{"$f":"SA!GH32-SA!GE32","v":-900},{"$f":"SA!GI32-SA!GF32","v":500},{"$f":"SA!GJ32-SA!GG32","v":-1800},{"$f":"SA!GK32-SA!GH32","v":-1800},{"$f":"SA!GL32-SA!GI32","v":-2200},{"$f":"SA!GM32-SA!GJ32","v":-1200},{"$f":"SA!GN32-SA!GK32","v":-6000},{"$f":"SA!GO32-SA!GL32","v":200},{"$f":"SA!GP32-SA!GM32","v":2100},{"$f":"SA!GQ32-SA!GN32","v":7900},{"$f":"SA!GR32-SA!GO32","v":900},{"$f":"SA!GS32-SA!GP32","v":1100},{"$f":"SA!GT32-SA!GQ32","v":-1900},{"$f":"SA!GU32-SA!GR32","v":1100},{"$f":"SA!GV32-SA!GS32","v":300},{"$f":"SA!GW32-SA!GT32","v":9900},{"$f":"SA!GX32-SA!GU32","v":600},{"$f":"SA!GY32-SA!GV32","v":-1400},{"$f":"SA!GZ32-SA!GW32","v":-2800},{"$f":"SA!HA32-SA!GX32","v":100},{"$f":"SA!HB32-SA!GY32","v":-1700},{"$f":"SA!HC32-SA!GZ32","v":-7200},{"$f":"SA!HD32-SA!HA32","v":-6200},{"$f":"SA!HE32-SA!HB32","v":-1100},{"$f":"SA!HF32-SA!HC32","v":1600},{"$f":"SA!HG32-SA!HD32","v":1600},{"$f":"SA!HH32-SA!HE32","v":1500},{"$f":"SA!HI32-SA!HF32","v":-3800},{"$f":"SA!HJ32-SA!HG32","v":1600},{"$f":"SA!HK32-SA!HH32","v":-700},{"$f":"SA!HL32-SA!HI32","v":-1600},{"$f":"SA!HM32-SA!HJ32","v":-2200},{"$f":"SA!HN32-SA!HK32","v":-1200},{"$f":"SA!HO32-SA!HL32","v":4500},{"$f":"SA!HP32-SA!HM32","v":1200},{"$f":"SA!HQ32-SA!HN32","v":800},{"$f":"SA!HR32-SA!HO32","v":-200},{"$f":"SA!HS32-SA!HP32","v":2500},{"$f":"SA!HT32-SA!HQ32","v":3000},{"$f":"SA!HU32-SA!HR32","v":5400},{"$f":"SA!HV32-SA!HS32","v":0},{"$f":"SA!HW32-SA!HT32","v":-3800},{"$f":"SA!HX32-SA!HU32","v":-4800},{"$f":"SA!HY32-SA!HV32","v":-300},{"$f":"SA!HZ32-SA!HW32","v":-3400},{"$f":"SA!IA32-SA!HX32","v":-8000},{"$f":"SA!IB32-SA!HY32","v":-5700},{"$f":"SA!IC32-SA!HZ32","v":-200},{"$f":"SA!ID32-SA!IA32","v":3600},{"$f":"SA!IE32-SA!IB32","v":5100},{"$f":"SA!IF32-SA!IC32","v":3800},{"$f":"SA!IG32-SA!ID32","v":-500},{"$f":"SA!IH32-SA!IE32","v":-3700},{"$f":"SA!II32-SA!IF32","v":-2200},{"$f":"SA!IJ32-SA!IG32","v":-1200},{"$f":"SA!IK32-SA!IH32","v":-1000},{"$f":"SA!IL32-SA!II32","v":-405400},"n/a",null,null,"Government",-10900,-3600,-1700,-700,-49.999999999998579,1200,2850,14000,3745.9090111115388]
["Federal Government",{"$f":"SA!BN33-SA!BK33","v":-200},{"$f":"SA!BO33-SA!BL33","v":-200},{"$f":"SA!BP33-SA!BM33","v":-100},{"$f":"SA!BQ33-SA!BN33","v":0},{"$f":"SA!BR33-SA!BO33","v":0},{"$f":"SA!BS33-SA!BP33","v":-100},{"$f":"SA!BT33-SA!BQ33","v":-200},{"$f":"SA!BU33-SA!BR33","v":-200},{"$f":"SA!BV33-SA!BS33","v":0},{"$f":"SA!BW33-SA!BT33","v":-100},{"$f":"SA!BX33-SA!BU33","v":-100},{"$f":"SA!BY33-SA!BV33","v":-100},{"$f":"SA!BZ33-SA!BW33","v":0},{"$f":"SA!CA33-SA!BX33","v":0},{"$f":"SA!CB33-SA!BY33","v":200},{"$f":"SA!CC33-SA!BZ33","v":200},{"$f":"SA!CD33-SA!CA33","v":100},{"$f":"SA!CE33-SA!CB33","v":0},{"$f":"SA!CF33-SA!CC33","v":0},{"$f":"SA!CG33-SA!CD33","v":0},{"$f":"SA!CH33-SA!CE33","v":0},{"$f":"SA!CI33-SA!CF33","v":-100},{"$f":"SA!CJ33-SA!CG33","v":100},{"$f":"SA!CK33-SA!CH33","v":0},{"$f":"SA!CL33-SA!CI33","v":200},{"$f":"SA!CM33-SA!CJ33","v":-100},{"$f":"SA!CN33-SA!CK33","v":-100},{"$f":"SA!CO33-SA!CL33","v":-200},{"$f":"SA!CP33-SA!CM33","v":0},{"$f":"SA!CQ33-SA!CN33","v":100},{"$f":"SA!CR33-SA!CO33","v":0},{"$f":"SA!CS33-SA!CP33","v":100},{"$f":"SA!CT33-SA!CQ33","v":-100},{"$f":"SA!CU33-SA!CR33","v":200},{"$f":"SA!CV33-SA!CS33","v":0},{"$f":"SA!CW33-SA!CT33","v":-100},{"$f":"SA!CX33-SA!CU33","v":0},{"$f":"SA!CY33-SA!CV33","v":200},{"$f":"SA!CZ33-SA!CW33","v":400},{"$f":"SA!DA33-SA!CX33","v":100},{"$f":"SA!DB33-SA!CY33","v":100},{"$f":"SA!DC33-SA!CZ33","v":100},{"$f":"SA!DD33-SA!DA33","v":300},{"$f":"SA!DE33-SA!DB33","v":200},{"$f":"SA!DF33-SA!DC33","v":200},{"$f":"SA!DG33-SA!DD33","v":-200},{"$f":"SA!DH33-SA!DE33","v":-100},{"$f":"SA!DI33-SA!DF33","v":0},{"$f":"SA!DJ33-SA!DG33","v":300},{"$f":"SA!DK33-SA!DH33","v":200},{"$f":"SA!DL33-SA!DI33","v":-100},{"$f":"SA!DM33-SA!DJ33","v":2000},{"$f":"SA!DN33-SA!DK33","v":2000},{"$f":"SA!DO33-SA!DL33","v":100},{"$f":"SA!DP33-SA!DM33","v":-2300},{"$f":"SA!DQ33-SA!DN33","v":-2200},{"$f":"SA!DR33-SA!DO33","v":-200},{"$f":"SA!DS33-SA!DP33","v":200},{"$f":"SA!DT33-SA!DQ33","v":0},{"$f":"SA!DU33-SA!DR33","v":100},{"$f":"SA!DV33-SA!DS33","v":-200},{"$f":"SA!DW33-SA!DT33","v":-100},{"$f":"SA!DX33-SA!DU33","v":600},{"$f":"SA!DY33-SA!DV33","v":3900},{"$f":"SA!DZ33-SA!DW33","v":8300},{"$f":"SA!EA33-SA!DX33","v":4000},{"$f":"SA!EB33-SA!DY33","v":-1100},{"$f":"SA!EC33-SA!DZ33","v":-7400},{"$f":"SA!ED33-SA!EA33","v":-4600},{"$f":"SA!EE33-SA!EB33","v":-2800},{"$f":"SA!EF33-SA!EC33","v":-900},{"$f":"SA!EG33-SA!ED33","v":-200},{"$f":"SA!EH33-SA!EE33","v":-100},{"$f":"SA!EI33-SA!EF33","v":-200},{"$f":"SA!EJ33-SA!EG33","v":0},{"$f":"SA!EK33-SA!EH33","v":0},{"$f":"SA!EL33-SA!EI33","v":0},{"$f":"SA!EM33-SA!EJ33","v":-100},{"$f":"SA!EN33-SA!EK33","v":0},{"$f":"SA!EO33-SA!EL33","v":0},{"$f":"SA!EP33-SA!EM33","v":0},{"$f":"SA!EQ33-SA!EN33","v":-100},{"$f":"SA!ER33-SA!EO33","v":-300},{"$f":"SA!ES33-SA!EP33","v":-300},{"$f":"SA!ET33-SA!EQ33","v":-400},{"$f":"SA!EU33-SA!ER33","v":-100},{"$f":"SA!EV33-SA!ES33","v":0},{"$f":"SA!EW33-SA!ET33","v":0},{"$f":"SA!EX33-SA!EU33","v":0},{"$f":"SA!EY33-SA!EV33","v":-100},{"$f":"SA!EZ33-SA!EW33","v":100},{"$f":"SA!FA33-SA!EX33","v":100},{"$f":"SA!FB33-SA!EY33","v":0},{"$f":"SA!FC33-SA!EZ33","v":0},{"$f":"SA!FD33-SA!FA33","v":-400},{"$f":"SA!FE33-SA!FB33","v":-100},{"$f":"SA!FF33-SA!FC33","v":-300},{"$f":"SA!FG33-SA!FD33","v":200},{"$f":"SA!FH33-SA!FE33","v":-300},{"$f":"SA!FI33-SA!FF33","v":0},{"$f":"SA!FJ33-SA!FG33","v":-200},{"$f":"SA!FK33-SA!FH33","v":0},{"$f":"SA!FL33-SA!FI33","v":-200},{"$f":"SA!FM33-SA!FJ33","v":-200},{"$f":"SA!FN33-SA!FK33","v":0},{"$f":"SA!FO33-SA!FL33","v":-100},{"$f":"SA!FP33-SA!FM33","v":200},{"$f":"SA!FQ33-SA!FN33","v":-200},{"$f":"SA!FR33-SA!FO33","v":100},{"$f":"SA!FS33-SA!FP33","v":-100},{"$f":"SA!FT33-SA!FQ33","v":200},{"$f":"SA!FU33-SA!FR33","v":0},{"$f":"SA!FV33-SA!FS33","v":0},{"$f":"SA!FW33-SA!FT33","v":-100},{"$f":"SA!FX33-SA!FU33","v":0},{"$f":"SA!FY33-SA!FV33","v":100},{"$f":"SA!FZ33-SA!FW33","v":200},{"$f":"SA!GA33-SA!FX33","v":100},{"$f":"SA!GB33-SA!FY33","v":100},{"$f":"SA!GC33-SA!FZ33","v":100},{"$f":"SA!GD33-SA!GA33","v":0},{"$f":"SA!GE33-SA!GB33","v":-100},{"$f":"SA!GF33-SA!GC33","v":-100},{"$f":"SA!GG33-SA!GD33","v":100},{"$f":"SA!GH33-SA!GE33","v":100},{"$f":"SA!GI33-SA!GF33","v":200},{"$f":"SA!GJ33-SA!GG33","v":100},{"$f":"SA!GK33-SA!GH33","v":0},{"$f":"SA!GL33-SA!GI33","v":-100},{"$f":"SA!GM33-SA!GJ33","v":-100},{"$f":"SA!GN33-SA!GK33","v":100},{"$f":"SA!GO33-SA!GL33","v":100},{"$f":"SA!GP33-SA!GM33","v":100},{"$f":"SA!GQ33-SA!GN33","v":0},{"$f":"SA!GR33-SA!GO33","v":100},{"$f":"SA!GS33-SA!GP33","v":0},{"$f":"SA!GT33-SA!GQ33","v":0},{"$f":"SA!GU33-SA!GR33","v":100},{"$f":"SA!GV33-SA!GS33","v":0},{"$f":"SA!GW33-SA!GT33","v":200},{"$f":"SA!GX33-SA!GU33","v":100},{"$f":"SA!GY33-SA!GV33","v":200},{"$f":"SA!GZ33-SA!GW33","v":100},{"$f":"SA!HA33-SA!GX33","v":-100},{"$f":"SA!HB33-SA!GY33","v":100},{"$f":"SA!HC33-SA!GZ33","v":-100},{"$f":"SA!HD33-SA!HA33","v":100},{"$f":"SA!HE33-SA!HB33","v":-300},{"$f":"SA!HF33-SA!HC33","v":0},{"$f":"SA!HG33-SA!HD33","v":-100},{"$f":"SA!HH33-SA!HE33","v":200},{"$f":"SA!HI33-SA!HF33","v":-300},{"$f":"SA!HJ33-SA!HG33","v":-100},{"$f":"SA!HK33-SA!HH33","v":-100},{"$f":"SA!HL33-SA!HI33","v":200},{"$f":"SA!HM33-SA!HJ33","v":0},{"$f":"SA!HN33-SA!HK33","v":100},{"$f":"SA!HO33-SA!HL33","v":100},{"$f":"SA!HP33-SA!HM33","v":0},{"$f":"SA!HQ33-SA!HN33","v":-100},{"$f":"SA!HR33-SA!HO33","v":0},{"$f":"SA!HS33-SA!HP33","v":100},{"$f":"SA!HT33-SA!HQ33","v":100},{"$f":"SA!HU33-SA!HR33","v":100},{"$f":"SA!HV33-SA!HS33","v":200},{"$f":"SA!HW33-SA!HT33","v":200},{"$f":"SA!HX33-SA!HU33","v":100},{"$f":"SA!HY33-SA!HV33","v":-200},{"$f":"SA!HZ33-SA!HW33","v":-300},{"$f":"SA!IA33-SA!HX33","v":-300},{"$f":"SA!IB33-SA!HY33","v":-200},{"$f":"SA!IC33-SA!HZ33","v":0},{"$f":"SA!ID33-SA!IA33","v":100},{"$f":"SA!IE33-SA!IB33","v":200},{"$f":"SA!IF33-SA!IC33","v":100},{"$f":"SA!IG33-SA!ID33","v":500},{"$f":"SA!IH33-SA!IE33","v":300},{"$f":"SA!II33-SA!IF33","v":200},{"$f":"SA!IJ33-SA!IG33","v":-400},{"$f":"SA!IK33-SA!IH33","v":-200},{"$f":"SA!IL33-SA!II33","v":-29300},"n/a",null,null,"Federal Government",-7400,-200,-100,0,0,100,200,8300,1108.6306903711379]
["State Government",{"$f":"SA!BN34-SA!BK34","v":1700},{"$f":"SA!BO34-SA!BL34","v":-900},{"$f":"SA!BP34-SA!BM34","v":-1400},{"$f":"SA!BQ34-SA!BN34","v":-3700},{"$f":"SA!BR34-SA!BO34","v":-900},{"$f":"SA!BS34-SA!BP34","v":-800},{"$f":"SA!BT34-SA!BQ34","v":700},{"$f":"SA!BU34-SA!BR34","v":-300},{"$f":"SA!BV34-SA!BS34","v":3900},{"$f":"SA!BW34-SA!BT34","v":500},{"$f":"SA!BX34-SA!BU34","v":1200},{"$f":"SA!BY34-SA!BV34","v":-1100},{"$f":"SA!BZ34-SA!BW34","v":1700},{"$f":"SA!CA34-SA!BX34","v":700},{"$f":"SA!CB34-SA!BY34","v":-1300},{"$f":"SA!CC34-SA!BZ34","v":-1800},{"$f":"SA!CD34-SA!CA34","v":-1200},{"$f":"SA!CE34-SA!CB34","v":2100},{"$f":"SA!CF34-SA!CC34","v":1700},{"$f":"SA!CG34-SA!CD34","v":2500},{"$f":"SA!CH34-SA!CE34","v":1500},{"$f":"SA!CI34-SA!CF34","v":-200},{"$f":"SA!CJ34-SA!CG34","v":-1400},{"$f":"SA!CK34-SA!CH34","v":-2400},{"$f":"SA!CL34-SA!CI34","v":-700},{"$f":"SA!CM34-SA!CJ34","v":700},{"$f":"SA!CN34-SA!CK34","v":600},{"$f":"SA!CO34-SA!CL34","v":0},{"$f":"SA!CP34-SA!CM34","v":500},{"$f":"SA!CQ34-SA!CN34","v":600},{"$f":"SA!CR34-SA!CO34","v":600},{"$f":"SA!CS34-SA!CP34","v":300},{"$f":"SA!CT34-SA!CQ34","v":-100},{"$f":"SA!CU34-SA!CR34","v":-800},{"$f":"SA!CV34-SA!CS34","v":-1500},{"$f":"SA!CW34-SA!CT34","v":-800},{"$f":"SA!CX34-SA!CU34","v":2300},{"$f":"SA!CY34-SA!CV34","v":1300},{"$f":"SA!CZ34-SA!CW34","v":-100},{"$f":"SA!DA34-SA!CX34","v":-2300},{"$f":"SA!DB34-SA!CY34","v":100},{"$f":"SA!DC34-SA!CZ34","v":-100},{"$f":"SA!DD34-SA!DA34","v":1600},{"$f":"SA!DE34-SA!DB34","v":100},{"$f":"SA!DF34-SA!DC34","v":300},{"$f":"SA!DG34-SA!DD34","v":800},{"$f":"SA!DH34-SA!DE34","v":400},{"$f":"SA!DI34-SA!DF34","v":700},{"$f":"SA!DJ34-SA!DG34","v":-1400},{"$f":"SA!DK34-SA!DH34","v":-1300},{"$f":"SA!DL34-SA!DI34","v":-1100},{"$f":"SA!DM34-SA!DJ34","v":-4000},{"$f":"SA!DN34-SA!DK34","v":-2200},{"$f":"SA!DO34-SA!DL34","v":-3700},{"$f":"SA!DP34-SA!DM34","v":-400},{"$f":"SA!DQ34-SA!DN34","v":-1800},{"$f":"SA!DR34-SA!DO34","v":-2200},{"$f":"SA!DS34-SA!DP34","v":-1800},{"$f":"SA!DT34-SA!DQ34","v":-900},{"$f":"SA!DU34-SA!DR34","v":1900},{"$f":"SA!DV34-SA!DS34","v":400},{"$f":"SA!DW34-SA!DT34","v":100},{"$f":"SA!DX34-SA!DU34","v":-1500},{"$f":"SA!DY34-SA!DV34","v":1600},{"$f":"SA!DZ34-SA!DW34","v":1100},{"$f":"SA!EA34-SA!DX34","v":3100},{"$f":"SA!EB34-SA!DY34","v":1300},{"$f":"SA!EC34-SA!DZ34","v":1300},{"$f":"SA!ED34-SA!EA34","v":-600},{"$f":"SA!EE34-SA!EB34","v":-1100},{"$f":"SA!EF34-SA!EC34","v":-1700},{"$f":"SA!EG34-SA!ED34","v":-2900},{"$f":"SA!EH34-SA!EE34","v":-2300},{"$f":"SA!EI34-SA!EF34","v":-1500},{"$f":"SA!EJ34-SA!EG34","v":800},{"$f":"SA!EK34-SA!EH34","v":-500},{"$f":"SA!EL34-SA!EI34","v":2400},{"$f":"SA!EM34-SA!EJ34","v":-1000},{"$f":"SA!EN34-SA!EK34","v":200},{"$f":"SA!EO34-SA!EL34","v":-8200},{"$f":"SA!EP34-SA!EM34","v":-2700},{"$f":"SA!EQ34-SA!EN34","v":-1400},{"$f":"SA!ER34-SA!EO34","v":4000},{"$f":"SA!ES34-SA!EP34","v":2000},{"$f":"SA!ET34-SA!EQ34","v":-8400},{"$f":"SA!EU34-SA!ER34","v":-5400},{"$f":"SA!EV34-SA!ES34","v":-700},{"$f":"SA!EW34-SA!ET34","v":9100},{"$f":"SA!EX34-SA!EU34","v":6400},{"$f":"SA!EY34-SA!EV34","v":-900},{"$f":"SA!EZ34-SA!EW34","v":-100},{"$f":"SA!FA34-SA!EX34","v":-900},{"$f":"SA!FB34-SA!EY34","v":2800},{"$f":"SA!FC34-SA!EZ34","v":800},{"$f":"SA!FD34-SA!FA34","v":1200},{"$f":"SA!FE34-SA!FB34","v":-1100},{"$f":"SA!FF34-SA!FC34","v":-10000},{"$f":"SA!FG34-SA!FD34","v":-200},{"$f":"SA!FH34-SA!FE34","v":-400},{"$f":"SA!FI34-SA!FF34","v":9200},{"$f":"SA!FJ34-SA!FG34","v":-2700},{"$f":"SA!FK34-SA!FH34","v":-300},{"$f":"SA!FL34-SA!FI34","v":400},{"$f":"SA!FM34-SA!FJ34","v":3100},{"$f":"SA!FN34-SA!FK34","v":2400},{"$f":"SA!FO34-SA!FL34","v":2000},{"$f":"SA!FP34-SA!FM34","v":700},{"$f":"SA!FQ34-SA!FN34","v":-200},{"$f":"SA!FR34-SA!FO34","v":0},{"$f":"SA!FS34-SA!FP34","v":200},{"$f":"SA!FT34-SA!FQ34","v":-700},{"$f":"SA!FU34-SA!FR34","v":-900},{"$f":"SA!FV34-SA!FS34","v":-1200},{"$f":"SA!FW34-SA!FT34","v":100},{"$f":"SA!FX34-SA!FU34","v":-200},{"$f":"SA!FY34-SA!FV34","v":1000},{"$f":"SA!FZ34-SA!FW34","v":1600},{"$f":"SA!GA34-SA!FX34","v":500},{"$f":"SA!GB34-SA!FY34","v":900},{"$f":"SA!GC34-SA!FZ34","v":-400},{"$f":"SA!GD34-SA!GA34","v":200},{"$f":"SA!GE34-SA!GB34","v":-400},{"$f":"SA!GF34-SA!GC34","v":-200},{"$f":"SA!GG34-SA!GD34","v":-300},{"$f":"SA!GH34-SA!GE34","v":-1400},{"$f":"SA!GI34-SA!GF34","v":-1700},{"$f":"SA!GJ34-SA!GG34","v":-900},{"$f":"SA!GK34-SA!GH34","v":-900},{"$f":"SA!GL34-SA!GI34","v":-600},{"$f":"SA!GM34-SA!GJ34","v":-1600},{"$f":"SA!GN34-SA!GK34","v":-900},{"$f":"SA!GO34-SA!GL34","v":-100},{"$f":"SA!GP34-SA!GM34","v":400},{"$f":"SA!GQ34-SA!GN34","v":500},{"$f":"SA!GR34-SA!GO34","v":-300},{"$f":"SA!GS34-SA!GP34","v":-400},{"$f":"SA!GT34-SA!GQ34","v":-400},{"$f":"SA!GU34-SA!GR34","v":-200},{"$f":"SA!GV34-SA!GS34","v":200},{"$f":"SA!GW34-SA!GT34","v":200},{"$f":"SA!GX34-SA!GU34","v":-400},{"$f":"SA!GY34-SA!GV34","v":400},{"$f":"SA!GZ34-SA!GW34","v":500},{"$f":"SA!HA34-SA!GX34","v":600},{"$f":"SA!HB34-SA!GY34","v":-600},{"$f":"SA!HC34-SA!GZ34","v":-400},{"$f":"SA!HD34-SA!HA34","v":-5200},{"$f":"SA!HE34-SA!HB34","v":400},{"$f":"SA!HF34-SA!HC34","v":900},{"$f":"SA!HG34-SA!HD34","v":6000},{"$f":"SA!HH34-SA!HE34","v":400},{"$f":"SA!HI34-SA!HF34","v":-100},{"$f":"SA!HJ34-SA!HG34","v":-1100},{"$f":"SA!HK34-SA!HH34","v":-1500},{"$f":"SA!HL34-SA!HI34","v":-1300},{"$f":"SA!HM34-SA!HJ34","v":-3400},{"$f":"SA!HN34-SA!HK34","v":-2500},{"$f":"SA!HO34-SA!HL34","v":-1500},{"$f":"SA!HP34-SA!HM34","v":900},{"$f":"SA!HQ34-SA!HN34","v":1500},{"$f":"SA!HR34-SA!HO34","v":400},{"$f":"SA!HS34-SA!HP34","v":1300},{"$f":"SA!HT34-SA!HQ34","v":300},{"$f":"SA!HU34-SA!HR34","v":-500},{"$f":"SA!HV34-SA!HS34","v":-100},{"$f":"SA!HW34-SA!HT34","v":-400},{"$f":"SA!HX34-SA!HU34","v":800},{"$f":"SA!HY34-SA!HV34","v":800},{"$f":"SA!HZ34-SA!HW34","v":-1800},{"$f":"SA!IA34-SA!HX34","v":-1800},{"$f":"SA!IB34-SA!HY34","v":-2600},{"$f":"SA!IC34-SA!HZ34","v":-500},{"$f":"SA!ID34-SA!IA34","v":-200},{"$f":"SA!IE34-SA!IB34","v":1000},{"$f":"SA!IF34-SA!IC34","v":2700},{"$f":"SA!IG34-SA!ID34","v":0},{"$f":"SA!IH34-SA!IE34","v":-1600},{"$f":"SA!II34-SA!IF34","v":-1700},{"$f":"SA!IJ34-SA!IG34","v":100},{"$f":"SA!IK34-SA!IH34","v":500},{"$f":"SA!IL34-SA!II34","v":-92300},"n/a",null,null,"State Government",-10000,-1550,-900,-300,0,500,1400,9200,2253.8561736927377]
["Local Government",{"$f":"SA!BN35-SA!BK35","v":1600},{"$f":"SA!BO35-SA!BL35","v":2500},{"$f":"SA!BP35-SA!BM35","v":3800},{"$f":"SA!BQ35-SA!BN35","v":1600},{"$f":"SA!BR35-SA!BO35","v":-1100},{"$f":"SA!BS35-SA!BP35","v":-500},{"$f":"SA!BT35-SA!BQ35","v":-900},{"$f":"SA!BU35-SA!BR35","v":200},{"$f":"SA!BV35-SA!BS35","v":1700},{"$f":"SA!BW35-SA!BT35","v":1500},{"$f":"SA!BX35-SA!BU35","v":-900},{"$f":"SA!BY35-SA!BV35","v":-400},{"$f":"SA!BZ35-SA!BW35","v":-2100},{"$f":"SA!CA35-SA!BX35","v":-200},{"$f":"SA!CB35-SA!BY35","v":-200},{"$f":"SA!CC35-SA!BZ35","v":1300},{"$f":"SA!CD35-SA!CA35","v":300},{"$f":"SA!CE35-SA!CB35","v":-700},{"$f":"SA!CF35-SA!CC35","v":-1300},{"$f":"SA!CG35-SA!CD35","v":-400},{"$f":"SA!CH35-SA!CE35","v":-300},{"$f":"SA!CI35-SA!CF35","v":-1100},{"$f":"SA!CJ35-SA!CG35","v":400},{"$f":"SA!CK35-SA!CH35","v":-1200},{"$f":"SA!CL35-SA!CI35","v":300},{"$f":"SA!CM35-SA!CJ35","v":-2600},{"$f":"SA!CN35-SA!CK35","v":-1200},{"$f":"SA!CO35-SA!CL35","v":1000},{"$f":"SA!CP35-SA!CM35","v":2400},{"$f":"SA!CQ35-SA!CN35","v":6000},{"$f":"SA!CR35-SA!CO35","v":1500},{"$f":"SA!CS35-SA!CP35","v":2100},{"$f":"SA!CT35-SA!CQ35","v":900},{"$f":"SA!CU35-SA!CR35","v":-700},{"$f":"SA!CV35-SA!CS35","v":-2900},{"$f":"SA!CW35-SA!CT35","v":-2700},{"$f":"SA!CX35-SA!CU35","v":2600},{"$f":"SA!CY35-SA!CV35","v":4000},{"$f":"SA!CZ35-SA!CW35","v":500},{"$f":"SA!DA35-SA!CX35","v":-1400},{"$f":"SA!DB35-SA!CY35","v":300},{"$f":"SA!DC35-SA!CZ35","v":1100},{"$f":"SA!DD35-SA!DA35","v":3000},{"$f":"SA!DE35-SA!DB35","v":400},{"$f":"SA!DF35-SA!DC35","v":11700},{"$f":"SA!DG35-SA!DD35","v":2400},{"$f":"SA!DH35-SA!DE35","v":7500},{"$f":"SA!DI35-SA!DF35","v":-7500},{"$f":"SA!DJ35-SA!DG35","v":-1100},{"$f":"SA!DK35-SA!DH35","v":-4000},{"$f":"SA!DL35-SA!DI35","v":-700},{"$f":"SA!DM35-SA!DJ35","v":1500},{"$f":"SA!DN35-SA!DK35","v":600},{"$f":"SA!DO35-SA!DL35","v":1300},{"$f":"SA!DP35-SA!DM35","v":1700},{"$f":"SA!DQ35-SA!DN35","v":-1100},{"$f":"SA!DR35-SA!DO35","v":-1200},{"$f":"SA!DS35-SA!DP35","v":300},{"$f":"SA!DT35-SA!DQ35","v":500},{"$f":"SA!DU35-SA!DR35","v":1200},{"$f":"SA!DV35-SA!DS35","v":-900},{"$f":"SA!DW35-SA!DT35","v":-1000},{"$f":"SA!DX35-SA!DU35","v":-1200},{"$f":"SA!DY35-SA!DV35","v":-3200},{"$f":"SA!DZ35-SA!DW35","v":-1000},{"$f":"SA!EA35-SA!DX35","v":-2400},{"$f":"SA!EB35-SA!DY35","v":-2600},{"$f":"SA!EC35-SA!DZ35","v":-2200},{"$f":"SA!ED35-SA!EA35","v":600},{"$f":"SA!EE35-SA!EB35","v":3500},{"$f":"SA!EF35-SA!EC35","v":5000},{"$f":"SA!EG35-SA!ED35","v":-400},{"$f":"SA!EH35-SA!EE35","v":800},{"$f":"SA!EI35-SA!EF35","v":500},{"$f":"SA!EJ35-SA!EG35","v":3100},{"$f":"SA!EK35-SA!EH35","v":-700},{"$f":"SA!EL35-SA!EI35","v":-3500},{"$f":"SA!EM35-SA!EJ35","v":-3000},{"$f":"SA!EN35-SA!EK35","v":2900},{"$f":"SA!EO35-SA!EL35","v":4700},{"$f":"SA!EP35-SA!EM35","v":400},{"$f":"SA!EQ35-SA!EN35","v":-8600},{"$f":"SA!ER35-SA!EO35","v":-11200},{"$f":"SA!ES35-SA!EP35","v":-3000},{"$f":"SA!ET35-SA!EQ35","v":1200},{"$f":"SA!EU35-SA!ER35","v":3200},{"$f":"SA!EV35-SA!ES35","v":400},{"$f":"SA!EW35-SA!ET35","v":3700},{"$f":"SA!EX35-SA!EU35","v":7600},{"$f":"SA!EY35-SA!EV35","v":3000},{"$f":"SA!EZ35-SA!EW35","v":-4300},{"$f":"SA!FA35-SA!EX35","v":-4600},{"$f":"SA!FB35-SA!EY35","v":-4700},{"$f":"SA!FC35-SA!EZ35","v":900},{"$f":"SA!FD35-SA!FA35","v":2300},{"$f":"SA!FE35-SA!FB35","v":1700},{"$f":"SA!FF35-SA!FC35","v":-600},{"$f":"SA!FG35-SA!FD35","v":-4000},{"$f":"SA!FH35-SA!FE35","v":-700},{"$f":"SA!FI35-SA!FF35","v":-2200},{"$f":"SA!FJ35-SA!FG35","v":-1000},{"$f":"SA!FK35-SA!FH35","v":-100},{"$f":"SA!FL35-SA!FI35","v":1400},{"$f":"SA!FM35-SA!FJ35","v":-2600},{"$f":"SA!FN35-SA!FK35","v":400},{"$f":"SA!FO35-SA!FL35","v":600},{"$f":"SA!FP35-SA!FM35","v":-1000},{"$f":"SA!FQ35-SA!FN35","v":-1200},{"$f":"SA!FR35-SA!FO35","v":-500},{"$f":"SA!FS35-SA!FP35","v":1200},{"$f":"SA!FT35-SA!FQ35","v":-400},{"$f":"SA!FU35-SA!FR35","v":-900},{"$f":"SA!FV35-SA!FS35","v":1900},{"$f":"SA!FW35-SA!FT35","v":1900},{"$f":"SA!FX35-SA!FU35","v":1800},{"$f":"SA!FY35-SA!FV35","v":5900},{"$f":"SA!FZ35-SA!FW35","v":-300},{"$f":"SA!GA35-SA!FX35","v":400},{"$f":"SA!GB35-SA!FY35","v":-3100},{"$f":"SA!GC35-SA!FZ35","v":-1900},{"$f":"SA!GD35-SA!GA35","v":-2500},{"$f":"SA!GE35-SA!GB35","v":-3200},{"$f":"SA!GF35-SA!GC35","v":-400},{"$f":"SA!GG35-SA!GD35","v":1800},{"$f":"SA!GH35-SA!GE35","v":400},{"$f":"SA!GI35-SA!GF35","v":2000},{"$f":"SA!GJ35-SA!GG35","v":-1000},{"$f":"SA!GK35-SA!GH35","v":-900},{"$f":"SA!GL35-SA!GI35","v":-1500},{"$f":"SA!GM35-SA!GJ35","v":500},{"$f":"SA!GN35-SA!GK35","v":-5200},{"$f":"SA!GO35-SA!GL35","v":200},{"$f":"SA!GP35-SA!GM35","v":1600},{"$f":"SA!GQ35-SA!GN35","v":7400},{"$f":"SA!GR35-SA!GO35","v":1100},{"$f":"SA!GS35-SA!GP35","v":1500},{"$f":"SA!GT35-SA!GQ35","v":-1500},{"$f":"SA!GU35-SA!GR35","v":1200},{"$f":"SA!GV35-SA!GS35","v":100},{"$f":"SA!GW35-SA!GT35","v":9500},{"$f":"SA!GX35-SA!GU35","v":900},{"$f":"SA!GY35-SA!GV35","v":-2000},{"$f":"SA!GZ35-SA!GW35","v":-3400},{"$f":"SA!HA35-SA!GX35","v":-400},{"$f":"SA!HB35-SA!GY35","v":-1200},{"$f":"SA!HC35-SA!GZ35","v":-6700},{"$f":"SA!HD35-SA!HA35","v":-1100},{"$f":"SA!HE35-SA!HB35","v":-1200},{"$f":"SA!HF35-SA!HC35","v":700},{"$f":"SA!HG35-SA!HD35","v":-4300},{"$f":"SA!HH35-SA!HE35","v":900},{"$f":"SA!HI35-SA!HF35","v":-3400},{"$f":"SA!HJ35-SA!HG35","v":2800},{"$f":"SA!HK35-SA!HH35","v":900},{"$f":"SA!HL35-SA!HI35","v":-500},{"$f":"SA!HM35-SA!HJ35","v":1200},{"$f":"SA!HN35-SA!HK35","v":1200},{"$f":"SA!HO35-SA!HL35","v":5900},{"$f":"SA!HP35-SA!HM35","v":300},{"$f":"SA!HQ35-SA!HN35","v":-600},{"$f":"SA!HR35-SA!HO35","v":-600},{"$f":"SA!HS35-SA!HP35","v":1100},{"$f":"SA!HT35-SA!HQ35","v":2600},{"$f":"SA!HU35-SA!HR35","v":5800},{"$f":"SA!HV35-SA!HS35","v":-100},{"$f":"SA!HW35-SA!HT35","v":-3600},{"$f":"SA!HX35-SA!HU35","v":-5700},{"$f":"SA!HY35-SA!HV35","v":-900},{"$f":"SA!HZ35-SA!HW35","v":-1300},{"$f":"SA!IA35-SA!HX35","v":-5900},{"$f":"SA!IB35-SA!HY35","v":-2900},{"$f":"SA!IC35-SA!HZ35","v":300},{"$f":"SA!ID35-SA!IA35","v":3700},{"$f":"SA!IE35-SA!IB35","v":3900},{"$f":"SA!IF35-SA!IC35","v":1000},{"$f":"SA!IG35-SA!ID35","v":-1000},{"$f":"SA!IH35-SA!IE35","v":-2400},{"$f":"SA!II35-SA!IF35","v":-700},{"$f":"SA!IJ35-SA!IG35","v":-900},{"$f":"SA!IK35-SA!IH35","v":-1300},{"$f":"SA!IL35-SA!II35","v":-283800},"n/a",null,null,"Local Government",-11200,-2600,-1000,-400,400,1200,2400,11700,2962.5472807252449]
[]
[]
[null,null,null,null,null,null,null,null,null,null,null,null,null,null,null,null,null,null,null,null,null,null,null,null,null,null,null,null,null,null,null,null,null,null,null,null,null,null,null,null,null,null,null,null,null,null,null,null,null,null,null,null,null,null,null,null,null,null,null,null,null,null,null,null,null,null,null,null,null,null,null,null,null,null,null,null,null,null,null,null,null,null,null,null,null,null,null,null,null,null,null,null,null,null,null,null,null,null,null,null,null,null,null,null,null,null,null,null,null,null,null,null,null,null,null,null,null,null,null,null,null,null,null,null,null,null,null,null,null,null,null,null,null,null,null,null,null,null,null,null,null,null,null,null,null,null,null,null,null,null,null,null,null,null,null,null,null,null,null,null,"Long Winter!"]
["Year over Year % Change","2005-01-01","2005-02-01","2005-03-01","2005-04-01","2005-05-01","2005-06-01","2005-07-01","2005-08-01","2005-09-01","2005-10-01","2005-11-01","2005-12-01","2006-01-01","2006-02-01","2006-03-01","2006-04-01","2006-05-01","2006-06-01","2006-07-01","2006-08-01","2006-09-01","2006-10-01","2006-11-01","2006-12-01","2007-01-01","2007-02-01","2007-03-01","2007-04-01","2007-05-01","2007-06-01","2007-07-01","2007-08-01","2007-09-01","2007-10-01","2007-11-01","2007-12-01","2008-01-01","2008-02-01","2008-03-01","2008-04-01","2008-05-01","2008-06-01","2008-07-01","2008-08-01","2008-09-01","2008-10-01","2008-11-01","2008-12-01","2009-01-01","2009-02-01","2009-03-01","2009-04-01","2009-05-01","2009-06-01","2009-07-01","2009-08-01","2009-09-01","2009-10-01","2009-11-01","2009-12-01","2010-01-01","2010-02-01","2010-03-01","2010-04-01","2010-05-01","2010-06-01","2010-07-01","2010-08-01","2010-09-01","2010-10-01","2010-11-01","2010-12-01","2011-01-01","2011-02-01","2011-03-01","2011-04-01","2011-05-01","2011-06-01","2011-07-01","2011-08-01","2011-09-01","2011-10-01","2011-11-01","2011-12-01","2012-01-01","2012-02-01","2012-03-01","2012-04-01","2012-05-01","2012-06-01","2012-07-01","2012-08-01","2012-09-01","2012-10-01","2012-11-01","2012-12-01","2013-01-01","2013-02-01","2013-03-01","2013-04-01","2013-05-01","2013-06-01","2013-07-01","2013-08-01","2013-09-01","2013-10-01","2013-11-01","2013-12-01","2014-01-01","2014-02-01","2014-03-01","2014-04-01","2014-05-01","2014-06-01",{"$f":"EDATE(DK112,1)","v":"2014-07-01"},{"$f":"EDATE(DL112,1)","v":"2014-08-01"},{"$f":"EDATE(DM112,1)","v":"2014-09-01"},{"$f":"EDATE(DN112,1)","v":"2014-10-01"},{"$f":"EDATE(DO112,1)","v":"2014-11-01"},{"$f":"EDATE(DP112,1)","v":"2014-12-01"},{"$f":"EDATE(DQ112,1)","v":"2015-01-01"},{"$f":"EDATE(DR112,1)","v":"2015-02-01"},{"$f":"EDATE(DS112,1)","v":"2015-03-01"},{"$f":"EDATE(DT112,1)","v":"2015-04-01"},{"$f":"EDATE(DU112,1)","v":"2015-05-01"},{"$f":"EDATE(DV112,1)","v":"2015-06-01"},{"$f":"EDATE(DW112,1)","v":"2015-07-01"},{"$f":"EDATE(DX112,1)","v":"2015-08-01"},{"$f":"EDATE(DY112,1)","v":"2015-09-01"},{"$f":"EDATE(DZ112,1)","v":"2015-10-01"},{"$f":"EDATE(EA112,1)","v":"2015-11-01"},{"$f":"EDATE(EB112,1)","v":"2015-12-01"},"2016-01-01",{"$f":"EDATE(ED112,1)","v":"2016-02-01"},{"$f":"EDATE(EE112,1)","v":"2016-03-01"},{"$f":"EDATE(EF112,1)","v":"2016-04-01"},{"$f":"EDATE(EG112,1)","v":"2016-05-01"},{"$f":"EDATE(EH112,1)","v":"2016-06-01"},{"$f":"EDATE(EI112,1)","v":"2016-07-01"},{"$f":"EDATE(EJ112,1)","v":"2016-08-01"},{"$f":"EDATE(EK112,1)","v":"2016-09-01"},"2016-10-01","2016-11-01",{"$f":"EDATE(EN112,1)","v":"2016-12-01"},{"$f":"EDATE(EO112,1)","v":"2017-01-01"},{"$f":"EDATE(EP112,1)","v":"2017-02-01"},{"$f":"EDATE(EQ112,1)","v":"2017-03-01"},{"$f":"EDATE(ER112,1)","v":"2017-04-01"},{"$f":"EDATE(ES112,1)","v":"2017-05-01"},{"$f":"EDATE(ET112,1)","v":"2017-06-01"},{"$f":"EDATE(EU112,1)","v":"2017-07-01"},{"$f":"EDATE(EV112,1)","v":"2017-08-01"},{"$f":"EDATE(EW112,1)","v":"2017-09-01"},{"$f":"EDATE(EX112,1)","v":"2017-10-01"},{"$f":"EDATE(EY112,1)","v":"2017-11-01"},"2017-12-01",{"$f":"EDATE(FA112,1)","v":"2018-01-01"},{"$f":"EDATE(FB112,1)","v":"2018-02-01"},{"$f":"EDATE(FC112,1)","v":"2018-03-01"},{"$f":"EDATE(FD112,1)","v":"2018-04-01"},{"$f":"EDATE(FE112,1)","v":"2018-05-01"},{"$f":"EDATE(FF112,1)","v":"2018-06-01"},{"$f":"EDATE(FG112,1)","v":"2018-07-01"},{"$f":"EDATE(FH112,1)","v":"2018-08-01"},{"$f":"EDATE(FI112,1)","v":"2018-09-01"},{"$f":"EDATE(FJ112,1)","v":"2018-10-01"},{"$f":"EDATE(FK112,1)","v":"2018-11-01"},{"$f":"EDATE(FL112,1)","v":"2018-12-01"},{"$f":"EDATE(FM112,1)","v":"2019-01-01"},{"$f":"EDATE(FN112,1)","v":"2019-02-01"},{"$f":"EDATE(FO112,1)","v":"2019-03-01"},{"$f":"EDATE(FP112,1)","v":"2019-04-01"},{"$f":"EDATE(FQ112,1)","v":"2019-05-01"},{"$f":"EDATE(FR112,1)","v":"2019-06-01"},{"$f":"EDATE(FS112,1)","v":"2019-07-01"},{"$f":"EDATE(FT112,1)","v":"2019-08-01"},{"$f":"EDATE(FU112,1)","v":"2019-09-01"},{"$f":"EDATE(FV112,1)","v":"2019-10-01"},{"$f":"EDATE(FW112,1)","v":"2019-11-01"},{"$f":"EDATE(FX112,1)","v":"2019-12-01"},{"$f":"EDATE(FY112,1)","v":"2020-01-01"},"1 yr sig","# Positive Sig Changes since October 2017","12 mo Trend","Year over Year % Change","Min",0.15,0.3,0.45,0.55000000000000004,0.7,0.85,"Max","Std Deviation"]
["Total Non Farm",{"$f":"(SA!BN2-SA!BB2)/SA!BB2","v":1.3522261382435445E-2},{"$f":"(SA!BO2-SA!BC2)/SA!BC2","v":1.4363172824877016E-2},{"$f":"(SA!BP2-SA!BD2)/SA!BD2","v":1.3914789843637929E-2},{"$f":"(SA!BQ2-SA!BE2)/SA!BE2","v":1.656032690515449E-2},{"$f":"(SA!BR2-SA!BF2)/SA!BF2","v":1.2733841256214901E-2},{"$f":"(SA!BS2-SA!BG2)/SA!BG2","v":1.0324378393826808E-2},{"$f":"(SA!BT2-SA!BH2)/SA!BH2","v":1.0038087779873989E-2},{"$f":"(SA!BU2-SA!BI2)/SA!BI2","v":8.5582386363636364E-3},{"$f":"(SA!BV2-SA!BJ2)/SA!BJ2","v":1.3964589790174913E-2},{"$f":"(SA!BW2-SA!BK2)/SA!BK2","v":9.0870367741019455E-3},{"$f":"(SA!BX2-SA!BL2)/SA!BL2","v":9.6508657394266256E-3},{"$f":"(SA!BY2-SA!BM2)/SA!BM2","v":1.1606857629645405E-2},{"$f":"(SA!BZ2-SA!BN2)/SA!BN2","v":1.0964445390674898E-2},{"$f":"(SA!CA2-SA!BO2)/SA!BO2","v":9.8410563205777197E-3},{"$f":"(SA!CB2-SA!BP2)/SA!BP2","v":9.8684210526315784E-3},{"$f":"(SA!CC2-SA!BQ2)/SA!BQ2","v":9.2031029619181939E-3},{"$f":"(SA!CD2-SA!BR2)/SA!BR2","v":8.4060325645463219E-3},{"$f":"(SA!CE2-SA!BS2)/SA!BS2","v":1.223436229270535E-2},{"$f":"(SA!CF2-SA!BT2)/SA!BT2","v":8.2819383259911897E-3},{"$f":"(SA!CG2-SA!BU2)/SA!BU2","v":7.4997359247913802E-3},{"$f":"(SA!CH2-SA!BV2)/SA!BV2","v":6.3942662403822506E-3},{"$f":"(SA!CI2-SA!BW2)/SA!BW2","v":6.894610946953708E-3},{"$f":"(SA!CJ2-SA!BX2)/SA!BX2","v":6.0092774810233344E-3},{"$f":"(SA!CK2-SA!BY2)/SA!BY2","v":5.4385964912280699E-3},{"$f":"(SA!CL2-SA!BZ2)/SA!BZ2","v":7.4409462637324069E-3},{"$f":"(SA!CM2-SA!CA2)/SA!CA2","v":5.503558032740912E-3},{"$f":"(SA!CN2-SA!CB2)/SA!CB2","v":6.3395327659276383E-3},{"$f":"(SA!CO2-SA!CC2)/SA!CC2","v":3.948149959819713E-3},{"$f":"(SA!CP2-SA!CD2)/SA!CD2","v":8.2659101257399042E-3},{"$f":"(SA!CQ2-SA!CE2)/SA!CE2","v":8.5932860586159926E-3},{"$f":"(SA!CR2-SA!CF2)/SA!CF2","v":7.0604683677036005E-3},{"$f":"(SA!CS2-SA!CG2)/SA!CG2","v":6.4304186761725028E-3},{"$f":"(SA!CT2-SA!CH2)/SA!CH2","v":5.1666957584220628E-3},{"$f":"(SA!CU2-SA!CI2)/SA!CI2","v":3.738121855785355E-3},{"$f":"(SA!CV2-SA!CJ2)/SA!CJ2","v":3.5630698291822405E-3},{"$f":"(SA!CW2-SA!CK2)/SA!CK2","v":4.2575466759727796E-3},{"$f":"(SA!CX2-SA!CL2)/SA!CL2","v":4.1807476570393338E-3},{"$f":"(SA!CY2-SA!CM2)/SA!CM2","v":4.6715939199553757E-3},{"$f":"(SA!CZ2-SA!CN2)/SA!CN2","v":1.9490463594598357E-3},{"$f":"(SA!DA2-SA!CO2)/SA!CO2","v":3.8282174427507483E-4},{"$f":"(SA!DB2-SA!CP2)/SA!CP2","v":-5.9054434293257375E-4},{"$f":"(SA!DC2-SA!CQ2)/SA!CQ2","v":-4.3639386277837429E-3},{"$f":"(SA!DD2-SA!CR2)/SA!CR2","v":-3.1584062196307093E-3},{"$f":"(SA!DE2-SA!CS2)/SA!CS2","v":-4.3753038405444826E-3},{"$f":"(SA!DF2-SA!CT2)/SA!CT2","v":-3.1952210606744696E-3},{"$f":"(SA!DG2-SA!CU2)/SA!CU2","v":-5.1512303783369882E-3},{"$f":"(SA!DH2-SA!CV2)/SA!CV2","v":-8.2495039855198585E-3},{"$f":"(SA!DI2-SA!CW2)/SA!CW2","v":-1.4872988845258365E-2},{"$f":"(SA!DJ2-SA!CX2)/SA!CX2","v":-2.5465773861152553E-2},{"$f":"(SA!DK2-SA!CY2)/SA!CY2","v":-3.1091678811853703E-2},{"$f":"(SA!DL2-SA!CZ2)/SA!CZ2","v":-3.7480894817284977E-2},{"$f":"(SA!DM2-SA!DA2)/SA!DA2","v":-4.3694555574882589E-2},{"$f":"(SA!DN2-SA!DB2)/SA!DB2","v":-4.4768856447688563E-2},{"$f":"(SA!DO2-SA!DC2)/SA!DC2","v":-4.8526802796813581E-2},{"$f":"(SA!DP2-SA!DD2)/SA!DD2","v":-5.1704327843738032E-2},{"$f":"(SA!DQ2-SA!DE2)/SA!DE2","v":-5.2594866071428568E-2},{"$f":"(SA!DR2-SA!DF2)/SA!DF2","v":-5.4109612905473677E-2},{"$f":"(SA!DS2-SA!DG2)/SA!DG2","v":-5.0169681279081974E-2},{"$f":"(SA!DT2-SA!DH2)/SA!DH2","v":-4.8294258037343815E-2},{"$f":"(SA!DU2-SA!DI2)/SA!DI2","v":-4.388161839923807E-2},{"$f":"(SA!DV2-SA!DJ2)/SA!DJ2","v":-3.5245113745594359E-2},{"$f":"(SA!DW2-SA!DK2)/SA!DK2","v":-2.9439151923214668E-2},{"$f":"(SA!DX2-SA!DL2)/SA!DL2","v":-2.1292720776642966E-2},{"$f":"(SA!DY2-SA!DM2)/SA!DM2","v":-9.421950598421186E-3},{"$f":"(SA!DZ2-SA!DN2)/SA!DN2","v":-8.2235645149552443E-3},{"$f":"(SA!EA2-SA!DO2)/SA!DO2","v":-4.2044457443696989E-3},{"$f":"(SA!EB2-SA!DP2)/SA!DP2","v":1.2116316639741518E-3},{"$f":"(SA!EC2-SA!DQ2)/SA!DQ2","v":4.9698129877779416E-3},{"$f":"(SA!ED2-SA!DR2)/SA!DR2","v":4.9727420067776631E-3},{"$f":"(SA!EE2-SA!DS2)/SA!DS2","v":8.2875980699104942E-3},{"$f":"(SA!EF2-SA!DT2)/SA!DT2","v":9.9572208290308311E-3},{"$f":"(SA!EG2-SA!DU2)/SA!DU2","v":9.5923261390887284E-3},{"$f":"(SA!EH2-SA!DV2)/SA!DV2","v":1.1328831322189011E-2},{"$f":"(SA!EI2-SA!DW2)/SA!DW2","v":1.1955719557195573E-2},{"$f":"(SA!EJ2-SA!DX2)/SA!DX2","v":1.2205464803274457E-2},{"$f":"(SA!EK2-SA!DY2)/SA!DY2","v":9.4748439221446941E-3},{"$f":"(SA!EL2-SA!DZ2)/SA!DZ2","v":8.7687114763721746E-3},{"$f":"(SA!EM2-SA!EA2)/SA!EA2","v":8.4443954914271025E-3},{"$f":"(SA!EN2-SA!EB2)/SA!EB2","v":1.2138325571161393E-2},{"$f":"(SA!EO2-SA!EC2)/SA!EC2","v":9.8172094215905337E-3},{"$f":"(SA!EP2-SA!ED2)/SA!ED2","v":1.1545651138071326E-2},{"$f":"(SA!EQ2-SA!EE2)/SA!EE2","v":6.4659896251917882E-3},{"$f":"(SA!ER2-SA!EF2)/SA!EF2","v":6.2075513035857741E-3},{"$f":"(SA!ES2-SA!EG2)/SA!EG2","v":9.1723003837018095E-3},{"$f":"(SA!ET2-SA!EH2)/SA!EH2","v":5.9840910749470915E-3},{"$f":"(SA!EU2-SA!EI2)/SA!EI2","v":7.6575262543757293E-3},{"$f":"(SA!EV2-SA!EJ2)/SA!EJ2","v":1.2021857923497269E-2},{"$f":"(SA!EW2-SA!EK2)/SA!EK2","v":1.3533178114086147E-2},{"$f":"(SA!EX2-SA!EL2)/SA!EL2","v":1.2620476450263684E-2},{"$f":"(SA!EY2-SA!EM2)/SA!EM2","v":1.3434302981759931E-2},{"$f":"(SA!EZ2-SA!EN2)/SA!EN2","v":5.2898550724637681E-3},{"$f":"(SA!FA2-SA!EO2)/SA!EO2","v":8.0168317190844121E-3},{"$f":"(SA!FB2-SA!EP2)/SA!EP2","v":8.9136893977824483E-3},{"$f":"(SA!FC2-SA!EQ2)/SA!EQ2","v":1.2304453558854489E-2},{"$f":"(SA!FD2-SA!ER2)/SA!ER2","v":1.5096530701117723E-2},{"$f":"(SA!FE2-SA!ES2)/SA!ES2","v":1.1659907300115875E-2},{"$f":"(SA!FF2-SA!ET2)/SA!ET2","v":1.0083424011606818E-2},{"$f":"(SA!FG2-SA!EU2)/SA!EU2","v":1.3895925309401463E-2},{"$f":"(SA!FH2-SA!EV2)/SA!EV2","v":9.1072714182865375E-3},{"$f":"(SA!FI2-SA!EW2)/SA!EW2","v":2.2972002871500361E-3},{"$f":"(SA!FJ2-SA!EX2)/SA!EX2","v":6.9319732777817682E-3},{"$f":"(SA!FK2-SA!EY2)/SA!EY2","v":8.7297025434688886E-3},{"$f":"(SA!FL2-SA!EZ2)/SA!EZ2","v":1.2326101059612196E-2},{"$f":"(SA!FM2-SA!FA2)/SA!FA2","v":1.2883258960702462E-2},{"$f":"(SA!FN2-SA!FB2)/SA!FB2","v":1.3252406263467893E-2},{"$f":"(SA!FO2-SA!FC2)/SA!FC2","v":1.1760487629974902E-2},{"$f":"(SA!FP2-SA!FD2)/SA!FD2","v":8.973258973258973E-3},{"$f":"(SA!FQ2-SA!FE2)/SA!FE2","v":1.184766268165223E-2},{"$f":"(SA!FR2-SA!FF2)/SA!FF2","v":1.6518241884515943E-2},{"$f":"(SA!FS2-SA!FG2)/SA!FG2","v":1.0814476408023414E-2},{"$f":"(SA!FT2-SA!FH2)/SA!FH2","v":1.127242892305497E-2},{"$f":"(SA!FU2-SA!FI2)/SA!FI2","v":1.7082079931241941E-2},{"$f":"(SA!FV2-SA!FJ2)/SA!FJ2","v":1.4731585518102372E-2},{"$f":"(SA!FW2-SA!FK2)/SA!FK2","v":1.5527618504932512E-2},{"$f":"(SA!FX2-SA!FL2)/SA!FL2","v":1.5665052691540872E-2},{"$f":"(SA!FY2-SA!FM2)/SA!FM2","v":1.7764513607617424E-2},{"$f":"(SA!FZ2-SA!FN2)/SA!FN2","v":1.488675433310885E-2},{"$f":"(SA!GA2-SA!FO2)/SA!FO2","v":1.5309376993408463E-2},{"$f":"(SA!GB2-SA!FP2)/SA!FP2","v":1.8956170499238211E-2},{"$f":"(SA!GC2-SA!FQ2)/SA!FQ2","v":1.5670876224839932E-2},{"$f":"(SA!GD2-SA!FR2)/SA!FR2","v":1.5402006499929349E-2},{"$f":"(SA!GE2-SA!FS2)/SA!FS2","v":1.5853959959040993E-2},{"$f":"(SA!GF2-SA!FT2)/SA!FT2","v":1.6120498077533598E-2},{"$f":"(SA!GG2-SA!FU2)/SA!FU2","v":1.5140311960846449E-2},{"$f":"(SA!GH2-SA!FV2)/SA!FV2","v":1.5572272215973003E-2},{"$f":"(SA!GI2-SA!FW2)/SA!FW2","v":1.3677012098895318E-2},{"$f":"(SA!GJ2-SA!FX2)/SA!FX2","v":1.5002804262478967E-2},{"$f":"(SA!GK2-SA!FY2)/SA!FY2","v":1.1380297423724079E-2},{"$f":"(SA!GL2-SA!FZ2)/SA!FZ2","v":1.2398281702930185E-2},{"$f":"(SA!GM2-SA!GA2)/SA!GA2","v":1.3472949389179756E-2},{"$f":"(SA!GN2-SA!GB2)/SA!GB2","v":9.0757354475276449E-3},{"$f":"(SA!GO2-SA!GC2)/SA!GC2","v":1.3513513513513514E-2},{"$f":"(SA!GP2-SA!GD2)/SA!GD2","v":1.5168382966880044E-2},{"$f":"(SA!GQ2-SA!GE2)/SA!GE2","v":1.5363225582203684E-2},{"$f":"(SA!GR2-SA!GF2)/SA!GF2","v":1.3781851003263209E-2},{"$f":"(SA!GS2-SA!GG2)/SA!GG2","v":1.5122611078353162E-2},{"$f":"(SA!GT2-SA!GH2)/SA!GH2","v":1.1041500813402098E-2},{"$f":"(SA!GU2-SA!GI2)/SA!GI2","v":9.9982701954679128E-3},{"$f":"(SA!GV2-SA!GJ2)/SA!GJ2","v":1.1396601740571902E-2},{"$f":"(SA!GW2-SA!GK2)/SA!GK2","v":1.3495789037691565E-2},{"$f":"(SA!GX2-SA!GL2)/SA!GL2","v":1.1142541741410239E-2},{"$f":"(SA!GY2-SA!GM2)/SA!GM2","v":9.4021215043394411E-3},{"$f":"(SA!GZ2-SA!GN2)/SA!GN2","v":1.2302284710017574E-2},{"$f":"(SA!HA2-SA!GO2)/SA!GO2","v":8.0412371134020617E-3},{"$f":"(SA!HB2-SA!GP2)/SA!GP2","v":7.7450308430431804E-3},{"$f":"(SA!HC2-SA!GQ2)/SA!GQ2","v":7.7365466246747915E-3},{"$f":"(SA!HD2-SA!GR2)/SA!GR2","v":8.1840906756155182E-3},{"$f":"(SA!HE2-SA!GS2)/SA!GS2","v":6.1161034612362049E-3},{"$f":"(SA!HF2-SA!GT2)/SA!GT2","v":7.7713111947963027E-3},{"$f":"(SA!HG2-SA!GU2)/SA!GU2","v":9.1457148729190921E-3},{"$f":"(SA!HH2-SA!GV2)/SA!GV2","v":6.0096974663661814E-3},{"$f":"(SA!HI2-SA!GW2)/SA!GW2","v":2.4520655246398531E-3},{"$f":"(SA!HJ2-SA!GX2)/SA!GX2","v":4.2304936713179354E-3},{"$f":"(SA!HK2-SA!GY2)/SA!GY2","v":5.5614316421576989E-3},{"$f":"(SA!HL2-SA!GZ2)/SA!GZ2","v":2.9275599128540304E-3},{"$f":"(SA!HM2-SA!HA2)/SA!HA2","v":6.7839367287107115E-3},{"$f":"(SA!HN2-SA!HB2)/SA!HB2","v":7.1073930490376117E-3},{"$f":"(SA!HO2-SA!HC2)/SA!HC2","v":7.9149398736327193E-3},{"$f":"(SA!HP2-SA!HD2)/SA!HD2","v":9.9517695808708645E-3},{"$f":"(SA!HQ2-SA!HE2)/SA!HE2","v":8.150512803097195E-3},{"$f":"(SA!HR2-SA!HF2)/SA!HF2","v":8.4927132520297589E-3},{"$f":"(SA!HS2-SA!HG2)/SA!HG2","v":1.0250840093683175E-2},{"$f":"(SA!HT2-SA!HH2)/SA!HH2","v":1.30676804018736E-2},{"$f":"(SA!HU2-SA!HI2)/SA!HI2","v":1.454051299473416E-2},{"$f":"(SA!HV2-SA!HJ2)/SA!HJ2","v":1.3147613385425513E-2},{"$f":"(SA!HW2-SA!HK2)/SA!HK2","v":1.0925624321389793E-2},{"$f":"(SA!HX2-SA!HL2)/SA!HL2","v":1.5715158509266174E-2},{"$f":"(SA!HY2-SA!HM2)/SA!HM2","v":1.6354586394880303E-2},{"$f":"(SA!HZ2-SA!HN2)/SA!HN2","v":9.1507681917946983E-3},{"$f":"(SA!IA2-SA!HO2)/SA!HO2","v":5.9991237235010614E-3},{"$f":"(SA!IB2-SA!HP2)/SA!HP2","v":2.4550193374810827E-3},{"$f":"(SA!IC2-SA!HQ2)/SA!HQ2","v":3.9412517685104087E-3},{"$f":"(SA!ID2-SA!HR2)/SA!HR2","v":4.8169232323912823E-3},{"$f":"(SA!IE2-SA!HS2)/SA!HS2","v":3.3598763565500789E-3},{"$f":"(SA!IF2-SA!HT2)/SA!HT2","v":-1.0386303481086877E-3},{"$f":"(SA!IG2-SA!HU2)/SA!HU2","v":-2.5449552958510531E-3},{"$f":"(SA!IH2-SA!HV2)/SA!HV2","v":-5.7004895714573135E-4},{"$f":"(SA!II2-SA!HW2)/SA!HW2","v":1.0069141437873397E-3},{"$f":"(SA!IJ2-SA!HX2)/SA!HX2","v":-3.6090225563909775E-3},{"$f":"(SA!IK2-SA!HY2)/SA!HY2","v":-3.364872068230277E-3},{"$f":"(SA!IL2-SA!HZ2)/SA!HZ2","v":-1}," n/a ","n/a",null,"Total Non Farm",{"$f":"MIN(B113:FB113)","v":-5.4109612905473677E-2},{"$f":"_xlfn.PERCENTILE.EXC($B113:$FB113,0.15)","v":-3.4979884657830394E-3},{"$f":"_xlfn.PERCENTILE.EXC($B113:$FB113,0.3)","v":5.9941656373775883E-3},{"$f":"_xlfn.PERCENTILE.EXC($B113:$FB113,0.45)","v":8.2825043003831207E-3},{"$f":"_xlfn.PERCENTILE.EXC($B113:$FB113,0.55)","v":9.3822196500973169E-3},{"$f":"_xlfn.PERCENTILE.EXC($B113:$FB113,0.7)","v":1.1812792660981298E-2},{"$f":"_xlfn.PERCENTILE.EXC($B113:$FB113,0.85)","v":1.3929729827599024E-2},{"$f":"MAX(B113:FB113)","v":1.8956170499238211E-2},{"$f":"STDEVP(B113:FB113)","v":1.6003614892997758E-2}]
["Total Private",{"$f":"(SA!BN3-SA!BB3)/SA!BB3","v":1.2351403760222578E-2},{"$f":"(SA!BO3-SA!BC3)/SA!BC3","v":1.4958705545255352E-2},{"$f":"(SA!BP3-SA!BD3)/SA!BD3","v":1.5444177923662837E-2},{"$f":"(SA!BQ3-SA!BE3)/SA!BE3","v":1.7437707466700283E-2},{"$f":"(SA!BR3-SA!BF3)/SA!BF3","v":1.3501614323451717E-2},{"$f":"(SA!BS3-SA!BG3)/SA!BG3","v":1.2407259923712118E-2},{"$f":"(SA!BT3-SA!BH3)/SA!BH3","v":1.1225171089968285E-2},{"$f":"(SA!BU3-SA!BI3)/SA!BI3","v":1.0074937552039967E-2},{"$f":"(SA!BV3-SA!BJ3)/SA!BJ3","v":1.3017899611966454E-2},{"$f":"(SA!BW3-SA!BK3)/SA!BK3","v":9.6105841238142784E-3},{"$f":"(SA!BX3-SA!BL3)/SA!BL3","v":1.1607588617074388E-2},{"$f":"(SA!BY3-SA!BM3)/SA!BM3","v":1.1557329342313129E-2},{"$f":"(SA!BZ3-SA!BN3)/SA!BN3","v":1.3283364563814282E-2},{"$f":"(SA!CA3-SA!BO3)/SA!BO3","v":1.2205754141238012E-2},{"$f":"(SA!CB3-SA!BP3)/SA!BP3","v":1.1023622047244094E-2},{"$f":"(SA!CC3-SA!BQ3)/SA!BQ3","v":1.0448500867266871E-2},{"$f":"(SA!CD3-SA!BR3)/SA!BR3","v":1.001199784866162E-2},{"$f":"(SA!CE3-SA!BS3)/SA!BS3","v":1.2627830911273962E-2},{"$f":"(SA!CF3-SA!BT3)/SA!BT3","v":9.0372632360830266E-3},{"$f":"(SA!CG3-SA!BU3)/SA!BU3","v":7.9548264776193225E-3},{"$f":"(SA!CH3-SA!BV3)/SA!BV3","v":7.6197536966102391E-3},{"$f":"(SA!CI3-SA!BW3)/SA!BW3","v":8.7773519594511063E-3},{"$f":"(SA!CJ3-SA!BX3)/SA!BX3","v":6.662553979025293E-3},{"$f":"(SA!CK3-SA!BY3)/SA!BY3","v":7.3154693407857961E-3},{"$f":"(SA!CL3-SA!BZ3)/SA!BZ3","v":9.3285115476288323E-3},{"$f":"(SA!CM3-SA!CA3)/SA!CA3","v":7.0956892662319016E-3},{"$f":"(SA!CN3-SA!CB3)/SA!CB3","v":8.1160846040334474E-3},{"$f":"(SA!CO3-SA!CC3)/SA!CC3","v":4.7819511995749377E-3},{"$f":"(SA!CP3-SA!CD3)/SA!CD3","v":8.8067832712079627E-3},{"$f":"(SA!CQ3-SA!CE3)/SA!CE3","v":8.5861476817401267E-3},{"$f":"(SA!CR3-SA!CF3)/SA!CF3","v":7.7294290855553739E-3},{"$f":"(SA!CS3-SA!CG3)/SA!CG3","v":6.5017378859129008E-3},{"$f":"(SA!CT3-SA!CH3)/SA!CH3","v":4.7825376062786132E-3},{"$f":"(SA!CU3-SA!CI3)/SA!CI3","v":3.7990196078431372E-3},{"$f":"(SA!CV3-SA!CJ3)/SA!CJ3","v":4.5757241492012908E-3},{"$f":"(SA!CW3-SA!CK3)/SA!CK3","v":3.7127702978376172E-3},{"$f":"(SA!CX3-SA!CL3)/SA!CL3","v":2.239322503155409E-3},{"$f":"(SA!CY3-SA!CM3)/SA!CM3","v":2.8101327685916755E-3},{"$f":"(SA!CZ3-SA!CN3)/SA!CN3","v":4.0660323656176303E-4},{"$f":"(SA!DA3-SA!CO3)/SA!CO3","v":-4.0676863000325416E-4},{"$f":"(SA!DB3-SA!CP3)/SA!CP3","v":-2.3550430404417734E-3},{"$f":"(SA!DC3-SA!CQ3)/SA!CQ3","v":-4.7024485162964168E-3},{"$f":"(SA!DD3-SA!CR3)/SA!CR3","v":-5.6815875979059289E-3},{"$f":"(SA!DE3-SA!CS3)/SA!CS3","v":-6.053465507434793E-3},{"$f":"(SA!DF3-SA!CT3)/SA!CT3","v":-8.0143200032545461E-3},{"$f":"(SA!DG3-SA!CU3)/SA!CU3","v":-9.7668172384324254E-3},{"$f":"(SA!DH3-SA!CV3)/SA!CV3","v":-1.5535402009028428E-2},{"$f":"(SA!DI3-SA!CW3)/SA!CW3","v":-2.0365025811958863E-2},{"$f":"(SA!DJ3-SA!CX3)/SA!CX3","v":-3.0671108222294442E-2},{"$f":"(SA!DK3-SA!CY3)/SA!CY3","v":-3.7972627218454291E-2},{"$f":"(SA!DL3-SA!CZ3)/SA!CZ3","v":-4.5724272476020157E-2},{"$f":"(SA!DM3-SA!DA3)/SA!DA3","v":-5.3226987873362087E-2},{"$f":"(SA!DN3-SA!DB3)/SA!DB3","v":-5.3968253968253971E-2},{"$f":"(SA!DO3-SA!DC3)/SA!DC3","v":-5.7306940371456498E-2},{"$f":"(SA!DP3-SA!DD3)/SA!DD3","v":-6.032406840537121E-2},{"$f":"(SA!DQ3-SA!DE3)/SA!DE3","v":-6.082158185162477E-2},{"$f":"(SA!DR3-SA!DF3)/SA!DF3","v":-5.7701771653543309E-2},{"$f":"(SA!DS3-SA!DG3)/SA!DG3","v":-5.6877491472485928E-2},{"$f":"(SA!DT3-SA!DH3)/SA!DH3","v":-5.2629404717643657E-2},{"$f":"(SA!DU3-SA!DI3)/SA!DI3","v":-4.9709543568464729E-2},{"$f":"(SA!DV3-SA!DJ3)/SA!DJ3","v":-4.0023469259461042E-2},{"$f":"(SA!DW3-SA!DK3)/SA!DK3","v":-3.2125970955758192E-2},{"$f":"(SA!DX3-SA!DL3)/SA!DL3","v":-2.3084458452233912E-2},{"$f":"(SA!DY3-SA!DM3)/SA!DM3","v":-1.0831255909911458E-2},{"$f":"(SA!DZ3-SA!DN3)/SA!DN3","v":-1.0540354500086044E-2},{"$f":"(SA!EA3-SA!DO3)/SA!DO3","v":-5.9192050118816158E-3},{"$f":"(SA!EB3-SA!DP3)/SA!DP3","v":2.3454806063501715E-3},{"$f":"(SA!EC3-SA!DQ3)/SA!DQ3","v":6.4412238325281803E-3},{"$f":"(SA!ED3-SA!DR3)/SA!DR3","v":5.3531792662227448E-3},{"$f":"(SA!EE3-SA!DS3)/SA!DS3","v":1.0327247374613272E-2},{"$f":"(SA!EF3-SA!DT3)/SA!DT3","v":1.1119347664936991E-2},{"$f":"(SA!EG3-SA!DU3)/SA!DU3","v":1.3754257270107415E-2},{"$f":"(SA!EH3-SA!DV3)/SA!DV3","v":1.4319392298960971E-2},{"$f":"(SA!EI3-SA!DW3)/SA!DW3","v":1.3564792602608278E-2},{"$f":"(SA!EJ3-SA!DX3)/SA!DX3","v":1.4212843876705759E-2},{"$f":"(SA!EK3-SA!DY3)/SA!DY3","v":1.3643868949335187E-2},{"$f":"(SA!EL3-SA!DZ3)/SA!DZ3","v":1.3957128570807427E-2},{"$f":"(SA!EM3-SA!EA3)/SA!EA3","v":1.3603963838664811E-2},{"$f":"(SA!EN3-SA!EB3)/SA!EB3","v":1.4386618711270963E-2},{"$f":"(SA!EO3-SA!EC3)/SA!EC3","v":1.3059459459459459E-2},{"$f":"(SA!EP3-SA!ED3)/SA!ED3","v":1.6233766233766232E-2},{"$f":"(SA!EQ3-SA!EE3)/SA!EE3","v":1.1860605537824549E-2},{"$f":"(SA!ER3-SA!EF3)/SA!EF3","v":1.3067103674314301E-2},{"$f":"(SA!ES3-SA!EG3)/SA!EG3","v":1.2447775337037515E-2},{"$f":"(SA!ET3-SA!EH3)/SA!EH3","v":1.3858999741757768E-2},{"$f":"(SA!EU3-SA!EI3)/SA!EI3","v":1.5233668990446682E-2},{"$f":"(SA!EV3-SA!EJ3)/SA!EJ3","v":1.7624554012810042E-2},{"$f":"(SA!EW3-SA!EK3)/SA!EK3","v":1.6718106995884774E-2},{"$f":"(SA!EX3-SA!EL3)/SA!EL3","v":1.4579759862778732E-2},{"$f":"(SA!EY3-SA!EM3)/SA!EM3","v":1.6637365464602719E-2},{"$f":"(SA!EZ3-SA!EN3)/SA!EN3","v":1.0167029774872912E-2},{"$f":"(SA!FA3-SA!EO3)/SA!EO3","v":9.9457890468263119E-3},{"$f":"(SA!FB3-SA!EP3)/SA!EP3","v":1.1118210862619809E-2},{"$f":"(SA!FC3-SA!EQ3)/SA!EQ3","v":1.3341289800093773E-2},{"$f":"(SA!FD3-SA!ER3)/SA!ER3","v":1.3707377293431527E-2},{"$f":"(SA!FE3-SA!ES3)/SA!ES3","v":1.3571003148132392E-2},{"$f":"(SA!FF3-SA!ET3)/SA!ET3","v":1.2098828323993886E-2},{"$f":"(SA!FG3-SA!EU3)/SA!EU3","v":1.3012885723974228E-2},{"$f":"(SA!FH3-SA!EV3)/SA!EV3","v":1.102521860347231E-2},{"$f":"(SA!FI3-SA!EW3)/SA!EW3","v":5.4389071591196556E-3},{"$f":"(SA!FJ3-SA!EX3)/SA!EX3","v":1.2468300929839391E-2},{"$f":"(SA!FK3-SA!EY3)/SA!EY3","v":1.1598970854949597E-2},{"$f":"(SA!FL3-SA!EZ3)/SA!EZ3","v":1.4716454518543578E-2},{"$f":"(SA!FM3-SA!FA3)/SA!FA3","v":1.7032967032967031E-2},{"$f":"(SA!FN3-SA!FB3)/SA!FB3","v":1.4914054600606673E-2},{"$f":"(SA!FO3-SA!FC3)/SA!FC3","v":1.3712458988811306E-2},{"$f":"(SA!FP3-SA!FD3)/SA!FD3","v":1.3773988997606349E-2},{"$f":"(SA!FQ3-SA!FE3)/SA!FE3","v":1.4144805876180482E-2},{"$f":"(SA!FR3-SA!FF3)/SA!FF3","v":1.4806425904953652E-2},{"$f":"(SA!FS3-SA!FG3)/SA!FG3","v":1.3682580861123896E-2},{"$f":"(SA!FT3-SA!FH3)/SA!FH3","v":1.3244756413470378E-2},{"$f":"(SA!FU3-SA!FI3)/SA!FI3","v":1.9205770117834527E-2},{"$f":"(SA!FV3-SA!FJ3)/SA!FJ3","v":1.6322270924650387E-2},{"$f":"(SA!FW3-SA!FK3)/SA!FK3","v":1.7261507671781189E-2},{"$f":"(SA!FX3-SA!FL3)/SA!FL3","v":1.7545321942071264E-2},{"$f":"(SA!FY3-SA!FM3)/SA!FM3","v":1.7080164568008975E-2},{"$f":"(SA!FZ3-SA!FN3)/SA!FN3","v":1.7061021170610213E-2},{"$f":"(SA!GA3-SA!FO3)/SA!FO3","v":1.7759336099585063E-2},{"$f":"(SA!GB3-SA!FP3)/SA!FP3","v":1.9303260014083924E-2},{"$f":"(SA!GC3-SA!FQ3)/SA!FQ3","v":1.821041304527771E-2},{"$f":"(SA!GD3-SA!FR3)/SA!FR3","v":1.8640985368273126E-2},{"$f":"(SA!GE3-SA!FS3)/SA!FS3","v":1.7749525303393049E-2},{"$f":"(SA!GF3-SA!FT3)/SA!FT3","v":1.8638406663642738E-2},{"$f":"(SA!GG3-SA!FU3)/SA!FU3","v":1.6910100802304054E-2},{"$f":"(SA!GH3-SA!FV3)/SA!FV3","v":1.807278403023084E-2},{"$f":"(SA!GI3-SA!FW3)/SA!FW3","v":1.635379949176162E-2},{"$f":"(SA!GJ3-SA!FX3)/SA!FX3","v":1.814384010484928E-2},{"$f":"(SA!GK3-SA!FY3)/SA!FY3","v":1.679333169894582E-2},{"$f":"(SA!GL3-SA!FZ3)/SA!FZ3","v":1.6366678911064855E-2},{"$f":"(SA!GM3-SA!GA3)/SA!GA3","v":1.7245596868884539E-2},{"$f":"(SA!GN3-SA!GB3)/SA!GB3","v":1.5645954403218598E-2},{"$f":"(SA!GO3-SA!GC3)/SA!GC3","v":1.6665311763271278E-2},{"$f":"(SA!GP3-SA!GD3)/SA!GD3","v":1.7407181984175291E-2},{"$f":"(SA!GQ3-SA!GE3)/SA!GE3","v":1.8251135626216743E-2},{"$f":"(SA!GR3-SA!GF3)/SA!GF3","v":1.6313808039509371E-2},{"$f":"(SA!GS3-SA!GG3)/SA!GG3","v":1.7559475643307978E-2},{"$f":"(SA!GT3-SA!GH3)/SA!GH3","v":1.3596385056080046E-2},{"$f":"(SA!GU3-SA!GI3)/SA!GI3","v":1.1654635641408236E-2},{"$f":"(SA!GV3-SA!GJ3)/SA!GJ3","v":1.2349652037491452E-2},{"$f":"(SA!GW3-SA!GK3)/SA!GK3","v":1.1733976290938317E-2},{"$f":"(SA!GX3-SA!GL3)/SA!GL3","v":1.1846438037105453E-2},{"$f":"(SA!GY3-SA!GM3)/SA!GM3","v":1.0099795599374774E-2},{"$f":"(SA!GZ3-SA!GN3)/SA!GN3","v":9.0428937259923181E-3},{"$f":"(SA!HA3-SA!GO3)/SA!GO3","v":8.2760275067967383E-3},{"$f":"(SA!HB3-SA!GP3)/SA!GP3","v":9.691313711414214E-3},{"$f":"(SA!HC3-SA!GQ3)/SA!GQ3","v":9.7984545526965672E-3},{"$f":"(SA!HD3-SA!GR3)/SA!GR3","v":1.1272205847207839E-2},{"$f":"(SA!HE3-SA!GS3)/SA!GS3","v":8.6679920477137178E-3},{"$f":"(SA!HF3-SA!GT3)/SA!GT3","v":8.4384826652867898E-3},{"$f":"(SA!HG3-SA!GU3)/SA!GU3","v":1.2198038746711314E-2},{"$f":"(SA!HH3-SA!GV3)/SA!GV3","v":8.0664388460621479E-3},{"$f":"(SA!HI3-SA!GW3)/SA!GW3","v":7.7054454462406165E-3},{"$f":"(SA!HJ3-SA!GX3)/SA!GX3","v":6.0721514466007855E-3},{"$f":"(SA!HK3-SA!GY3)/SA!GY3","v":7.2610403523390077E-3},{"$f":"(SA!HL3-SA!GZ3)/SA!GZ3","v":7.7722261876437462E-3},{"$f":"(SA!HM3-SA!HA3)/SA!HA3","v":9.9528133550101112E-3},{"$f":"(SA!HN3-SA!HB3)/SA!HB3","v":8.8478097720899006E-3},{"$f":"(SA!HO3-SA!HC3)/SA!HC3","v":8.9144840643736196E-3},{"$f":"(SA!HP3-SA!HD3)/SA!HD3","v":1.0673913899720352E-2},{"$f":"(SA!HQ3-SA!HE3)/SA!HE3","v":9.3030589719331445E-3},{"$f":"(SA!HR3-SA!HF3)/SA!HF3","v":1.0301953818827708E-2},{"$f":"(SA!HS3-SA!HG3)/SA!HG3","v":1.0672652804032767E-2},{"$f":"(SA!HT3-SA!HH3)/SA!HH3","v":1.4427056643935511E-2},{"$f":"(SA!HU3-SA!HI3)/SA!HI3","v":1.3677032832761815E-2},{"$f":"(SA!HV3-SA!HJ3)/SA!HJ3","v":1.4674556213017751E-2},{"$f":"(SA!HW3-SA!HK3)/SA!HK3","v":1.3156858110769715E-2},{"$f":"(SA!HX3-SA!HL3)/SA!HL3","v":1.6290233729440468E-2},{"$f":"(SA!HY3-SA!HM3)/SA!HM3","v":1.7628582646250491E-2},{"$f":"(SA!HZ3-SA!HN3)/SA!HN3","v":1.1941584119650758E-2},{"$f":"(SA!IA3-SA!HO3)/SA!HO3","v":9.9304089451872704E-3},{"$f":"(SA!IB3-SA!HP3)/SA!HP3","v":4.2088854247856588E-3},{"$f":"(SA!IC3-SA!HQ3)/SA!HQ3","v":6.2880799875019528E-3},{"$f":"(SA!ID3-SA!HR3)/SA!HR3","v":7.071417408970152E-3},{"$f":"(SA!IE3-SA!HS3)/SA!HS3","v":4.2473600124693141E-3},{"$f":"(SA!IF3-SA!HT3)/SA!HT3","v":1.9428793471925395E-4},{"$f":"(SA!IG3-SA!HU3)/SA!HU3","v":8.1654872074033748E-4},{"$f":"(SA!IH3-SA!HV3)/SA!HV3","v":1.1274395459140035E-3},{"$f":"(SA!II3-SA!HW3)/SA!HW3","v":1.9440124416796269E-3},{"$f":"(SA!IJ3-SA!HX3)/SA!HX3","v":-1.8197305250116152E-3},{"$f":"(SA!IK3-SA!HY3)/SA!HY3","v":-1.851923299510012E-3},{"$f":"(SA!IL3-SA!HZ3)/SA!HZ3","v":-1}," n/a ","n/a",null,"Total Private",-6.082158185162477E-2,-5.7528728220986348E-3,7.7150389019665193E-3,1.0183051534846948E-2,1.2075006045376953E-2,1.3710426310659394E-2,1.6681150333055325E-2,1.9303260014083924E-2,1.8648290247133339E-2]
["Goods Producing",{"$f":"(SA!BN4-SA!BB4)/SA!BB4","v":5.8879694462126032E-3},{"$f":"(SA!BO4-SA!BC4)/SA!BC4","v":1.1918004131574766E-2},{"$f":"(SA!BP4-SA!BD4)/SA!BD4","v":9.8334655035685961E-3},{"$f":"(SA!BQ4-SA!BE4)/SA!BE4","v":8.2278481012658233E-3},{"$f":"(SA!BR4-SA!BF4)/SA!BF4","v":4.8949944733933364E-3},{"$f":"(SA!BS4-SA!BG4)/SA!BG4","v":7.2853975292999683E-3},{"$f":"(SA!BT4-SA!BH4)/SA!BH4","v":5.0425464859754172E-3},{"$f":"(SA!BU4-SA!BI4)/SA!BI4","v":2.2012578616352201E-3},{"$f":"(SA!BV4-SA!BJ4)/SA!BJ4","v":1.2584552461853075E-3},{"$f":"(SA!BW4-SA!BK4)/SA!BK4","v":9.4413847364280094E-4},{"$f":"(SA!BX4-SA!BL4)/SA!BL4","v":3.1441597233139445E-4},{"$f":"(SA!BY4-SA!BM4)/SA!BM4","v":-2.0411367561626627E-3},{"$f":"(SA!BZ4-SA!BN4)/SA!BN4","v":1.0283183040658124E-2},{"$f":"(SA!CA4-SA!BO4)/SA!BO4","v":3.4547738693467339E-3},{"$f":"(SA!CB4-SA!BP4)/SA!BP4","v":3.2982566357782316E-3},{"$f":"(SA!CC4-SA!BQ4)/SA!BQ4","v":5.6497175141242938E-3},{"$f":"(SA!CD4-SA!BR4)/SA!BR4","v":3.1426775612822125E-3},{"$f":"(SA!CE4-SA!BS4)/SA!BS4","v":6.446540880503145E-3},{"$f":"(SA!CF4-SA!BT4)/SA!BT4","v":1.0975227343994983E-3},{"$f":"(SA!CG4-SA!BU4)/SA!BU4","v":4.706620646375902E-4},{"$f":"(SA!CH4-SA!BV4)/SA!BV4","v":-6.2843676355066769E-4},{"$f":"(SA!CI4-SA!BW4)/SA!BW4","v":-2.6725357648168528E-3},{"$f":"(SA!CJ4-SA!BX4)/SA!BX4","v":-6.7578186390067577E-3},{"$f":"(SA!CK4-SA!BY4)/SA!BY4","v":-3.9332913782252985E-3},{"$f":"(SA!CL4-SA!BZ4)/SA!BZ4","v":-7.6730347635452553E-3},{"$f":"(SA!CM4-SA!CA4)/SA!CA4","v":-1.1111111111111112E-2},{"$f":"(SA!CN4-SA!CB4)/SA!CB4","v":-8.1402629931120844E-3},{"$f":"(SA!CO4-SA!CC4)/SA!CC4","v":-1.2796504369538077E-2},{"$f":"(SA!CP4-SA!CD4)/SA!CD4","v":-7.2055137844611525E-3},{"$f":"(SA!CQ4-SA!CE4)/SA!CE4","v":-1.0154663333854085E-2},{"$f":"(SA!CR4-SA!CF4)/SA!CF4","v":-9.2404072043852786E-3},{"$f":"(SA!CS4-SA!CG4)/SA!CG4","v":-1.0820134859651874E-2},{"$f":"(SA!CT4-SA!CH4)/SA!CH4","v":-1.2419430907090081E-2},{"$f":"(SA!CU4-SA!CI4)/SA!CI4","v":-1.1034047919293822E-2},{"$f":"(SA!CV4-SA!CJ4)/SA!CJ4","v":-7.753164556962025E-3},{"$f":"(SA!CW4-SA!CK4)/SA!CK4","v":-1.1372610961933344E-2},{"$f":"(SA!CX4-SA!CL4)/SA!CL4","v":-1.2466466782389144E-2},{"$f":"(SA!CY4-SA!CM4)/SA!CM4","v":-9.6534261750276934E-3},{"$f":"(SA!CZ4-SA!CN4)/SA!CN4","v":-1.3888888888888888E-2},{"$f":"(SA!DA4-SA!CO4)/SA!CO4","v":-1.723047739487828E-2},{"$f":"(SA!DB4-SA!CP4)/SA!CP4","v":-2.0353423792994634E-2},{"$f":"(SA!DC4-SA!CQ4)/SA!CQ4","v":-2.0675505050505052E-2},{"$f":"(SA!DD4-SA!CR4)/SA!CR4","v":-2.6715143850774579E-2},{"$f":"(SA!DE4-SA!CS4)/SA!CS4","v":-2.8852251109701965E-2},{"$f":"(SA!DF4-SA!CT4)/SA!CT4","v":-3.1359439668895255E-2},{"$f":"(SA!DG4-SA!CU4)/SA!CU4","v":-3.4746573159069177E-2},{"$f":"(SA!DH4-SA!CV4)/SA!CV4","v":-4.321479827778664E-2},{"$f":"(SA!DI4-SA!CW4)/SA!CW4","v":-5.2404537466048888E-2},{"$f":"(SA!DJ4-SA!CX4)/SA!CX4","v":-7.1268775966762538E-2},{"$f":"(SA!DK4-SA!CY4)/SA!CY4","v":-8.8846276765739848E-2},{"$f":"(SA!DL4-SA!CZ4)/SA!CZ4","v":-0.10547375160051216},{"$f":"(SA!DM4-SA!DA4)/SA!DA4","v":-0.12111951101817597},{"$f":"(SA!DN4-SA!DB4)/SA!DB4","v":-0.12900628120470284},{"$f":"(SA!DO4-SA!DC4)/SA!DC4","v":-0.13940370668815472},{"$f":"(SA!DP4-SA!DD4)/SA!DD4","v":-0.14178983271073575},{"$f":"(SA!DQ4-SA!DE4)/SA!DE4","v":-0.1407117205354228},{"$f":"(SA!DR4-SA!DF4)/SA!DF4","v":-0.12933442892358257},{"$f":"(SA!DS4-SA!DG4)/SA!DG4","v":-0.12978863936591808},{"$f":"(SA!DT4-SA!DH4)/SA!DH4","v":-0.12383333333333334},{"$f":"(SA!DU4-SA!DI4)/SA!DI4","v":-0.11566346315966954},{"$f":"(SA!DV4-SA!DJ4)/SA!DJ4","v":-0.10013764624913971},{"$f":"(SA!DW4-SA!DK4)/SA!DK4","v":-8.2076464398456686E-2},{"$f":"(SA!DX4-SA!DL4)/SA!DL4","v":-6.1191626409017714E-2},{"$f":"(SA!DY4-SA!DM4)/SA!DM4","v":-3.4407027818448024E-2},{"$f":"(SA!DZ4-SA!DN4)/SA!DN4","v":-2.5887573964497042E-2},{"$f":"(SA!EA4-SA!DO4)/SA!DO4","v":-1.2172284644194757E-2},{"$f":"(SA!EB4-SA!DP4)/SA!DP4","v":1.3247539742619228E-3},{"$f":"(SA!EC4-SA!DQ4)/SA!DQ4","v":7.2188449848024317E-3},{"$f":"(SA!ED4-SA!DR4)/SA!DR4","v":1.6987542468856172E-3},{"$f":"(SA!EE4-SA!DS4)/SA!DS4","v":8.5388994307400382E-3},{"$f":"(SA!EF4-SA!DT4)/SA!DT4","v":1.103290850294845E-2},{"$f":"(SA!EG4-SA!DU4)/SA!DU4","v":1.4680648236415635E-2},{"$f":"(SA!EH4-SA!DV4)/SA!DV4","v":1.9694072657743786E-2},{"$f":"(SA!EI4-SA!DW4)/SA!DW4","v":2.2162781811234239E-2},{"$f":"(SA!EJ4-SA!DX4)/SA!DX4","v":2.2107871164474938E-2},{"$f":"(SA!EK4-SA!DY4)/SA!DY4","v":2.2175890826383625E-2},{"$f":"(SA!EL4-SA!DZ4)/SA!DZ4","v":2.6006074411541381E-2},{"$f":"(SA!EM4-SA!EA4)/SA!EA4","v":2.4644549763033177E-2},{"$f":"(SA!EN4-SA!EB4)/SA!EB4","v":2.627102627102627E-2},{"$f":"(SA!EO4-SA!EC4)/SA!EC4","v":2.5839305922293474E-2},{"$f":"(SA!EP4-SA!ED4)/SA!ED4","v":2.524967024684379E-2},{"$f":"(SA!EQ4-SA!EE4)/SA!EE4","v":2.220131702728128E-2},{"$f":"(SA!ER4-SA!EF4)/SA!EF4","v":2.5211665098777047E-2},{"$f":"(SA!ES4-SA!EG4)/SA!EG4","v":2.6305900037579856E-2},{"$f":"(SA!ET4-SA!EH4)/SA!EH4","v":2.7001687605475343E-2},{"$f":"(SA!EU4-SA!EI4)/SA!EI4","v":2.691588785046729E-2},{"$f":"(SA!EV4-SA!EJ4)/SA!EJ4","v":2.8528808502703711E-2},{"$f":"(SA!EW4-SA!EK4)/SA!EK4","v":2.87409605043575E-2},{"$f":"(SA!EX4-SA!EL4)/SA!EL4","v":2.0166512488436632E-2},{"$f":"(SA!EY4-SA!EM4)/SA!EM4","v":2.2941720629047178E-2},{"$f":"(SA!EZ4-SA!EN4)/SA!EN4","v":1.7863720073664824E-2},{"$f":"(SA!FA4-SA!EO4)/SA!EO4","v":1.5444015444015444E-2},{"$f":"(SA!FB4-SA!EP4)/SA!EP4","v":1.6908656496967468E-2},{"$f":"(SA!FC4-SA!EQ4)/SA!EQ4","v":2.1351003129026321E-2},{"$f":"(SA!FD4-SA!ER4)/SA!ER4","v":1.7617911543402458E-2},{"$f":"(SA!FE4-SA!ES4)/SA!ES4","v":1.9956060051263273E-2},{"$f":"(SA!FF4-SA!ET4)/SA!ET4","v":1.844075223662589E-2},{"$f":"(SA!FG4-SA!EU4)/SA!EU4","v":1.7473607571896616E-2},{"$f":"(SA!FH4-SA!EV4)/SA!EV4","v":1.3234227701232778E-2},{"$f":"(SA!FI4-SA!EW4)/SA!EW4","v":1.8024513338139869E-4},{"$f":"(SA!FJ4-SA!EX4)/SA!EX4","v":1.2332245194051506E-2},{"$f":"(SA!FK4-SA!EY4)/SA!EY4","v":1.1756194610236933E-2},{"$f":"(SA!FL4-SA!EZ4)/SA!EZ4","v":1.0493938845666727E-2},{"$f":"(SA!FM4-SA!FA4)/SA!FA4","v":1.4665942422596416E-2},{"$f":"(SA!FN4-SA!FB4)/SA!FB4","v":1.4277968552322429E-2},{"$f":"(SA!FO4-SA!FC4)/SA!FC4","v":1.3335736168679042E-2},{"$f":"(SA!FP4-SA!FD4)/SA!FD4","v":1.6771866546438231E-2},{"$f":"(SA!FQ4-SA!FE4)/SA!FE4","v":9.6930533117932146E-3},{"$f":"(SA!FR4-SA!FF4)/SA!FF4","v":1.2370025098601649E-2},{"$f":"(SA!FS4-SA!FG4)/SA!FG4","v":1.1270125223613595E-2},{"$f":"(SA!FT4-SA!FH4)/SA!FH4","v":1.4134907854714617E-2},{"$f":"(SA!FU4-SA!FI4)/SA!FI4","v":2.3968282573436656E-2},{"$f":"(SA!FV4-SA!FJ4)/SA!FJ4","v":2.1318523826585452E-2},{"$f":"(SA!FW4-SA!FK4)/SA!FK4","v":2.2702895959957097E-2},{"$f":"(SA!FX4-SA!FL4)/SA!FL4","v":2.775290957923008E-2},{"$f":"(SA!FY4-SA!FM4)/SA!FM4","v":2.6945039257673092E-2},{"$f":"(SA!FZ4-SA!FN4)/SA!FN4","v":2.7263007840342125E-2},{"$f":"(SA!GA4-SA!FO4)/SA!FO4","v":2.7031833540814513E-2},{"$f":"(SA!GB4-SA!FP4)/SA!FP4","v":2.5540971975877971E-2},{"$f":"(SA!GC4-SA!FQ4)/SA!FQ4","v":2.9155555555555556E-2},{"$f":"(SA!GD4-SA!FR4)/SA!FR4","v":2.7271117407472994E-2},{"$f":"(SA!GE4-SA!FS4)/SA!FS4","v":2.7419069520608526E-2},{"$f":"(SA!GF4-SA!FT4)/SA!FT4","v":2.3994354269583629E-2},{"$f":"(SA!GG4-SA!FU4)/SA!FU4","v":2.2351284758887716E-2},{"$f":"(SA!GH4-SA!FV4)/SA!FV4","v":2.0171899666725137E-2},{"$f":"(SA!GI4-SA!FW4)/SA!FW4","v":1.6081104701975178E-2},{"$f":"(SA!GJ4-SA!FX4)/SA!FX4","v":1.3066202090592335E-2},{"$f":"(SA!GK4-SA!FY4)/SA!FY4","v":8.3405734144222417E-3},{"$f":"(SA!GL4-SA!FZ4)/SA!FZ4","v":7.1118820468343454E-3},{"$f":"(SA!GM4-SA!GA4)/SA!GA4","v":5.5411255411255411E-3},{"$f":"(SA!GN4-SA!GB4)/SA!GB4","v":4.8426150121065378E-3},{"$f":"(SA!GO4-SA!GC4)/SA!GC4","v":5.1822421834513731E-3},{"$f":"(SA!GP4-SA!GD4)/SA!GD4","v":3.1029132908119289E-3},{"$f":"(SA!GQ4-SA!GE4)/SA!GE4","v":1.7217630853994491E-3},{"$f":"(SA!GR4-SA!GF4)/SA!GF4","v":3.1013094417643005E-3},{"$f":"(SA!GS4-SA!GG4)/SA!GG4","v":1.5493200206576003E-3},{"$f":"(SA!GT4-SA!GH4)/SA!GH4","v":-1.375515818431912E-3},{"$f":"(SA!GU4-SA!GI4)/SA!GI4","v":-2.7524514020299327E-3},{"$f":"(SA!GV4-SA!GJ4)/SA!GJ4","v":-3.7833190025795358E-3},{"$f":"(SA!GW4-SA!GK4)/SA!GK4","v":-6.8929863863518865E-4},{"$f":"(SA!GX4-SA!GL4)/SA!GL4","v":-1.2056493282810886E-3},{"$f":"(SA!GY4-SA!GM4)/SA!GM4","v":5.1661787497847425E-4},{"$f":"(SA!GZ4-SA!GN4)/SA!GN4","v":1.8932874354561102E-3},{"$f":"(SA!HA4-SA!GO4)/SA!GO4","v":2.2340608351950507E-3},{"$f":"(SA!HB4-SA!GP4)/SA!GP4","v":4.4681216703901013E-3},{"$f":"(SA!HC4-SA!GQ4)/SA!GQ4","v":7.7346167067720867E-3},{"$f":"(SA!HD4-SA!GR4)/SA!GR4","v":8.7598763311576774E-3},{"$f":"(SA!HE4-SA!GS4)/SA!GS4","v":1.0484702646957717E-2},{"$f":"(SA!HF4-SA!GT4)/SA!GT4","v":1.2224517906336088E-2},{"$f":"(SA!HG4-SA!GU4)/SA!GU4","v":1.5352768673451785E-2},{"$f":"(SA!HH4-SA!GV4)/SA!GV4","v":1.6226480234766097E-2},{"$f":"(SA!HI4-SA!GW4)/SA!GW4","v":1.5864804276599413E-2},{"$f":"(SA!HJ4-SA!GX4)/SA!GX4","v":1.5864804276599413E-2},{"$f":"(SA!HK4-SA!GY4)/SA!GY4","v":1.6695352839931153E-2},{"$f":"(SA!HL4-SA!GZ4)/SA!GZ4","v":1.8209929565366774E-2},{"$f":"(SA!HM4-SA!HA4)/SA!HA4","v":1.9204389574759947E-2},{"$f":"(SA!HN4-SA!HB4)/SA!HB4","v":2.3096663815226688E-2},{"$f":"(SA!HO4-SA!HC4)/SA!HC4","v":2.7460344533515264E-2},{"$f":"(SA!HP4-SA!HD4)/SA!HD4","v":3.2010897326749534E-2},{"$f":"(SA!HQ4-SA!HE4)/SA!HE4","v":2.9766967171287635E-2},{"$f":"(SA!HR4-SA!HF4)/SA!HF4","v":3.4529681918693655E-2},{"$f":"(SA!HS4-SA!HG4)/SA!HG4","v":4.2133876996262316E-2},{"$f":"(SA!HT4-SA!HH4)/SA!HH4","v":4.5863767623577377E-2},{"$f":"(SA!HU4-SA!HI4)/SA!HI4","v":4.8718383975555932E-2},{"$f":"(SA!HV4-SA!HJ4)/SA!HJ4","v":5.1434391444576476E-2},{"$f":"(SA!HW4-SA!HK4)/SA!HK4","v":4.9602166920602674E-2},{"$f":"(SA!HX4-SA!HL4)/SA!HL4","v":4.6397840391429052E-2},{"$f":"(SA!HY4-SA!HM4)/SA!HM4","v":4.4414535666218037E-2},{"$f":"(SA!HZ4-SA!HN4)/SA!HN4","v":1.6889632107023413E-2},{"$f":"(SA!IA4-SA!HO4)/SA!HO4","v":7.3041168658698535E-3},{"$f":"(SA!IB4-SA!HP4)/SA!HP4","v":-1.1549249298795578E-3},{"$f":"(SA!IC4-SA!HQ4)/SA!HQ4","v":-4.4598612487611496E-3},{"$f":"(SA!ID4-SA!HR4)/SA!HR4","v":-5.2614271621177246E-3},{"$f":"(SA!IE4-SA!HS4)/SA!HS4","v":-1.2552983371372678E-2},{"$f":"(SA!IF4-SA!HT4)/SA!HT4","v":-2.1276595744680851E-2},{"$f":"(SA!IG4-SA!HU4)/SA!HU4","v":-2.2984784719974102E-2},{"$f":"(SA!IH4-SA!HV4)/SA!HV4","v":-2.7607361963190184E-2},{"$f":"(SA!II4-SA!HW4)/SA!HW4","v":-2.9354838709677419E-2},{"$f":"(SA!IJ4-SA!HX4)/SA!HX4","v":-2.7571751048049018E-2},{"$f":"(SA!IK4-SA!HY4)/SA!HY4","v":-2.3840206185567009E-2},{"$f":"(SA!IL4-SA!HZ4)/SA!HZ4","v":-1}," n/a ","n/a",null,"Goods Producing",-0.14178983271073575,-2.2239125724702654E-2,-2.4199761613551778E-3,3.5561086494510794E-3,8.51906682910826E-3,1.5864804276599413E-2,2.2774543360684116E-2,2.9155555555555556E-2,3.8844270454521733E-2]
["Service-Providing",{"$f":"(SA!BN5-SA!BB5)/SA!BB5","v":1.5751324226373015E-2},{"$f":"(SA!BO5-SA!BC5)/SA!BC5","v":1.5077008721469661E-2},{"$f":"(SA!BP5-SA!BD5)/SA!BD5","v":1.510728022614579E-2},{"$f":"(SA!BQ5-SA!BE5)/SA!BE5","v":1.9000834182964131E-2},{"$f":"(SA!BR5-SA!BF5)/SA!BF5","v":1.5029596744358121E-2},{"$f":"(SA!BS5-SA!BG5)/SA!BG5","v":1.1209521173539995E-2},{"$f":"(SA!BT5-SA!BH5)/SA!BH5","v":1.1495838506460661E-2},{"$f":"(SA!BU5-SA!BI5)/SA!BI5","v":1.0412844036697247E-2},{"$f":"(SA!BV5-SA!BJ5)/SA!BJ5","v":1.768444321635811E-2},{"$f":"(SA!BW5-SA!BK5)/SA!BK5","v":1.1458954026676444E-2},{"$f":"(SA!BX5-SA!BL5)/SA!BL5","v":1.2372267790862852E-2},{"$f":"(SA!BY5-SA!BM5)/SA!BM5","v":1.5593469088240689E-2},{"$f":"(SA!BZ5-SA!BN5)/SA!BN5","v":1.1161429028864188E-2},{"$f":"(SA!CA5-SA!BO5)/SA!BO5","v":1.1699648096522098E-2},{"$f":"(SA!CB5-SA!BP5)/SA!BP5","v":1.1778132846382105E-2},{"$f":"(SA!CC5-SA!BQ5)/SA!BQ5","v":1.0232854284154994E-2},{"$f":"(SA!CD5-SA!BR5)/SA!BR5","v":9.9321153583306759E-3},{"$f":"(SA!CE5-SA!BS5)/SA!BS5","v":1.3913598832170065E-2},{"$f":"(SA!CF5-SA!BT5)/SA!BT5","v":1.0365049779515389E-2},{"$f":"(SA!CG5-SA!BU5)/SA!BU5","v":9.5337540291460486E-3},{"$f":"(SA!CH5-SA!BV5)/SA!BV5","v":8.4170513168612543E-3},{"$f":"(SA!CI5-SA!BW5)/SA!BW5","v":9.6524221688494127E-3},{"$f":"(SA!CJ5-SA!BX5)/SA!BX5","v":9.6863259856063005E-3},{"$f":"(SA!CK5-SA!BY5)/SA!BY5","v":8.1286127167630052E-3},{"$f":"(SA!CL5-SA!BZ5)/SA!BZ5","v":1.1807283420040714E-2},{"$f":"(SA!CM5-SA!CA5)/SA!CA5","v":1.0299498577042959E-2},{"$f":"(SA!CN5-SA!CB5)/SA!CB5","v":1.0513017190813517E-2},{"$f":"(SA!CO5-SA!CC5)/SA!CC5","v":8.7786431369018137E-3},{"$f":"(SA!CP5-SA!CD5)/SA!CD5","v":1.2721613208823928E-2},{"$f":"(SA!CQ5-SA!CE5)/SA!CE5","v":1.3992621254386755E-2},{"$f":"(SA!CR5-SA!CF5)/SA!CF5","v":1.1743532058492689E-2},{"$f":"(SA!CS5-SA!CG5)/SA!CG5","v":1.1377434006385754E-2},{"$f":"(SA!CT5-SA!CH5)/SA!CH5","v":1.0186681026745647E-2},{"$f":"(SA!CU5-SA!CI5)/SA!CI5","v":7.9443447037701974E-3},{"$f":"(SA!CV5-SA!CJ5)/SA!CJ5","v":6.7691755951046753E-3},{"$f":"(SA!CW5-SA!CK5)/SA!CK5","v":8.6901988890879765E-3},{"$f":"(SA!CX5-SA!CL5)/SA!CL5","v":8.8974336045783784E-3},{"$f":"(SA!CY5-SA!CM5)/SA!CM5","v":8.7189805499664659E-3},{"$f":"(SA!CZ5-SA!CN5)/SA!CN5","v":6.4297195927844261E-3},{"$f":"(SA!DA5-SA!CO5)/SA!CO5","v":5.3552302749018208E-3},{"$f":"(SA!DB5-SA!CP5)/SA!CP5","v":4.989086373557842E-3},{"$f":"(SA!DC5-SA!CQ5)/SA!CQ5","v":2.2185739006966323E-4},{"$f":"(SA!DD5-SA!CR5)/SA!CR5","v":3.468825046695722E-3},{"$f":"(SA!DE5-SA!CS5)/SA!CS5","v":2.4899955535793686E-3},{"$f":"(SA!DF5-SA!CT5)/SA!CT5","v":4.6643863000310959E-3},{"$f":"(SA!DG5-SA!CU5)/SA!CU5","v":3.1170681747339358E-3},{"$f":"(SA!DH5-SA!CV5)/SA!CV5","v":1.5139371270816635E-3},{"$f":"(SA!DI5-SA!CW5)/SA!CW5","v":-4.4408917310595972E-3},{"$f":"(SA!DJ5-SA!CX5)/SA!CX5","v":-1.2763128739197873E-2},{"$f":"(SA!DK5-SA!CY5)/SA!CY5","v":-1.5070921985815602E-2},{"$f":"(SA!DL5-SA!CZ5)/SA!CZ5","v":-1.8633540372670808E-2},{"$f":"(SA!DM5-SA!DA5)/SA!DA5","v":-2.2327769886363636E-2},{"$f":"(SA!DN5-SA!DB5)/SA!DB5","v":-2.1585922609813395E-2},{"$f":"(SA!DO5-SA!DC5)/SA!DC5","v":-2.3511667110283026E-2},{"$f":"(SA!DP5-SA!DD5)/SA!DD5","v":-2.712285055841163E-2},{"$f":"(SA!DQ5-SA!DE5)/SA!DE5","v":-2.8652532600017742E-2},{"$f":"(SA!DR5-SA!DF5)/SA!DF5","v":-3.3869826671383094E-2},{"$f":"(SA!DS5-SA!DG5)/SA!DG5","v":-2.8765481422293248E-2},{"$f":"(SA!DT5-SA!DH5)/SA!DH5","v":-2.8143339854170373E-2},{"$f":"(SA!DU5-SA!DI5)/SA!DI5","v":-2.4890712820055314E-2},{"$f":"(SA!DV5-SA!DJ5)/SA!DJ5","v":-1.8314853885173048E-2},{"$f":"(SA!DW5-SA!DK5)/SA!DK5","v":-1.5931593159315933E-2},{"$f":"(SA!DX5-SA!DL5)/SA!DL5","v":-1.1211573236889693E-2},{"$f":"(SA!DY5-SA!DM5)/SA!DM5","v":-3.2236095346197505E-3},{"$f":"(SA!DZ5-SA!DN5)/SA!DN5","v":-3.8959862281417053E-3},{"$f":"(SA!EA5-SA!DO5)/SA!DO5","v":-2.2714882791204797E-3},{"$f":"(SA!EB5-SA!DP5)/SA!DP5","v":1.1844023323615161E-3},{"$f":"(SA!EC5-SA!DQ5)/SA!DQ5","v":4.4292237442922376E-3},{"$f":"(SA!ED5-SA!DR5)/SA!DR5","v":5.7665903890160184E-3},{"$f":"(SA!EE5-SA!DS5)/SA!DS5","v":8.2270670505964621E-3},{"$f":"(SA!EF5-SA!DT5)/SA!DT5","v":9.6985223477743729E-3},{"$f":"(SA!EG5-SA!DU5)/SA!DU5","v":8.3714547118023796E-3},{"$f":"(SA!EH5-SA!DV5)/SA!DV5","v":9.3282728977090862E-3},{"$f":"(SA!EI5-SA!DW5)/SA!DW5","v":9.512485136741973E-3},{"$f":"(SA!EJ5-SA!DX5)/SA!DX5","v":9.8299195318215064E-3},{"$f":"(SA!EK5-SA!DY5)/SA!DY5","v":6.4225198141568737E-3},{"$f":"(SA!EL5-SA!DZ5)/SA!DZ5","v":4.6388939421502639E-3},{"$f":"(SA!EM5-SA!EA5)/SA!EA5","v":4.5533193698205996E-3},{"$f":"(SA!EN5-SA!EB5)/SA!EB5","v":8.7360087360087366E-3},{"$f":"(SA!EO5-SA!EC5)/SA!EC5","v":5.9553575487566483E-3},{"$f":"(SA!EP5-SA!ED5)/SA!ED5","v":8.2362577357116863E-3},{"$f":"(SA!EQ5-SA!EE5)/SA!EE5","v":2.6746452695045105E-3},{"$f":"(SA!ER5-SA!EF5)/SA!EF5","v":1.6310996330025826E-3},{"$f":"(SA!ES5-SA!EG5)/SA!EG5","v":5.0356122124937622E-3},{"$f":"(SA!ET5-SA!EH5)/SA!EH5","v":9.0608435645358587E-4},{"$f":"(SA!EU5-SA!EI5)/SA!EI5","v":2.989942919271541E-3},{"$f":"(SA!EV5-SA!EJ5)/SA!EJ5","v":8.0137637524335583E-3},{"$f":"(SA!EW5-SA!EK5)/SA!EK5","v":9.82122652183752E-3},{"$f":"(SA!EX5-SA!EL5)/SA!EL5","v":1.0774105930285197E-2},{"$f":"(SA!EY5-SA!EM5)/SA!EM5","v":1.1105067536941347E-2},{"$f":"(SA!EZ5-SA!EN5)/SA!EN5","v":2.2101939557961207E-3},{"$f":"(SA!FA5-SA!EO5)/SA!EO5","v":6.1912509038322483E-3},{"$f":"(SA!FB5-SA!EP5)/SA!EP5","v":6.9503994223044634E-3},{"$f":"(SA!FC5-SA!EQ5)/SA!EQ5","v":1.0082285920969346E-2},{"$f":"(SA!FD5-SA!ER5)/SA!ER5","v":1.4475053150585787E-2},{"$f":"(SA!FE5-SA!ES5)/SA!ES5","v":9.6145165658571823E-3},{"$f":"(SA!FF5-SA!ET5)/SA!ET5","v":8.0115873806182961E-3},{"$f":"(SA!FG5-SA!EU5)/SA!EU5","v":1.3008130081300813E-2},{"$f":"(SA!FH5-SA!EV5)/SA!EV5","v":8.0848005749191518E-3},{"$f":"(SA!FI5-SA!EW5)/SA!EW5","v":2.8235926855503767E-3},{"$f":"(SA!FJ5-SA!EX5)/SA!EX5","v":5.5983518452167678E-3},{"$f":"(SA!FK5-SA!EY5)/SA!EY5","v":7.9795579862823336E-3},{"$f":"(SA!FL5-SA!EZ5)/SA!EZ5","v":1.2781853368738468E-2},{"$f":"(SA!FM5-SA!FA5)/SA!FA5","v":1.2441050976869527E-2},{"$f":"(SA!FN5-SA!FB5)/SA!FB5","v":1.2998072699565237E-2},{"$f":"(SA!FO5-SA!FC5)/SA!FC5","v":1.136923145785775E-2},{"$f":"(SA!FP5-SA!FD5)/SA!FD5","v":7.0450795915637399E-3},{"$f":"(SA!FQ5-SA!FE5)/SA!FE5","v":1.2384316180086735E-2},{"$f":"(SA!FR5-SA!FF5)/SA!FF5","v":1.7557251908396947E-2},{"$f":"(SA!FS5-SA!FG5)/SA!FG5","v":1.0700909577314071E-2},{"$f":"(SA!FT5-SA!FH5)/SA!FH5","v":1.0559615041882018E-2},{"$f":"(SA!FU5-SA!FI5)/SA!FI5","v":1.5374301675977654E-2},{"$f":"(SA!FV5-SA!FJ5)/SA!FJ5","v":1.3094018616665924E-2},{"$f":"(SA!FW5-SA!FK5)/SA!FK5","v":1.3742494996664443E-2},{"$f":"(SA!FX5-SA!FL5)/SA!FL5","v":1.2664978002932942E-2},{"$f":"(SA!FY5-SA!FM5)/SA!FM5","v":1.5482210983941088E-2},{"$f":"(SA!FZ5-SA!FN5)/SA!FN5","v":1.1813636564753772E-2},{"$f":"(SA!GA5-SA!FO5)/SA!FO5","v":1.2392122150918344E-2},{"$f":"(SA!GB5-SA!FP5)/SA!FP5","v":1.7312375470444986E-2},{"$f":"(SA!GC5-SA!FQ5)/SA!FQ5","v":1.2321144674085851E-2},{"$f":"(SA!GD5-SA!FR5)/SA!FR5","v":1.2444287542473854E-2},{"$f":"(SA!GE5-SA!FS5)/SA!FS5","v":1.296982530439386E-2},{"$f":"(SA!GF5-SA!FT5)/SA!FT5","v":1.4152815131607955E-2},{"$f":"(SA!GG5-SA!FU5)/SA!FU5","v":1.3336854615079888E-2},{"$f":"(SA!GH5-SA!FV5)/SA!FV5","v":1.4419483887985229E-2},{"$f":"(SA!GI5-SA!FW5)/SA!FW5","v":1.3073615863823813E-2},{"$f":"(SA!GJ5-SA!FX5)/SA!FX5","v":1.5490609092504827E-2},{"$f":"(SA!GK5-SA!FY5)/SA!FY5","v":1.2144510943165435E-2},{"$f":"(SA!GL5-SA!FZ5)/SA!FZ5","v":1.3730977785551863E-2},{"$f":"(SA!GM5-SA!GA5)/SA!GA5","v":1.5475409836065573E-2},{"$f":"(SA!GN5-SA!GB5)/SA!GB5","v":1.0141016713091922E-2},{"$f":"(SA!GO5-SA!GC5)/SA!GC5","v":1.5617502072154605E-2},{"$f":"(SA!GP5-SA!GD5)/SA!GD5","v":1.8219064638451816E-2},{"$f":"(SA!GQ5-SA!GE5)/SA!GE5","v":1.8813692187091717E-2},{"$f":"(SA!GR5-SA!GF5)/SA!GF5","v":1.6476828101904182E-2},{"$f":"(SA!GS5-SA!GG5)/SA!GG5","v":1.8547476326991573E-2},{"$f":"(SA!GT5-SA!GH5)/SA!GH5","v":1.4171180931744312E-2},{"$f":"(SA!GU5-SA!GI5)/SA!GI5","v":1.3208037415555171E-2},{"$f":"(SA!GV5-SA!GJ5)/SA!GJ5","v":1.5211097186811287E-2},{"$f":"(SA!GW5-SA!GK5)/SA!GK5","v":1.7048642582761449E-2},{"$f":"(SA!GX5-SA!GL5)/SA!GL5","v":1.4235182469157105E-2},{"$f":"(SA!GY5-SA!GM5)/SA!GM5","v":1.162340178225494E-2},{"$f":"(SA!GZ5-SA!GN5)/SA!GN5","v":1.490800982377526E-2},{"$f":"(SA!HA5-SA!GO5)/SA!GO5","v":9.492719384906147E-3},{"$f":"(SA!HB5-SA!GP5)/SA!GP5","v":8.5612773425795125E-3},{"$f":"(SA!HC5-SA!GQ5)/SA!GQ5","v":7.7370265880140204E-3},{"$f":"(SA!HD5-SA!GR5)/SA!GR5","v":8.0407168213506696E-3},{"$f":"(SA!HE5-SA!GS5)/SA!GS5","v":5.0321975350761227E-3},{"$f":"(SA!HF5-SA!GT5)/SA!GT5","v":6.666096914793607E-3},{"$f":"(SA!HG5-SA!GU5)/SA!GU5","v":7.6078129674744628E-3},{"$f":"(SA!HH5-SA!GV5)/SA!GV5","v":3.4904013961605585E-3},{"$f":"(SA!HI5-SA!GW5)/SA!GW5","v":-8.4875233406891872E-4},{"$f":"(SA!HJ5-SA!GX5)/SA!GX5","v":1.3610071452875127E-3},{"$f":"(SA!HK5-SA!GY5)/SA!GY5","v":2.8086301544746587E-3},{"$f":"(SA!HL5-SA!GZ5)/SA!GZ5","v":-8.4907662916578223E-4},{"$f":"(SA!HM5-SA!HA5)/SA!HA5","v":3.701812611692622E-3},{"$f":"(SA!HN5-SA!HB5)/SA!HB5","v":3.1407834981537286E-3},{"$f":"(SA!HO5-SA!HC5)/SA!HC5","v":3.0540827147401907E-3},{"$f":"(SA!HP5-SA!HD5)/SA!HD5","v":4.4550044550044554E-3},{"$f":"(SA!HQ5-SA!HE5)/SA!HE5","v":2.7580939449229854E-3},{"$f":"(SA!HR5-SA!HF5)/SA!HF5","v":1.9950759826810427E-3},{"$f":"(SA!HS5-SA!HG5)/SA!HG5","v":2.2905620360551431E-3},{"$f":"(SA!HT5-SA!HH5)/SA!HH5","v":4.8780487804878049E-3},{"$f":"(SA!HU5-SA!HI5)/SA!HI5","v":5.9887869520897042E-3},{"$f":"(SA!HV5-SA!HJ5)/SA!HJ5","v":3.5677879714576962E-3},{"$f":"(SA!HW5-SA!HK5)/SA!HK5","v":1.2306386590282198E-3},{"$f":"(SA!HX5-SA!HL5)/SA!HL5","v":7.9881028255789251E-3},{"$f":"(SA!HY5-SA!HM5)/SA!HM5","v":9.2839882996311844E-3},{"$f":"(SA!HZ5-SA!HN5)/SA!HN5","v":7.1927226570763694E-3},{"$f":"(SA!IA5-SA!HO5)/SA!HO5","v":5.6666807628874697E-3},{"$f":"(SA!IB5-SA!HP5)/SA!HP5","v":3.3792346033623384E-3},{"$f":"(SA!IC5-SA!HQ5)/SA!HQ5","v":6.093432633716994E-3},{"$f":"(SA!ID5-SA!HR5)/SA!HR5","v":7.4136835416225375E-3},{"$f":"(SA!IE5-SA!HS5)/SA!HS5","v":7.4907952092767363E-3},{"$f":"(SA!IF5-SA!HT5)/SA!HT5","v":4.2211903756859438E-3},{"$f":"(SA!IG5-SA!HU5)/SA!HU5","v":2.786573780873971E-3},{"$f":"(SA!IH5-SA!HV5)/SA!HV5","v":6.5176908752327747E-3},{"$f":"(SA!II5-SA!HW5)/SA!HW5","v":8.9853352547257775E-3},{"$f":"(SA!IJ5-SA!HX5)/SA!HX5","v":2.6556506344054295E-3},{"$f":"(SA!IK5-SA!HY5)/SA!HY5","v":1.9741263440860215E-3},{"$f":"(SA!IL5-SA!HZ5)/SA!HZ5","v":-1}," n/a ","n/a",null,"Service-Providing",-3.3869826671383094E-2,1.1009069395891368E-3,5.6656472627364682E-3,8.6930770551758262E-3,1.006726886470548E-2,1.2012161191800768E-2,1.4290472894805539E-2,1.9000834182964131E-2,1.0599932292864489E-2]
["Private Service Providing",{"$f":"(SA!BN6-SA!BB6)/SA!BB6","v":1.4680582635623352E-2},{"$f":"(SA!BO6-SA!BC6)/SA!BC6","v":1.6055966511841276E-2},{"$f":"(SA!BP6-SA!BD6)/SA!BD6","v":1.7470500630083628E-2},{"$f":"(SA!BQ6-SA!BE6)/SA!BE6","v":2.076777847702958E-2},{"$f":"(SA!BR6-SA!BF6)/SA!BF6","v":1.6613382050696505E-2},{"$f":"(SA!BS6-SA!BG6)/SA!BG6","v":1.4250698284215926E-2},{"$f":"(SA!BT6-SA!BH6)/SA!BH6","v":1.3452151208990805E-2},{"$f":"(SA!BU6-SA!BI6)/SA!BI6","v":1.2910532276330692E-2},{"$f":"(SA!BV6-SA!BJ6)/SA!BJ6","v":1.7262918796138556E-2},{"$f":"(SA!BW6-SA!BK6)/SA!BK6","v":1.27255245744019E-2},{"$f":"(SA!BX6-SA!BL6)/SA!BL6","v":1.5671852899575671E-2},{"$f":"(SA!BY6-SA!BM6)/SA!BM6","v":1.6454622561492792E-2},{"$f":"(SA!BZ6-SA!BN6)/SA!BN6","v":1.435514863795637E-2},{"$f":"(SA!CA6-SA!BO6)/SA!BO6","v":1.5350753428523054E-2},{"$f":"(SA!CB6-SA!BP6)/SA!BP6","v":1.3792715194505433E-2},{"$f":"(SA!CC6-SA!BQ6)/SA!BQ6","v":1.2162313641968389E-2},{"$f":"(SA!CD6-SA!BR6)/SA!BR6","v":1.2467007356657494E-2},{"$f":"(SA!CE6-SA!BS6)/SA!BS6","v":1.4837295565671893E-2},{"$f":"(SA!CF6-SA!BT6)/SA!BT6","v":1.1873424810977317E-2},{"$f":"(SA!CG6-SA!BU6)/SA!BU6","v":1.0621645796064401E-2},{"$f":"(SA!CH6-SA!BV6)/SA!BV6","v":1.0550407502512002E-2},{"$f":"(SA!CI6-SA!BW6)/SA!BW6","v":1.2844856472690718E-2},{"$f":"(SA!CJ6-SA!BX6)/SA!BX6","v":1.141934046345811E-2},{"$f":"(SA!CK6-SA!BY6)/SA!BY6","v":1.1292834890965732E-2},{"$f":"(SA!CL6-SA!BZ6)/SA!BZ6","v":1.5377757967461556E-2},{"$f":"(SA!CM6-SA!CA6)/SA!CA6","v":1.3562336723917514E-2},{"$f":"(SA!CN6-SA!CB6)/SA!CB6","v":1.3882718791648157E-2},{"$f":"(SA!CO6-SA!CC6)/SA!CC6","v":1.1019436292153496E-2},{"$f":"(SA!CP6-SA!CD6)/SA!CD6","v":1.4476676465694159E-2},{"$f":"(SA!CQ6-SA!CE6)/SA!CE6","v":1.5229550866699896E-2},{"$f":"(SA!CR6-SA!CF6)/SA!CF6","v":1.372668400952012E-2},{"$f":"(SA!CS6-SA!CG6)/SA!CG6","v":1.2612014603385331E-2},{"$f":"(SA!CT6-SA!CH6)/SA!CH6","v":1.0826934762194112E-2},{"$f":"(SA!CU6-SA!CI6)/SA!CI6","v":8.9876488751654167E-3},{"$f":"(SA!CV6-SA!CJ6)/SA!CJ6","v":8.8671035964090986E-3},{"$f":"(SA!CW6-SA!CK6)/SA!CK6","v":8.9663897904175144E-3},{"$f":"(SA!CX6-SA!CL6)/SA!CL6","v":7.3529411764705881E-3},{"$f":"(SA!CY6-SA!CM6)/SA!CM6","v":7.129147244310392E-3},{"$f":"(SA!CZ6-SA!CN6)/SA!CN6","v":5.3675101325446383E-3},{"$f":"(SA!DA6-SA!CO6)/SA!CO6","v":5.4222806441012157E-3},{"$f":"(SA!DB6-SA!CP6)/SA!CP6","v":3.8819026790595955E-3},{"$f":"(SA!DC6-SA!CQ6)/SA!CQ6","v":8.1824132664193761E-4},{"$f":"(SA!DD6-SA!CR6)/SA!CR6","v":1.5834015834015835E-3},{"$f":"(SA!DE6-SA!CS6)/SA!CS6","v":1.8026876433956079E-3},{"$f":"(SA!DF6-SA!CT6)/SA!CT6","v":0},{"$f":"(SA!DG6-SA!CU6)/SA!CU6","v":-1.2022514891524127E-3},{"$f":"(SA!DH6-SA!CV6)/SA!CV6","v":-6.0596134949230263E-3},{"$f":"(SA!DI6-SA!CW6)/SA!CW6","v":-9.4319049176752809E-3},{"$f":"(SA!DJ6-SA!CX6)/SA!CX6","v":-1.6831898899662273E-2},{"$f":"(SA!DK6-SA!CY6)/SA!CY6","v":-2.0637081404846176E-2},{"$f":"(SA!DL6-SA!CZ6)/SA!CZ6","v":-2.5386794508607539E-2},{"$f":"(SA!DM6-SA!DA6)/SA!DA6","v":-3.0233698316718419E-2},{"$f":"(SA!DN6-SA!DB6)/SA!DB6","v":-2.8593213877239801E-2},{"$f":"(SA!DO6-SA!DC6)/SA!DC6","v":-2.9541614432877311E-2},{"$f":"(SA!DP6-SA!DD6)/SA!DD6","v":-3.2980811164413433E-2},{"$f":"(SA!DQ6-SA!DE6)/SA!DE6","v":-3.4134903757020559E-2},{"$f":"(SA!DR6-SA!DF6)/SA!DF6","v":-3.3881632876113447E-2},{"$f":"(SA!DS6-SA!DG6)/SA!DG6","v":-3.2718717513815179E-2},{"$f":"(SA!DT6-SA!DH6)/SA!DH6","v":-2.91646070192783E-2},{"$f":"(SA!DU6-SA!DI6)/SA!DI6","v":-2.8179866806098301E-2},{"$f":"(SA!DV6-SA!DJ6)/SA!DJ6","v":-2.0665964873400187E-2},{"$f":"(SA!DW6-SA!DK6)/SA!DK6","v":-1.629044812632047E-2},{"$f":"(SA!DX6-SA!DL6)/SA!DL6","v":-1.1179429849077696E-2},{"$f":"(SA!DY6-SA!DM6)/SA!DM6","v":-3.5951016739692171E-3},{"$f":"(SA!DZ6-SA!DN6)/SA!DN6","v":-5.8869701726844588E-3},{"$f":"(SA!EA6-SA!DO6)/SA!DO6","v":-4.0438079191238412E-3},{"$f":"(SA!EB6-SA!DP6)/SA!DP6","v":2.6495292857545523E-3},{"$f":"(SA!EC6-SA!DQ6)/SA!DQ6","v":6.2101281544628241E-3},{"$f":"(SA!ED6-SA!DR6)/SA!DR6","v":6.4483285253690821E-3},{"$f":"(SA!EE6-SA!DS6)/SA!DS6","v":1.0860342779568981E-2},{"$f":"(SA!EF6-SA!DT6)/SA!DT6","v":1.1145055442407785E-2},{"$f":"(SA!EG6-SA!DU6)/SA!DU6","v":1.3479073455286854E-2},{"$f":"(SA!EH6-SA!DV6)/SA!DV6","v":1.2729124236252547E-2},{"$f":"(SA!EI6-SA!DW6)/SA!DW6","v":1.1021307861866276E-2},{"$f":"(SA!EJ6-SA!DX6)/SA!DX6","v":1.1871113623516111E-2},{"$f":"(SA!EK6-SA!DY6)/SA!DY6","v":1.1106099898522945E-2},{"$f":"(SA!EL6-SA!DZ6)/SA!DZ6","v":1.0377305284529919E-2},{"$f":"(SA!EM6-SA!EA6)/SA!EA6","v":1.0319742852309254E-2},{"$f":"(SA!EN6-SA!EB6)/SA!EB6","v":1.0851231305521196E-2},{"$f":"(SA!EO6-SA!EC6)/SA!EC6","v":9.2577007237838755E-3},{"$f":"(SA!EP6-SA!ED6)/SA!ED6","v":1.3544652391389873E-2},{"$f":"(SA!EQ6-SA!EE6)/SA!EE6","v":8.7851826982261773E-3},{"$f":"(SA!ER6-SA!EF6)/SA!EF6","v":9.4556034241593465E-3},{"$f":"(SA!ES6-SA!EG6)/SA!EG6","v":8.3263481419390897E-3},{"$f":"(SA!ET6-SA!EH6)/SA!EH6","v":9.9435785710295516E-3},{"$f":"(SA!EU6-SA!EI6)/SA!EI6","v":1.1739713774597496E-2},{"$f":"(SA!EV6-SA!EJ6)/SA!EJ6","v":1.4357541899441341E-2},{"$f":"(SA!EW6-SA!EK6)/SA!EK6","v":1.3102871480345692E-2},{"$f":"(SA!EX6-SA!EL6)/SA!EL6","v":1.2894222718392408E-2},{"$f":"(SA!EY6-SA!EM6)/SA!EM6","v":1.4735432016075016E-2},{"$f":"(SA!EZ6-SA!EN6)/SA!EN6","v":7.842482896712832E-3},{"$f":"(SA!FA6-SA!EO6)/SA!EO6","v":8.2832999777629531E-3},{"$f":"(SA!FB6-SA!EP6)/SA!EP6","v":9.3711877564600192E-3},{"$f":"(SA!FC6-SA!EQ6)/SA!EQ6","v":1.0927446194808076E-2},{"$f":"(SA!FD6-SA!ER6)/SA!ER6","v":1.2526327458153198E-2},{"$f":"(SA!FE6-SA!ES6)/SA!ES6","v":1.1638217690090888E-2},{"$f":"(SA!FF6-SA!ET6)/SA!ET6","v":1.0177554068255988E-2},{"$f":"(SA!FG6-SA!EU6)/SA!EU6","v":1.1658746822853354E-2},{"$f":"(SA!FH6-SA!EV6)/SA!EV6","v":1.0354133392080189E-2},{"$f":"(SA!FI6-SA!EW6)/SA!EW6","v":7.0445789763346174E-3},{"$f":"(SA!FJ6-SA!EX6)/SA!EX6","v":1.2509643998677395E-2},{"$f":"(SA!FK6-SA!EY6)/SA!EY6","v":1.155115511551155E-2},{"$f":"(SA!FL6-SA!EZ6)/SA!EZ6","v":1.6004415011037526E-2},{"$f":"(SA!FM6-SA!FA6)/SA!FA6","v":1.7753763025858741E-2},{"$f":"(SA!FN6-SA!FB6)/SA!FB6","v":1.5107399879140801E-2},{"$f":"(SA!FO6-SA!FC6)/SA!FC6","v":1.3827160493827161E-2},{"$f":"(SA!FP6-SA!FD6)/SA!FD6","v":1.286402452375739E-2},{"$f":"(SA!FQ6-SA!FE6)/SA!FE6","v":1.5503451298345568E-2},{"$f":"(SA!FR6-SA!FF6)/SA!FF6","v":1.5550566719597E-2},{"$f":"(SA!FS6-SA!FG6)/SA!FG6","v":1.441913812878912E-2},{"$f":"(SA!FT6-SA!FH6)/SA!FH6","v":1.2973562278550014E-2},{"$f":"(SA!FU6-SA!FI6)/SA!FI6","v":1.7761503989507051E-2},{"$f":"(SA!FV6-SA!FJ6)/SA!FJ6","v":1.4804332444347684E-2},{"$f":"(SA!FW6-SA!FK6)/SA!FK6","v":1.5606307775965198E-2},{"$f":"(SA!FX6-SA!FL6)/SA!FL6","v":1.4448669201520912E-2},{"$f":"(SA!FY6-SA!FM6)/SA!FM6","v":1.4085270057966304E-2},{"$f":"(SA!FZ6-SA!FN6)/SA!FN6","v":1.3962550059530253E-2},{"$f":"(SA!GA6-SA!FO6)/SA!FO6","v":1.4937489852248742E-2},{"$f":"(SA!GB6-SA!FP6)/SA!FP6","v":1.7402583364859753E-2},{"$f":"(SA!GC6-SA!FQ6)/SA!FQ6","v":1.4889140637643631E-2},{"$f":"(SA!GD6-SA!FR6)/SA!FR6","v":1.601337143473338E-2},{"$f":"(SA!GE6-SA!FS6)/SA!FS6","v":1.4806439455123029E-2},{"$f":"(SA!GF6-SA!FT6)/SA!FT6","v":1.7004789323575312E-2},{"$f":"(SA!GG6-SA!FU6)/SA!FU6","v":1.524995972721903E-2},{"$f":"(SA!GH6-SA!FV6)/SA!FV6","v":1.7430946634486459E-2},{"$f":"(SA!GI6-SA!FW6)/SA!FW6","v":1.6437329335546393E-2},{"$f":"(SA!GJ6-SA!FX6)/SA!FX6","v":1.9704433497536946E-2},{"$f":"(SA!GK6-SA!FY6)/SA!FY6","v":1.9392061541749026E-2},{"$f":"(SA!GL6-SA!FZ6)/SA!FZ6","v":1.9214346712211786E-2},{"$f":"(SA!GM6-SA!GA6)/SA!GA6","v":2.0849997333759931E-2},{"$f":"(SA!GN6-SA!GB6)/SA!GB6","v":1.8964143426294822E-2},{"$f":"(SA!GO6-SA!GC6)/SA!GC6","v":2.0198798703024504E-2},{"$f":"(SA!GP6-SA!GD6)/SA!GD6","v":2.1810655911696029E-2},{"$f":"(SA!GQ6-SA!GE6)/SA!GE6","v":2.3344651952461801E-2},{"$f":"(SA!GR6-SA!GF6)/SA!GF6","v":2.0371448224773797E-2},{"$f":"(SA!GS6-SA!GG6)/SA!GG6","v":2.2478447135981381E-2},{"$f":"(SA!GT6-SA!GH6)/SA!GH6","v":1.8186610437532946E-2},{"$f":"(SA!GU6-SA!GI6)/SA!GI6","v":1.6066160977665403E-2},{"$f":"(SA!GV6-SA!GJ6)/SA!GJ6","v":1.7275782398655744E-2},{"$f":"(SA!GW6-SA!GK6)/SA!GK6","v":1.5512000838486532E-2},{"$f":"(SA!GX6-SA!GL6)/SA!GL6","v":1.5814830330959363E-2},{"$f":"(SA!GY6-SA!GM6)/SA!GM6","v":1.3006686167989971E-2},{"$f":"(SA!GZ6-SA!GN6)/SA!GN6","v":1.1208424564696069E-2},{"$f":"(SA!HA6-SA!GO6)/SA!GO6","v":1.0107851820976397E-2},{"$f":"(SA!HB6-SA!GP6)/SA!GP6","v":1.1269800051934563E-2},{"$f":"(SA!HC6-SA!GQ6)/SA!GQ6","v":1.042098714226462E-2},{"$f":"(SA!HD6-SA!GR6)/SA!GR6","v":1.2030699025098528E-2},{"$f":"(SA!HE6-SA!GS6)/SA!GS6","v":8.1212497413614727E-3},{"$f":"(SA!HF6-SA!GT6)/SA!GT6","v":7.3000258866166194E-3},{"$f":"(SA!HG6-SA!GU6)/SA!GU6","v":1.1249935196225828E-2},{"$f":"(SA!HH6-SA!GV6)/SA!GV6","v":5.6263872399731586E-3},{"$f":"(SA!HI6-SA!GW6)/SA!GW6","v":5.2637011043451341E-3},{"$f":"(SA!HJ6-SA!GX6)/SA!GX6","v":3.1446540880503146E-3},{"$f":"(SA!HK6-SA!GY6)/SA!GY6","v":4.434589800443459E-3},{"$f":"(SA!HL6-SA!GZ6)/SA!GZ6","v":4.6398927669227203E-3},{"$f":"(SA!HM6-SA!HA6)/SA!HA6","v":7.1697529272192707E-3},{"$f":"(SA!HN6-SA!HB6)/SA!HB6","v":4.5706655710764177E-3},{"$f":"(SA!HO6-SA!HC6)/SA!HC6","v":3.3352147365180358E-3},{"$f":"(SA!HP6-SA!HD6)/SA!HD6","v":4.2529206804673087E-3},{"$f":"(SA!HQ6-SA!HE6)/SA!HE6","v":3.1299707527323107E-3},{"$f":"(SA!HR6-SA!HF6)/SA!HF6","v":2.9810855263157896E-3},{"$f":"(SA!HS6-SA!HG6)/SA!HG6","v":1.1791243719881063E-3},{"$f":"(SA!HT6-SA!HH6)/SA!HH6","v":4.927625500461965E-3},{"$f":"(SA!HU6-SA!HI6)/SA!HI6","v":3.0800821355236141E-3},{"$f":"(SA!HV6-SA!HJ6)/SA!HJ6","v":3.545917056374942E-3},{"$f":"(SA!HW6-SA!HK6)/SA!HK6","v":2.1048308434724575E-3},{"$f":"(SA!HX6-SA!HL6)/SA!HL6","v":7.1329604351619029E-3},{"$f":"(SA!HY6-SA!HM6)/SA!HM6","v":9.474546758168596E-3},{"$f":"(SA!HZ6-SA!HN6)/SA!HN6","v":1.0428914677163744E-2},{"$f":"(SA!IA6-SA!HO6)/SA!HO6","v":1.0739490641301013E-2},{"$f":"(SA!IB6-SA!HP6)/SA!HP6","v":5.867646308485127E-3},{"$f":"(SA!IC6-SA!HQ6)/SA!HQ6","v":9.6163682864450119E-3},{"$f":"(SA!ID6-SA!HR6)/SA!HR6","v":1.0915240340268525E-2},{"$f":"(SA!IE6-SA!HS6)/SA!HS6","v":9.5242971990373293E-3},{"$f":"(SA!IF6-SA!HT6)/SA!HT6","v":6.9465726836244763E-3},{"$f":"(SA!IG6-SA!HU6)/SA!HU6","v":8.3418628454452401E-3},{"$f":"(SA!IH6-SA!HV6)/SA!HV6","v":1.0241704219582138E-2},{"$f":"(SA!II6-SA!HW6)/SA!HW6","v":1.1885245901639344E-2},{"$f":"(SA!IJ6-SA!HX6)/SA!HX6","v":6.3181493936614692E-3},{"$f":"(SA!IK6-SA!HY6)/SA!HY6","v":5.0733093196692206E-3},{"$f":"(SA!IL6-SA!HZ6)/SA!HZ6","v":-1}," n/a ","n/a",null,"Private Service Providing",-3.4134903757020559E-2,1.3538535063736892E-3,8.8179510574993465E-3,1.1212575627849046E-2,1.2603445888862117E-2,1.4436856772428196E-2,1.6177511485029692E-2,2.3344651952461801E-2,1.253444147885923E-2]
["Mining and Logging",{"$f":"(SA!BN7-SA!BB7)/SA!BB7","v":2.6315789473684209E-2},{"$f":"(SA!BO7-SA!BC7)/SA!BC7","v":2.6315789473684209E-2},{"$f":"(SA!BP7-SA!BD7)/SA!BD7","v":5.2631578947368418E-2},{"$f":"(SA!BQ7-SA!BE7)/SA!BE7","v":2.6315789473684209E-2},{"$f":"(SA!BR7-SA!BF7)/SA!BF7","v":2.6315789473684209E-2},{"$f":"(SA!BS7-SA!BG7)/SA!BG7","v":5.2631578947368418E-2},{"$f":"(SA!BT7-SA!BH7)/SA!BH7","v":5.2631578947368418E-2},{"$f":"(SA!BU7-SA!BI7)/SA!BI7","v":5.2631578947368418E-2},{"$f":"(SA!BV7-SA!BJ7)/SA!BJ7","v":5.2631578947368418E-2},{"$f":"(SA!BW7-SA!BK7)/SA!BK7","v":0},{"$f":"(SA!BX7-SA!BL7)/SA!BL7","v":0},{"$f":"(SA!BY7-SA!BM7)/SA!BM7","v":-2.5000000000000001E-2},{"$f":"(SA!BZ7-SA!BN7)/SA!BN7","v":2.564102564102564E-2},{"$f":"(SA!CA7-SA!BO7)/SA!BO7","v":2.564102564102564E-2},{"$f":"(SA!CB7-SA!BP7)/SA!BP7","v":0},{"$f":"(SA!CC7-SA!BQ7)/SA!BQ7","v":2.564102564102564E-2},{"$f":"(SA!CD7-SA!BR7)/SA!BR7","v":2.564102564102564E-2},{"$f":"(SA!CE7-SA!BS7)/SA!BS7","v":0},{"$f":"(SA!CF7-SA!BT7)/SA!BT7","v":-2.5000000000000001E-2},{"$f":"(SA!CG7-SA!BU7)/SA!BU7","v":-2.5000000000000001E-2},{"$f":"(SA!CH7-SA!BV7)/SA!BV7","v":-2.5000000000000001E-2},{"$f":"(SA!CI7-SA!BW7)/SA!BW7","v":0},{"$f":"(SA!CJ7-SA!BX7)/SA!BX7","v":-0.05},{"$f":"(SA!CK7-SA!BY7)/SA!BY7","v":-2.564102564102564E-2},{"$f":"(SA!CL7-SA!BZ7)/SA!BZ7","v":-0.05},{"$f":"(SA!CM7-SA!CA7)/SA!CA7","v":-0.05},{"$f":"(SA!CN7-SA!CB7)/SA!CB7","v":-0.05},{"$f":"(SA!CO7-SA!CC7)/SA!CC7","v":-0.05},{"$f":"(SA!CP7-SA!CD7)/SA!CD7","v":-7.4999999999999997E-2},{"$f":"(SA!CQ7-SA!CE7)/SA!CE7","v":-0.1},{"$f":"(SA!CR7-SA!CF7)/SA!CF7","v":-5.128205128205128E-2},{"$f":"(SA!CS7-SA!CG7)/SA!CG7","v":-7.6923076923076927E-2},{"$f":"(SA!CT7-SA!CH7)/SA!CH7","v":-7.6923076923076927E-2},{"$f":"(SA!CU7-SA!CI7)/SA!CI7","v":-7.6923076923076927E-2},{"$f":"(SA!CV7-SA!CJ7)/SA!CJ7","v":-5.2631578947368418E-2},{"$f":"(SA!CW7-SA!CK7)/SA!CK7","v":-0.10526315789473684},{"$f":"(SA!CX7-SA!CL7)/SA!CL7","v":-7.8947368421052627E-2},{"$f":"(SA!CY7-SA!CM7)/SA!CM7","v":-7.8947368421052627E-2},{"$f":"(SA!CZ7-SA!CN7)/SA!CN7","v":-0.10526315789473684},{"$f":"(SA!DA7-SA!CO7)/SA!CO7","v":-0.10526315789473684},{"$f":"(SA!DB7-SA!CP7)/SA!CP7","v":-0.10810810810810811},{"$f":"(SA!DC7-SA!CQ7)/SA!CQ7","v":-5.5555555555555552E-2},{"$f":"(SA!DD7-SA!CR7)/SA!CR7","v":-8.1081081081081086E-2},{"$f":"(SA!DE7-SA!CS7)/SA!CS7","v":-5.5555555555555552E-2},{"$f":"(SA!DF7-SA!CT7)/SA!CT7","v":-5.5555555555555552E-2},{"$f":"(SA!DG7-SA!CU7)/SA!CU7","v":-8.3333333333333329E-2},{"$f":"(SA!DH7-SA!CV7)/SA!CV7","v":-8.3333333333333329E-2},{"$f":"(SA!DI7-SA!CW7)/SA!CW7","v":-5.8823529411764705E-2},{"$f":"(SA!DJ7-SA!CX7)/SA!CX7","v":-8.5714285714285715E-2},{"$f":"(SA!DK7-SA!CY7)/SA!CY7","v":-0.11428571428571428},{"$f":"(SA!DL7-SA!CZ7)/SA!CZ7","v":-0.11764705882352941},{"$f":"(SA!DM7-SA!DA7)/SA!DA7","v":-0.14705882352941177},{"$f":"(SA!DN7-SA!DB7)/SA!DB7","v":-9.0909090909090912E-2},{"$f":"(SA!DO7-SA!DC7)/SA!DC7","v":-0.14705882352941177},{"$f":"(SA!DP7-SA!DD7)/SA!DD7","v":-0.11764705882352941},{"$f":"(SA!DQ7-SA!DE7)/SA!DE7","v":-0.11764705882352941},{"$f":"(SA!DR7-SA!DF7)/SA!DF7","v":-0.11764705882352941},{"$f":"(SA!DS7-SA!DG7)/SA!DG7","v":-9.0909090909090912E-2},{"$f":"(SA!DT7-SA!DH7)/SA!DH7","v":-0.12121212121212122},{"$f":"(SA!DU7-SA!DI7)/SA!DI7","v":-6.25E-2},{"$f":"(SA!DV7-SA!DJ7)/SA!DJ7","v":-9.375E-2},{"$f":"(SA!DW7-SA!DK7)/SA!DK7","v":-6.4516129032258063E-2},{"$f":"(SA!DX7-SA!DL7)/SA!DL7","v":-3.3333333333333333E-2},{"$f":"(SA!DY7-SA!DM7)/SA!DM7","v":3.4482758620689655E-2},{"$f":"(SA!DZ7-SA!DN7)/SA!DN7","v":0},{"$f":"(SA!EA7-SA!DO7)/SA!DO7","v":0},{"$f":"(SA!EB7-SA!DP7)/SA!DP7","v":0},{"$f":"(SA!EC7-SA!DQ7)/SA!DQ7","v":0},{"$f":"(SA!ED7-SA!DR7)/SA!DR7","v":-3.3333333333333333E-2},{"$f":"(SA!EE7-SA!DS7)/SA!DS7","v":0},{"$f":"(SA!EF7-SA!DT7)/SA!DT7","v":0},{"$f":"(SA!EG7-SA!DU7)/SA!DU7","v":-3.3333333333333333E-2},{"$f":"(SA!EH7-SA!DV7)/SA!DV7","v":3.4482758620689655E-2},{"$f":"(SA!EI7-SA!DW7)/SA!DW7","v":3.4482758620689655E-2},{"$f":"(SA!EJ7-SA!DX7)/SA!DX7","v":3.4482758620689655E-2},{"$f":"(SA!EK7-SA!DY7)/SA!DY7","v":-3.3333333333333333E-2},{"$f":"(SA!EL7-SA!DZ7)/SA!DZ7","v":-3.3333333333333333E-2},{"$f":"(SA!EM7-SA!EA7)/SA!EA7","v":6.8965517241379309E-2},{"$f":"(SA!EN7-SA!EB7)/SA!EB7","v":0},{"$f":"(SA!EO7-SA!EC7)/SA!EC7","v":0},{"$f":"(SA!EP7-SA!ED7)/SA!ED7","v":6.8965517241379309E-2},{"$f":"(SA!EQ7-SA!EE7)/SA!EE7","v":6.6666666666666666E-2},{"$f":"(SA!ER7-SA!EF7)/SA!EF7","v":0.13793103448275862},{"$f":"(SA!ES7-SA!EG7)/SA!EG7","v":0.13793103448275862},{"$f":"(SA!ET7-SA!EH7)/SA!EH7","v":0.1},{"$f":"(SA!EU7-SA!EI7)/SA!EI7","v":0.13333333333333333},{"$f":"(SA!EV7-SA!EJ7)/SA!EJ7","v":0.16666666666666666},{"$f":"(SA!EW7-SA!EK7)/SA!EK7","v":0.2413793103448276},{"$f":"(SA!EX7-SA!EL7)/SA!EL7","v":0.20689655172413793},{"$f":"(SA!EY7-SA!EM7)/SA!EM7","v":0.12903225806451613},{"$f":"(SA!EZ7-SA!EN7)/SA!EN7","v":0.16666666666666666},{"$f":"(SA!FA7-SA!EO7)/SA!EO7","v":0.16666666666666666},{"$f":"(SA!FB7-SA!EP7)/SA!EP7","v":0.12903225806451613},{"$f":"(SA!FC7-SA!EQ7)/SA!EQ7","v":9.375E-2},{"$f":"(SA!FD7-SA!ER7)/SA!ER7","v":6.0606060606060608E-2},{"$f":"(SA!FE7-SA!ES7)/SA!ES7","v":9.0909090909090912E-2},{"$f":"(SA!FF7-SA!ET7)/SA!ET7","v":9.0909090909090912E-2},{"$f":"(SA!FG7-SA!EU7)/SA!EU7","v":5.8823529411764705E-2},{"$f":"(SA!FH7-SA!EV7)/SA!EV7","v":0},{"$f":"(SA!FI7-SA!EW7)/SA!EW7","v":-2.7777777777777776E-2},{"$f":"(SA!FJ7-SA!EX7)/SA!EX7","v":5.7142857142857141E-2},{"$f":"(SA!FK7-SA!EY7)/SA!EY7","v":5.7142857142857141E-2},{"$f":"(SA!FL7-SA!EZ7)/SA!EZ7","v":5.7142857142857141E-2},{"$f":"(SA!FM7-SA!FA7)/SA!FA7","v":8.5714285714285715E-2},{"$f":"(SA!FN7-SA!FB7)/SA!FB7","v":8.5714285714285715E-2},{"$f":"(SA!FO7-SA!FC7)/SA!FC7","v":8.5714285714285715E-2},{"$f":"(SA!FP7-SA!FD7)/SA!FD7","v":8.5714285714285715E-2},{"$f":"(SA!FQ7-SA!FE7)/SA!FE7","v":5.5555555555555552E-2},{"$f":"(SA!FR7-SA!FF7)/SA!FF7","v":8.3333333333333329E-2},{"$f":"(SA!FS7-SA!FG7)/SA!FG7","v":8.3333333333333329E-2},{"$f":"(SA!FT7-SA!FH7)/SA!FH7","v":8.5714285714285715E-2},{"$f":"(SA!FU7-SA!FI7)/SA!FI7","v":0.11428571428571428},{"$f":"(SA!FV7-SA!FJ7)/SA!FJ7","v":8.1081081081081086E-2},{"$f":"(SA!FW7-SA!FK7)/SA!FK7","v":8.1081081081081086E-2},{"$f":"(SA!FX7-SA!FL7)/SA!FL7","v":0.10810810810810811},{"$f":"(SA!FY7-SA!FM7)/SA!FM7","v":0.10526315789473684},{"$f":"(SA!FZ7-SA!FN7)/SA!FN7","v":0.10526315789473684},{"$f":"(SA!GA7-SA!FO7)/SA!FO7","v":0.13157894736842105},{"$f":"(SA!GB7-SA!FP7)/SA!FP7","v":0.13157894736842105},{"$f":"(SA!GC7-SA!FQ7)/SA!FQ7","v":0.15789473684210525},{"$f":"(SA!GD7-SA!FR7)/SA!FR7","v":0.12820512820512819},{"$f":"(SA!GE7-SA!FS7)/SA!FS7","v":0.12820512820512819},{"$f":"(SA!GF7-SA!FT7)/SA!FT7","v":0.13157894736842105},{"$f":"(SA!GG7-SA!FU7)/SA!FU7","v":0.10256410256410256},{"$f":"(SA!GH7-SA!FV7)/SA!FV7","v":7.4999999999999997E-2},{"$f":"(SA!GI7-SA!FW7)/SA!FW7","v":0.05},{"$f":"(SA!GJ7-SA!FX7)/SA!FX7","v":0},{"$f":"(SA!GK7-SA!FY7)/SA!FY7","v":-2.3809523809523808E-2},{"$f":"(SA!GL7-SA!FZ7)/SA!FZ7","v":-4.7619047619047616E-2},{"$f":"(SA!GM7-SA!GA7)/SA!GA7","v":-6.9767441860465115E-2},{"$f":"(SA!GN7-SA!GB7)/SA!GB7","v":-6.9767441860465115E-2},{"$f":"(SA!GO7-SA!GC7)/SA!GC7","v":-6.8181818181818177E-2},{"$f":"(SA!GP7-SA!GD7)/SA!GD7","v":-9.0909090909090912E-2},{"$f":"(SA!GQ7-SA!GE7)/SA!GE7","v":-0.11363636363636363},{"$f":"(SA!GR7-SA!GF7)/SA!GF7","v":-9.3023255813953487E-2},{"$f":"(SA!GS7-SA!GG7)/SA!GG7","v":-0.11627906976744186},{"$f":"(SA!GT7-SA!GH7)/SA!GH7","v":-0.11627906976744186},{"$f":"(SA!GU7-SA!GI7)/SA!GI7","v":-0.11904761904761904},{"$f":"(SA!GV7-SA!GJ7)/SA!GJ7","v":-0.12195121951219512},{"$f":"(SA!GW7-SA!GK7)/SA!GK7","v":-9.7560975609756101E-2},{"$f":"(SA!GX7-SA!GL7)/SA!GL7","v":-0.1},{"$f":"(SA!GY7-SA!GM7)/SA!GM7","v":-7.4999999999999997E-2},{"$f":"(SA!GZ7-SA!GN7)/SA!GN7","v":-7.4999999999999997E-2},{"$f":"(SA!HA7-SA!GO7)/SA!GO7","v":-7.3170731707317069E-2},{"$f":"(SA!HB7-SA!GP7)/SA!GP7","v":-2.5000000000000001E-2},{"$f":"(SA!HC7-SA!GQ7)/SA!GQ7","v":2.564102564102564E-2},{"$f":"(SA!HD7-SA!GR7)/SA!GR7","v":7.6923076923076927E-2},{"$f":"(SA!HE7-SA!GS7)/SA!GS7","v":0.13157894736842105},{"$f":"(SA!HF7-SA!GT7)/SA!GT7","v":0.13157894736842105},{"$f":"(SA!HG7-SA!GU7)/SA!GU7","v":0.1891891891891892},{"$f":"(SA!HH7-SA!GV7)/SA!GV7","v":0.22222222222222221},{"$f":"(SA!HI7-SA!GW7)/SA!GW7","v":0.24324324324324326},{"$f":"(SA!HJ7-SA!GX7)/SA!GX7","v":0.27777777777777779},{"$f":"(SA!HK7-SA!GY7)/SA!GY7","v":0.21621621621621623},{"$f":"(SA!HL7-SA!GZ7)/SA!GZ7","v":0.24324324324324326},{"$f":"(SA!HM7-SA!HA7)/SA!HA7","v":0.18421052631578946},{"$f":"(SA!HN7-SA!HB7)/SA!HB7","v":0.17948717948717949},{"$f":"(SA!HO7-SA!HC7)/SA!HC7","v":0.15},{"$f":"(SA!HP7-SA!HD7)/SA!HD7","v":9.5238095238095233E-2},{"$f":"(SA!HQ7-SA!HE7)/SA!HE7","v":6.9767441860465115E-2},{"$f":"(SA!HR7-SA!HF7)/SA!HF7","v":4.6511627906976744E-2},{"$f":"(SA!HS7-SA!HG7)/SA!HG7","v":4.5454545454545456E-2},{"$f":"(SA!HT7-SA!HH7)/SA!HH7","v":4.5454545454545456E-2},{"$f":"(SA!HU7-SA!HI7)/SA!HI7","v":0},{"$f":"(SA!HV7-SA!HJ7)/SA!HJ7","v":0},{"$f":"(SA!HW7-SA!HK7)/SA!HK7","v":2.2222222222222223E-2},{"$f":"(SA!HX7-SA!HL7)/SA!HL7","v":0},{"$f":"(SA!HY7-SA!HM7)/SA!HM7","v":2.2222222222222223E-2},{"$f":"(SA!HZ7-SA!HN7)/SA!HN7","v":2.1739130434782608E-2},{"$f":"(SA!IA7-SA!HO7)/SA!HO7","v":4.3478260869565216E-2},{"$f":"(SA!IB7-SA!HP7)/SA!HP7","v":4.3478260869565216E-2},{"$f":"(SA!IC7-SA!HQ7)/SA!HQ7","v":4.3478260869565216E-2},{"$f":"(SA!ID7-SA!HR7)/SA!HR7","v":6.6666666666666666E-2},{"$f":"(SA!IE7-SA!HS7)/SA!HS7","v":4.3478260869565216E-2},{"$f":"(SA!IF7-SA!HT7)/SA!HT7","v":2.1739130434782608E-2},{"$f":"(SA!IG7-SA!HU7)/SA!HU7","v":2.1739130434782608E-2},{"$f":"(SA!IH7-SA!HV7)/SA!HV7","v":0},{"$f":"(SA!II7-SA!HW7)/SA!HW7","v":2.1739130434782608E-2},{"$f":"(SA!IJ7-SA!HX7)/SA!HX7","v":2.1739130434782608E-2},{"$f":"(SA!IK7-SA!HY7)/SA!HY7","v":0},{"$f":"(SA!IL7-SA!HZ7)/SA!HZ7","v":-1}," n/a ","n/a",null,"Mining and Logging",-0.14705882352941177,-9.0909090909090912E-2,-5.4385964912280704E-2,0,2.564102564102564E-2,6.8965517241379309E-2,0.12903225806451613,0.27777777777777779,9.6529252882479322E-2]
["Construction",{"$f":"(SA!BN9-SA!BB9)/SA!BB9","v":8.737092930897538E-3},{"$f":"(SA!BO9-SA!BC9)/SA!BC9","v":1.3524264120922832E-2},{"$f":"(SA!BP9-SA!BD9)/SA!BD9","v":6.3341250989707044E-3},{"$f":"(SA!BQ9-SA!BE9)/SA!BE9","v":8.6819258089976328E-3},{"$f":"(SA!BR9-SA!BF9)/SA!BF9","v":7.1202531645569618E-3},{"$f":"(SA!BS9-SA!BG9)/SA!BG9","v":4.7468354430379748E-3},{"$f":"(SA!BT9-SA!BH9)/SA!BH9","v":4.7169811320754715E-3},{"$f":"(SA!BU9-SA!BI9)/SA!BI9","v":3.1446540880503146E-3},{"$f":"(SA!BV9-SA!BJ9)/SA!BJ9","v":3.9339103068450039E-3},{"$f":"(SA!BW9-SA!BK9)/SA!BK9","v":4.7281323877068557E-3},{"$f":"(SA!BX9-SA!BL9)/SA!BL9","v":4.7132757266300082E-3},{"$f":"(SA!BY9-SA!BM9)/SA!BM9","v":-1.5686274509803921E-3},{"$f":"(SA!BZ9-SA!BN9)/SA!BN9","v":1.7322834645669177E-2},{"$f":"(SA!CA9-SA!BO9)/SA!BO9","v":1.8053375196232225E-2},{"$f":"(SA!CB9-SA!BP9)/SA!BP9","v":1.1014948859166011E-2},{"$f":"(SA!CC9-SA!BQ9)/SA!BQ9","v":1.7996870109546165E-2},{"$f":"(SA!CD9-SA!BR9)/SA!BR9","v":3.927729772191673E-3},{"$f":"(SA!CE9-SA!BS9)/SA!BS9","v":1.1811023622047244E-2},{"$f":"(SA!CF9-SA!BT9)/SA!BT9","v":-4.6948356807511738E-3},{"$f":"(SA!CG9-SA!BU9)/SA!BU9","v":-4.7021943573667714E-3},{"$f":"(SA!CH9-SA!BV9)/SA!BV9","v":-1.018808777429467E-2},{"$f":"(SA!CI9-SA!BW9)/SA!BW9","v":-1.411764705882353E-2},{"$f":"(SA!CJ9-SA!BX9)/SA!BX9","v":-2.5019546520719312E-2},{"$f":"(SA!CK9-SA!BY9)/SA!BY9","v":-8.6410054988216804E-3},{"$f":"(SA!CL9-SA!BZ9)/SA!BZ9","v":-1.4705882352941065E-2},{"$f":"(SA!CM9-SA!CA9)/SA!CA9","v":-3.392444101773312E-2},{"$f":"(SA!CN9-SA!CB9)/SA!CB9","v":-4.6692607003891049E-3},{"$f":"(SA!CO9-SA!CC9)/SA!CC9","v":-2.7671022290545733E-2},{"$f":"(SA!CP9-SA!CD9)/SA!CD9","v":-5.4773082942097028E-3},{"$f":"(SA!CQ9-SA!CE9)/SA!CE9","v":-1.4785992217898832E-2},{"$f":"(SA!CR9-SA!CF9)/SA!CF9","v":-8.6477987421383646E-3},{"$f":"(SA!CS9-SA!CG9)/SA!CG9","v":-8.6614173228346455E-3},{"$f":"(SA!CT9-SA!CH9)/SA!CH9","v":-7.91765637371338E-3},{"$f":"(SA!CU9-SA!CI9)/SA!CI9","v":-2.3866348448687352E-3},{"$f":"(SA!CV9-SA!CJ9)/SA!CJ9","v":2.4057738572574178E-3},{"$f":"(SA!CW9-SA!CK9)/SA!CK9","v":-1.8225039619651346E-2},{"$f":"(SA!CX9-SA!CL9)/SA!CL9","v":-3.6135113904163393E-2},{"$f":"(SA!CY9-SA!CM9)/SA!CM9","v":-2.6336791699920193E-2},{"$f":"(SA!CZ9-SA!CN9)/SA!CN9","v":-5.08209538702111E-2},{"$f":"(SA!DA9-SA!CO9)/SA!CO9","v":-5.533596837944664E-2},{"$f":"(SA!DB9-SA!CP9)/SA!CP9","v":-5.9008654602675056E-2},{"$f":"(SA!DC9-SA!CQ9)/SA!CQ9","v":-5.6082148499210109E-2},{"$f":"(SA!DD9-SA!CR9)/SA!CR9","v":-5.7097541633624106E-2},{"$f":"(SA!DE9-SA!CS9)/SA!CS9","v":-6.1159650516282763E-2},{"$f":"(SA!DF9-SA!CT9)/SA!CT9","v":-6.5442936951316838E-2},{"$f":"(SA!DG9-SA!CU9)/SA!CU9","v":-7.575757575757576E-2},{"$f":"(SA!DH9-SA!CV9)/SA!CV9","v":-9.0399999999999994E-2},{"$f":"(SA!DI9-SA!CW9)/SA!CW9","v":-9.8466505246166264E-2},{"$f":"(SA!DJ9-SA!CX9)/SA!CX9","v":-0.11572942135289324},{"$f":"(SA!DK9-SA!CY9)/SA!CY9","v":-0.11721311475409836},{"$f":"(SA!DL9-SA!CZ9)/SA!CZ9","v":-0.13426688632619441},{"$f":"(SA!DM9-SA!DA9)/SA!DA9","v":-0.1397489539748954},{"$f":"(SA!DN9-SA!DB9)/SA!DB9","v":-0.14130434782608695},{"$f":"(SA!DO9-SA!DC9)/SA!DC9","v":-0.15062761506276151},{"$f":"(SA!DP9-SA!DD9)/SA!DD9","v":-0.15559293523969722},{"$f":"(SA!DQ9-SA!DE9)/SA!DE9","v":-0.16074450084602368},{"$f":"(SA!DR9-SA!DF9)/SA!DF9","v":-0.15542271562766866},{"$f":"(SA!DS9-SA!DG9)/SA!DG9","v":-0.15271786022433131},{"$f":"(SA!DT9-SA!DH9)/SA!DH9","v":-0.14072119613016712},{"$f":"(SA!DU9-SA!DI9)/SA!DI9","v":-0.13249776186213072},{"$f":"(SA!DV9-SA!DJ9)/SA!DJ9","v":-0.11059907834101383},{"$f":"(SA!DW9-SA!DK9)/SA!DK9","v":-0.10956360259981431},{"$f":"(SA!DX9-SA!DL9)/SA!DL9","v":-9.3244529019980968E-2},{"$f":"(SA!DY9-SA!DM9)/SA!DM9","v":-5.7392996108949414E-2},{"$f":"(SA!DZ9-SA!DN9)/SA!DN9","v":-8.2765335929892894E-2},{"$f":"(SA!EA9-SA!DO9)/SA!DO9","v":-7.4876847290640397E-2},{"$f":"(SA!EB9-SA!DP9)/SA!DP9","v":-6.7729083665338641E-2},{"$f":"(SA!EC9-SA!DQ9)/SA!DQ9","v":-5.4435483870967742E-2},{"$f":"(SA!ED9-SA!DR9)/SA!DR9","v":-5.1567239635995958E-2},{"$f":"(SA!EE9-SA!DS9)/SA!DS9","v":-3.5641547861507125E-2},{"$f":"(SA!EF9-SA!DT9)/SA!DT9","v":-4.1965199590583417E-2},{"$f":"(SA!EG9-SA!DU9)/SA!DU9","v":-3.9215686274509803E-2},{"$f":"(SA!EH9-SA!DV9)/SA!DV9","v":-3.6269430051813469E-2},{"$f":"(SA!EI9-SA!DW9)/SA!DW9","v":-3.4410844629822732E-2},{"$f":"(SA!EJ9-SA!DX9)/SA!DX9","v":-2.9380902413431269E-2},{"$f":"(SA!EK9-SA!DY9)/SA!DY9","v":-4.6439628482972138E-2},{"$f":"(SA!EL9-SA!DZ9)/SA!DZ9","v":-1.6985138004246284E-2},{"$f":"(SA!EM9-SA!EA9)/SA!EA9","v":-1.4909478168264111E-2},{"$f":"(SA!EN9-SA!EB9)/SA!EB9","v":-5.341880341880342E-3},{"$f":"(SA!EO9-SA!EC9)/SA!EC9","v":-7.462686567164179E-3},{"$f":"(SA!EP9-SA!ED9)/SA!ED9","v":-7.462686567164179E-3},{"$f":"(SA!EQ9-SA!EE9)/SA!EE9","v":-2.1119324181626188E-2},{"$f":"(SA!ER9-SA!EF9)/SA!EF9","v":-6.41025641025641E-3},{"$f":"(SA!ES9-SA!EG9)/SA!EG9","v":-1.0741138560687433E-3},{"$f":"(SA!ET9-SA!EH9)/SA!EH9","v":1.0752688172043011E-3},{"$f":"(SA!EU9-SA!EI9)/SA!EI9","v":1.079913606911447E-2},{"$f":"(SA!EV9-SA!EJ9)/SA!EJ9","v":2.0540540540540539E-2},{"$f":"(SA!EW9-SA!EK9)/SA!EK9","v":4.4372294372294376E-2},{"$f":"(SA!EX9-SA!EL9)/SA!EL9","v":1.0799136069114472E-3},{"$f":"(SA!EY9-SA!EM9)/SA!EM9","v":0},{"$f":"(SA!EZ9-SA!EN9)/SA!EN9","v":-1.0741138560687433E-2},{"$f":"(SA!FA9-SA!EO9)/SA!EO9","v":-1.288936627282492E-2},{"$f":"(SA!FB9-SA!EP9)/SA!EP9","v":-4.296455424274973E-3},{"$f":"(SA!FC9-SA!EQ9)/SA!EQ9","v":1.2944983818770227E-2},{"$f":"(SA!FD9-SA!ER9)/SA!ER9","v":9.6774193548387101E-3},{"$f":"(SA!FE9-SA!ES9)/SA!ES9","v":3.2258064516129031E-2},{"$f":"(SA!FF9-SA!ET9)/SA!ET9","v":3.9742212674543503E-2},{"$f":"(SA!FG9-SA!EU9)/SA!EU9","v":4.4871794871794872E-2},{"$f":"(SA!FH9-SA!EV9)/SA!EV9","v":3.6016949152542374E-2},{"$f":"(SA!FI9-SA!EW9)/SA!EW9","v":-1.5544041450777202E-2},{"$f":"(SA!FJ9-SA!EX9)/SA!EX9","v":5.9331175836030203E-2},{"$f":"(SA!FK9-SA!EY9)/SA!EY9","v":6.2702702702702701E-2},{"$f":"(SA!FL9-SA!EZ9)/SA!EZ9","v":7.4918566775244305E-2},{"$f":"(SA!FM9-SA!FA9)/SA!FA9","v":8.7051142546245922E-2},{"$f":"(SA!FN9-SA!FB9)/SA!FB9","v":7.982740021574973E-2},{"$f":"(SA!FO9-SA!FC9)/SA!FC9","v":6.8157614483493084E-2},{"$f":"(SA!FP9-SA!FD9)/SA!FD9","v":7.3482428115015971E-2},{"$f":"(SA!FQ9-SA!FE9)/SA!FE9","v":3.4375000000000003E-2},{"$f":"(SA!FR9-SA!FF9)/SA!FF9","v":3.9256198347107439E-2},{"$f":"(SA!FS9-SA!FG9)/SA!FG9","v":3.0674846625766871E-2},{"$f":"(SA!FT9-SA!FH9)/SA!FH9","v":3.6809815950920248E-2},{"$f":"(SA!FU9-SA!FI9)/SA!FI9","v":6.7368421052631577E-2},{"$f":"(SA!FV9-SA!FJ9)/SA!FJ9","v":4.1751527494908347E-2},{"$f":"(SA!FW9-SA!FK9)/SA!FK9","v":5.3916581892166839E-2},{"$f":"(SA!FX9-SA!FL9)/SA!FL9","v":5.1515151515151514E-2},{"$f":"(SA!FY9-SA!FM9)/SA!FM9","v":5.0050050050050053E-2},{"$f":"(SA!FZ9-SA!FN9)/SA!FN9","v":5.5944055944055944E-2},{"$f":"(SA!GA9-SA!FO9)/SA!FO9","v":5.6829511465603187E-2},{"$f":"(SA!GB9-SA!FP9)/SA!FP9","v":5.5555555555555552E-2},{"$f":"(SA!GC9-SA!FQ9)/SA!FQ9","v":7.3514602215508554E-2},{"$f":"(SA!GD9-SA!FR9)/SA!FR9","v":7.1570576540755465E-2},{"$f":"(SA!GE9-SA!FS9)/SA!FS9","v":6.7460317460317457E-2},{"$f":"(SA!GF9-SA!FT9)/SA!FT9","v":6.0157790927021698E-2},{"$f":"(SA!GG9-SA!FU9)/SA!FU9","v":7.3964497041420121E-2},{"$f":"(SA!GH9-SA!FV9)/SA!FV9","v":7.2336265884652987E-2},{"$f":"(SA!GI9-SA!FW9)/SA!FW9","v":5.7915057915057917E-2},{"$f":"(SA!GJ9-SA!FX9)/SA!FX9","v":5.4755043227665709E-2},{"$f":"(SA!GK9-SA!FY9)/SA!FY9","v":4.4804575786463297E-2},{"$f":"(SA!GL9-SA!FZ9)/SA!FZ9","v":3.6896877956480605E-2},{"$f":"(SA!GM9-SA!GA9)/SA!GA9","v":3.8679245283018866E-2},{"$f":"(SA!GN9-SA!GB9)/SA!GB9","v":3.8533834586466163E-2},{"$f":"(SA!GO9-SA!GC9)/SA!GC9","v":4.7842401500938089E-2},{"$f":"(SA!GP9-SA!GD9)/SA!GD9","v":3.6178107606679034E-2},{"$f":"(SA!GQ9-SA!GE9)/SA!GE9","v":4.2750929368029739E-2},{"$f":"(SA!GR9-SA!GF9)/SA!GF9","v":4.8372093023255812E-2},{"$f":"(SA!GS9-SA!GG9)/SA!GG9","v":3.0303030303030304E-2},{"$f":"(SA!GT9-SA!GH9)/SA!GH9","v":1.8231540565177756E-2},{"$f":"(SA!GU9-SA!GI9)/SA!GI9","v":1.824817518248175E-2},{"$f":"(SA!GV9-SA!GJ9)/SA!GJ9","v":2.0947176684881604E-2},{"$f":"(SA!GW9-SA!GK9)/SA!GK9","v":2.8284671532846715E-2},{"$f":"(SA!GX9-SA!GL9)/SA!GL9","v":3.1934306569343068E-2},{"$f":"(SA!GY9-SA!GM9)/SA!GM9","v":2.9064486830154404E-2},{"$f":"(SA!GZ9-SA!GN9)/SA!GN9","v":3.3484162895927601E-2},{"$f":"(SA!HA9-SA!GO9)/SA!GO9","v":2.2381378692927483E-2},{"$f":"(SA!HB9-SA!GP9)/SA!GP9","v":2.954341987466428E-2},{"$f":"(SA!HC9-SA!GQ9)/SA!GQ9","v":3.6541889483065956E-2},{"$f":"(SA!HD9-SA!GR9)/SA!GR9","v":3.0168589174800354E-2},{"$f":"(SA!HE9-SA!GS9)/SA!GS9","v":4.2780748663101602E-2},{"$f":"(SA!HF9-SA!GT9)/SA!GT9","v":4.6553267681289166E-2},{"$f":"(SA!HG9-SA!GU9)/SA!GU9","v":4.9283154121863799E-2},{"$f":"(SA!HH9-SA!GV9)/SA!GV9","v":4.63871543264942E-2},{"$f":"(SA!HI9-SA!GW9)/SA!GW9","v":4.17036379769299E-2},{"$f":"(SA!HJ9-SA!GX9)/SA!GX9","v":3.9787798408488062E-2},{"$f":"(SA!HK9-SA!GY9)/SA!GY9","v":2.6478375992939101E-2},{"$f":"(SA!HL9-SA!GZ9)/SA!GZ9","v":2.0140105078809107E-2},{"$f":"(SA!HM9-SA!HA9)/SA!HA9","v":2.7145359019264449E-2},{"$f":"(SA!HN9-SA!HB9)/SA!HB9","v":2.6956521739130435E-2},{"$f":"(SA!HO9-SA!HC9)/SA!HC9","v":2.9234737747205503E-2},{"$f":"(SA!HP9-SA!HD9)/SA!HD9","v":4.8234280792420328E-2},{"$f":"(SA!HQ9-SA!HE9)/SA!HE9","v":2.735042735042735E-2},{"$f":"(SA!HR9-SA!HF9)/SA!HF9","v":4.0205303678357569E-2},{"$f":"(SA!HS9-SA!HG9)/SA!HG9","v":5.0384286934244238E-2},{"$f":"(SA!HT9-SA!HH9)/SA!HH9","v":4.859335038363171E-2},{"$f":"(SA!HU9-SA!HI9)/SA!HI9","v":5.6218057921635436E-2},{"$f":"(SA!HV9-SA!HJ9)/SA!HJ9","v":6.2074829931972789E-2},{"$f":"(SA!HW9-SA!HK9)/SA!HK9","v":7.7386070507308682E-2},{"$f":"(SA!HX9-SA!HL9)/SA!HL9","v":7.3819742489270382E-2},{"$f":"(SA!HY9-SA!HM9)/SA!HM9","v":7.2463768115942032E-2},{"$f":"(SA!HZ9-SA!HN9)/SA!HN9","v":6.6045723962743441E-2},{"$f":"(SA!IA9-SA!HO9)/SA!HO9","v":5.0960735171261484E-2},{"$f":"(SA!IB9-SA!HP9)/SA!HP9","v":2.3007395234182416E-2},{"$f":"(SA!IC9-SA!HQ9)/SA!HQ9","v":1.4975041597337771E-2},{"$f":"(SA!ID9-SA!HR9)/SA!HR9","v":2.1381578947368422E-2},{"$f":"(SA!IE9-SA!HS9)/SA!HS9","v":1.3821138211382113E-2},{"$f":"(SA!IF9-SA!HT9)/SA!HT9","v":1.7073170731707318E-2},{"$f":"(SA!IG9-SA!HU9)/SA!HU9","v":1.3709677419354839E-2},{"$f":"(SA!IH9-SA!HV9)/SA!HV9","v":2.0016012810248198E-2},{"$f":"(SA!II9-SA!HW9)/SA!HW9","v":1.9154030327214685E-2},{"$f":"(SA!IJ9-SA!HX9)/SA!HX9","v":2.2382094324540368E-2},{"$f":"(SA!IK9-SA!HY9)/SA!HY9","v":1.7488076311605722E-2},{"$f":"(SA!IL9-SA!HZ9)/SA!HZ9","v":-1}," n/a ","n/a",null,"Construction",-0.16074450084602368,-5.9653953376757371E-2,-1.5290216137771966E-2,1.0752688172043928E-4,1.0686964397686901E-2,3.2128561337414645E-2,4.8645411352838196E-2,8.7051142546245922E-2,5.7171415547083687E-2]
["Manufacturing",{"$f":"(SA!BN10-SA!BB10)/SA!BB10","v":5.0130338881090837E-3},{"$f":"(SA!BO10-SA!BC10)/SA!BC10","v":1.1404561824729893E-2},{"$f":"(SA!BP10-SA!BD10)/SA!BD10","v":1.0391686650679457E-2},{"$f":"(SA!BQ10-SA!BE10)/SA!BE10","v":7.9760717846460612E-3},{"$f":"(SA!BR10-SA!BF10)/SA!BF10","v":4.1741204531902205E-3},{"$f":"(SA!BS10-SA!BG10)/SA!BG10","v":7.5818036711891457E-3},{"$f":"(SA!BT10-SA!BH10)/SA!BH10","v":4.7656870532168391E-3},{"$f":"(SA!BU10-SA!BI10)/SA!BI10","v":1.5841584158415843E-3},{"$f":"(SA!BV10-SA!BJ10)/SA!BJ10","v":1.9809825673534074E-4},{"$f":"(SA!BW10-SA!BK10)/SA!BK10","v":0},{"$f":"(SA!BX10-SA!BL10)/SA!BL10","v":-7.9239302694136295E-4},{"$f":"(SA!BY10-SA!BM10)/SA!BM10","v":-1.9786307874950534E-3},{"$f":"(SA!BZ10-SA!BN10)/SA!BN10","v":8.3798882681564244E-3},{"$f":"(SA!CA10-SA!BO10)/SA!BO10","v":-3.956478733926805E-4},{"$f":"(SA!CB10-SA!BP10)/SA!BP10","v":1.384493670886076E-3},{"$f":"(SA!CC10-SA!BQ10)/SA!BQ10","v":2.373887240356083E-3},{"$f":"(SA!CD10-SA!BR10)/SA!BR10","v":2.7711797307996833E-3},{"$f":"(SA!CE10-SA!BS10)/SA!BS10","v":5.1485148514851488E-3},{"$f":"(SA!CF10-SA!BT10)/SA!BT10","v":2.7667984189723321E-3},{"$f":"(SA!CG10-SA!BU10)/SA!BU10","v":1.9770660340055358E-3},{"$f":"(SA!CH10-SA!BV10)/SA!BV10","v":1.9805902158843334E-3},{"$f":"(SA!CI10-SA!BW10)/SA!BW10","v":1.9813750743015652E-4},{"$f":"(SA!CJ10-SA!BX10)/SA!BX10","v":-1.7842981760507533E-3},{"$f":"(SA!CK10-SA!BY10)/SA!BY10","v":-2.5773195876288659E-3},{"$f":"(SA!CL10-SA!BZ10)/SA!BZ10","v":-5.5401662049861496E-3},{"$f":"(SA!CM10-SA!CA10)/SA!CA10","v":-4.9475559073817532E-3},{"$f":"(SA!CN10-SA!CB10)/SA!CB10","v":-8.6904997037329651E-3},{"$f":"(SA!CO10-SA!CC10)/SA!CC10","v":-8.683639234260904E-3},{"$f":"(SA!CP10-SA!CD10)/SA!CD10","v":-7.1061981839715752E-3},{"$f":"(SA!CQ10-SA!CE10)/SA!CE10","v":-8.2742316784869974E-3},{"$f":"(SA!CR10-SA!CF10)/SA!CF10","v":-9.0658257784785173E-3},{"$f":"(SA!CS10-SA!CG10)/SA!CG10","v":-1.0852407261247041E-2},{"$f":"(SA!CT10-SA!CH10)/SA!CH10","v":-1.3046056532911642E-2},{"$f":"(SA!CU10-SA!CI10)/SA!CI10","v":-1.2678288431061807E-2},{"$f":"(SA!CV10-SA!CJ10)/SA!CJ10","v":-9.9304865938430985E-3},{"$f":"(SA!CW10-SA!CK10)/SA!CK10","v":-8.9445438282647581E-3},{"$f":"(SA!CX10-SA!CL10)/SA!CL10","v":-5.9689614007162753E-3},{"$f":"(SA!CY10-SA!CM10)/SA!CM10","v":-4.9721559268098648E-3},{"$f":"(SA!CZ10-SA!CN10)/SA!CN10","v":-3.7856146642757521E-3},{"$f":"(SA!DA10-SA!CO10)/SA!CO10","v":-6.9679474417678675E-3},{"$f":"(SA!DB10-SA!CP10)/SA!CP10","v":-9.9403578528827041E-3},{"$f":"(SA!DC10-SA!CQ10)/SA!CQ10","v":-1.1521652761223678E-2},{"$f":"(SA!DD10-SA!CR10)/SA!CR10","v":-1.8695306284805091E-2},{"$f":"(SA!DE10-SA!CS10)/SA!CS10","v":-2.0546578894873331E-2},{"$f":"(SA!DF10-SA!CT10)/SA!CT10","v":-2.2631684358101343E-2},{"$f":"(SA!DG10-SA!CU10)/SA!CU10","v":-2.4077046548956663E-2},{"$f":"(SA!DH10-SA!CV10)/SA!CV10","v":-3.1093279839518557E-2},{"$f":"(SA!DI10-SA!CW10)/SA!CW10","v":-4.0914560770156441E-2},{"$f":"(SA!DJ10-SA!CX10)/SA!CX10","v":-6.0248198558847076E-2},{"$f":"(SA!DK10-SA!CY10)/SA!CY10","v":-8.1750949430341793E-2},{"$f":"(SA!DL10-SA!CZ10)/SA!CZ10","v":-9.8400000000000001E-2},{"$f":"(SA!DM10-SA!DA10)/SA!DA10","v":-0.11647955092221331},{"$f":"(SA!DN10-SA!DB10)/SA!DB10","v":-0.12630522088353413},{"$f":"(SA!DO10-SA!DC10)/SA!DC10","v":-0.13665594855305466},{"$f":"(SA!DP10-SA!DD10)/SA!DD10","v":-0.13862991487636805},{"$f":"(SA!DQ10-SA!DE10)/SA!DE10","v":-0.1360488798370672},{"$f":"(SA!DR10-SA!DF10)/SA!DF10","v":-0.12315573770491803},{"$f":"(SA!DS10-SA!DG10)/SA!DG10","v":-0.12458881578947369},{"$f":"(SA!DT10-SA!DH10)/SA!DH10","v":-0.11987577639751552},{"$f":"(SA!DU10-SA!DI10)/SA!DI10","v":-0.11208699289000418},{"$f":"(SA!DV10-SA!DJ10)/SA!DJ10","v":-9.7763578274760385E-2},{"$f":"(SA!DW10-SA!DK10)/SA!DK10","v":-7.575097953852851E-2},{"$f":"(SA!DX10-SA!DL10)/SA!DL10","v":-5.3904170363797695E-2},{"$f":"(SA!DY10-SA!DM10)/SA!DM10","v":-2.9498525073746312E-2},{"$f":"(SA!DZ10-SA!DN10)/SA!DN10","v":-1.2640772236267524E-2},{"$f":"(SA!EA10-SA!DO10)/SA!DO10","v":2.5605214152700185E-3},{"$f":"(SA!EB10-SA!DP10)/SA!DP10","v":1.7647058823529412E-2},{"$f":"(SA!EC10-SA!DQ10)/SA!DQ10","v":2.1687883074021686E-2},{"$f":"(SA!ED10-SA!DR10)/SA!DR10","v":1.4255667211965412E-2},{"$f":"(SA!EE10-SA!DS10)/SA!DS10","v":1.8788163457022077E-2},{"$f":"(SA!EF10-SA!DT10)/SA!DT10","v":2.3288637967537051E-2},{"$f":"(SA!EG10-SA!DU10)/SA!DU10","v":2.7319830428638718E-2},{"$f":"(SA!EH10-SA!DV10)/SA!DV10","v":3.2341831916902736E-2},{"$f":"(SA!EI10-SA!DW10)/SA!DW10","v":3.4856335374470089E-2},{"$f":"(SA!EJ10-SA!DX10)/SA!DX10","v":3.3528722157092614E-2},{"$f":"(SA!EK10-SA!DY10)/SA!DY10","v":3.8110825344867899E-2},{"$f":"(SA!EL10-SA!DZ10)/SA!DZ10","v":3.5847299813780258E-2},{"$f":"(SA!EM10-SA!EA10)/SA!EA10","v":3.2969584397492452E-2},{"$f":"(SA!EN10-SA!EB10)/SA!EB10","v":3.3294797687861269E-2},{"$f":"(SA!EO10-SA!EC10)/SA!EC10","v":3.3225657591139823E-2},{"$f":"(SA!EP10-SA!ED10)/SA!ED10","v":3.2027649769585255E-2},{"$f":"(SA!EQ10-SA!EE10)/SA!EE10","v":3.1350852927616413E-2},{"$f":"(SA!ER10-SA!EF10)/SA!EF10","v":3.1264367816091952E-2},{"$f":"(SA!ES10-SA!EG10)/SA!EG10","v":3.1407611187528654E-2},{"$f":"(SA!ET10-SA!EH10)/SA!EH10","v":3.2014635261833985E-2},{"$f":"(SA!EU10-SA!EI10)/SA!EI10","v":2.9585798816568046E-2},{"$f":"(SA!EV10-SA!EJ10)/SA!EJ10","v":2.926497277676951E-2},{"$f":"(SA!EW10-SA!EK10)/SA!EK10","v":2.4099099099099099E-2},{"$f":"(SA!EX10-SA!EL10)/SA!EL10","v":2.2921348314606741E-2},{"$f":"(SA!EY10-SA!EM10)/SA!EM10","v":2.6972353337828724E-2},{"$f":"(SA!EZ10-SA!EN10)/SA!EN10","v":2.282389796375028E-2},{"$f":"(SA!FA10-SA!EO10)/SA!EO10","v":2.0321572130415366E-2},{"$f":"(SA!FB10-SA!EP10)/SA!EP10","v":2.0540299173922749E-2},{"$f":"(SA!FC10-SA!EQ10)/SA!EQ10","v":2.2574877067501116E-2},{"$f":"(SA!FD10-SA!ER10)/SA!ER10","v":1.8947837717342843E-2},{"$f":"(SA!FE10-SA!ES10)/SA!ES10","v":1.6892642809513227E-2},{"$f":"(SA!FF10-SA!ET10)/SA!ET10","v":1.3516507866164413E-2},{"$f":"(SA!FG10-SA!EU10)/SA!EU10","v":1.1494252873563218E-2},{"$f":"(SA!FH10-SA!EV10)/SA!EV10","v":8.5959885386819486E-3},{"$f":"(SA!FI10-SA!EW10)/SA!EW10","v":3.7387288321970532E-3},{"$f":"(SA!FJ10-SA!EX10)/SA!EX10","v":2.4165202108963092E-3},{"$f":"(SA!FK10-SA!EY10)/SA!EY10","v":1.094331363536879E-3},{"$f":"(SA!FL10-SA!EZ10)/SA!EZ10","v":-2.8440166265587398E-3},{"$f":"(SA!FM10-SA!FA10)/SA!FA10","v":-4.3773254541475159E-4},{"$f":"(SA!FN10-SA!FB10)/SA!FB10","v":4.3754101947057538E-4},{"$f":"(SA!FO10-SA!FC10)/SA!FC10","v":1.5300546448087432E-3},{"$f":"(SA!FP10-SA!FD10)/SA!FD10","v":4.5941807044410417E-3},{"$f":"(SA!FQ10-SA!FE10)/SA!FE10","v":4.1530054644808743E-3},{"$f":"(SA!FR10-SA!FF10)/SA!FF10","v":6.121556624398776E-3},{"$f":"(SA!FS10-SA!FG10)/SA!FG10","v":6.555944055944056E-3},{"$f":"(SA!FT10-SA!FH10)/SA!FH10","v":8.7412587412587419E-3},{"$f":"(SA!FU10-SA!FI10)/SA!FI10","v":1.4241893076248905E-2},{"$f":"(SA!FV10-SA!FJ10)/SA!FJ10","v":1.6436554898093359E-2},{"$f":"(SA!FW10-SA!FK10)/SA!FK10","v":1.5522518583296896E-2},{"$f":"(SA!FX10-SA!FL10)/SA!FL10","v":2.1939447125932425E-2},{"$f":"(SA!FY10-SA!FM10)/SA!FM10","v":2.1239325596671774E-2},{"$f":"(SA!FZ10-SA!FN10)/SA!FN10","v":2.0336759239011591E-2},{"$f":"(SA!GA10-SA!FO10)/SA!FO10","v":1.9642077695329552E-2},{"$f":"(SA!GB10-SA!FP10)/SA!FP10","v":1.8074912891986063E-2},{"$f":"(SA!GC10-SA!FQ10)/SA!FQ10","v":1.8502394427514147E-2},{"$f":"(SA!GD10-SA!FR10)/SA!FR10","v":1.6731855714906561E-2},{"$f":"(SA!GE10-SA!FS10)/SA!FS10","v":1.7802865827181935E-2},{"$f":"(SA!GF10-SA!FT10)/SA!FT10","v":1.5164644714038129E-2},{"$f":"(SA!GG10-SA!FU10)/SA!FU10","v":1.0369410239792612E-2},{"$f":"(SA!GH10-SA!FV10)/SA!FV10","v":8.1931867184131084E-3},{"$f":"(SA!GI10-SA!FW10)/SA!FW10","v":6.4585575888051671E-3},{"$f":"(SA!GJ10-SA!FX10)/SA!FX10","v":3.8643194504079004E-3},{"$f":"(SA!GK10-SA!FY10)/SA!FY10","v":4.288164665523156E-4},{"$f":"(SA!GL10-SA!FZ10)/SA!FZ10","v":8.5726532361765965E-4},{"$f":"(SA!GM10-SA!GA10)/SA!GA10","v":-1.2842465753424657E-3},{"$f":"(SA!GN10-SA!GB10)/SA!GB10","v":-2.1390374331550803E-3},{"$f":"(SA!GO10-SA!GC10)/SA!GC10","v":-3.8469758495405003E-3},{"$f":"(SA!GP10-SA!GD10)/SA!GD10","v":-3.6332549690104724E-3},{"$f":"(SA!GQ10-SA!GE10)/SA!GE10","v":-6.6126279863481232E-3},{"$f":"(SA!GR10-SA!GF10)/SA!GF10","v":-6.4020486555697821E-3},{"$f":"(SA!GS10-SA!GG10)/SA!GG10","v":-4.0624331836647421E-3},{"$f":"(SA!GT10-SA!GH10)/SA!GH10","v":-4.9187339606501287E-3},{"$f":"(SA!GU10-SA!GI10)/SA!GI10","v":-6.6310160427807486E-3},{"$f":"(SA!GV10-SA!GJ10)/SA!GJ10","v":-8.5543199315654406E-3},{"$f":"(SA!GW10-SA!GK10)/SA!GK10","v":-6.6438062580368622E-3},{"$f":"(SA!GX10-SA!GL10)/SA!GL10","v":-8.1370449678800864E-3},{"$f":"(SA!GY10-SA!GM10)/SA!GM10","v":-5.5722246035147882E-3},{"$f":"(SA!GZ10-SA!GN10)/SA!GN10","v":-4.9303322615219724E-3},{"$f":"(SA!HA10-SA!GO10)/SA!GO10","v":-1.9309161124222271E-3},{"$f":"(SA!HB10-SA!GP10)/SA!GP10","v":-1.287001287001287E-3},{"$f":"(SA!HC10-SA!GQ10)/SA!GQ10","v":6.4419153961777973E-4},{"$f":"(SA!HD10-SA!GR10)/SA!GR10","v":3.0068728522336771E-3},{"$f":"(SA!HE10-SA!GS10)/SA!GS10","v":1.7174753112924003E-3},{"$f":"(SA!HF10-SA!GT10)/SA!GT10","v":3.0088115194498175E-3},{"$f":"(SA!HG10-SA!GU10)/SA!GU10","v":5.8139534883720929E-3},{"$f":"(SA!HH10-SA!GV10)/SA!GV10","v":7.3339085418464194E-3},{"$f":"(SA!HI10-SA!GW10)/SA!GW10","v":7.7669902912621356E-3},{"$f":"(SA!HJ10-SA!GX10)/SA!GX10","v":7.9879101899827283E-3},{"$f":"(SA!HK10-SA!GY10)/SA!GY10","v":1.271551724137931E-2},{"$f":"(SA!HL10-SA!GZ10)/SA!GZ10","v":1.5941404566996983E-2},{"$f":"(SA!HM10-SA!HA10)/SA!HA10","v":1.5907136715391231E-2},{"$f":"(SA!HN10-SA!HB10)/SA!HB10","v":2.0833333333333332E-2},{"$f":"(SA!HO10-SA!HC10)/SA!HC10","v":2.5965665236051504E-2},{"$f":"(SA!HP10-SA!HD10)/SA!HD10","v":2.7408993576017129E-2},{"$f":"(SA!HQ10-SA!HE10)/SA!HE10","v":3.0004286326618088E-2},{"$f":"(SA!HR10-SA!HF10)/SA!HF10","v":3.299764302549818E-2},{"$f":"(SA!HS10-SA!HG10)/SA!HG10","v":4.003425390708628E-2},{"$f":"(SA!HT10-SA!HH10)/SA!HH10","v":4.518201284796574E-2},{"$f":"(SA!HU10-SA!HI10)/SA!HI10","v":4.7313209162920145E-2},{"$f":"(SA!HV10-SA!HJ10)/SA!HJ10","v":4.9261083743842367E-2},{"$f":"(SA!HW10-SA!HK10)/SA!HK10","v":4.2987869759523303E-2},{"$f":"(SA!HX10-SA!HL10)/SA!HL10","v":4.0076335877862593E-2},{"$f":"(SA!HY10-SA!HM10)/SA!HM10","v":3.7663986457892512E-2},{"$f":"(SA!HZ10-SA!HN10)/SA!HN10","v":4.6286555859457188E-3},{"$f":"(SA!IA10-SA!HO10)/SA!HO10","v":-3.9740640033465802E-3},{"$f":"(SA!IB10-SA!HP10)/SA!HP10","v":-7.7115464776990415E-3},{"$f":"(SA!IC10-SA!HQ10)/SA!HQ10","v":-9.7794423637120268E-3},{"$f":"(SA!ID10-SA!HR10)/SA!HR10","v":-1.2652976560879485E-2},{"$f":"(SA!IE10-SA!HS10)/SA!HS10","v":-1.9761218608480857E-2},{"$f":"(SA!IF10-SA!HT10)/SA!HT10","v":-3.1346035648432698E-2},{"$f":"(SA!IG10-SA!HU10)/SA!HU10","v":-3.2706459525756335E-2},{"$f":"(SA!IH10-SA!HV10)/SA!HV10","v":-4.0008164931618698E-2},{"$f":"(SA!II10-SA!HW10)/SA!HW10","v":-4.2236278310548866E-2},{"$f":"(SA!IJ10-SA!HX10)/SA!HX10","v":-4.0774719673802244E-2},{"$f":"(SA!IK10-SA!HY10)/SA!HY10","v":-3.4665579119086458E-2},{"$f":"(SA!IL10-SA!HZ10)/SA!HZ10","v":-1}," n/a ","n/a",null,"Manufacturing",-0.13862991487636805,-1.2788618861616759E-2,-4.9406664490378406E-3,8.8097192760958358E-4,3.8517603885868164E-3,1.2227011494252866E-2,2.1763352289594903E-2,3.8110825344867899E-2,3.7055882513534574E-2]
["  Durable Goods",{"$f":"(SA!BN11-SA!BB11)/SA!BB11","v":1.495448634590377E-2},{"$f":"(SA!BO11-SA!BC11)/SA!BC11","v":2.6239067055393587E-2},{"$f":"(SA!BP11-SA!BD11)/SA!BD11","v":2.5218234723569349E-2},{"$f":"(SA!BQ11-SA!BE11)/SA!BE11","v":2.4516129032258065E-2},{"$f":"(SA!BR11-SA!BF11)/SA!BF11","v":1.8292682926829267E-2},{"$f":"(SA!BS11-SA!BG11)/SA!BG11","v":2.2222222222222223E-2},{"$f":"(SA!BT11-SA!BH11)/SA!BH11","v":1.4691791759821143E-2},{"$f":"(SA!BU11-SA!BI11)/SA!BI11","v":1.112523839796567E-2},{"$f":"(SA!BV11-SA!BJ11)/SA!BJ11","v":9.538950715421303E-3},{"$f":"(SA!BW11-SA!BK11)/SA!BK11","v":9.8569157392686801E-3},{"$f":"(SA!BX11-SA!BL11)/SA!BL11","v":6.3451776649746192E-3},{"$f":"(SA!BY11-SA!BM11)/SA!BM11","v":3.7974683544303796E-3},{"$f":"(SA!BZ11-SA!BN11)/SA!BN11","v":1.9859064702114029E-2},{"$f":"(SA!CA11-SA!BO11)/SA!BO11","v":5.366161616161616E-3},{"$f":"(SA!CB11-SA!BP11)/SA!BP11","v":8.1993062125512457E-3},{"$f":"(SA!CC11-SA!BQ11)/SA!BQ11","v":7.2418136020151137E-3},{"$f":"(SA!CD11-SA!BR11)/SA!BR11","v":9.4547746612039085E-3},{"$f":"(SA!CE11-SA!BS11)/SA!BS11","v":1.2287334593572778E-2},{"$f":"(SA!CF11-SA!BT11)/SA!BT11","v":1.0701920050361977E-2},{"$f":"(SA!CG11-SA!BU11)/SA!BU11","v":9.1166299905690029E-3},{"$f":"(SA!CH11-SA!BV11)/SA!BV11","v":8.8188976377952758E-3},{"$f":"(SA!CI11-SA!BW11)/SA!BW11","v":5.3526448362720405E-3},{"$f":"(SA!CJ11-SA!BX11)/SA!BX11","v":3.1525851197982345E-3},{"$f":"(SA!CK11-SA!BY11)/SA!BY11","v":2.2068095838587644E-3},{"$f":"(SA!CL11-SA!BZ11)/SA!BZ11","v":-4.0829145728643219E-3},{"$f":"(SA!CM11-SA!CA11)/SA!CA11","v":-4.0816326530612249E-3},{"$f":"(SA!CN11-SA!CB11)/SA!CB11","v":-1.0634970284641852E-2},{"$f":"(SA!CO11-SA!CC11)/SA!CC11","v":-8.1275398562050648E-3},{"$f":"(SA!CP11-SA!CD11)/SA!CD11","v":-8.7418045582266617E-3},{"$f":"(SA!CQ11-SA!CE11)/SA!CE11","v":-1.3383131030189854E-2},{"$f":"(SA!CR11-SA!CF11)/SA!CF11","v":-1.3702896293989412E-2},{"$f":"(SA!CS11-SA!CG11)/SA!CG11","v":-1.6510903426791276E-2},{"$f":"(SA!CT11-SA!CH11)/SA!CH11","v":-1.966906025600999E-2},{"$f":"(SA!CU11-SA!CI11)/SA!CI11","v":-1.8791105543376135E-2},{"$f":"(SA!CV11-SA!CJ11)/SA!CJ11","v":-1.6027655562539284E-2},{"$f":"(SA!CW11-SA!CK11)/SA!CK11","v":-1.5413652091852784E-2},{"$f":"(SA!CX11-SA!CL11)/SA!CL11","v":-1.0091453800063072E-2},{"$f":"(SA!CY11-SA!CM11)/SA!CM11","v":-8.8272383354350576E-3},{"$f":"(SA!CZ11-SA!CN11)/SA!CN11","v":-6.3231109705975336E-3},{"$f":"(SA!DA11-SA!CO11)/SA!CO11","v":-1.2606366214938543E-2},{"$f":"(SA!DB11-SA!CP11)/SA!CP11","v":-1.4488188976377953E-2},{"$f":"(SA!DC11-SA!CQ11)/SA!CQ11","v":-1.4826498422712935E-2},{"$f":"(SA!DD11-SA!CR11)/SA!CR11","v":-2.0524155352068203E-2},{"$f":"(SA!DE11-SA!CS11)/SA!CS11","v":-2.4707000316756416E-2},{"$f":"(SA!DF11-SA!CT11)/SA!CT11","v":-2.6751592356687899E-2},{"$f":"(SA!DG11-SA!CU11)/SA!CU11","v":-3.032237472071497E-2},{"$f":"(SA!DH11-SA!CV11)/SA!CV11","v":-3.7048866176940275E-2},{"$f":"(SA!DI11-SA!CW11)/SA!CW11","v":-4.8881789137380192E-2},{"$f":"(SA!DJ11-SA!CX11)/SA!CX11","v":-7.4227460974832751E-2},{"$f":"(SA!DK11-SA!CY11)/SA!CY11","v":-0.10241730279898219},{"$f":"(SA!DL11-SA!CZ11)/SA!CZ11","v":-0.12535793827553293},{"$f":"(SA!DM11-SA!DA11)/SA!DA11","v":-0.14969677625279285},{"$f":"(SA!DN11-SA!DB11)/SA!DB11","v":-0.16299137104506242},{"$f":"(SA!DO11-SA!DC11)/SA!DC11","v":-0.17579250720461104},{"$f":"(SA!DP11-SA!DD11)/SA!DD11","v":-0.17891682785299806},{"$f":"(SA!DQ11-SA!DE11)/SA!DE11","v":-0.17765508281909712},{"$f":"(SA!DR11-SA!DF11)/SA!DF11","v":-0.16295811518324607},{"$f":"(SA!DS11-SA!DG11)/SA!DG11","v":-0.16030283080974325},{"$f":"(SA!DT11-SA!DH11)/SA!DH11","v":-0.15688225538971809},{"$f":"(SA!DU11-SA!DI11)/SA!DI11","v":-0.1477997984548203},{"$f":"(SA!DV11-SA!DJ11)/SA!DJ11","v":-0.13007570543702685},{"$f":"(SA!DW11-SA!DK11)/SA!DK11","v":-0.10099220411055988},{"$f":"(SA!DX11-SA!DL11)/SA!DL11","v":-7.1298654056020372E-2},{"$f":"(SA!DY11-SA!DM11)/SA!DM11","v":-3.7912912912912912E-2},{"$f":"(SA!DZ11-SA!DN11)/SA!DN11","v":-1.6418480336005889E-2},{"$f":"(SA!EA11-SA!DO11)/SA!DO11","v":2.7195027195029459E-3},{"$f":"(SA!EB11-SA!DP11)/SA!DP11","v":1.6489988221436869E-2},{"$f":"(SA!EC11-SA!DQ11)/SA!DQ11","v":2.8041074249605055E-2},{"$f":"(SA!ED11-SA!DR11)/SA!DR11","v":2.0328381548084442E-2},{"$f":"(SA!EE11-SA!DS11)/SA!DS11","v":2.2736181889455E-2},{"$f":"(SA!EF11-SA!DT11)/SA!DT11","v":2.9504327301337528E-2},{"$f":"(SA!EG11-SA!DU11)/SA!DU11","v":3.705163579030351E-2},{"$f":"(SA!EH11-SA!DV11)/SA!DV11","v":4.3908227848101264E-2},{"$f":"(SA!EI11-SA!DW11)/SA!DW11","v":4.8088293259755617E-2},{"$f":"(SA!EJ11-SA!DX11)/SA!DX11","v":4.5828437132784956E-2},{"$f":"(SA!EK11-SA!DY11)/SA!DY11","v":5.0331642606320719E-2},{"$f":"(SA!EL11-SA!DZ11)/SA!DZ11","v":4.7748447204968826E-2},{"$f":"(SA!EM11-SA!EA11)/SA!EA11","v":4.8043394033320301E-2},{"$f":"(SA!EN11-SA!EB11)/SA!EB11","v":5.0598686751641676E-2},{"$f":"(SA!EO11-SA!EC11)/SA!EC11","v":4.6100653092585479E-2},{"$f":"(SA!EP11-SA!ED11)/SA!ED11","v":4.3295019157088124E-2},{"$f":"(SA!EQ11-SA!EE11)/SA!EE11","v":4.254503641241867E-2},{"$f":"(SA!ER11-SA!EF11)/SA!EF11","v":4.3943446694688575E-2},{"$f":"(SA!ES11-SA!EG11)/SA!EG11","v":4.2189281641961229E-2},{"$f":"(SA!ET11-SA!EH11)/SA!EH11","v":4.4334975369458129E-2},{"$f":"(SA!EU11-SA!EI11)/SA!EI11","v":4.0240691989469723E-2},{"$f":"(SA!EV11-SA!EJ11)/SA!EJ11","v":4.0823970037453181E-2},{"$f":"(SA!EW11-SA!EK11)/SA!EK11","v":3.3803863298662702E-2},{"$f":"(SA!EX11-SA!EL11)/SA!EL11","v":3.3345683586513526E-2},{"$f":"(SA!EY11-SA!EM11)/SA!EM11","v":3.6229205175600743E-2},{"$f":"(SA!EZ11-SA!EN11)/SA!EN11","v":3.0882352941176472E-2},{"$f":"(SA!FA11-SA!EO11)/SA!EO11","v":2.8644876973925818E-2},{"$f":"(SA!FB11-SA!EP11)/SA!EP11","v":2.8277634961439587E-2},{"$f":"(SA!FC11-SA!EQ11)/SA!EQ11","v":3.0147058823529412E-2},{"$f":"(SA!FD11-SA!ER11)/SA!ER11","v":2.4158125915080528E-2},{"$f":"(SA!FE11-SA!ES11)/SA!ES11","v":2.1152443471918306E-2},{"$f":"(SA!FF11-SA!ET11)/SA!ET11","v":1.5965166908563134E-2},{"$f":"(SA!FG11-SA!EU11)/SA!EU11","v":1.2653651482284888E-2},{"$f":"(SA!FH11-SA!EV11)/SA!EV11","v":8.2763584023029871E-3},{"$f":"(SA!FI11-SA!EW11)/SA!EW11","v":2.8745957599712541E-3},{"$f":"(SA!FJ11-SA!EX11)/SA!EX11","v":0},{"$f":"(SA!FK11-SA!EY11)/SA!EY11","v":-1.4270424545130217E-3},{"$f":"(SA!FL11-SA!EZ11)/SA!EZ11","v":-8.2025677603423681E-3},{"$f":"(SA!FM11-SA!FA11)/SA!FA11","v":-4.9982149232416992E-3},{"$f":"(SA!FN11-SA!FB11)/SA!FB11","v":-3.2142857142857142E-3},{"$f":"(SA!FO11-SA!FC11)/SA!FC11","v":-2.1413276231263384E-3},{"$f":"(SA!FP11-SA!FD11)/SA!FD11","v":1.4295925661186562E-3},{"$f":"(SA!FQ11-SA!FE11)/SA!FE11","v":3.5714285714285714E-4},{"$f":"(SA!FR11-SA!FF11)/SA!FF11","v":1.4285714285714286E-3},{"$f":"(SA!FS11-SA!FG11)/SA!FG11","v":7.140307033202428E-4},{"$f":"(SA!FT11-SA!FH11)/SA!FH11","v":3.2119914346895075E-3},{"$f":"(SA!FU11-SA!FI11)/SA!FI11","v":1.1107130060910068E-2},{"$f":"(SA!FV11-SA!FJ11)/SA!FJ11","v":1.4342058085335245E-2},{"$f":"(SA!FW11-SA!FK11)/SA!FK11","v":1.3576277241872096E-2},{"$f":"(SA!FX11-SA!FL11)/SA!FL11","v":2.1934555915138439E-2},{"$f":"(SA!FY11-SA!FM11)/SA!FM11","v":2.1169716541083603E-2},{"$f":"(SA!FZ11-SA!FN11)/SA!FN11","v":2.0064493013256898E-2},{"$f":"(SA!GA11-SA!FO11)/SA!FO11","v":2.03862660944206E-2},{"$f":"(SA!GB11-SA!FP11)/SA!FP11","v":1.8915060670949321E-2},{"$f":"(SA!GC11-SA!FQ11)/SA!FQ11","v":2.1777936451267403E-2},{"$f":"(SA!GD11-SA!FR11)/SA!FR11","v":1.9614835948644792E-2},{"$f":"(SA!GE11-SA!FS11)/SA!FS11","v":2.1405636817695327E-2},{"$f":"(SA!GF11-SA!FT11)/SA!FT11","v":1.8854500177872643E-2},{"$f":"(SA!GG11-SA!FU11)/SA!FU11","v":1.1339475549255847E-2},{"$f":"(SA!GH11-SA!FV11)/SA!FV11","v":7.069635913750442E-3},{"$f":"(SA!GI11-SA!FW11)/SA!FW11","v":3.8773352132534366E-3},{"$f":"(SA!GJ11-SA!FX11)/SA!FX11","v":1.4074595355383533E-3},{"$f":"(SA!GK11-SA!FY11)/SA!FY11","v":-3.8650737877723119E-3},{"$f":"(SA!GL11-SA!FZ11)/SA!FZ11","v":-2.8099754127151387E-3},{"$f":"(SA!GM11-SA!GA11)/SA!GA11","v":-7.7111812127585002E-3},{"$f":"(SA!GN11-SA!GB11)/SA!GB11","v":-9.4570928196147114E-3},{"$f":"(SA!GO11-SA!GC11)/SA!GC11","v":-1.3976240391334731E-2},{"$f":"(SA!GP11-SA!GD11)/SA!GD11","v":-1.2941587967820916E-2},{"$f":"(SA!GQ11-SA!GE11)/SA!GE11","v":-1.5717778553964373E-2},{"$f":"(SA!GR11-SA!GF11)/SA!GF11","v":-1.7458100558659217E-2},{"$f":"(SA!GS11-SA!GG11)/SA!GG11","v":-1.5066573230553609E-2},{"$f":"(SA!GT11-SA!GH11)/SA!GH11","v":-1.4742014742014743E-2},{"$f":"(SA!GU11-SA!GI11)/SA!GI11","v":-1.7907303370786515E-2},{"$f":"(SA!GV11-SA!GJ11)/SA!GJ11","v":-2.0028109627547436E-2},{"$f":"(SA!GW11-SA!GK11)/SA!GK11","v":-1.7636684303350969E-2},{"$f":"(SA!GX11-SA!GL11)/SA!GL11","v":-2.0429728777738642E-2},{"$f":"(SA!GY11-SA!GM11)/SA!GM11","v":-1.5895443306252206E-2},{"$f":"(SA!GZ11-SA!GN11)/SA!GN11","v":-1.4851485148514851E-2},{"$f":"(SA!HA11-SA!GO11)/SA!GO11","v":-1.0985116938341602E-2},{"$f":"(SA!HB11-SA!GP11)/SA!GP11","v":-1.0276399716513111E-2},{"$f":"(SA!HC11-SA!GQ11)/SA!GQ11","v":-8.161816891412349E-3},{"$f":"(SA!HD11-SA!GR11)/SA!GR11","v":-4.9751243781094526E-3},{"$f":"(SA!HE11-SA!GS11)/SA!GS11","v":-3.9131981501245106E-3},{"$f":"(SA!HF11-SA!GT11)/SA!GT11","v":-1.7812611328820805E-3},{"$f":"(SA!HG11-SA!GU11)/SA!GU11","v":2.8602073650339649E-3},{"$f":"(SA!HH11-SA!GV11)/SA!GV11","v":6.4539261384008607E-3},{"$f":"(SA!HI11-SA!GW11)/SA!GW11","v":7.1813285457809697E-3},{"$f":"(SA!HJ11-SA!GX11)/SA!GX11","v":6.8320747932398415E-3},{"$f":"(SA!HK11-SA!GY11)/SA!GY11","v":1.7587939698492462E-2},{"$f":"(SA!HL11-SA!GZ11)/SA!GZ11","v":2.2254127781765973E-2},{"$f":"(SA!HM11-SA!HA11)/SA!HA11","v":2.1139376567538518E-2},{"$f":"(SA!HN11-SA!HB11)/SA!HB11","v":3.0433225921947728E-2},{"$f":"(SA!HO11-SA!HC11)/SA!HC11","v":3.8282647584973163E-2},{"$f":"(SA!HP11-SA!HD11)/SA!HD11","v":0.04},{"$f":"(SA!HQ11-SA!HE11)/SA!HE11","v":0.04},{"$f":"(SA!HR11-SA!HF11)/SA!HF11","v":4.17558886509636E-2},{"$f":"(SA!HS11-SA!HG11)/SA!HG11","v":5.1693404634581108E-2},{"$f":"(SA!HT11-SA!HH11)/SA!HH11","v":5.8069112931955824E-2},{"$f":"(SA!HU11-SA!HI11)/SA!HI11","v":5.8467023172905523E-2},{"$f":"(SA!HV11-SA!HJ11)/SA!HJ11","v":0.06},{"$f":"(SA!HW11-SA!HK11)/SA!HK11","v":4.585537918871252E-2},{"$f":"(SA!HX11-SA!HL11)/SA!HL11","v":3.7921348314606744E-2},{"$f":"(SA!HY11-SA!HM11)/SA!HM11","v":3.8596491228070177E-2},{"$f":"(SA!HZ11-SA!HN11)/SA!HN11","v":-3.4746351633078526E-4},{"$f":"(SA!IA11-SA!HO11)/SA!HO11","v":-1.3783597518952447E-2},{"$f":"(SA!IB11-SA!HP11)/SA!HP11","v":-1.7513736263736264E-2},{"$f":"(SA!IC11-SA!HQ11)/SA!HQ11","v":-1.8887362637362636E-2},{"$f":"(SA!ID11-SA!HR11)/SA!HR11","v":-2.1925316889345667E-2},{"$f":"(SA!IE11-SA!HS11)/SA!HS11","v":-3.3898305084745763E-2},{"$f":"(SA!IF11-SA!HT11)/SA!HT11","v":-4.7138047138047139E-2},{"$f":"(SA!IG11-SA!HU11)/SA!HU11","v":-4.8501178848097001E-2},{"$f":"(SA!IH11-SA!HV11)/SA!HV11","v":-5.1549865229110516E-2},{"$f":"(SA!II11-SA!HW11)/SA!HW11","v":-5.2951096121416526E-2},{"$f":"(SA!IJ11-SA!HX11)/SA!HX11","v":-4.905277401894452E-2},{"$f":"(SA!IK11-SA!HY11)/SA!HY11","v":-4.72972972972973E-2},{"$f":"(SA!IL11-SA!HZ11)/SA!HZ11","v":-1}," n/a ","n/a",null,"  Durable Goods",-0.17891682785299806,-2.0148595372604799E-2,-1.0491542057390356E-2,7.8337358654205979E-4,6.7942599277559454E-3,1.801078563549454E-2,2.8902712072149315E-2,5.0598686751641676E-2,4.8517838066147033E-2]
["  Non-Durable Goods",{"$f":"(SA!BN12-SA!BB12)/SA!BB12","v":-1.098901098901099E-2},{"$f":"(SA!BO12-SA!BC12)/SA!BC12","v":-1.2558869701726845E-2},{"$f":"(SA!BP12-SA!BD12)/SA!BD12","v":-1.3605442176870748E-2},{"$f":"(SA!BQ12-SA!BE12)/SA!BE12","v":-1.8798955613577025E-2},{"$f":"(SA!BR12-SA!BF12)/SA!BF12","v":-1.8798955613577025E-2},{"$f":"(SA!BS12-SA!BG12)/SA!BG12","v":-1.6255899318300997E-2},{"$f":"(SA!BT12-SA!BH12)/SA!BH12","v":-1.1548556430446194E-2},{"$f":"(SA!BU12-SA!BI12)/SA!BI12","v":-1.4180672268907563E-2},{"$f":"(SA!BV12-SA!BJ12)/SA!BJ12","v":-1.5239096163951655E-2},{"$f":"(SA!BW12-SA!BK12)/SA!BK12","v":-1.6298633017875919E-2},{"$f":"(SA!BX12-SA!BL12)/SA!BL12","v":-1.2658227848101266E-2},{"$f":"(SA!BY12-SA!BM12)/SA!BM12","v":-1.1615628299894404E-2},{"$f":"(SA!BZ12-SA!BN12)/SA!BN12","v":-1.0582010582010581E-2},{"$f":"(SA!CA12-SA!BO12)/SA!BO12","v":-1.0068892421833599E-2},{"$f":"(SA!CB12-SA!BP12)/SA!BP12","v":-1.0079575596816976E-2},{"$f":"(SA!CC12-SA!BQ12)/SA!BQ12","v":-5.854177754124534E-3},{"$f":"(SA!CD12-SA!BR12)/SA!BR12","v":-8.5151676423629585E-3},{"$f":"(SA!CE12-SA!BS12)/SA!BS12","v":-6.9296375266524523E-3},{"$f":"(SA!CF12-SA!BT12)/SA!BT12","v":-1.0621348911311737E-2},{"$f":"(SA!CG12-SA!BU12)/SA!BU12","v":-1.0122535961640916E-2},{"$f":"(SA!CH12-SA!BV12)/SA!BV12","v":-9.6051227321237997E-3},{"$f":"(SA!CI12-SA!BW12)/SA!BW12","v":-8.5515766969535001E-3},{"$f":"(SA!CJ12-SA!BX12)/SA!BX12","v":-1.014957264957265E-2},{"$f":"(SA!CK12-SA!BY12)/SA!BY12","v":-1.0683760683760684E-2},{"$f":"(SA!CL12-SA!BZ12)/SA!BZ12","v":-8.0213903743315516E-3},{"$f":"(SA!CM12-SA!CA12)/SA!CA12","v":-6.4239828693790149E-3},{"$f":"(SA!CN12-SA!CB12)/SA!CB12","v":-5.3590568060021436E-3},{"$f":"(SA!CO12-SA!CC12)/SA!CC12","v":-9.6359743040685224E-3},{"$f":"(SA!CP12-SA!CD12)/SA!CD12","v":-4.2941492216854536E-3},{"$f":"(SA!CQ12-SA!CE12)/SA!CE12","v":5.3676865271068169E-4},{"$f":"(SA!CR12-SA!CF12)/SA!CF12","v":-1.0735373054213634E-3},{"$f":"(SA!CS12-SA!CG12)/SA!CG12","v":-1.076426264800861E-3},{"$f":"(SA!CT12-SA!CH12)/SA!CH12","v":-1.6163793103448276E-3},{"$f":"(SA!CU12-SA!CI12)/SA!CI12","v":-2.1563342318059301E-3},{"$f":"(SA!CV12-SA!CJ12)/SA!CJ12","v":5.3966540744738263E-4},{"$f":"(SA!CW12-SA!CK12)/SA!CK12","v":2.1598272138228943E-3},{"$f":"(SA!CX12-SA!CL12)/SA!CL12","v":1.0781671159029651E-3},{"$f":"(SA!CY12-SA!CM12)/SA!CM12","v":1.6163793103448276E-3},{"$f":"(SA!CZ12-SA!CN12)/SA!CN12","v":5.3879310344827585E-4},{"$f":"(SA!DA12-SA!CO12)/SA!CO12","v":2.7027027027027029E-3},{"$f":"(SA!DB12-SA!CP12)/SA!CP12","v":-2.1563342318059301E-3},{"$f":"(SA!DC12-SA!CQ12)/SA!CQ12","v":-5.9012875536480691E-3},{"$f":"(SA!DD12-SA!CR12)/SA!CR12","v":-1.5583019881783988E-2},{"$f":"(SA!DE12-SA!CS12)/SA!CS12","v":-1.3469827586206896E-2},{"$f":"(SA!DF12-SA!CT12)/SA!CT12","v":-1.5650296815974095E-2},{"$f":"(SA!DG12-SA!CU12)/SA!CU12","v":-1.350621285791464E-2},{"$f":"(SA!DH12-SA!CV12)/SA!CV12","v":-2.1035598705501618E-2},{"$f":"(SA!DI12-SA!CW12)/SA!CW12","v":-2.7478448275862068E-2},{"$f":"(SA!DJ12-SA!CX12)/SA!CX12","v":-3.66182014001077E-2},{"$f":"(SA!DK12-SA!CY12)/SA!CY12","v":-4.6799354491662185E-2},{"$f":"(SA!DL12-SA!CZ12)/SA!CZ12","v":-5.2773290253096392E-2},{"$f":"(SA!DM12-SA!DA12)/SA!DA12","v":-6.0377358490566038E-2},{"$f":"(SA!DN12-SA!DB12)/SA!DB12","v":-6.4289573203673692E-2},{"$f":"(SA!DO12-SA!DC12)/SA!DC12","v":-7.0696168375607119E-2},{"$f":"(SA!DP12-SA!DD12)/SA!DD12","v":-7.041484716157205E-2},{"$f":"(SA!DQ12-SA!DE12)/SA!DE12","v":-6.6084107045330423E-2},{"$f":"(SA!DR12-SA!DF12)/SA!DF12","v":-5.6469298245614037E-2},{"$f":"(SA!DS12-SA!DG12)/SA!DG12","v":-6.5169769989047097E-2},{"$f":"(SA!DT12-SA!DH12)/SA!DH12","v":-5.840220385674931E-2},{"$f":"(SA!DU12-SA!DI12)/SA!DI12","v":-5.3185595567867033E-2},{"$f":"(SA!DV12-SA!DJ12)/SA!DJ12","v":-4.5276690888764674E-2},{"$f":"(SA!DW12-SA!DK12)/SA!DK12","v":-3.5553047404063204E-2},{"$f":"(SA!DX12-SA!DL12)/SA!DL12","v":-2.6719727117680499E-2},{"$f":"(SA!DY12-SA!DM12)/SA!DM12","v":-1.663798049340218E-2},{"$f":"(SA!DZ12-SA!DN12)/SA!DN12","v":-6.9284064665127024E-3},{"$f":"(SA!EA12-SA!DO12)/SA!DO12","v":2.3228803716608595E-3},{"$f":"(SA!EB12-SA!DP12)/SA!DP12","v":1.9377568995889608E-2},{"$f":"(SA!EC12-SA!DQ12)/SA!DQ12","v":1.2280701754385965E-2},{"$f":"(SA!ED12-SA!DR12)/SA!DR12","v":5.2295177222545031E-3},{"$f":"(SA!EE12-SA!DS12)/SA!DS12","v":1.2888107791446984E-2},{"$f":"(SA!EF12-SA!DT12)/SA!DT12","v":1.4043300175541252E-2},{"$f":"(SA!EG12-SA!DU12)/SA!DU12","v":1.2873025160912814E-2},{"$f":"(SA!EH12-SA!DV12)/SA!DV12","v":1.5222482435597189E-2},{"$f":"(SA!EI12-SA!DW12)/SA!DW12","v":1.5213575190169689E-2},{"$f":"(SA!EJ12-SA!DX12)/SA!DX12","v":1.5186915887850467E-2},{"$f":"(SA!EK12-SA!DY12)/SA!DY12","v":1.9836639439906652E-2},{"$f":"(SA!EL12-SA!DZ12)/SA!DZ12","v":1.802325581395349E-2},{"$f":"(SA!EM12-SA!EA12)/SA!EA12","v":1.0428736964078795E-2},{"$f":"(SA!EN12-SA!EB12)/SA!EB12","v":7.4884792626728107E-3},{"$f":"(SA!EO12-SA!EC12)/SA!EC12","v":1.3864818024263431E-2},{"$f":"(SA!EP12-SA!ED12)/SA!ED12","v":1.5028901734104046E-2},{"$f":"(SA!EQ12-SA!EE12)/SA!EE12","v":1.4459224985540775E-2},{"$f":"(SA!ER12-SA!EF12)/SA!EF12","v":1.2117714945181766E-2},{"$f":"(SA!ES12-SA!EG12)/SA!EG12","v":1.5020219526285385E-2},{"$f":"(SA!ET12-SA!EH12)/SA!EH12","v":1.3264129181084199E-2},{"$f":"(SA!EU12-SA!EI12)/SA!EI12","v":1.3256484149855908E-2},{"$f":"(SA!EV12-SA!EJ12)/SA!EJ12","v":1.1507479861910242E-2},{"$f":"(SA!EW12-SA!EK12)/SA!EK12","v":9.1533180778032037E-3},{"$f":"(SA!EX12-SA!EL12)/SA!EL12","v":6.8532267275842372E-3},{"$f":"(SA!EY12-SA!EM12)/SA!EM12","v":1.261467889908257E-2},{"$f":"(SA!EZ12-SA!EN12)/SA!EN12","v":1.0291595197255575E-2},{"$f":"(SA!FA12-SA!EO12)/SA!EO12","v":7.4074074074074077E-3},{"$f":"(SA!FB12-SA!EP12)/SA!EP12","v":8.5421412300683373E-3},{"$f":"(SA!FC12-SA!EQ12)/SA!EQ12","v":1.0832383124287344E-2},{"$f":"(SA!FD12-SA!ER12)/SA!ER12","v":1.0832383124287344E-2},{"$f":"(SA!FE12-SA!ES12)/SA!ES12","v":1.0244735344336939E-2},{"$f":"(SA!FF12-SA!ET12)/SA!ET12","v":9.6755833807626642E-3},{"$f":"(SA!FG12-SA!EU12)/SA!EU12","v":9.6700796359499436E-3},{"$f":"(SA!FH12-SA!EV12)/SA!EV12","v":9.1012514220705342E-3},{"$f":"(SA!FI12-SA!EW12)/SA!EW12","v":5.1020408163265302E-3},{"$f":"(SA!FJ12-SA!EX12)/SA!EX12","v":6.239364719228588E-3},{"$f":"(SA!FK12-SA!EY12)/SA!EY12","v":5.0962627406568517E-3},{"$f":"(SA!FL12-SA!EZ12)/SA!EZ12","v":5.6593095642331632E-3},{"$f":"(SA!FM12-SA!FA12)/SA!FA12","v":6.7873303167420816E-3},{"$f":"(SA!FN12-SA!FB12)/SA!FB12","v":6.2111801242236021E-3},{"$f":"(SA!FO12-SA!FC12)/SA!FC12","v":7.3322053017484488E-3},{"$f":"(SA!FP12-SA!FD12)/SA!FD12","v":9.5882684715172025E-3},{"$f":"(SA!FQ12-SA!FE12)/SA!FE12","v":1.0140845070422535E-2},{"$f":"(SA!FR12-SA!FF12)/SA!FF12","v":1.3528748590755355E-2},{"$f":"(SA!FS12-SA!FG12)/SA!FG12","v":1.5774647887323943E-2},{"$f":"(SA!FT12-SA!FH12)/SA!FH12","v":1.7474633596392335E-2},{"$f":"(SA!FU12-SA!FI12)/SA!FI12","v":1.9176536943034405E-2},{"$f":"(SA!FV12-SA!FJ12)/SA!FJ12","v":1.9729425028184894E-2},{"$f":"(SA!FW12-SA!FK12)/SA!FK12","v":1.8591549295774647E-2},{"$f":"(SA!FX12-SA!FL12)/SA!FL12","v":2.1947101857062466E-2},{"$f":"(SA!FY12-SA!FM12)/SA!FM12","v":2.1348314606741574E-2},{"$f":"(SA!FZ12-SA!FN12)/SA!FN12","v":2.0763187429854096E-2},{"$f":"(SA!GA12-SA!FO12)/SA!FO12","v":1.8477043673012318E-2},{"$f":"(SA!GB12-SA!FP12)/SA!FP12","v":1.6759776536312849E-2},{"$f":"(SA!GC12-SA!FQ12)/SA!FQ12","v":1.3385387618516454E-2},{"$f":"(SA!GD12-SA!FR12)/SA!FR12","v":1.2235817575083427E-2},{"$f":"(SA!GE12-SA!FS12)/SA!FS12","v":1.2201885745978924E-2},{"$f":"(SA!GF12-SA!FT12)/SA!FT12","v":9.4182825484764535E-3},{"$f":"(SA!GG12-SA!FU12)/SA!FU12","v":8.8544548976203646E-3},{"$f":"(SA!GH12-SA!FV12)/SA!FV12","v":9.9502487562189053E-3},{"$f":"(SA!GI12-SA!FW12)/SA!FW12","v":1.0508849557522125E-2},{"$f":"(SA!GJ12-SA!FX12)/SA!FX12","v":7.709251101321586E-3},{"$f":"(SA!GK12-SA!FY12)/SA!FY12","v":7.1507150715071511E-3},{"$f":"(SA!GL12-SA!FZ12)/SA!FZ12","v":6.5970313358988458E-3},{"$f":"(SA!GM12-SA!GA12)/SA!GA12","v":8.7960417811984611E-3},{"$f":"(SA!GN12-SA!GB12)/SA!GB12","v":9.3406593406593404E-3},{"$f":"(SA!GO12-SA!GC12)/SA!GC12","v":1.2107870115575124E-2},{"$f":"(SA!GP12-SA!GD12)/SA!GD12","v":1.098901098901099E-2},{"$f":"(SA!GQ12-SA!GE12)/SA!GE12","v":7.6712328767123287E-3},{"$f":"(SA!GR12-SA!GF12)/SA!GF12","v":1.0976948408342482E-2},{"$f":"(SA!GS12-SA!GG12)/SA!GG12","v":1.3165112452002194E-2},{"$f":"(SA!GT12-SA!GH12)/SA!GH12","v":1.0399562123700055E-2},{"$f":"(SA!GU12-SA!GI12)/SA!GI12","v":1.0946907498631636E-2},{"$f":"(SA!GV12-SA!GJ12)/SA!GJ12","v":9.2896174863387974E-3},{"$f":"(SA!GW12-SA!GK12)/SA!GK12","v":1.0376843255051884E-2},{"$f":"(SA!GX12-SA!GL12)/SA!GL12","v":1.0922992900054615E-2},{"$f":"(SA!GY12-SA!GM12)/SA!GM12","v":1.0354223433242507E-2},{"$f":"(SA!GZ12-SA!GN12)/SA!GN12","v":1.0342950462710943E-2},{"$f":"(SA!HA12-SA!GO12)/SA!GO12","v":1.1963023382272975E-2},{"$f":"(SA!HB12-SA!GP12)/SA!GP12","v":1.2500000000000001E-2},{"$f":"(SA!HC12-SA!GQ12)/SA!GQ12","v":1.4138118542686243E-2},{"$f":"(SA!HD12-SA!GR12)/SA!GR12","v":1.5200868621064061E-2},{"$f":"(SA!HE12-SA!GS12)/SA!GS12","v":1.028695181375203E-2},{"$f":"(SA!HF12-SA!GT12)/SA!GT12","v":1.0292524377031419E-2},{"$f":"(SA!HG12-SA!GU12)/SA!GU12","v":1.028695181375203E-2},{"$f":"(SA!HH12-SA!GV12)/SA!GV12","v":8.6626962642122364E-3},{"$f":"(SA!HI12-SA!GW12)/SA!GW12","v":8.6486486486486488E-3},{"$f":"(SA!HJ12-SA!GX12)/SA!GX12","v":9.7244732576985422E-3},{"$f":"(SA!HK12-SA!GY12)/SA!GY12","v":5.3937432578209281E-3},{"$f":"(SA!HL12-SA!GZ12)/SA!GZ12","v":6.4655172413793103E-3},{"$f":"(SA!HM12-SA!HA12)/SA!HA12","v":8.0601826974744765E-3},{"$f":"(SA!HN12-SA!HB12)/SA!HB12","v":6.4412238325281803E-3},{"$f":"(SA!HO12-SA!HC12)/SA!HC12","v":7.506702412868633E-3},{"$f":"(SA!HP12-SA!HD12)/SA!HD12","v":8.5561497326203211E-3},{"$f":"(SA!HQ12-SA!HE12)/SA!HE12","v":1.5005359056806002E-2},{"$f":"(SA!HR12-SA!HF12)/SA!HF12","v":1.9839142091152815E-2},{"$f":"(SA!HS12-SA!HG12)/SA!HG12","v":2.2508038585209004E-2},{"$f":"(SA!HT12-SA!HH12)/SA!HH12","v":2.5764895330112721E-2},{"$f":"(SA!HU12-SA!HI12)/SA!HI12","v":3.0546623794212219E-2},{"$f":"(SA!HV12-SA!HJ12)/SA!HJ12","v":3.3172819689673623E-2},{"$f":"(SA!HW12-SA!HK12)/SA!HK12","v":3.8626609442060089E-2},{"$f":"(SA!HX12-SA!HL12)/SA!HL12","v":4.3361884368308352E-2},{"$f":"(SA!HY12-SA!HM12)/SA!HM12","v":3.6247334754797439E-2},{"$f":"(SA!HZ12-SA!HN12)/SA!HN12","v":1.2266666666666667E-2},{"$f":"(SA!IA12-SA!HO12)/SA!HO12","v":1.1176157530601383E-2},{"$f":"(SA!IB12-SA!HP12)/SA!HP12","v":7.423117709437964E-3},{"$f":"(SA!IC12-SA!HQ12)/SA!HQ12","v":4.2238648363252373E-3},{"$f":"(SA!ID12-SA!HR12)/SA!HR12","v":1.5772870662460567E-3},{"$f":"(SA!IE12-SA!HS12)/SA!HS12","v":2.0964360587002098E-3},{"$f":"(SA!IF12-SA!HT12)/SA!HT12","v":-6.8027210884353739E-3},{"$f":"(SA!IG12-SA!HU12)/SA!HU12","v":-8.3203328133125334E-3},{"$f":"(SA!IH12-SA!HV12)/SA!HV12","v":-2.2268254790264112E-2},{"$f":"(SA!II12-SA!HW12)/SA!HW12","v":-2.5826446280991736E-2},{"$f":"(SA!IJ12-SA!HX12)/SA!HX12","v":-2.8219599794766546E-2},{"$f":"(SA!IK12-SA!HY12)/SA!HY12","v":-1.5432098765432098E-2},{"$f":"(SA!IL12-SA!HZ12)/SA!HZ12","v":-1}," n/a ","n/a",null,"  Non-Durable Goods",-7.0696168375607119E-2,-1.560320296204102E-2,-6.9291451025965522E-3,5.7144966202322114E-3,8.637997906790618E-3,1.04170670279273E-2,1.3629569420807772E-2,2.1947101857062466E-2,2.0463037215965992E-2]
["Trade, Transportation, and Utilities",{"$f":"(SA!BN13-SA!BB13)/SA!BB13","v":4.4692737430167594E-3},{"$f":"(SA!BO13-SA!BC13)/SA!BC13","v":7.6407007081625046E-3},{"$f":"(SA!BP13-SA!BD13)/SA!BD13","v":8.0104321907600601E-3},{"$f":"(SA!BQ13-SA!BE13)/SA!BE13","v":1.1363636363636364E-2},{"$f":"(SA!BR13-SA!BF13)/SA!BF13","v":7.616570685491362E-3},{"$f":"(SA!BS13-SA!BG13)/SA!BG13","v":2.7813832746152421E-3},{"$f":"(SA!BT13-SA!BH13)/SA!BH13","v":2.9542097488921715E-3},{"$f":"(SA!BU13-SA!BI13)/SA!BI13","v":5.9116940698318863E-3},{"$f":"(SA!BV13-SA!BJ13)/SA!BJ13","v":8.1481481481481474E-3},{"$f":"(SA!BW13-SA!BK13)/SA!BK13","v":1.1845271145659819E-2},{"$f":"(SA!BX13-SA!BL13)/SA!BL13","v":1.1277500462192641E-2},{"$f":"(SA!BY13-SA!BM13)/SA!BM13","v":1.4251341847121969E-2},{"$f":"(SA!BZ13-SA!BN13)/SA!BN13","v":6.8594734890619208E-3},{"$f":"(SA!CA13-SA!BO13)/SA!BO13","v":6.4730904383206956E-3},{"$f":"(SA!CB13-SA!BP13)/SA!BP13","v":6.4683053040103496E-3},{"$f":"(SA!CC13-SA!BQ13)/SA!BQ13","v":3.4997237060232088E-3},{"$f":"(SA!CD13-SA!BR13)/SA!BR13","v":2.7654867256637168E-3},{"$f":"(SA!CE13-SA!BS13)/SA!BS13","v":7.2115384615384619E-3},{"$f":"(SA!CF13-SA!BT13)/SA!BT13","v":5.5228276877761413E-4},{"$f":"(SA!CG13-SA!BU13)/SA!BU13","v":0},{"$f":"(SA!CH13-SA!BV13)/SA!BV13","v":5.5106539309331376E-4},{"$f":"(SA!CI13-SA!BW13)/SA!BW13","v":-3.8412291933418692E-3},{"$f":"(SA!CJ13-SA!BX13)/SA!BX13","v":-2.0109689213893968E-3},{"$f":"(SA!CK13-SA!BY13)/SA!BY13","v":-1.0948905109489052E-3},{"$f":"(SA!CL13-SA!BZ13)/SA!BZ13","v":9.3905358129257963E-3},{"$f":"(SA!CM13-SA!CA13)/SA!CA13","v":6.9827269386255053E-3},{"$f":"(SA!CN13-SA!CB13)/SA!CB13","v":6.7939772309952261E-3},{"$f":"(SA!CO13-SA!CC13)/SA!CC13","v":3.4875183553597653E-3},{"$f":"(SA!CP13-SA!CD13)/SA!CD13","v":8.6412943555800696E-3},{"$f":"(SA!CQ13-SA!CE13)/SA!CE13","v":7.5270791261244719E-3},{"$f":"(SA!CR13-SA!CF13)/SA!CF13","v":7.9116835326586941E-3},{"$f":"(SA!CS13-SA!CG13)/SA!CG13","v":2.7548209366391185E-3},{"$f":"(SA!CT13-SA!CH13)/SA!CH13","v":2.7538094363870019E-3},{"$f":"(SA!CU13-SA!CI13)/SA!CI13","v":1.1017260374586854E-3},{"$f":"(SA!CV13-SA!CJ13)/SA!CJ13","v":-3.6636746656896867E-4},{"$f":"(SA!CW13-SA!CK13)/SA!CK13","v":-3.6536353671903542E-3},{"$f":"(SA!CX13-SA!CL13)/SA!CL13","v":-3.1010580080262679E-3},{"$f":"(SA!CY13-SA!CM13)/SA!CM13","v":-4.0145985401459855E-3},{"$f":"(SA!CZ13-SA!CN13)/SA!CN13","v":-5.1066934160131318E-3},{"$f":"(SA!DA13-SA!CO13)/SA!CO13","v":-2.9266508139747576E-3},{"$f":"(SA!DB13-SA!CP13)/SA!CP13","v":-9.2963908129784899E-3},{"$f":"(SA!DC13-SA!CQ13)/SA!CQ13","v":-1.2572886297376093E-2},{"$f":"(SA!DD13-SA!CR13)/SA!CR13","v":-1.1683096020445418E-2},{"$f":"(SA!DE13-SA!CS13)/SA!CS13","v":-1.0439560439560439E-2},{"$f":"(SA!DF13-SA!CT13)/SA!CT13","v":-1.4463566459172465E-2},{"$f":"(SA!DG13-SA!CU13)/SA!CU13","v":-1.7057960381511372E-2},{"$f":"(SA!DH13-SA!CV13)/SA!CV13","v":-2.3639362286970864E-2},{"$f":"(SA!DI13-SA!CW13)/SA!CW13","v":-2.6402640264026403E-2},{"$f":"(SA!DJ13-SA!CX13)/SA!CX13","v":-3.4400731930466603E-2},{"$f":"(SA!DK13-SA!CY13)/SA!CY13","v":-3.7193111029681203E-2},{"$f":"(SA!DL13-SA!CZ13)/SA!CZ13","v":-4.2896425297891845E-2},{"$f":"(SA!DM13-SA!DA13)/SA!DA13","v":-4.6963859842230782E-2},{"$f":"(SA!DN13-SA!DB13)/SA!DB13","v":-4.379024839006429E-2},{"$f":"(SA!DO13-SA!DC13)/SA!DC13","v":-4.2812326997600923E-2},{"$f":"(SA!DP13-SA!DD13)/SA!DD13","v":-4.7284817140746324E-2},{"$f":"(SA!DQ13-SA!DE13)/SA!DE13","v":-4.7010919859337405E-2},{"$f":"(SA!DR13-SA!DF13)/SA!DF13","v":-4.662827419654457E-2},{"$f":"(SA!DS13-SA!DG13)/SA!DG13","v":-4.4224668781488972E-2},{"$f":"(SA!DT13-SA!DH13)/SA!DH13","v":-4.2417417417417419E-2},{"$f":"(SA!DU13-SA!DI13)/SA!DI13","v":-4.2184557438794727E-2},{"$f":"(SA!DV13-SA!DJ13)/SA!DJ13","v":-3.6763312488156147E-2},{"$f":"(SA!DW13-SA!DK13)/SA!DK13","v":-3.3491912464319692E-2},{"$f":"(SA!DX13-SA!DL13)/SA!DL13","v":-2.700632062823214E-2},{"$f":"(SA!DY13-SA!DM13)/SA!DM13","v":-2.1174205967276226E-2},{"$f":"(SA!DZ13-SA!DN13)/SA!DN13","v":-2.1935732153165396E-2},{"$f":"(SA!EA13-SA!DO13)/SA!DO13","v":-2.0821283979178824E-2},{"$f":"(SA!EB13-SA!DP13)/SA!DP13","v":-1.4928266770065805E-2},{"$f":"(SA!EC13-SA!DQ13)/SA!DQ13","v":-1.3400660322392698E-2},{"$f":"(SA!ED13-SA!DR13)/SA!DR13","v":-1.1301636788776418E-2},{"$f":"(SA!EE13-SA!DS13)/SA!DS13","v":-4.4904334244436897E-3},{"$f":"(SA!EF13-SA!DT13)/SA!DT13","v":-3.3320266562132496E-3},{"$f":"(SA!EG13-SA!DU13)/SA!DU13","v":3.9323633503735744E-4},{"$f":"(SA!EH13-SA!DV13)/SA!DV13","v":1.1804052724768838E-3},{"$f":"(SA!EI13-SA!DW13)/SA!DW13","v":1.7720023626698169E-3},{"$f":"(SA!EJ13-SA!DX13)/SA!DX13","v":2.5590551181102362E-3},{"$f":"(SA!EK13-SA!DY13)/SA!DY13","v":4.3264503441494588E-3},{"$f":"(SA!EL13-SA!DZ13)/SA!DZ13","v":1.9673421207948064E-3},{"$f":"(SA!EM13-SA!EA13)/SA!EA13","v":1.5751132112620594E-3},{"$f":"(SA!EN13-SA!EB13)/SA!EB13","v":5.3139145837433578E-3},{"$f":"(SA!EO13-SA!EC13)/SA!EC13","v":7.0866141732283464E-3},{"$f":"(SA!EP13-SA!ED13)/SA!ED13","v":1.0051241623965314E-2},{"$f":"(SA!EQ13-SA!EE13)/SA!EE13","v":4.3145714846048247E-3},{"$f":"(SA!ER13-SA!EF13)/SA!EF13","v":8.2595870206490819E-3},{"$f":"(SA!ES13-SA!EG13)/SA!EG13","v":7.2720125786163523E-3},{"$f":"(SA!ET13-SA!EH13)/SA!EH13","v":7.074081351935547E-3},{"$f":"(SA!EU13-SA!EI13)/SA!EI13","v":6.682389937107033E-3},{"$f":"(SA!EV13-SA!EJ13)/SA!EJ13","v":5.3013940702925583E-3},{"$f":"(SA!EW13-SA!EK13)/SA!EK13","v":5.8742901899353829E-4},{"$f":"(SA!EX13-SA!EL13)/SA!EL13","v":4.7123502847044967E-3},{"$f":"(SA!EY13-SA!EM13)/SA!EM13","v":5.3076469431885195E-3},{"$f":"(SA!EZ13-SA!EN13)/SA!EN13","v":0},{"$f":"(SA!FA13-SA!EO13)/SA!EO13","v":-1.563721657544957E-3},{"$f":"(SA!FB13-SA!EP13)/SA!EP13","v":-7.8048780487804882E-4},{"$f":"(SA!FC13-SA!EQ13)/SA!EQ13","v":2.1480179652412774E-3},{"$f":"(SA!FD13-SA!ER13)/SA!ER13","v":4.4860542227422306E-3},{"$f":"(SA!FE13-SA!ES13)/SA!ES13","v":3.512195121951106E-3},{"$f":"(SA!FF13-SA!ET13)/SA!ET13","v":4.2926829268293823E-3},{"$f":"(SA!FG13-SA!EU13)/SA!EU13","v":7.0285044904331963E-3},{"$f":"(SA!FH13-SA!EV13)/SA!EV13","v":7.226562500000114E-3},{"$f":"(SA!FI13-SA!EW13)/SA!EW13","v":9.980430528375734E-3},{"$f":"(SA!FJ13-SA!EX13)/SA!EX13","v":9.9667774086377604E-3},{"$f":"(SA!FK13-SA!EY13)/SA!EY13","v":1.1928040672663277E-2},{"$f":"(SA!FL13-SA!EZ13)/SA!EZ13","v":1.3508222396241304E-2},{"$f":"(SA!FM13-SA!FA13)/SA!FA13","v":1.5074393108848864E-2},{"$f":"(SA!FN13-SA!FB13)/SA!FB13","v":1.2497559070494045E-2},{"$f":"(SA!FO13-SA!FC13)/SA!FC13","v":1.1496492595479231E-2},{"$f":"(SA!FP13-SA!FD13)/SA!FD13","v":8.7378640776699032E-3},{"$f":"(SA!FQ13-SA!FE13)/SA!FE13","v":1.2638537818393934E-2},{"$f":"(SA!FR13-SA!FF13)/SA!FF13","v":1.2628715756751504E-2},{"$f":"(SA!FS13-SA!FG13)/SA!FG13","v":1.2214036448235864E-2},{"$f":"(SA!FT13-SA!FH13)/SA!FH13","v":1.396160558464212E-2},{"$f":"(SA!FU13-SA!FI13)/SA!FI13","v":1.6469676419298585E-2},{"$f":"(SA!FV13-SA!FJ13)/SA!FJ13","v":1.3931888544891755E-2},{"$f":"(SA!FW13-SA!FK13)/SA!FK13","v":1.3719806763285025E-2},{"$f":"(SA!FX13-SA!FL13)/SA!FL13","v":1.410083059687066E-2},{"$f":"(SA!FY13-SA!FM13)/SA!FM13","v":1.253616200578592E-2},{"$f":"(SA!FZ13-SA!FN13)/SA!FN13","v":1.3307618129218901E-2},{"$f":"(SA!GA13-SA!FO13)/SA!FO13","v":1.1558466576767483E-2},{"$f":"(SA!GB13-SA!FP13)/SA!FP13","v":1.5014436958614052E-2},{"$f":"(SA!GC13-SA!FQ13)/SA!FQ13","v":1.1328725038402571E-2},{"$f":"(SA!GD13-SA!FR13)/SA!FR13","v":1.1320030698388222E-2},{"$f":"(SA!GE13-SA!FS13)/SA!FS13","v":9.0021068760773801E-3},{"$f":"(SA!GF13-SA!FT13)/SA!FT13","v":9.944540065021993E-3},{"$f":"(SA!GG13-SA!FU13)/SA!FU13","v":5.7186427754479605E-3},{"$f":"(SA!GH13-SA!FV13)/SA!FV13","v":1.0687022900763359E-2},{"$f":"(SA!GI13-SA!FW13)/SA!FW13","v":1.0865421273351125E-2},{"$f":"(SA!GJ13-SA!FX13)/SA!FX13","v":1.5047619047619048E-2},{"$f":"(SA!GK13-SA!FY13)/SA!FY13","v":1.7904761904761906E-2},{"$f":"(SA!GL13-SA!FZ13)/SA!FZ13","v":2.0555767034640272E-2},{"$f":"(SA!GM13-SA!GA13)/SA!GA13","v":2.1329270615120931E-2},{"$f":"(SA!GN13-SA!GB13)/SA!GB13","v":1.6878437322207472E-2},{"$f":"(SA!GO13-SA!GC13)/SA!GC13","v":1.5188912094171255E-2},{"$f":"(SA!GP13-SA!GD13)/SA!GD13","v":2.0110036046291028E-2},{"$f":"(SA!GQ13-SA!GE13)/SA!GE13","v":2.372817008352316E-2},{"$f":"(SA!GR13-SA!GF13)/SA!GF13","v":2.0450672221170235E-2},{"$f":"(SA!GS13-SA!GG13)/SA!GG13","v":2.5018953752843062E-2},{"$f":"(SA!GT13-SA!GH13)/SA!GH13","v":1.9826283987915409E-2},{"$f":"(SA!GU13-SA!GI13)/SA!GI13","v":1.7725815576089005E-2},{"$f":"(SA!GV13-SA!GJ13)/SA!GJ13","v":1.5762807280915746E-2},{"$f":"(SA!GW13-SA!GK13)/SA!GK13","v":1.2724550898203593E-2},{"$f":"(SA!GX13-SA!GL13)/SA!GL13","v":9.138381201044387E-3},{"$f":"(SA!GY13-SA!GM13)/SA!GM13","v":8.7637516315495056E-3},{"$f":"(SA!GZ13-SA!GN13)/SA!GN13","v":8.019395747855278E-3},{"$f":"(SA!HA13-SA!GO13)/SA!GO13","v":1.0286141761735553E-2},{"$f":"(SA!HB13-SA!GP13)/SA!GP13","v":1.0228752092244746E-2},{"$f":"(SA!HC13-SA!GQ13)/SA!GQ13","v":9.4567031336918236E-3},{"$f":"(SA!HD13-SA!GR13)/SA!GR13","v":8.3503432918908896E-3},{"$f":"(SA!HE13-SA!GS13)/SA!GS13","v":3.5133136094674558E-3},{"$f":"(SA!HF13-SA!GT13)/SA!GT13","v":3.8881688576189594E-3},{"$f":"(SA!HG13-SA!GU13)/SA!GU13","v":4.2616268297202145E-3},{"$f":"(SA!HH13-SA!GV13)/SA!GV13","v":7.3896175872898578E-4},{"$f":"(SA!HI13-SA!GW13)/SA!GW13","v":1.8477457501847746E-3},{"$f":"(SA!HJ13-SA!GX13)/SA!GX13","v":1.6632785067455184E-3},{"$f":"(SA!HK13-SA!GY13)/SA!GY13","v":-6.8391866913123846E-3},{"$f":"(SA!HL13-SA!GZ13)/SA!GZ13","v":-3.5152636447733582E-3},{"$f":"(SA!HM13-SA!HA13)/SA!HA13","v":-1.1106997408367272E-3},{"$f":"(SA!HN13-SA!HB13)/SA!HB13","v":-3.3136966126656848E-3},{"$f":"(SA!HO13-SA!HC13)/SA!HC13","v":-3.8574577516531962E-3},{"$f":"(SA!HP13-SA!HD13)/SA!HD13","v":2.5763709974236291E-3},{"$f":"(SA!HQ13-SA!HE13)/SA!HE13","v":0},{"$f":"(SA!HR13-SA!HF13)/SA!HF13","v":-9.2216894135005532E-4},{"$f":"(SA!HS13-SA!HG13)/SA!HG13","v":1.4760147601476014E-3},{"$f":"(SA!HT13-SA!HH13)/SA!HH13","v":5.5381207310319369E-3},{"$f":"(SA!HU13-SA!HI13)/SA!HI13","v":3.5042419771302105E-3},{"$f":"(SA!HV13-SA!HJ13)/SA!HJ13","v":-3.3210332103321034E-3},{"$f":"(SA!HW13-SA!HK13)/SA!HK13","v":-1.8611576400521124E-4},{"$f":"(SA!HX13-SA!HL13)/SA!HL13","v":2.7849981433345711E-3},{"$f":"(SA!HY13-SA!HM13)/SA!HM13","v":4.8183839881393627E-3},{"$f":"(SA!HZ13-SA!HN13)/SA!HN13","v":1.3298854820834873E-2},{"$f":"(SA!IA13-SA!HO13)/SA!HO13","v":1.2907984510418587E-2},{"$f":"(SA!IB13-SA!HP13)/SA!HP13","v":7.3421439060205578E-3},{"$f":"(SA!IC13-SA!HQ13)/SA!HQ13","v":6.8177630366685095E-3},{"$f":"(SA!ID13-SA!HR13)/SA!HR13","v":7.3841609747092489E-3},{"$f":"(SA!IE13-SA!HS13)/SA!HS13","v":7.0007369196757553E-3},{"$f":"(SA!IF13-SA!HT13)/SA!HT13","v":4.5896823939783364E-3},{"$f":"(SA!IG13-SA!HU13)/SA!HU13","v":6.9840102922256939E-3},{"$f":"(SA!IH13-SA!HV13)/SA!HV13","v":1.7215845982969269E-2},{"$f":"(SA!II13-SA!HW13)/SA!HW13","v":2.122114668652271E-2},{"$f":"(SA!IJ13-SA!HX13)/SA!HX13","v":1.3701166450657287E-2},{"$f":"(SA!IK13-SA!HY13)/SA!HY13","v":1.1066027296200664E-2},{"$f":"(SA!IL13-SA!HZ13)/SA!HZ13","v":-1}," n/a ","n/a",null,"Trade, Transportation, and Utilities",-4.7284817140746324E-2,-1.3719532163426628E-2,0,3.5507991342826092E-3,6.6614599872284004E-3,9.2896739681732309E-3,1.2899471067508175E-2,2.5018953752843062E-2,1.6351908936442942E-2]
["  Wholesale Trade",{"$f":"(SA!BN14-SA!BB14)/SA!BB14","v":2.2707423580786028E-2},{"$f":"(SA!BO14-SA!BC14)/SA!BC14","v":2.6223776223776224E-2},{"$f":"(SA!BP14-SA!BD14)/SA!BD14","v":2.2687609075043629E-2},{"$f":"(SA!BQ14-SA!BE14)/SA!BE14","v":3.5026269702276708E-2},{"$f":"(SA!BR14-SA!BF14)/SA!BF14","v":3.6777583187390543E-2},{"$f":"(SA!BS14-SA!BG14)/SA!BG14","v":3.6745406824146981E-2},{"$f":"(SA!BT14-SA!BH14)/SA!BH14","v":2.5884383088869714E-2},{"$f":"(SA!BU14-SA!BI14)/SA!BI14","v":2.2317596566523604E-2},{"$f":"(SA!BV14-SA!BJ14)/SA!BJ14","v":3.0224525043177894E-2},{"$f":"(SA!BW14-SA!BK14)/SA!BK14","v":2.8350515463917526E-2},{"$f":"(SA!BX14-SA!BL14)/SA!BL14","v":2.6541095890410957E-2},{"$f":"(SA!BY14-SA!BM14)/SA!BM14","v":2.8229255774165955E-2},{"$f":"(SA!BZ14-SA!BN14)/SA!BN14","v":3.0742954739538857E-2},{"$f":"(SA!CA14-SA!BO14)/SA!BO14","v":2.9812606473594547E-2},{"$f":"(SA!CB14-SA!BP14)/SA!BP14","v":3.4129692832764506E-2},{"$f":"(SA!CC14-SA!BQ14)/SA!BQ14","v":2.6226734348561761E-2},{"$f":"(SA!CD14-SA!BR14)/SA!BR14","v":2.364864864864865E-2},{"$f":"(SA!CE14-SA!BS14)/SA!BS14","v":2.6160337552742614E-2},{"$f":"(SA!CF14-SA!BT14)/SA!BT14","v":2.3549201009251473E-2},{"$f":"(SA!CG14-SA!BU14)/SA!BU14","v":2.3509655751469353E-2},{"$f":"(SA!CH14-SA!BV14)/SA!BV14","v":2.347024308466052E-2},{"$f":"(SA!CI14-SA!BW14)/SA!BW14","v":2.0050125313283207E-2},{"$f":"(SA!CJ14-SA!BX14)/SA!BX14","v":1.834862385321101E-2},{"$f":"(SA!CK14-SA!BY14)/SA!BY14","v":1.747088186356073E-2},{"$f":"(SA!CL14-SA!BZ14)/SA!BZ14","v":1.3256006628003313E-2},{"$f":"(SA!CM14-SA!CA14)/SA!CA14","v":1.4061207609594707E-2},{"$f":"(SA!CN14-SA!CB14)/SA!CB14","v":1.155115511551155E-2},{"$f":"(SA!CO14-SA!CC14)/SA!CC14","v":1.1541632316570486E-2},{"$f":"(SA!CP14-SA!CD14)/SA!CD14","v":1.4026402640264026E-2},{"$f":"(SA!CQ14-SA!CE14)/SA!CE14","v":1.2335526315789474E-2},{"$f":"(SA!CR14-SA!CF14)/SA!CF14","v":1.314708299096138E-2},{"$f":"(SA!CS14-SA!CG14)/SA!CG14","v":9.0237899917965554E-3},{"$f":"(SA!CT14-SA!CH14)/SA!CH14","v":9.0090090090090089E-3},{"$f":"(SA!CU14-SA!CI14)/SA!CI14","v":8.1900081900081901E-3},{"$f":"(SA!CV14-SA!CJ14)/SA!CJ14","v":9.8280098280098278E-3},{"$f":"(SA!CW14-SA!CK14)/SA!CK14","v":8.9942763695829934E-3},{"$f":"(SA!CX14-SA!CL14)/SA!CL14","v":9.8119378577269014E-3},{"$f":"(SA!CY14-SA!CM14)/SA!CM14","v":6.5252854812398045E-3},{"$f":"(SA!CZ14-SA!CN14)/SA!CN14","v":8.1566068515497546E-3},{"$f":"(SA!DA14-SA!CO14)/SA!CO14","v":6.5199674001629989E-3},{"$f":"(SA!DB14-SA!CP14)/SA!CP14","v":6.5093572009764034E-3},{"$f":"(SA!DC14-SA!CQ14)/SA!CQ14","v":2.437043054427295E-3},{"$f":"(SA!DD14-SA!CR14)/SA!CR14","v":-1.6220600162206002E-3},{"$f":"(SA!DE14-SA!CS14)/SA!CS14","v":0},{"$f":"(SA!DF14-SA!CT14)/SA!CT14","v":-5.681818181818182E-3},{"$f":"(SA!DG14-SA!CU14)/SA!CU14","v":-1.1372867587327376E-2},{"$f":"(SA!DH14-SA!CV14)/SA!CV14","v":-1.4598540145985401E-2},{"$f":"(SA!DI14-SA!CW14)/SA!CW14","v":-2.1069692058346839E-2},{"$f":"(SA!DJ14-SA!CX14)/SA!CX14","v":-2.5910931174089068E-2},{"$f":"(SA!DK14-SA!CY14)/SA!CY14","v":-3.1604538087520256E-2},{"$f":"(SA!DL14-SA!CZ14)/SA!CZ14","v":-3.964401294498382E-2},{"$f":"(SA!DM14-SA!DA14)/SA!DA14","v":-5.1821862348178135E-2},{"$f":"(SA!DN14-SA!DB14)/SA!DB14","v":-5.5780113177041228E-2},{"$f":"(SA!DO14-SA!DC14)/SA!DC14","v":-5.9157212317666123E-2},{"$f":"(SA!DP14-SA!DD14)/SA!DD14","v":-6.3363119415109664E-2},{"$f":"(SA!DQ14-SA!DE14)/SA!DE14","v":-6.6666666666666666E-2},{"$f":"(SA!DR14-SA!DF14)/SA!DF14","v":-6.6122448979591839E-2},{"$f":"(SA!DS14-SA!DG14)/SA!DG14","v":-5.9983566146261297E-2},{"$f":"(SA!DT14-SA!DH14)/SA!DH14","v":-6.1728395061728392E-2},{"$f":"(SA!DU14-SA!DI14)/SA!DI14","v":-5.8774834437086095E-2},{"$f":"(SA!DV14-SA!DJ14)/SA!DJ14","v":-5.9019118869492931E-2},{"$f":"(SA!DW14-SA!DK14)/SA!DK14","v":-5.4393305439330547E-2},{"$f":"(SA!DX14-SA!DL14)/SA!DL14","v":-4.9705139005897223E-2},{"$f":"(SA!DY14-SA!DM14)/SA!DM14","v":-3.3304867634500426E-2},{"$f":"(SA!DZ14-SA!DN14)/SA!DN14","v":-2.9965753424657533E-2},{"$f":"(SA!EA14-SA!DO14)/SA!DO14","v":-2.4978466838931956E-2},{"$f":"(SA!EB14-SA!DP14)/SA!DP14","v":-1.4744145706851692E-2},{"$f":"(SA!EC14-SA!DQ14)/SA!DQ14","v":-7.8397212543554005E-3},{"$f":"(SA!ED14-SA!DR14)/SA!DR14","v":-6.993006993006993E-3},{"$f":"(SA!EE14-SA!DS14)/SA!DS14","v":-2.6223776223776225E-3},{"$f":"(SA!EF14-SA!DT14)/SA!DT14","v":8.7719298245614037E-4},{"$f":"(SA!EG14-SA!DU14)/SA!DU14","v":4.3975373790677225E-3},{"$f":"(SA!EH14-SA!DV14)/SA!DV14","v":9.7173144876325085E-3},{"$f":"(SA!EI14-SA!DW14)/SA!DW14","v":1.3274336283185841E-2},{"$f":"(SA!EJ14-SA!DX14)/SA!DX14","v":1.5957446808510637E-2},{"$f":"(SA!EK14-SA!DY14)/SA!DY14","v":1.4134275618374558E-2},{"$f":"(SA!EL14-SA!DZ14)/SA!DZ14","v":1.6769638128861428E-2},{"$f":"(SA!EM14-SA!EA14)/SA!EA14","v":1.6784452296819789E-2},{"$f":"(SA!EN14-SA!EB14)/SA!EB14","v":2.1126760563380281E-2},{"$f":"(SA!EO14-SA!EC14)/SA!EC14","v":2.0193151887620719E-2},{"$f":"(SA!EP14-SA!ED14)/SA!ED14","v":2.7288732394366196E-2},{"$f":"(SA!EQ14-SA!EE14)/SA!EE14","v":2.1910604732690624E-2},{"$f":"(SA!ER14-SA!EF14)/SA!EF14","v":2.3663453111305872E-2},{"$f":"(SA!ES14-SA!EG14)/SA!EG14","v":2.3642732049036778E-2},{"$f":"(SA!ET14-SA!EH14)/SA!EH14","v":2.3622047244094488E-2},{"$f":"(SA!EU14-SA!EI14)/SA!EI14","v":2.3580786026200874E-2},{"$f":"(SA!EV14-SA!EJ14)/SA!EJ14","v":2.4432809773123908E-2},{"$f":"(SA!EW14-SA!EK14)/SA!EK14","v":2.4390243902439025E-2},{"$f":"(SA!EX14-SA!EL14)/SA!EL14","v":1.9097222222222224E-2},{"$f":"(SA!EY14-SA!EM14)/SA!EM14","v":1.998262380538662E-2},{"$f":"(SA!EZ14-SA!EN14)/SA!EN14","v":1.0344827586206896E-2},{"$f":"(SA!FA14-SA!EO14)/SA!EO14","v":7.7452667814113599E-3},{"$f":"(SA!FB14-SA!EP14)/SA!EP14","v":5.1413881748071976E-3},{"$f":"(SA!FC14-SA!EQ14)/SA!EQ14","v":8.5763293310463125E-3},{"$f":"(SA!FD14-SA!ER14)/SA!ER14","v":9.4178082191780817E-3},{"$f":"(SA!FE14-SA!ES14)/SA!ES14","v":8.5543199315654406E-3},{"$f":"(SA!FF14-SA!ET14)/SA!ET14","v":1.7948717948717947E-2},{"$f":"(SA!FG14-SA!EU14)/SA!EU14","v":1.7918088737201365E-2},{"$f":"(SA!FH14-SA!EV14)/SA!EV14","v":1.4480408858603067E-2},{"$f":"(SA!FI14-SA!EW14)/SA!EW14","v":1.2755102040816327E-2},{"$f":"(SA!FJ14-SA!EX14)/SA!EX14","v":1.6183986371379896E-2},{"$f":"(SA!FK14-SA!EY14)/SA!EY14","v":1.7887563884156729E-2},{"$f":"(SA!FL14-SA!EZ14)/SA!EZ14","v":1.7918088737201365E-2},{"$f":"(SA!FM14-SA!FA14)/SA!FA14","v":1.9641332194705381E-2},{"$f":"(SA!FN14-SA!FB14)/SA!FB14","v":1.8755328218243821E-2},{"$f":"(SA!FO14-SA!FC14)/SA!FC14","v":1.7006802721088437E-2},{"$f":"(SA!FP14-SA!FD14)/SA!FD14","v":1.5267175572519083E-2},{"$f":"(SA!FQ14-SA!FE14)/SA!FE14","v":1.6115351993214587E-2},{"$f":"(SA!FR14-SA!FF14)/SA!FF14","v":4.1981528127623844E-3},{"$f":"(SA!FS14-SA!FG14)/SA!FG14","v":4.1911148365465214E-3},{"$f":"(SA!FT14-SA!FH14)/SA!FH14","v":8.3963056255247689E-3},{"$f":"(SA!FU14-SA!FI14)/SA!FI14","v":8.3963056255247689E-3},{"$f":"(SA!FV14-SA!FJ14)/SA!FJ14","v":8.3822296730930428E-3},{"$f":"(SA!FW14-SA!FK14)/SA!FK14","v":8.368200836820083E-3},{"$f":"(SA!FX14-SA!FL14)/SA!FL14","v":1.173512154233026E-2},{"$f":"(SA!FY14-SA!FM14)/SA!FM14","v":1.340033500837521E-2},{"$f":"(SA!FZ14-SA!FN14)/SA!FN14","v":1.1715481171548118E-2},{"$f":"(SA!GA14-SA!FO14)/SA!FO14","v":9.1973244147157199E-3},{"$f":"(SA!GB14-SA!FP14)/SA!FP14","v":1.086048454469507E-2},{"$f":"(SA!GC14-SA!FQ14)/SA!FQ14","v":1.0851419031719533E-2},{"$f":"(SA!GD14-SA!FR14)/SA!FR14","v":1.7558528428093644E-2},{"$f":"(SA!GE14-SA!FS14)/SA!FS14","v":1.5025041736227046E-2},{"$f":"(SA!GF14-SA!FT14)/SA!FT14","v":1.4154870940882597E-2},{"$f":"(SA!GG14-SA!FU14)/SA!FU14","v":1.665278934221482E-2},{"$f":"(SA!GH14-SA!FV14)/SA!FV14","v":1.828761429758936E-2},{"$f":"(SA!GI14-SA!FW14)/SA!FW14","v":1.8257261410788383E-2},{"$f":"(SA!GJ14-SA!FX14)/SA!FX14","v":1.9055509527754765E-2},{"$f":"(SA!GK14-SA!FY14)/SA!FY14","v":1.7355371900826446E-2},{"$f":"(SA!GL14-SA!FZ14)/SA!FZ14","v":1.8196856906534328E-2},{"$f":"(SA!GM14-SA!GA14)/SA!GA14","v":2.4855012427506214E-2},{"$f":"(SA!GN14-SA!GB14)/SA!GB14","v":2.5619834710743802E-2},{"$f":"(SA!GO14-SA!GC14)/SA!GC14","v":2.4772914946325351E-2},{"$f":"(SA!GP14-SA!GD14)/SA!GD14","v":2.0542317173377157E-2},{"$f":"(SA!GQ14-SA!GE14)/SA!GE14","v":2.3026315789473683E-2},{"$f":"(SA!GR14-SA!GF14)/SA!GF14","v":2.2167487684729065E-2},{"$f":"(SA!GS14-SA!GG14)/SA!GG14","v":2.0475020475020474E-2},{"$f":"(SA!GT14-SA!GH14)/SA!GH14","v":1.6326530612244899E-2},{"$f":"(SA!GU14-SA!GI14)/SA!GI14","v":1.2224938875305624E-2},{"$f":"(SA!GV14-SA!GJ14)/SA!GJ14","v":1.3821138211382113E-2},{"$f":"(SA!GW14-SA!GK14)/SA!GK14","v":1.2997562956945572E-2},{"$f":"(SA!GX14-SA!GL14)/SA!GL14","v":1.462225832656377E-2},{"$f":"(SA!GY14-SA!GM14)/SA!GM14","v":7.2756669361358122E-3},{"$f":"(SA!GZ14-SA!GN14)/SA!GN14","v":4.0290088638195E-3},{"$f":"(SA!HA14-SA!GO14)/SA!GO14","v":6.4464141821112004E-3},{"$f":"(SA!HB14-SA!GP14)/SA!GP14","v":5.6360708534621577E-3},{"$f":"(SA!HC14-SA!GQ14)/SA!GQ14","v":5.627009646302251E-3},{"$f":"(SA!HD14-SA!GR14)/SA!GR14","v":5.6224899598393578E-3},{"$f":"(SA!HE14-SA!GS14)/SA!GS14","v":2.407704654895666E-3},{"$f":"(SA!HF14-SA!GT14)/SA!GT14","v":6.4257028112449802E-3},{"$f":"(SA!HG14-SA!GU14)/SA!GU14","v":1.0466988727858293E-2},{"$f":"(SA!HH14-SA!GV14)/SA!GV14","v":5.6134723336006415E-3},{"$f":"(SA!HI14-SA!GW14)/SA!GW14","v":8.8211708099438652E-3},{"$f":"(SA!HJ14-SA!GX14)/SA!GX14","v":8.8070456365092076E-3},{"$f":"(SA!HK14-SA!GY14)/SA!GY14","v":3.2102728731942215E-3},{"$f":"(SA!HL14-SA!GZ14)/SA!GZ14","v":7.2231139646869984E-3},{"$f":"(SA!HM14-SA!HA14)/SA!HA14","v":-3.2025620496397116E-3},{"$f":"(SA!HN14-SA!HB14)/SA!HB14","v":2.4019215372297837E-3},{"$f":"(SA!HO14-SA!HC14)/SA!HC14","v":3.9968025579536371E-3},{"$f":"(SA!HP14-SA!HD14)/SA!HD14","v":7.9872204472843447E-4},{"$f":"(SA!HQ14-SA!HE14)/SA!HE14","v":2.4019215372297837E-3},{"$f":"(SA!HR14-SA!HF14)/SA!HF14","v":7.9808459696727857E-4},{"$f":"(SA!HS14-SA!HG14)/SA!HG14","v":2.3904382470119521E-3},{"$f":"(SA!HT14-SA!HH14)/SA!HH14","v":4.7846889952153108E-3},{"$f":"(SA!HU14-SA!HI14)/SA!HI14","v":0},{"$f":"(SA!HV14-SA!HJ14)/SA!HJ14","v":-1.2698412698412698E-2},{"$f":"(SA!HW14-SA!HK14)/SA!HK14","v":-1.2E-2},{"$f":"(SA!HX14-SA!HL14)/SA!HL14","v":-1.1155378486055778E-2},{"$f":"(SA!HY14-SA!HM14)/SA!HM14","v":7.2289156626506026E-3},{"$f":"(SA!HZ14-SA!HN14)/SA!HN14","v":2.7955271565495207E-2},{"$f":"(SA!IA14-SA!HO14)/SA!HO14","v":1.751592356687898E-2},{"$f":"(SA!IB14-SA!HP14)/SA!HP14","v":1.8355945730247406E-2},{"$f":"(SA!IC14-SA!HQ14)/SA!HQ14","v":1.1182108626198083E-2},{"$f":"(SA!ID14-SA!HR14)/SA!HR14","v":1.036682615629984E-2},{"$f":"(SA!IE14-SA!HS14)/SA!HS14","v":1.2718600953895072E-2},{"$f":"(SA!IF14-SA!HT14)/SA!HT14","v":1.1111111111111112E-2},{"$f":"(SA!IG14-SA!HU14)/SA!HU14","v":1.8282988871224166E-2},{"$f":"(SA!IH14-SA!HV14)/SA!HV14","v":2.7331189710610933E-2},{"$f":"(SA!II14-SA!HW14)/SA!HW14","v":2.5910931174089068E-2},{"$f":"(SA!IJ14-SA!HX14)/SA!HX14","v":1.0475423045930701E-2},{"$f":"(SA!IK14-SA!HY14)/SA!HY14","v":1.3556618819776715E-2},{"$f":"(SA!IL14-SA!HZ14)/SA!HZ14","v":-1}," n/a ","n/a",null,"  Wholesale Trade",-6.6666666666666666E-2,-7.2470212714115158E-3,6.5220946325937213E-3,1.0505431758244419E-2,1.4005876197375837E-2,1.8233099609086759E-2,2.3628252685577174E-2,3.6777583187390543E-2,2.2885425679232817E-2]
["  Retail Trade",{"$f":"(SA!BN15-SA!BB15)/SA!BB15","v":-8.2044809088040391E-3},{"$f":"(SA!BO15-SA!BC15)/SA!BC15","v":-3.7914691943127963E-3},{"$f":"(SA!BP15-SA!BD15)/SA!BD15","v":-2.5292443882390138E-3},{"$f":"(SA!BQ15-SA!BE15)/SA!BE15","v":-1.263823064770932E-3},{"$f":"(SA!BR15-SA!BF15)/SA!BF15","v":-5.6710775047258983E-3},{"$f":"(SA!BS15-SA!BG15)/SA!BG15","v":-1.2578616352201259E-2},{"$f":"(SA!BT15-SA!BH15)/SA!BH15","v":-8.1709616593337517E-3},{"$f":"(SA!BU15-SA!BI15)/SA!BI15","v":-2.8355387523629491E-3},{"$f":"(SA!BV15-SA!BJ15)/SA!BJ15","v":-2.523659305993691E-3},{"$f":"(SA!BW15-SA!BK15)/SA!BK15","v":9.8194488438390886E-3},{"$f":"(SA!BX15-SA!BL15)/SA!BL15","v":7.9164027865737813E-3},{"$f":"(SA!BY15-SA!BM15)/SA!BM15","v":1.046290424857324E-2},{"$f":"(SA!BZ15-SA!BN15)/SA!BN15","v":-5.0906776964683422E-3},{"$f":"(SA!CA15-SA!BO15)/SA!BO15","v":-6.0260069774817635E-3},{"$f":"(SA!CB15-SA!BP15)/SA!BP15","v":-6.6561014263074487E-3},{"$f":"(SA!CC15-SA!BQ15)/SA!BQ15","v":-7.9088895919012976E-3},{"$f":"(SA!CD15-SA!BR15)/SA!BR15","v":-8.8719898605830166E-3},{"$f":"(SA!CE15-SA!BS15)/SA!BS15","v":-3.5031847133757963E-3},{"$f":"(SA!CF15-SA!BT15)/SA!BT15","v":-1.1406844106463879E-2},{"$f":"(SA!CG15-SA!BU15)/SA!BU15","v":-1.2322274881516588E-2},{"$f":"(SA!CH15-SA!BV15)/SA!BV15","v":-1.2333965844402278E-2},{"$f":"(SA!CI15-SA!BW15)/SA!BW15","v":-1.9761606022584692E-2},{"$f":"(SA!CJ15-SA!BX15)/SA!BX15","v":-1.3823437009110902E-2},{"$f":"(SA!CK15-SA!BY15)/SA!BY15","v":-1.2864763100094132E-2},{"$f":"(SA!CL15-SA!BZ15)/SA!BZ15","v":9.2740645986568605E-3},{"$f":"(SA!CM15-SA!CA15)/SA!CA15","v":5.1052967453733252E-3},{"$f":"(SA!CN15-SA!CB15)/SA!CB15","v":6.3816209317166563E-3},{"$f":"(SA!CO15-SA!CC15)/SA!CC15","v":1.2755102040816326E-3},{"$f":"(SA!CP15-SA!CD15)/SA!CD15","v":7.6726342710997444E-3},{"$f":"(SA!CQ15-SA!CE15)/SA!CE15","v":5.1134547778843081E-3},{"$f":"(SA!CR15-SA!CF15)/SA!CF15","v":8.6538461538461543E-3},{"$f":"(SA!CS15-SA!CG15)/SA!CG15","v":0},{"$f":"(SA!CT15-SA!CH15)/SA!CH15","v":1.2808197246237591E-3},{"$f":"(SA!CU15-SA!CI15)/SA!CI15","v":-2.5600000000000002E-3},{"$f":"(SA!CV15-SA!CJ15)/SA!CJ15","v":-7.0086014654348518E-3},{"$f":"(SA!CW15-SA!CK15)/SA!CK15","v":-1.0171646535282899E-2},{"$f":"(SA!CX15-SA!CL15)/SA!CL15","v":-1.0773130544993664E-2},{"$f":"(SA!CY15-SA!CM15)/SA!CM15","v":-9.8412698412698417E-3},{"$f":"(SA!CZ15-SA!CN15)/SA!CN15","v":-1.1414077362079899E-2},{"$f":"(SA!DA15-SA!CO15)/SA!CO15","v":-6.369426751592357E-3},{"$f":"(SA!DB15-SA!CP15)/SA!CP15","v":-1.4593908629441625E-2},{"$f":"(SA!DC15-SA!CQ15)/SA!CQ15","v":-1.4626391096979332E-2},{"$f":"(SA!DD15-SA!CR15)/SA!CR15","v":-1.5252621544327931E-2},{"$f":"(SA!DE15-SA!CS15)/SA!CS15","v":-1.0876519513755598E-2},{"$f":"(SA!DF15-SA!CT15)/SA!CT15","v":-1.3751199232491206E-2},{"$f":"(SA!DG15-SA!CU15)/SA!CU15","v":-1.5078601219120949E-2},{"$f":"(SA!DH15-SA!CV15)/SA!CV15","v":-2.3419955085017645E-2},{"$f":"(SA!DI15-SA!CW15)/SA!CW15","v":-2.4405908798972382E-2},{"$f":"(SA!DJ15-SA!CX15)/SA!CX15","v":-3.2991672005124921E-2},{"$f":"(SA!DK15-SA!CY15)/SA!CY15","v":-3.494709842898365E-2},{"$f":"(SA!DL15-SA!CZ15)/SA!CZ15","v":-4.073123797305965E-2},{"$f":"(SA!DM15-SA!DA15)/SA!DA15","v":-4.4551282051282053E-2},{"$f":"(SA!DN15-SA!DB15)/SA!DB15","v":-4.0566645202833228E-2},{"$f":"(SA!DO15-SA!DC15)/SA!DC15","v":-3.9690222652468542E-2},{"$f":"(SA!DP15-SA!DD15)/SA!DD15","v":-4.3239754759599874E-2},{"$f":"(SA!DQ15-SA!DE15)/SA!DE15","v":-4.2690815006468305E-2},{"$f":"(SA!DR15-SA!DF15)/SA!DF15","v":-4.3125810635538261E-2},{"$f":"(SA!DS15-SA!DG15)/SA!DG15","v":-4.0065146579804561E-2},{"$f":"(SA!DT15-SA!DH15)/SA!DH15","v":-3.5479632063074903E-2},{"$f":"(SA!DU15-SA!DI15)/SA!DI15","v":-3.653719552337064E-2},{"$f":"(SA!DV15-SA!DJ15)/SA!DJ15","v":-2.9811195760185493E-2},{"$f":"(SA!DW15-SA!DK15)/SA!DK15","v":-2.823920265780731E-2},{"$f":"(SA!DX15-SA!DL15)/SA!DL15","v":-2.0728853226345705E-2},{"$f":"(SA!DY15-SA!DM15)/SA!DM15","v":-1.7779268701777928E-2},{"$f":"(SA!DZ15-SA!DN15)/SA!DN15","v":-1.74496644295302E-2},{"$f":"(SA!EA15-SA!DO15)/SA!DO15","v":-1.7809139784946238E-2},{"$f":"(SA!EB15-SA!DP15)/SA!DP15","v":-1.4839797639123103E-2},{"$f":"(SA!EC15-SA!DQ15)/SA!DQ15","v":-1.2500000000000001E-2},{"$f":"(SA!ED15-SA!DR15)/SA!DR15","v":-9.8271772280582852E-3},{"$f":"(SA!EE15-SA!DS15)/SA!DS15","v":-2.7146250424160165E-3},{"$f":"(SA!EF15-SA!DT15)/SA!DT15","v":-2.7247956403269754E-3},{"$f":"(SA!EG15-SA!DU15)/SA!DU15","v":1.0249402118209772E-3},{"$f":"(SA!EH15-SA!DV15)/SA!DV15","v":6.8282690337999319E-4},{"$f":"(SA!EI15-SA!DW15)/SA!DW15","v":2.0512820512820513E-3},{"$f":"(SA!EJ15-SA!DX15)/SA!DX15","v":2.3898941618299761E-3},{"$f":"(SA!EK15-SA!DY15)/SA!DY15","v":7.513661202185792E-3},{"$f":"(SA!EL15-SA!DZ15)/SA!DZ15","v":2.0491803278688526E-3},{"$f":"(SA!EM15-SA!EA15)/SA!EA15","v":2.3947998631542937E-3},{"$f":"(SA!EN15-SA!EB15)/SA!EB15","v":6.5046217048955841E-3},{"$f":"(SA!EO15-SA!EC15)/SA!EC15","v":7.8686281217926791E-3},{"$f":"(SA!EP15-SA!ED15)/SA!ED15","v":9.2402464065708418E-3},{"$f":"(SA!EQ15-SA!EE15)/SA!EE15","v":3.0622660768969039E-3},{"$f":"(SA!ER15-SA!EF15)/SA!EF15","v":8.1967213114754103E-3},{"$f":"(SA!ES15-SA!EG15)/SA!EG15","v":6.8259385665529011E-3},{"$f":"(SA!ET15-SA!EH15)/SA!EH15","v":6.4824292050494709E-3},{"$f":"(SA!EU15-SA!EI15)/SA!EI15","v":5.1177072671443197E-3},{"$f":"(SA!EV15-SA!EJ15)/SA!EJ15","v":3.0653950953678476E-3},{"$f":"(SA!EW15-SA!EK15)/SA!EK15","v":-4.4067796610169491E-3},{"$f":"(SA!EX15-SA!EL15)/SA!EL15","v":1.7041581458759373E-3},{"$f":"(SA!EY15-SA!EM15)/SA!EM15","v":1.7064846416382253E-3},{"$f":"(SA!EZ15-SA!EN15)/SA!EN15","v":-3.4013605442176869E-3},{"$f":"(SA!FA15-SA!EO15)/SA!EO15","v":-4.0733197556008143E-3},{"$f":"(SA!FB15-SA!EP15)/SA!EP15","v":-2.3736859952526281E-3},{"$f":"(SA!FC15-SA!EQ15)/SA!EQ15","v":1.0176390773405698E-3},{"$f":"(SA!FD15-SA!ER15)/SA!ER15","v":5.4200542005420054E-3},{"$f":"(SA!FE15-SA!ES15)/SA!ES15","v":3.3898305084745762E-3},{"$f":"(SA!FF15-SA!ET15)/SA!ET15","v":1.0169491525423729E-3},{"$f":"(SA!FG15-SA!EU15)/SA!EU15","v":5.0916496945010185E-3},{"$f":"(SA!FH15-SA!EV15)/SA!EV15","v":5.0933786078098476E-3},{"$f":"(SA!FI15-SA!EW15)/SA!EW15","v":1.0214504596527068E-2},{"$f":"(SA!FJ15-SA!EX15)/SA!EX15","v":1.1568560734943858E-2},{"$f":"(SA!FK15-SA!EY15)/SA!EY15","v":1.6354344122657582E-2},{"$f":"(SA!FL15-SA!EZ15)/SA!EZ15","v":1.877133105802048E-2},{"$f":"(SA!FM15-SA!FA15)/SA!FA15","v":1.8404907975460124E-2},{"$f":"(SA!FN15-SA!FB15)/SA!FB15","v":1.6315431679129844E-2},{"$f":"(SA!FO15-SA!FC15)/SA!FC15","v":1.423246357167062E-2},{"$f":"(SA!FP15-SA!FD15)/SA!FD15","v":9.0970350404312676E-3},{"$f":"(SA!FQ15-SA!FE15)/SA!FE15","v":1.6891891891891893E-2},{"$f":"(SA!FR15-SA!FF15)/SA!FF15","v":1.9302404334575009E-2},{"$f":"(SA!FS15-SA!FG15)/SA!FG15","v":1.789935832489024E-2},{"$f":"(SA!FT15-SA!FH15)/SA!FH15","v":1.9932432432432434E-2},{"$f":"(SA!FU15-SA!FI15)/SA!FI15","v":2.1233569261880688E-2},{"$f":"(SA!FV15-SA!FJ15)/SA!FJ15","v":1.7154389505549948E-2},{"$f":"(SA!FW15-SA!FK15)/SA!FK15","v":1.5085484411666107E-2},{"$f":"(SA!FX15-SA!FL15)/SA!FL15","v":1.507537688442211E-2},{"$f":"(SA!FY15-SA!FM15)/SA!FM15","v":1.2717536813922356E-2},{"$f":"(SA!FZ15-SA!FN15)/SA!FN15","v":1.3043478260869565E-2},{"$f":"(SA!GA15-SA!FO15)/SA!FO15","v":1.1025726695623121E-2},{"$f":"(SA!GB15-SA!FP15)/SA!FP15","v":1.4357262103505844E-2},{"$f":"(SA!GC15-SA!FQ15)/SA!FQ15","v":6.9767441860465115E-3},{"$f":"(SA!GD15-SA!FR15)/SA!FR15","v":6.3122923588039871E-3},{"$f":"(SA!GE15-SA!FS15)/SA!FS15","v":4.3132050431320505E-3},{"$f":"(SA!GF15-SA!FT15)/SA!FT15","v":4.9685326266975822E-3},{"$f":"(SA!GG15-SA!FU15)/SA!FU15","v":-9.9009900990099011E-4},{"$f":"(SA!GH15-SA!FV15)/SA!FV15","v":4.96031746031746E-3},{"$f":"(SA!GI15-SA!FW15)/SA!FW15","v":3.6327608982826948E-3},{"$f":"(SA!GJ15-SA!FX15)/SA!FX15","v":3.9603960396039604E-3},{"$f":"(SA!GK15-SA!FY15)/SA!FY15","v":8.5922009253139465E-3},{"$f":"(SA!GL15-SA!FZ15)/SA!FZ15","v":1.2545394519643446E-2},{"$f":"(SA!GM15-SA!GA15)/SA!GA15","v":1.1896893588896233E-2},{"$f":"(SA!GN15-SA!GB15)/SA!GB15","v":6.9124423963133645E-3},{"$f":"(SA!GO15-SA!GC15)/SA!GC15","v":3.6291652919828439E-3},{"$f":"(SA!GP15-SA!GD15)/SA!GD15","v":1.4196104324859689E-2},{"$f":"(SA!GQ15-SA!GE15)/SA!GE15","v":1.8169805087545423E-2},{"$f":"(SA!GR15-SA!GF15)/SA!GF15","v":1.4831905075807514E-2},{"$f":"(SA!GS15-SA!GG15)/SA!GG15","v":2.2464486290056162E-2},{"$f":"(SA!GT15-SA!GH15)/SA!GH15","v":1.6123724909509706E-2},{"$f":"(SA!GU15-SA!GI15)/SA!GI15","v":1.5136558078315236E-2},{"$f":"(SA!GV15-SA!GJ15)/SA!GJ15","v":1.6765285996055226E-2},{"$f":"(SA!GW15-SA!GK15)/SA!GK15","v":1.2778505897771953E-2},{"$f":"(SA!GX15-SA!GL15)/SA!GL15","v":6.8470818389305514E-3},{"$f":"(SA!GY15-SA!GM15)/SA!GM15","v":8.8177661659046367E-3},{"$f":"(SA!GZ15-SA!GN15)/SA!GN15","v":6.8649885583524023E-3},{"$f":"(SA!HA15-SA!GO15)/SA!GO15","v":1.0190664036817882E-2},{"$f":"(SA!HB15-SA!GP15)/SA!GP15","v":9.1145833333333339E-3},{"$f":"(SA!HC15-SA!GQ15)/SA!GQ15","v":1.0058403634003893E-2},{"$f":"(SA!HD15-SA!GR15)/SA!GR15","v":7.1451770055212735E-3},{"$f":"(SA!HE15-SA!GS15)/SA!GS15","v":3.2310177705977385E-4},{"$f":"(SA!HF15-SA!GT15)/SA!GT15","v":-6.4766839378238344E-4},{"$f":"(SA!HG15-SA!GU15)/SA!GU15","v":0},{"$f":"(SA!HH15-SA!GV15)/SA!GV15","v":-4.5263498221791145E-3},{"$f":"(SA!HI15-SA!GW15)/SA!GW15","v":-4.2057586541572305E-3},{"$f":"(SA!HJ15-SA!GX15)/SA!GX15","v":-4.5336787564766836E-3},{"$f":"(SA!HK15-SA!GY15)/SA!GY15","v":-1.7481385561670445E-2},{"$f":"(SA!HL15-SA!GZ15)/SA!GZ15","v":-1.1363636363636364E-2},{"$f":"(SA!HM15-SA!HA15)/SA!HA15","v":-1.1064106736088514E-2},{"$f":"(SA!HN15-SA!HB15)/SA!HB15","v":-1.6774193548387096E-2},{"$f":"(SA!HO15-SA!HC15)/SA!HC15","v":-1.4455509155155798E-2},{"$f":"(SA!HP15-SA!HD15)/SA!HD15","v":-7.0944856497903901E-3},{"$f":"(SA!HQ15-SA!HE15)/SA!HE15","v":-8.3979328165374682E-3},{"$f":"(SA!HR15-SA!HF15)/SA!HF15","v":-9.0732339598185354E-3},{"$f":"(SA!HS15-SA!HG15)/SA!HG15","v":-7.1312803889789301E-3},{"$f":"(SA!HT15-SA!HH15)/SA!HH15","v":-5.5212731406300746E-3},{"$f":"(SA!HU15-SA!HI15)/SA!HI15","v":-6.4977257959714096E-3},{"$f":"(SA!HV15-SA!HJ15)/SA!HJ15","v":-1.3337670787247886E-2},{"$f":"(SA!HW15-SA!HK15)/SA!HK15","v":-9.5551894563426689E-3},{"$f":"(SA!HX15-SA!HL15)/SA!HL15","v":-5.2545155993431857E-3},{"$f":"(SA!HY15-SA!HM15)/SA!HM15","v":-2.3033892727871009E-3},{"$f":"(SA!HZ15-SA!HN15)/SA!HN15","v":1.0498687664041995E-2},{"$f":"(SA!IA15-SA!HO15)/SA!HO15","v":1.3363754889178618E-2},{"$f":"(SA!IB15-SA!HP15)/SA!HP15","v":5.8460539136083144E-3},{"$f":"(SA!IC15-SA!HQ15)/SA!HQ15","v":3.9087947882736158E-3},{"$f":"(SA!ID15-SA!HR15)/SA!HR15","v":6.2132112491824721E-3},{"$f":"(SA!IE15-SA!HS15)/SA!HS15","v":1.9588638589618022E-3},{"$f":"(SA!IF15-SA!HT15)/SA!HT15","v":2.2860875244937948E-3},{"$f":"(SA!IG15-SA!HU15)/SA!HU15","v":5.232177894048398E-3},{"$f":"(SA!IH15-SA!HV15)/SA!HV15","v":1.9452687108473459E-2},{"$f":"(SA!II15-SA!HW15)/SA!HW15","v":2.9940119760479042E-2},{"$f":"(SA!IJ15-SA!HX15)/SA!HX15","v":2.4430505117200397E-2},{"$f":"(SA!IK15-SA!HY15)/SA!HY15","v":2.6055408970976253E-2},{"$f":"(SA!IL15-SA!HZ15)/SA!HZ15","v":-1}," n/a ","n/a",null,"  Retail Trade",-4.4551282051282053E-2,-1.570909314554568E-2,-8.0661328323607707E-3,-9.5585594828912651E-4,2.3943092930218618E-3,6.951023470153252E-3,1.2735827539077234E-2,2.2464486290056162E-2,1.5311028167351212E-2]
["  Transportation, Warehousing, and Utilities",{"$f":"(SA!BN16-SA!BB16)/SA!BB16","v":2.2727272727272728E-2},{"$f":"(SA!BO16-SA!BC16)/SA!BC16","v":2.1759697256385997E-2},{"$f":"(SA!BP16-SA!BD16)/SA!BD16","v":2.3607176581680833E-2},{"$f":"(SA!BQ16-SA!BE16)/SA!BE16","v":2.35626767200754E-2},{"$f":"(SA!BR16-SA!BF16)/SA!BF16","v":1.5932521087160263E-2},{"$f":"(SA!BS16-SA!BG16)/SA!BG16","v":1.2149532710280374E-2},{"$f":"(SA!BT16-SA!BH16)/SA!BH16","v":1.1162790697674419E-2},{"$f":"(SA!BU16-SA!BI16)/SA!BI16","v":1.3966480446927373E-2},{"$f":"(SA!BV16-SA!BJ16)/SA!BJ16","v":1.5858208955223881E-2},{"$f":"(SA!BW16-SA!BK16)/SA!BK16","v":0},{"$f":"(SA!BX16-SA!BL16)/SA!BL16","v":4.6168051708217915E-3},{"$f":"(SA!BY16-SA!BM16)/SA!BM16","v":1.0185185185185186E-2},{"$f":"(SA!BZ16-SA!BN16)/SA!BN16","v":1.5740740740740739E-2},{"$f":"(SA!CA16-SA!BO16)/SA!BO16","v":1.7592592592592594E-2},{"$f":"(SA!CB16-SA!BP16)/SA!BP16","v":1.4760147601476014E-2},{"$f":"(SA!CC16-SA!BQ16)/SA!BQ16","v":1.1970534069981584E-2},{"$f":"(SA!CD16-SA!BR16)/SA!BR16","v":1.3837638376383764E-2},{"$f":"(SA!CE16-SA!BS16)/SA!BS16","v":1.7543859649122806E-2},{"$f":"(SA!CF16-SA!BT16)/SA!BT16","v":1.0119595216191352E-2},{"$f":"(SA!CG16-SA!BU16)/SA!BU16","v":1.0101010101010102E-2},{"$f":"(SA!CH16-SA!BV16)/SA!BV16","v":1.2855831037649219E-2},{"$f":"(SA!CI16-SA!BW16)/SA!BW16","v":1.6635859519408502E-2},{"$f":"(SA!CJ16-SA!BX16)/SA!BX16","v":1.0110294117647059E-2},{"$f":"(SA!CK16-SA!BY16)/SA!BY16","v":1.2832263978001834E-2},{"$f":"(SA!CL16-SA!BZ16)/SA!BZ16","v":5.4694621695533276E-3},{"$f":"(SA!CM16-SA!CA16)/SA!CA16","v":4.549590536851683E-3},{"$f":"(SA!CN16-SA!CB16)/SA!CB16","v":2.7272727272727275E-3},{"$f":"(SA!CO16-SA!CC16)/SA!CC16","v":9.099181073703367E-4},{"$f":"(SA!CP16-SA!CD16)/SA!CD16","v":5.4595086442220204E-3},{"$f":"(SA!CQ16-SA!CE16)/SA!CE16","v":9.0744101633393835E-3},{"$f":"(SA!CR16-SA!CF16)/SA!CF16","v":0},{"$f":"(SA!CS16-SA!CG16)/SA!CG16","v":3.6363636363636364E-3},{"$f":"(SA!CT16-SA!CH16)/SA!CH16","v":0},{"$f":"(SA!CU16-SA!CI16)/SA!CI16","v":3.6363636363636364E-3},{"$f":"(SA!CV16-SA!CJ16)/SA!CJ16","v":7.2793448589626936E-3},{"$f":"(SA!CW16-SA!CK16)/SA!CK16","v":9.049773755656109E-4},{"$f":"(SA!CX16-SA!CL16)/SA!CL16","v":4.5330915684496827E-3},{"$f":"(SA!CY16-SA!CM16)/SA!CM16","v":9.0579710144927537E-4},{"$f":"(SA!CZ16-SA!CN16)/SA!CN16","v":-1.8132366273798731E-3},{"$f":"(SA!DA16-SA!CO16)/SA!CO16","v":-3.6363636363636364E-3},{"$f":"(SA!DB16-SA!CP16)/SA!CP16","v":-1.1764705882352941E-2},{"$f":"(SA!DC16-SA!CQ16)/SA!CQ16","v":-2.3381294964028777E-2},{"$f":"(SA!DD16-SA!CR16)/SA!CR16","v":-1.2750455373406194E-2},{"$f":"(SA!DE16-SA!CS16)/SA!CS16","v":-2.0833333333333332E-2},{"$f":"(SA!DF16-SA!CT16)/SA!CT16","v":-2.6291931097008159E-2},{"$f":"(SA!DG16-SA!CU16)/SA!CU16","v":-2.8985507246376812E-2},{"$f":"(SA!DH16-SA!CV16)/SA!CV16","v":-3.4327009936766031E-2},{"$f":"(SA!DI16-SA!CW16)/SA!CW16","v":-3.7974683544303799E-2},{"$f":"(SA!DJ16-SA!CX16)/SA!CX16","v":-4.7833935018050541E-2},{"$f":"(SA!DK16-SA!CY16)/SA!CY16","v":-4.9773755656108594E-2},{"$f":"(SA!DL16-SA!CZ16)/SA!CZ16","v":-5.267938237965486E-2},{"$f":"(SA!DM16-SA!DA16)/SA!DA16","v":-4.8357664233576646E-2},{"$f":"(SA!DN16-SA!DB16)/SA!DB16","v":-3.9377289377289376E-2},{"$f":"(SA!DO16-SA!DC16)/SA!DC16","v":-3.3149171270718231E-2},{"$f":"(SA!DP16-SA!DD16)/SA!DD16","v":-4.0590405904059039E-2},{"$f":"(SA!DQ16-SA!DE16)/SA!DE16","v":-3.7002775208140611E-2},{"$f":"(SA!DR16-SA!DF16)/SA!DF16","v":-3.4450651769087522E-2},{"$f":"(SA!DS16-SA!DG16)/SA!DG16","v":-3.8246268656716417E-2},{"$f":"(SA!DT16-SA!DH16)/SA!DH16","v":-4.0224508886810104E-2},{"$f":"(SA!DU16-SA!DI16)/SA!DI16","v":-3.9473684210526314E-2},{"$f":"(SA!DV16-SA!DJ16)/SA!DJ16","v":-3.1279620853080566E-2},{"$f":"(SA!DW16-SA!DK16)/SA!DK16","v":-2.4761904761904763E-2},{"$f":"(SA!DX16-SA!DL16)/SA!DL16","v":-1.9175455417066157E-2},{"$f":"(SA!DY16-SA!DM16)/SA!DM16","v":-1.725790987535954E-2},{"$f":"(SA!DZ16-SA!DN16)/SA!DN16","v":-2.5738798856053385E-2},{"$f":"(SA!EA16-SA!DO16)/SA!DO16","v":-2.4761904761904763E-2},{"$f":"(SA!EB16-SA!DP16)/SA!DP16","v":-1.5384615384615385E-2},{"$f":"(SA!EC16-SA!DQ16)/SA!DQ16","v":-2.2094140249759846E-2},{"$f":"(SA!ED16-SA!DR16)/SA!DR16","v":-2.0250723240115717E-2},{"$f":"(SA!EE16-SA!DS16)/SA!DS16","v":-1.1639185257032008E-2},{"$f":"(SA!EF16-SA!DT16)/SA!DT16","v":-9.7465886939571145E-3},{"$f":"(SA!EG16-SA!DU16)/SA!DU16","v":-5.8708414872798431E-3},{"$f":"(SA!EH16-SA!DV16)/SA!DV16","v":-6.8493150684931503E-3},{"$f":"(SA!EI16-SA!DW16)/SA!DW16","v":-1.171875E-2},{"$f":"(SA!EJ16-SA!DX16)/SA!DX16","v":-1.1730205278592375E-2},{"$f":"(SA!EK16-SA!DY16)/SA!DY16","v":-1.5609756097560976E-2},{"$f":"(SA!EL16-SA!DZ16)/SA!DZ16","v":-1.4677103718199608E-2},{"$f":"(SA!EM16-SA!EA16)/SA!EA16","v":-1.7578125E-2},{"$f":"(SA!EN16-SA!EB16)/SA!EB16","v":-1.5625E-2},{"$f":"(SA!EO16-SA!EC16)/SA!EC16","v":-9.823182711198428E-3},{"$f":"(SA!EP16-SA!ED16)/SA!ED16","v":-6.889763779527559E-3},{"$f":"(SA!EQ16-SA!EE16)/SA!EE16","v":-1.1776251226692836E-2},{"$f":"(SA!ER16-SA!EF16)/SA!EF16","v":-8.8582677165354329E-3},{"$f":"(SA!ES16-SA!EG16)/SA!EG16","v":-9.8425196850393699E-3},{"$f":"(SA!ET16-SA!EH16)/SA!EH16","v":-9.852216748768473E-3},{"$f":"(SA!EU16-SA!EI16)/SA!EI16","v":-7.9051383399209481E-3},{"$f":"(SA!EV16-SA!EJ16)/SA!EJ16","v":-9.8911968348170121E-3},{"$f":"(SA!EW16-SA!EK16)/SA!EK16","v":-1.1892963330029732E-2},{"$f":"(SA!EX16-SA!EL16)/SA!EL16","v":-2.9791459781529296E-3},{"$f":"(SA!EY16-SA!EM16)/SA!EM16","v":-9.9403578528827028E-4},{"$f":"(SA!EZ16-SA!EN16)/SA!EN16","v":-1.984126984126984E-3},{"$f":"(SA!FA16-SA!EO16)/SA!EO16","v":-4.96031746031746E-3},{"$f":"(SA!FB16-SA!EP16)/SA!EP16","v":-2.973240832507433E-3},{"$f":"(SA!FC16-SA!EQ16)/SA!EQ16","v":-1.9860973187686196E-3},{"$f":"(SA!FD16-SA!ER16)/SA!ER16","v":-3.9721946375372392E-3},{"$f":"(SA!FE16-SA!ES16)/SA!ES16","v":-1.9880715705765406E-3},{"$f":"(SA!FF16-SA!ET16)/SA!ET16","v":-1.990049751243781E-3},{"$f":"(SA!FG16-SA!EU16)/SA!EU16","v":0},{"$f":"(SA!FH16-SA!EV16)/SA!EV16","v":4.995004995004995E-3},{"$f":"(SA!FI16-SA!EW16)/SA!EW16","v":6.018054162487462E-3},{"$f":"(SA!FJ16-SA!EX16)/SA!EX16","v":-1.9920318725099601E-3},{"$f":"(SA!FK16-SA!EY16)/SA!EY16","v":-7.9601990049751239E-3},{"$f":"(SA!FL16-SA!EZ16)/SA!EZ16","v":-6.958250497017893E-3},{"$f":"(SA!FM16-SA!FA16)/SA!FA16","v":0},{"$f":"(SA!FN16-SA!FB16)/SA!FB16","v":-5.9642147117296221E-3},{"$f":"(SA!FO16-SA!FC16)/SA!FC16","v":-2.9850746268656717E-3},{"$f":"(SA!FP16-SA!FD16)/SA!FD16","v":0},{"$f":"(SA!FQ16-SA!FE16)/SA!FE16","v":-3.9840637450199202E-3},{"$f":"(SA!FR16-SA!FF16)/SA!FF16","v":2.9910269192422734E-3},{"$f":"(SA!FS16-SA!FG16)/SA!FG16","v":4.9800796812749003E-3},{"$f":"(SA!FT16-SA!FH16)/SA!FH16","v":2.982107355864811E-3},{"$f":"(SA!FU16-SA!FI16)/SA!FI16","v":1.1964107676969093E-2},{"$f":"(SA!FV16-SA!FJ16)/SA!FJ16","v":1.0978043912175649E-2},{"$f":"(SA!FW16-SA!FK16)/SA!FK16","v":1.60481444332999E-2},{"$f":"(SA!FX16-SA!FL16)/SA!FL16","v":1.4014014014014014E-2},{"$f":"(SA!FY16-SA!FM16)/SA!FM16","v":1.0967098703888335E-2},{"$f":"(SA!FZ16-SA!FN16)/SA!FN16","v":1.6E-2},{"$f":"(SA!GA16-SA!FO16)/SA!FO16","v":1.5968063872255488E-2},{"$f":"(SA!GB16-SA!FP16)/SA!FP16","v":2.1934197407776669E-2},{"$f":"(SA!GC16-SA!FQ16)/SA!FQ16","v":2.5000000000000001E-2},{"$f":"(SA!GD16-SA!FR16)/SA!FR16","v":1.8886679920477135E-2},{"$f":"(SA!GE16-SA!FS16)/SA!FS16","v":1.5857284440039643E-2},{"$f":"(SA!GF16-SA!FT16)/SA!FT16","v":1.9821605550049554E-2},{"$f":"(SA!GG16-SA!FU16)/SA!FU16","v":1.2807881773399015E-2},{"$f":"(SA!GH16-SA!FV16)/SA!FV16","v":1.8756169792694965E-2},{"$f":"(SA!GI16-SA!FW16)/SA!FW16","v":2.3692003948667325E-2},{"$f":"(SA!GJ16-SA!FX16)/SA!FX16","v":4.3435340572556762E-2},{"$f":"(SA!GK16-SA!FY16)/SA!FY16","v":4.6351084812623275E-2},{"$f":"(SA!GL16-SA!FZ16)/SA!FZ16","v":4.7244094488188976E-2},{"$f":"(SA!GM16-SA!GA16)/SA!GA16","v":4.5186640471512773E-2},{"$f":"(SA!GN16-SA!GB16)/SA!GB16","v":3.6097560975609753E-2},{"$f":"(SA!GO16-SA!GC16)/SA!GC16","v":3.8048780487804877E-2},{"$f":"(SA!GP16-SA!GD16)/SA!GD16","v":3.7073170731707315E-2},{"$f":"(SA!GQ16-SA!GE16)/SA!GE16","v":4.0975609756097563E-2},{"$f":"(SA!GR16-SA!GF16)/SA!GF16","v":3.4985422740524783E-2},{"$f":"(SA!GS16-SA!GG16)/SA!GG16","v":3.7937743190661476E-2},{"$f":"(SA!GT16-SA!GH16)/SA!GH16","v":3.4883720930232558E-2},{"$f":"(SA!GU16-SA!GI16)/SA!GI16","v":3.1822565091610418E-2},{"$f":"(SA!GV16-SA!GJ16)/SA!GJ16","v":1.5137180700094607E-2},{"$f":"(SA!GW16-SA!GK16)/SA!GK16","v":1.2252591894439209E-2},{"$f":"(SA!GX16-SA!GL16)/SA!GL16","v":9.3984962406015032E-3},{"$f":"(SA!GY16-SA!GM16)/SA!GM16","v":1.0338345864661654E-2},{"$f":"(SA!GZ16-SA!GN16)/SA!GN16","v":1.60075329566855E-2},{"$f":"(SA!HA16-SA!GO16)/SA!GO16","v":1.5037593984962405E-2},{"$f":"(SA!HB16-SA!GP16)/SA!GP16","v":1.881467544684854E-2},{"$f":"(SA!HC16-SA!GQ16)/SA!GQ16","v":1.2183692596063731E-2},{"$f":"(SA!HD16-SA!GR16)/SA!GR16","v":1.5023474178403756E-2},{"$f":"(SA!HE16-SA!GS16)/SA!GS16","v":1.4058106841611996E-2},{"$f":"(SA!HF16-SA!GT16)/SA!GT16","v":1.4044943820224719E-2},{"$f":"(SA!HG16-SA!GU16)/SA!GU16","v":9.3457943925233638E-3},{"$f":"(SA!HH16-SA!GV16)/SA!GV16","v":1.0251630941286114E-2},{"$f":"(SA!HI16-SA!GW16)/SA!GW16","v":1.11731843575419E-2},{"$f":"(SA!HJ16-SA!GX16)/SA!GX16","v":1.11731843575419E-2},{"$f":"(SA!HK16-SA!GY16)/SA!GY16","v":1.2093023255813953E-2},{"$f":"(SA!HL16-SA!GZ16)/SA!GZ16","v":6.4874884151992582E-3},{"$f":"(SA!HM16-SA!HA16)/SA!HA16","v":2.9629629629629631E-2},{"$f":"(SA!HN16-SA!HB16)/SA!HB16","v":2.8624192059095107E-2},{"$f":"(SA!HO16-SA!HC16)/SA!HC16","v":1.7592592592592594E-2},{"$f":"(SA!HP16-SA!HD16)/SA!HD16","v":3.2377428307123035E-2},{"$f":"(SA!HQ16-SA!HE16)/SA!HE16","v":2.1256931608133085E-2},{"$f":"(SA!HR16-SA!HF16)/SA!HF16","v":2.0313942751615882E-2},{"$f":"(SA!HS16-SA!HG16)/SA!HG16","v":2.5000000000000001E-2},{"$f":"(SA!HT16-SA!HH16)/SA!HH16","v":3.7822878228782289E-2},{"$f":"(SA!HU16-SA!HI16)/SA!HI16","v":3.591160220994475E-2},{"$f":"(SA!HV16-SA!HJ16)/SA!HJ16","v":3.591160220994475E-2},{"$f":"(SA!HW16-SA!HK16)/SA!HK16","v":3.952205882352941E-2},{"$f":"(SA!HX16-SA!HL16)/SA!HL16","v":4.1436464088397788E-2},{"$f":"(SA!HY16-SA!HM16)/SA!HM16","v":2.1582733812949641E-2},{"$f":"(SA!HZ16-SA!HN16)/SA!HN16","v":4.4883303411131061E-3},{"$f":"(SA!IA16-SA!HO16)/SA!HO16","v":6.369426751592357E-3},{"$f":"(SA!IB16-SA!HP16)/SA!HP16","v":-8.960573476702509E-4},{"$f":"(SA!IC16-SA!HQ16)/SA!HQ16","v":9.9547511312217188E-3},{"$f":"(SA!ID16-SA!HR16)/SA!HR16","v":7.2398190045248872E-3},{"$f":"(SA!IE16-SA!HS16)/SA!HS16","v":1.4453477868112014E-2},{"$f":"(SA!IF16-SA!HT16)/SA!HT16","v":3.5555555555555557E-3},{"$f":"(SA!IG16-SA!HU16)/SA!HU16","v":-8.8888888888888893E-4},{"$f":"(SA!IH16-SA!HV16)/SA!HV16","v":0},{"$f":"(SA!II16-SA!HW16)/SA!HW16","v":-7.073386383731211E-3},{"$f":"(SA!IJ16-SA!HX16)/SA!HX16","v":-1.1494252873563218E-2},{"$f":"(SA!IK16-SA!HY16)/SA!HY16","v":-3.1690140845070422E-2},{"$f":"(SA!IL16-SA!HZ16)/SA!HZ16","v":-1}," n/a ","n/a",null,"  Transportation, Warehousing, and Utilities",-5.267938237965486E-2,-2.0425506268081001E-2,-6.9308558100217594E-3,9.0497737556568809E-5,5.9631949631940521E-3,1.2822511096160706E-2,1.8836276788937116E-2,4.7244094488188976E-2,2.0776716575103393E-2]
["Information",{"$f":"(SA!BN17-SA!BB17)/SA!BB17","v":-1.3916500994035786E-2},{"$f":"(SA!BO17-SA!BC17)/SA!BC17","v":-7.9840319361277438E-3},{"$f":"(SA!BP17-SA!BD17)/SA!BD17","v":-1.1952191235059761E-2},{"$f":"(SA!BQ17-SA!BE17)/SA!BE17","v":0},{"$f":"(SA!BR17-SA!BF17)/SA!BF17","v":2.008032128514056E-3},{"$f":"(SA!BS17-SA!BG17)/SA!BG17","v":6.0362173038229373E-3},{"$f":"(SA!BT17-SA!BH17)/SA!BH17","v":-7.9840319361277438E-3},{"$f":"(SA!BU17-SA!BI17)/SA!BI17","v":-6.0000000000000001E-3},{"$f":"(SA!BV17-SA!BJ17)/SA!BJ17","v":-2.004008016032064E-3},{"$f":"(SA!BW17-SA!BK17)/SA!BK17","v":-2.012072434607646E-3},{"$f":"(SA!BX17-SA!BL17)/SA!BL17","v":0},{"$f":"(SA!BY17-SA!BM17)/SA!BM17","v":2.0202020202020202E-3},{"$f":"(SA!BZ17-SA!BN17)/SA!BN17","v":0},{"$f":"(SA!CA17-SA!BO17)/SA!BO17","v":-2.012072434607646E-3},{"$f":"(SA!CB17-SA!BP17)/SA!BP17","v":-2.0161290322580645E-3},{"$f":"(SA!CC17-SA!BQ17)/SA!BQ17","v":-1.6E-2},{"$f":"(SA!CD17-SA!BR17)/SA!BR17","v":-1.6032064128256512E-2},{"$f":"(SA!CE17-SA!BS17)/SA!BS17","v":-0.02},{"$f":"(SA!CF17-SA!BT17)/SA!BT17","v":-1.2072434607645875E-2},{"$f":"(SA!CG17-SA!BU17)/SA!BU17","v":-1.2072434607645875E-2},{"$f":"(SA!CH17-SA!BV17)/SA!BV17","v":-1.4056224899598393E-2},{"$f":"(SA!CI17-SA!BW17)/SA!BW17","v":-6.0483870967741934E-3},{"$f":"(SA!CJ17-SA!BX17)/SA!BX17","v":-4.0322580645161289E-3},{"$f":"(SA!CK17-SA!BY17)/SA!BY17","v":-2.0161290322580645E-3},{"$f":"(SA!CL17-SA!BZ17)/SA!BZ17","v":4.0322580645161289E-3},{"$f":"(SA!CM17-SA!CA17)/SA!CA17","v":4.0322580645161289E-3},{"$f":"(SA!CN17-SA!CB17)/SA!CB17","v":6.0606060606060606E-3},{"$f":"(SA!CO17-SA!CC17)/SA!CC17","v":1.6260162601626018E-2},{"$f":"(SA!CP17-SA!CD17)/SA!CD17","v":2.0366598778004074E-2},{"$f":"(SA!CQ17-SA!CE17)/SA!CE17","v":2.6530612244897958E-2},{"$f":"(SA!CR17-SA!CF17)/SA!CF17","v":2.8513238289205704E-2},{"$f":"(SA!CS17-SA!CG17)/SA!CG17","v":2.8513238289205704E-2},{"$f":"(SA!CT17-SA!CH17)/SA!CH17","v":2.8513238289205704E-2},{"$f":"(SA!CU17-SA!CI17)/SA!CI17","v":2.434077079107505E-2},{"$f":"(SA!CV17-SA!CJ17)/SA!CJ17","v":2.0242914979757085E-2},{"$f":"(SA!CW17-SA!CK17)/SA!CK17","v":1.8181818181818181E-2},{"$f":"(SA!CX17-SA!CL17)/SA!CL17","v":1.0040160642570281E-2},{"$f":"(SA!CY17-SA!CM17)/SA!CM17","v":1.0040160642570281E-2},{"$f":"(SA!CZ17-SA!CN17)/SA!CN17","v":1.0040160642570281E-2},{"$f":"(SA!DA17-SA!CO17)/SA!CO17","v":0.01},{"$f":"(SA!DB17-SA!CP17)/SA!CP17","v":2.1956087824351298E-2},{"$f":"(SA!DC17-SA!CQ17)/SA!CQ17","v":7.9522862823061622E-3},{"$f":"(SA!DD17-SA!CR17)/SA!CR17","v":-3.9603960396039604E-3},{"$f":"(SA!DE17-SA!CS17)/SA!CS17","v":-7.9207920792079209E-3},{"$f":"(SA!DF17-SA!CT17)/SA!CT17","v":-1.1881188118811881E-2},{"$f":"(SA!DG17-SA!CU17)/SA!CU17","v":-1.5841584158415842E-2},{"$f":"(SA!DH17-SA!CV17)/SA!CV17","v":-1.984126984126984E-2},{"$f":"(SA!DI17-SA!CW17)/SA!CW17","v":-2.1825396825396824E-2},{"$f":"(SA!DJ17-SA!CX17)/SA!CX17","v":-2.186878727634195E-2},{"$f":"(SA!DK17-SA!CY17)/SA!CY17","v":-1.9880715705765408E-2},{"$f":"(SA!DL17-SA!CZ17)/SA!CZ17","v":-2.982107355864811E-2},{"$f":"(SA!DM17-SA!DA17)/SA!DA17","v":-4.3564356435643561E-2},{"$f":"(SA!DN17-SA!DB17)/SA!DB17","v":-5.46875E-2},{"$f":"(SA!DO17-SA!DC17)/SA!DC17","v":-4.9309664694280081E-2},{"$f":"(SA!DP17-SA!DD17)/SA!DD17","v":-4.9701789264413522E-2},{"$f":"(SA!DQ17-SA!DE17)/SA!DE17","v":-4.9900199600798403E-2},{"$f":"(SA!DR17-SA!DF17)/SA!DF17","v":-4.8096192384769539E-2},{"$f":"(SA!DS17-SA!DG17)/SA!DG17","v":-5.6338028169014086E-2},{"$f":"(SA!DT17-SA!DH17)/SA!DH17","v":-4.8582995951417005E-2},{"$f":"(SA!DU17-SA!DI17)/SA!DI17","v":-4.4624746450304259E-2},{"$f":"(SA!DV17-SA!DJ17)/SA!DJ17","v":-4.878048780487805E-2},{"$f":"(SA!DW17-SA!DK17)/SA!DK17","v":-5.6795131845841784E-2},{"$f":"(SA!DX17-SA!DL17)/SA!DL17","v":-4.5081967213114756E-2},{"$f":"(SA!DY17-SA!DM17)/SA!DM17","v":-3.9337474120082816E-2},{"$f":"(SA!DZ17-SA!DN17)/SA!DN17","v":-3.9256198347107439E-2},{"$f":"(SA!EA17-SA!DO17)/SA!DO17","v":-3.1120331950207469E-2},{"$f":"(SA!EB17-SA!DP17)/SA!DP17","v":-2.3012552301255231E-2},{"$f":"(SA!EC17-SA!DQ17)/SA!DQ17","v":-1.680672268907563E-2},{"$f":"(SA!ED17-SA!DR17)/SA!DR17","v":-1.4736842105263158E-2},{"$f":"(SA!EE17-SA!DS17)/SA!DS17","v":-8.5287846481876331E-3},{"$f":"(SA!EF17-SA!DT17)/SA!DT17","v":-2.1276595744680851E-3},{"$f":"(SA!EG17-SA!DU17)/SA!DU17","v":-4.246284501061571E-3},{"$f":"(SA!EH17-SA!DV17)/SA!DV17","v":2.136752136752137E-3},{"$f":"(SA!EI17-SA!DW17)/SA!DW17","v":1.0752688172043012E-2},{"$f":"(SA!EJ17-SA!DX17)/SA!DX17","v":6.4377682403433476E-3},{"$f":"(SA!EK17-SA!DY17)/SA!DY17","v":1.5086206896551725E-2},{"$f":"(SA!EL17-SA!DZ17)/SA!DZ17","v":8.6021505376344086E-3},{"$f":"(SA!EM17-SA!EA17)/SA!EA17","v":-4.2826552462526769E-3},{"$f":"(SA!EN17-SA!EB17)/SA!EB17","v":2.1413276231263384E-3},{"$f":"(SA!EO17-SA!EC17)/SA!EC17","v":-2.136752136752137E-3},{"$f":"(SA!EP17-SA!ED17)/SA!ED17","v":0},{"$f":"(SA!EQ17-SA!EE17)/SA!EE17","v":4.3010752688172043E-3},{"$f":"(SA!ER17-SA!EF17)/SA!EF17","v":-4.2643923240938165E-3},{"$f":"(SA!ES17-SA!EG17)/SA!EG17","v":-6.3965884861407248E-3},{"$f":"(SA!ET17-SA!EH17)/SA!EH17","v":-1.0660980810234541E-2},{"$f":"(SA!EU17-SA!EI17)/SA!EI17","v":-1.276595744680851E-2},{"$f":"(SA!EV17-SA!EJ17)/SA!EJ17","v":-1.279317697228145E-2},{"$f":"(SA!EW17-SA!EK17)/SA!EK17","v":-1.4861995753715499E-2},{"$f":"(SA!EX17-SA!EL17)/SA!EL17","v":-1.279317697228145E-2},{"$f":"(SA!EY17-SA!EM17)/SA!EM17","v":2.1505376344086021E-3},{"$f":"(SA!EZ17-SA!EN17)/SA!EN17","v":-8.5470085470085479E-3},{"$f":"(SA!FA17-SA!EO17)/SA!EO17","v":-4.2826552462526769E-3},{"$f":"(SA!FB17-SA!EP17)/SA!EP17","v":-4.2735042735042739E-3},{"$f":"(SA!FC17-SA!EQ17)/SA!EQ17","v":-2.1413276231263384E-3},{"$f":"(SA!FD17-SA!ER17)/SA!ER17","v":0},{"$f":"(SA!FE17-SA!ES17)/SA!ES17","v":-2.1459227467811159E-3},{"$f":"(SA!FF17-SA!ET17)/SA!ET17","v":1.0775862068965518E-2},{"$f":"(SA!FG17-SA!EU17)/SA!EU17","v":1.2931034482758621E-2},{"$f":"(SA!FH17-SA!EV17)/SA!EV17","v":1.7278617710583154E-2},{"$f":"(SA!FI17-SA!EW17)/SA!EW17","v":1.7241379310344827E-2},{"$f":"(SA!FJ17-SA!EX17)/SA!EX17","v":2.159827213822894E-2},{"$f":"(SA!FK17-SA!EY17)/SA!EY17","v":1.5021459227467811E-2},{"$f":"(SA!FL17-SA!EZ17)/SA!EZ17","v":1.9396551724137932E-2},{"$f":"(SA!FM17-SA!FA17)/SA!FA17","v":1.7204301075268817E-2},{"$f":"(SA!FN17-SA!FB17)/SA!FB17","v":1.5021459227467811E-2},{"$f":"(SA!FO17-SA!FC17)/SA!FC17","v":1.7167381974248927E-2},{"$f":"(SA!FP17-SA!FD17)/SA!FD17","v":1.4989293361884369E-2},{"$f":"(SA!FQ17-SA!FE17)/SA!FE17","v":2.1505376344086023E-2},{"$f":"(SA!FR17-SA!FF17)/SA!FF17","v":1.279317697228145E-2},{"$f":"(SA!FS17-SA!FG17)/SA!FG17","v":1.276595744680851E-2},{"$f":"(SA!FT17-SA!FH17)/SA!FH17","v":1.2738853503184714E-2},{"$f":"(SA!FU17-SA!FI17)/SA!FI17","v":8.4745762711864406E-3},{"$f":"(SA!FV17-SA!FJ17)/SA!FJ17","v":8.4566596194503175E-3},{"$f":"(SA!FW17-SA!FK17)/SA!FK17","v":1.0570824524312896E-2},{"$f":"(SA!FX17-SA!FL17)/SA!FL17","v":1.4799154334038054E-2},{"$f":"(SA!FY17-SA!FM17)/SA!FM17","v":1.6913319238900635E-2},{"$f":"(SA!FZ17-SA!FN17)/SA!FN17","v":1.2684989429175475E-2},{"$f":"(SA!GA17-SA!FO17)/SA!FO17","v":1.6877637130801686E-2},{"$f":"(SA!GB17-SA!FP17)/SA!FP17","v":1.8987341772151899E-2},{"$f":"(SA!GC17-SA!FQ17)/SA!FQ17","v":1.8947368421052633E-2},{"$f":"(SA!GD17-SA!FR17)/SA!FR17","v":2.3157894736842106E-2},{"$f":"(SA!GE17-SA!FS17)/SA!FS17","v":1.680672268907563E-2},{"$f":"(SA!GF17-SA!FT17)/SA!FT17","v":1.4675052410901468E-2},{"$f":"(SA!GG17-SA!FU17)/SA!FU17","v":1.8907563025210083E-2},{"$f":"(SA!GH17-SA!FV17)/SA!FV17","v":2.0964360587002098E-2},{"$f":"(SA!GI17-SA!FW17)/SA!FW17","v":1.6736401673640166E-2},{"$f":"(SA!GJ17-SA!FX17)/SA!FX17","v":2.0833333333333332E-2},{"$f":"(SA!GK17-SA!FY17)/SA!FY17","v":2.7027027027027029E-2},{"$f":"(SA!GL17-SA!FZ17)/SA!FZ17","v":2.9227557411273485E-2},{"$f":"(SA!GM17-SA!GA17)/SA!GA17","v":2.4896265560165973E-2},{"$f":"(SA!GN17-SA!GB17)/SA!GB17","v":2.2774327122153208E-2},{"$f":"(SA!GO17-SA!GC17)/SA!GC17","v":1.859504132231405E-2},{"$f":"(SA!GP17-SA!GD17)/SA!GD17","v":1.4403292181069959E-2},{"$f":"(SA!GQ17-SA!GE17)/SA!GE17","v":1.859504132231405E-2},{"$f":"(SA!GR17-SA!GF17)/SA!GF17","v":2.0661157024793389E-2},{"$f":"(SA!GS17-SA!GG17)/SA!GG17","v":1.8556701030927835E-2},{"$f":"(SA!GT17-SA!GH17)/SA!GH17","v":1.4373716632443531E-2},{"$f":"(SA!GU17-SA!GI17)/SA!GI17","v":8.23045267489712E-3},{"$f":"(SA!GV17-SA!GJ17)/SA!GJ17","v":2.0408163265306124E-3},{"$f":"(SA!GW17-SA!GK17)/SA!GK17","v":-4.048582995951417E-3},{"$f":"(SA!GX17-SA!GL17)/SA!GL17","v":-8.1135902636916835E-3},{"$f":"(SA!GY17-SA!GM17)/SA!GM17","v":-1.2145748987854251E-2},{"$f":"(SA!GZ17-SA!GN17)/SA!GN17","v":-1.417004048582996E-2},{"$f":"(SA!HA17-SA!GO17)/SA!GO17","v":-1.4198782961460446E-2},{"$f":"(SA!HB17-SA!GP17)/SA!GP17","v":-1.4198782961460446E-2},{"$f":"(SA!HC17-SA!GQ17)/SA!GQ17","v":-1.4198782961460446E-2},{"$f":"(SA!HD17-SA!GR17)/SA!GR17","v":-1.6194331983805668E-2},{"$f":"(SA!HE17-SA!GS17)/SA!GS17","v":-2.4291497975708502E-2},{"$f":"(SA!HF17-SA!GT17)/SA!GT17","v":-2.8340080971659919E-2},{"$f":"(SA!HG17-SA!GU17)/SA!GU17","v":-2.4489795918367346E-2},{"$f":"(SA!HH17-SA!GV17)/SA!GV17","v":-3.0549898167006109E-2},{"$f":"(SA!HI17-SA!GW17)/SA!GW17","v":-3.6585365853658534E-2},{"$f":"(SA!HJ17-SA!GX17)/SA!GX17","v":-3.2719836400817999E-2},{"$f":"(SA!HK17-SA!GY17)/SA!GY17","v":-3.4836065573770489E-2},{"$f":"(SA!HL17-SA!GZ17)/SA!GZ17","v":-3.9014373716632446E-2},{"$f":"(SA!HM17-SA!HA17)/SA!HA17","v":-3.292181069958848E-2},{"$f":"(SA!HN17-SA!HB17)/SA!HB17","v":-3.7037037037037035E-2},{"$f":"(SA!HO17-SA!HC17)/SA!HC17","v":-3.9094650205761319E-2},{"$f":"(SA!HP17-SA!HD17)/SA!HD17","v":-3.9094650205761319E-2},{"$f":"(SA!HQ17-SA!HE17)/SA!HE17","v":-3.1120331950207469E-2},{"$f":"(SA!HR17-SA!HF17)/SA!HF17","v":-2.9166666666666667E-2},{"$f":"(SA!HS17-SA!HG17)/SA!HG17","v":-3.1380753138075312E-2},{"$f":"(SA!HT17-SA!HH17)/SA!HH17","v":-2.9411764705882353E-2},{"$f":"(SA!HU17-SA!HI17)/SA!HI17","v":-2.5316455696202531E-2},{"$f":"(SA!HV17-SA!HJ17)/SA!HJ17","v":-1.4799154334038054E-2},{"$f":"(SA!HW17-SA!HK17)/SA!HK17","v":-2.1231422505307855E-3},{"$f":"(SA!HX17-SA!HL17)/SA!HL17","v":1.4957264957264958E-2},{"$f":"(SA!HY17-SA!HM17)/SA!HM17","v":1.276595744680851E-2},{"$f":"(SA!HZ17-SA!HN17)/SA!HN17","v":1.9230769230769232E-2},{"$f":"(SA!IA17-SA!HO17)/SA!HO17","v":1.7130620985010708E-2},{"$f":"(SA!IB17-SA!HP17)/SA!HP17","v":1.9271948608137045E-2},{"$f":"(SA!IC17-SA!HQ17)/SA!HQ17","v":2.569593147751606E-2},{"$f":"(SA!ID17-SA!HR17)/SA!HR17","v":2.3605150214592276E-2},{"$f":"(SA!IE17-SA!HS17)/SA!HS17","v":3.4557235421166309E-2},{"$f":"(SA!IF17-SA!HT17)/SA!HT17","v":4.7619047619047616E-2},{"$f":"(SA!IG17-SA!HU17)/SA!HU17","v":4.9783549783549784E-2},{"$f":"(SA!IH17-SA!HV17)/SA!HV17","v":4.07725321888412E-2},{"$f":"(SA!II17-SA!HW17)/SA!HW17","v":2.9787234042553193E-2},{"$f":"(SA!IJ17-SA!HX17)/SA!HX17","v":2.1052631578947368E-2},{"$f":"(SA!IK17-SA!HY17)/SA!HY17","v":2.100840336134454E-2},{"$f":"(SA!IL17-SA!HZ17)/SA!HZ17","v":-1}," n/a ","n/a",null,"Information",-5.6795131845841784E-2,-2.8784378747756377E-2,-1.2782289162092274E-2,-3.7789487103216607E-3,2.0189850310332238E-3,1.2717307873581019E-2,1.859504132231405E-2,2.9227557411273485E-2,2.1243604206806228E-2]
["Financial Activities",{"$f":"(SA!BN18-SA!BB18)/SA!BB18","v":1.1147540983606558E-2},{"$f":"(SA!BO18-SA!BC18)/SA!BC18","v":7.2131147540983606E-3},{"$f":"(SA!BP18-SA!BD18)/SA!BD18","v":9.1623036649214652E-3},{"$f":"(SA!BQ18-SA!BE18)/SA!BE18","v":6.5316786414108428E-3},{"$f":"(SA!BR18-SA!BF18)/SA!BF18","v":5.2219321148825066E-3},{"$f":"(SA!BS18-SA!BG18)/SA!BG18","v":5.8670143415906128E-3},{"$f":"(SA!BT18-SA!BH18)/SA!BH18","v":4.5484080571799868E-3},{"$f":"(SA!BU18-SA!BI18)/SA!BI18","v":3.8935756002595719E-3},{"$f":"(SA!BV18-SA!BJ18)/SA!BJ18","v":9.120521172638436E-3},{"$f":"(SA!BW18-SA!BK18)/SA!BK18","v":3.8910505836575876E-3},{"$f":"(SA!BX18-SA!BL18)/SA!BL18","v":4.5366169799092677E-3},{"$f":"(SA!BY18-SA!BM18)/SA!BM18","v":2.5856496444731738E-3},{"$f":"(SA!BZ18-SA!BN18)/SA!BN18","v":5.8365758754863814E-3},{"$f":"(SA!CA18-SA!BO18)/SA!BO18","v":8.4635416666666661E-3},{"$f":"(SA!CB18-SA!BP18)/SA!BP18","v":6.4850843060959796E-3},{"$f":"(SA!CC18-SA!BQ18)/SA!BQ18","v":1.1031797534068787E-2},{"$f":"(SA!CD18-SA!BR18)/SA!BR18","v":1.4285714285714285E-2},{"$f":"(SA!CE18-SA!BS18)/SA!BS18","v":1.2313674659753726E-2},{"$f":"(SA!CF18-SA!BT18)/SA!BT18","v":1.4230271668822769E-2},{"$f":"(SA!CG18-SA!BU18)/SA!BU18","v":1.2281835811247576E-2},{"$f":"(SA!CH18-SA!BV18)/SA!BV18","v":1.355713363460297E-2},{"$f":"(SA!CI18-SA!BW18)/SA!BW18","v":1.4211886304909561E-2},{"$f":"(SA!CJ18-SA!BX18)/SA!BX18","v":1.3548387096774193E-2},{"$f":"(SA!CK18-SA!BY18)/SA!BY18","v":1.4829142488716958E-2},{"$f":"(SA!CL18-SA!BZ18)/SA!BZ18","v":1.4829142488716958E-2},{"$f":"(SA!CM18-SA!CA18)/SA!CA18","v":1.5493867010974823E-2},{"$f":"(SA!CN18-SA!CB18)/SA!CB18","v":1.2886597938144329E-2},{"$f":"(SA!CO18-SA!CC18)/SA!CC18","v":8.9858793324775355E-3},{"$f":"(SA!CP18-SA!CD18)/SA!CD18","v":4.4814340588988479E-3},{"$f":"(SA!CQ18-SA!CE18)/SA!CE18","v":7.0422535211267607E-3},{"$f":"(SA!CR18-SA!CF18)/SA!CF18","v":1.2755102040816326E-3},{"$f":"(SA!CS18-SA!CG18)/SA!CG18","v":0},{"$f":"(SA!CT18-SA!CH18)/SA!CH18","v":-6.3694267515923564E-4},{"$f":"(SA!CU18-SA!CI18)/SA!CI18","v":7.0063694267515925E-3},{"$f":"(SA!CV18-SA!CJ18)/SA!CJ18","v":6.3653723742838958E-3},{"$f":"(SA!CW18-SA!CK18)/SA!CK18","v":5.7179161372299869E-3},{"$f":"(SA!CX18-SA!CL18)/SA!CL18","v":6.3532401524777635E-3},{"$f":"(SA!CY18-SA!CM18)/SA!CM18","v":1.0171646535282899E-2},{"$f":"(SA!CZ18-SA!CN18)/SA!CN18","v":9.5419847328244278E-3},{"$f":"(SA!DA18-SA!CO18)/SA!CO18","v":1.0178117048346057E-2},{"$f":"(SA!DB18-SA!CP18)/SA!CP18","v":1.4021669853409816E-2},{"$f":"(SA!DC18-SA!CQ18)/SA!CQ18","v":9.5359186268277173E-3},{"$f":"(SA!DD18-SA!CR18)/SA!CR18","v":1.2101910828025478E-2},{"$f":"(SA!DE18-SA!CS18)/SA!CS18","v":1.3409961685823755E-2},{"$f":"(SA!DF18-SA!CT18)/SA!CT18","v":7.6481835564053535E-3},{"$f":"(SA!DG18-SA!CU18)/SA!CU18","v":-2.5300442757748261E-3},{"$f":"(SA!DH18-SA!CV18)/SA!CV18","v":-3.1625553447185324E-3},{"$f":"(SA!DI18-SA!CW18)/SA!CW18","v":-6.3171193935565384E-3},{"$f":"(SA!DJ18-SA!CX18)/SA!CX18","v":-6.9444444444444441E-3},{"$f":"(SA!DK18-SA!CY18)/SA!CY18","v":-1.3215859030837005E-2},{"$f":"(SA!DL18-SA!CZ18)/SA!CZ18","v":-1.4492753623188406E-2},{"$f":"(SA!DM18-SA!DA18)/SA!DA18","v":-1.5743073047858942E-2},{"$f":"(SA!DN18-SA!DB18)/SA!DB18","v":-1.8856065367693273E-2},{"$f":"(SA!DO18-SA!DC18)/SA!DC18","v":-1.8891687657430732E-2},{"$f":"(SA!DP18-SA!DD18)/SA!DD18","v":-2.3285084959093771E-2},{"$f":"(SA!DQ18-SA!DE18)/SA!DE18","v":-2.2684310018903593E-2},{"$f":"(SA!DR18-SA!DF18)/SA!DF18","v":-2.3402909550917141E-2},{"$f":"(SA!DS18-SA!DG18)/SA!DG18","v":-2.2194039315155359E-2},{"$f":"(SA!DT18-SA!DH18)/SA!DH18","v":-2.3477157360406092E-2},{"$f":"(SA!DU18-SA!DI18)/SA!DI18","v":-2.4157660521296885E-2},{"$f":"(SA!DV18-SA!DJ18)/SA!DJ18","v":-2.6700572155117609E-2},{"$f":"(SA!DW18-SA!DK18)/SA!DK18","v":-2.4872448979591837E-2},{"$f":"(SA!DX18-SA!DL18)/SA!DL18","v":-2.1099744245524295E-2},{"$f":"(SA!DY18-SA!DM18)/SA!DM18","v":-2.4312220089571339E-2},{"$f":"(SA!DZ18-SA!DN18)/SA!DN18","v":-2.4343369634849454E-2},{"$f":"(SA!EA18-SA!DO18)/SA!DO18","v":-2.4390243902439025E-2},{"$f":"(SA!EB18-SA!DP18)/SA!DP18","v":-2.0618556701030927E-2},{"$f":"(SA!EC18-SA!DQ18)/SA!DQ18","v":-2.2566086395873632E-2},{"$f":"(SA!ED18-SA!DR18)/SA!DR18","v":-1.878238341968912E-2},{"$f":"(SA!EE18-SA!DS18)/SA!DS18","v":-1.621271076523995E-2},{"$f":"(SA!EF18-SA!DT18)/SA!DT18","v":-1.4944769330734242E-2},{"$f":"(SA!EG18-SA!DU18)/SA!DU18","v":-1.3029315960912053E-2},{"$f":"(SA!EH18-SA!DV18)/SA!DV18","v":-1.3063357282821686E-2},{"$f":"(SA!EI18-SA!DW18)/SA!DW18","v":-1.1772400261608895E-2},{"$f":"(SA!EJ18-SA!DX18)/SA!DX18","v":-1.3063357282821686E-2},{"$f":"(SA!EK18-SA!DY18)/SA!DY18","v":-9.8360655737704927E-3},{"$f":"(SA!EL18-SA!DZ18)/SA!DZ18","v":-1.1162179908076166E-2},{"$f":"(SA!EM18-SA!EA18)/SA!EA18","v":-9.8684210526315784E-3},{"$f":"(SA!EN18-SA!EB18)/SA!EB18","v":-8.552631578947369E-3},{"$f":"(SA!EO18-SA!EC18)/SA!EC18","v":-8.5751978891820575E-3},{"$f":"(SA!EP18-SA!ED18)/SA!ED18","v":-3.9603960396039604E-3},{"$f":"(SA!EQ18-SA!EE18)/SA!EE18","v":-6.5919578114700065E-3},{"$f":"(SA!ER18-SA!EF18)/SA!EF18","v":-6.5963060686015833E-3},{"$f":"(SA!ES18-SA!EG18)/SA!EG18","v":-6.6006600660066007E-3},{"$f":"(SA!ET18-SA!EH18)/SA!EH18","v":6.6181336863004633E-4},{"$f":"(SA!EU18-SA!EI18)/SA!EI18","v":0},{"$f":"(SA!EV18-SA!EJ18)/SA!EJ18","v":6.6181336863004633E-4},{"$f":"(SA!EW18-SA!EK18)/SA!EK18","v":-6.6225165562913907E-4},{"$f":"(SA!EX18-SA!EL18)/SA!EL18","v":1.9920318725099601E-3},{"$f":"(SA!EY18-SA!EM18)/SA!EM18","v":1.9933554817275745E-3},{"$f":"(SA!EZ18-SA!EN18)/SA!EN18","v":6.6357000663570006E-4},{"$f":"(SA!FA18-SA!EO18)/SA!EO18","v":3.3266799733865601E-3},{"$f":"(SA!FB18-SA!EP18)/SA!EP18","v":-6.6269052352551359E-4},{"$f":"(SA!FC18-SA!EQ18)/SA!EQ18","v":6.6357000663570006E-4},{"$f":"(SA!FD18-SA!ER18)/SA!ER18","v":0},{"$f":"(SA!FE18-SA!ES18)/SA!ES18","v":1.3289036544850499E-3},{"$f":"(SA!FF18-SA!ET18)/SA!ET18","v":-4.6296296296296294E-3},{"$f":"(SA!FG18-SA!EU18)/SA!EU18","v":-3.3090668431502318E-3},{"$f":"(SA!FH18-SA!EV18)/SA!EV18","v":-3.3068783068783067E-3},{"$f":"(SA!FI18-SA!EW18)/SA!EW18","v":-3.9761431411530811E-3},{"$f":"(SA!FJ18-SA!EX18)/SA!EX18","v":-1.9880715705765406E-3},{"$f":"(SA!FK18-SA!EY18)/SA!EY18","v":-1.3262599469496021E-3},{"$f":"(SA!FL18-SA!EZ18)/SA!EZ18","v":-6.6312997347480103E-4},{"$f":"(SA!FM18-SA!FA18)/SA!FA18","v":-1.3262599469496021E-3},{"$f":"(SA!FN18-SA!FB18)/SA!FB18","v":-1.3262599469496021E-3},{"$f":"(SA!FO18-SA!FC18)/SA!FC18","v":-3.3156498673740055E-3},{"$f":"(SA!FP18-SA!FD18)/SA!FD18","v":-1.9920318725099601E-3},{"$f":"(SA!FQ18-SA!FE18)/SA!FE18","v":-3.3178500331785005E-3},{"$f":"(SA!FR18-SA!FF18)/SA!FF18","v":-9.9667774086378731E-3},{"$f":"(SA!FS18-SA!FG18)/SA!FG18","v":-7.9681274900398405E-3},{"$f":"(SA!FT18-SA!FH18)/SA!FH18","v":-7.9628400796284016E-3},{"$f":"(SA!FU18-SA!FI18)/SA!FI18","v":-2.6613439787092482E-3},{"$f":"(SA!FV18-SA!FJ18)/SA!FJ18","v":-3.9840637450199202E-3},{"$f":"(SA!FW18-SA!FK18)/SA!FK18","v":-3.3200531208499337E-3},{"$f":"(SA!FX18-SA!FL18)/SA!FL18","v":-4.6449900464499002E-3},{"$f":"(SA!FY18-SA!FM18)/SA!FM18","v":-1.3280212483399733E-3},{"$f":"(SA!FZ18-SA!FN18)/SA!FN18","v":1.3280212483399733E-3},{"$f":"(SA!GA18-SA!FO18)/SA!FO18","v":0},{"$f":"(SA!GB18-SA!FP18)/SA!FP18","v":6.6533599467731206E-4},{"$f":"(SA!GC18-SA!FQ18)/SA!FQ18","v":3.3288948069241011E-3},{"$f":"(SA!GD18-SA!FR18)/SA!FR18","v":1.1409395973154362E-2},{"$f":"(SA!GE18-SA!FS18)/SA!FS18","v":1.0709504685408299E-2},{"$f":"(SA!GF18-SA!FT18)/SA!FT18","v":1.0702341137123745E-2},{"$f":"(SA!GG18-SA!FU18)/SA!FU18","v":6.6711140760507001E-3},{"$f":"(SA!GH18-SA!FV18)/SA!FV18","v":8.6666666666666663E-3},{"$f":"(SA!GI18-SA!FW18)/SA!FW18","v":8.6608927381745509E-3},{"$f":"(SA!GJ18-SA!FX18)/SA!FX18","v":9.3333333333333341E-3},{"$f":"(SA!GK18-SA!FY18)/SA!FY18","v":4.6542553191489359E-3},{"$f":"(SA!GL18-SA!FZ18)/SA!FZ18","v":2.6525198938992041E-3},{"$f":"(SA!GM18-SA!GA18)/SA!GA18","v":7.9840319361277438E-3},{"$f":"(SA!GN18-SA!GB18)/SA!GB18","v":6.648936170212766E-3},{"$f":"(SA!GO18-SA!GC18)/SA!GC18","v":4.6449900464499002E-3},{"$f":"(SA!GP18-SA!GD18)/SA!GD18","v":3.3178500331785005E-3},{"$f":"(SA!GQ18-SA!GE18)/SA!GE18","v":2.6490066225165563E-3},{"$f":"(SA!GR18-SA!GF18)/SA!GF18","v":1.9854401058901389E-3},{"$f":"(SA!GS18-SA!GG18)/SA!GG18","v":3.9761431411530811E-3},{"$f":"(SA!GT18-SA!GH18)/SA!GH18","v":6.6093853271645734E-4},{"$f":"(SA!GU18-SA!GI18)/SA!GI18","v":6.6050198150594452E-4},{"$f":"(SA!GV18-SA!GJ18)/SA!GJ18","v":5.2840158520475562E-3},{"$f":"(SA!GW18-SA!GK18)/SA!GK18","v":7.2799470549305099E-3},{"$f":"(SA!GX18-SA!GL18)/SA!GL18","v":6.6137566137566134E-3},{"$f":"(SA!GY18-SA!GM18)/SA!GM18","v":5.9405940594059407E-3},{"$f":"(SA!GZ18-SA!GN18)/SA!GN18","v":7.9260237780713338E-3},{"$f":"(SA!HA18-SA!GO18)/SA!GO18","v":5.9445178335535004E-3},{"$f":"(SA!HB18-SA!GP18)/SA!GP18","v":1.1904761904761904E-2},{"$f":"(SA!HC18-SA!GQ18)/SA!GQ18","v":1.1889035667107001E-2},{"$f":"(SA!HD18-SA!GR18)/SA!GR18","v":1.3870541611624834E-2},{"$f":"(SA!HE18-SA!GS18)/SA!GS18","v":1.1221122112211221E-2},{"$f":"(SA!HF18-SA!GT18)/SA!GT18","v":9.9075297225891673E-3},{"$f":"(SA!HG18-SA!GU18)/SA!GU18","v":9.9009900990099011E-3},{"$f":"(SA!HH18-SA!GV18)/SA!GV18","v":4.5992115637319315E-3},{"$f":"(SA!HI18-SA!GW18)/SA!GW18","v":3.9421813403416554E-3},{"$f":"(SA!HJ18-SA!GX18)/SA!GX18","v":1.9710906701708277E-3},{"$f":"(SA!HK18-SA!GY18)/SA!GY18","v":0},{"$f":"(SA!HL18-SA!GZ18)/SA!GZ18","v":-6.55307994757536E-3},{"$f":"(SA!HM18-SA!HA18)/SA!HA18","v":-9.8489822718319103E-3},{"$f":"(SA!HN18-SA!HB18)/SA!HB18","v":-1.241830065359477E-2},{"$f":"(SA!HO18-SA!HC18)/SA!HC18","v":-1.1096605744125326E-2},{"$f":"(SA!HP18-SA!HD18)/SA!HD18","v":-1.8241042345276872E-2},{"$f":"(SA!HQ18-SA!HE18)/SA!HE18","v":-1.6318537859007835E-2},{"$f":"(SA!HR18-SA!HF18)/SA!HF18","v":-1.7004578155657292E-2},{"$f":"(SA!HS18-SA!HG18)/SA!HG18","v":-1.9607843137254902E-2},{"$f":"(SA!HT18-SA!HH18)/SA!HH18","v":-1.7658600392413341E-2},{"$f":"(SA!HU18-SA!HI18)/SA!HI18","v":-1.9633507853403141E-2},{"$f":"(SA!HV18-SA!HJ18)/SA!HJ18","v":-1.9016393442622952E-2},{"$f":"(SA!HW18-SA!HK18)/SA!HK18","v":-1.1154855643044619E-2},{"$f":"(SA!HX18-SA!HL18)/SA!HL18","v":-7.9155672823219003E-3},{"$f":"(SA!HY18-SA!HM18)/SA!HM18","v":2.6525198938992041E-3},{"$f":"(SA!HZ18-SA!HN18)/SA!HN18","v":1.6545334215751158E-2},{"$f":"(SA!IA18-SA!HO18)/SA!HO18","v":1.2541254125412541E-2},{"$f":"(SA!IB18-SA!HP18)/SA!HP18","v":2.0570670205706701E-2},{"$f":"(SA!IC18-SA!HQ18)/SA!HQ18","v":1.8579960185799601E-2},{"$f":"(SA!ID18-SA!HR18)/SA!HR18","v":1.9960079840319361E-2},{"$f":"(SA!IE18-SA!HS18)/SA!HS18","v":2.9333333333333333E-2},{"$f":"(SA!IF18-SA!HT18)/SA!HT18","v":2.729693741677763E-2},{"$f":"(SA!IG18-SA!HU18)/SA!HU18","v":2.67022696929239E-2},{"$f":"(SA!IH18-SA!HV18)/SA!HV18","v":2.0721925133689839E-2},{"$f":"(SA!II18-SA!HW18)/SA!HW18","v":1.0617120106171201E-2},{"$f":"(SA!IJ18-SA!HX18)/SA!HX18","v":1.795212765957447E-2},{"$f":"(SA!IK18-SA!HY18)/SA!HY18","v":1.3227513227513227E-2},{"$f":"(SA!IL18-SA!HZ18)/SA!HZ18","v":-1}," n/a ","n/a",null,"Financial Activities",-2.6700572155117609E-2,-1.3063357282821686E-2,-3.7042588721023506E-3,6.6054563662699582E-4,2.6521685667609393E-3,6.5130409072848968E-3,1.0335384274979355E-2,1.5493867010974823E-2,1.0733505506454728E-2]
["Real Estate and Rental and Leasing",{"$f":"(SA!BN20-SA!BB20)/SA!BB20","v":2.564102564102564E-2},{"$f":"(SA!BO20-SA!BC20)/SA!BC20","v":1.8315018315018316E-2},{"$f":"(SA!BP20-SA!BD20)/SA!BD20","v":2.1897810218978103E-2},{"$f":"(SA!BQ20-SA!BE20)/SA!BE20","v":2.181818181818182E-2},{"$f":"(SA!BR20-SA!BF20)/SA!BF20","v":1.4492753623188406E-2},{"$f":"(SA!BS20-SA!BG20)/SA!BG20","v":1.4545454545454545E-2},{"$f":"(SA!BT20-SA!BH20)/SA!BH20","v":1.0752688172043012E-2},{"$f":"(SA!BU20-SA!BI20)/SA!BI20","v":3.5842293906810036E-3},{"$f":"(SA!BV20-SA!BJ20)/SA!BJ20","v":1.0752688172043012E-2},{"$f":"(SA!BW20-SA!BK20)/SA!BK20","v":3.5842293906810036E-3},{"$f":"(SA!BX20-SA!BL20)/SA!BL20","v":7.1684587813620072E-3},{"$f":"(SA!BY20-SA!BM20)/SA!BM20","v":1.4388489208633094E-2},{"$f":"(SA!BZ20-SA!BN20)/SA!BN20","v":7.1428571428571426E-3},{"$f":"(SA!CA20-SA!BO20)/SA!BO20","v":1.0791366906474821E-2},{"$f":"(SA!CB20-SA!BP20)/SA!BP20","v":3.5714285714285713E-3},{"$f":"(SA!CC20-SA!BQ20)/SA!BQ20","v":3.5587188612099642E-3},{"$f":"(SA!CD20-SA!BR20)/SA!BR20","v":7.1428571428571426E-3},{"$f":"(SA!CE20-SA!BS20)/SA!BS20","v":1.4336917562724014E-2},{"$f":"(SA!CF20-SA!BT20)/SA!BT20","v":1.0638297872340425E-2},{"$f":"(SA!CG20-SA!BU20)/SA!BU20","v":1.0714285714285714E-2},{"$f":"(SA!CH20-SA!BV20)/SA!BV20","v":3.5460992907801418E-3},{"$f":"(SA!CI20-SA!BW20)/SA!BW20","v":7.1428571428571426E-3},{"$f":"(SA!CJ20-SA!BX20)/SA!BX20","v":3.5587188612099642E-3},{"$f":"(SA!CK20-SA!BY20)/SA!BY20","v":0},{"$f":"(SA!CL20-SA!BZ20)/SA!BZ20","v":0},{"$f":"(SA!CM20-SA!CA20)/SA!CA20","v":3.5587188612099642E-3},{"$f":"(SA!CN20-SA!CB20)/SA!CB20","v":3.5587188612099642E-3},{"$f":"(SA!CO20-SA!CC20)/SA!CC20","v":0},{"$f":"(SA!CP20-SA!CD20)/SA!CD20","v":0},{"$f":"(SA!CQ20-SA!CE20)/SA!CE20","v":-3.5335689045936395E-3},{"$f":"(SA!CR20-SA!CF20)/SA!CF20","v":-1.4035087719298246E-2},{"$f":"(SA!CS20-SA!CG20)/SA!CG20","v":-1.0600706713780919E-2},{"$f":"(SA!CT20-SA!CH20)/SA!CH20","v":-1.0600706713780919E-2},{"$f":"(SA!CU20-SA!CI20)/SA!CI20","v":-3.5460992907801418E-3},{"$f":"(SA!CV20-SA!CJ20)/SA!CJ20","v":-1.0638297872340425E-2},{"$f":"(SA!CW20-SA!CK20)/SA!CK20","v":-1.0638297872340425E-2},{"$f":"(SA!CX20-SA!CL20)/SA!CL20","v":-1.7730496453900711E-2},{"$f":"(SA!CY20-SA!CM20)/SA!CM20","v":-1.4184397163120567E-2},{"$f":"(SA!CZ20-SA!CN20)/SA!CN20","v":-1.7730496453900711E-2},{"$f":"(SA!DA20-SA!CO20)/SA!CO20","v":-2.1276595744680851E-2},{"$f":"(SA!DB20-SA!CP20)/SA!CP20","v":-2.4822695035460994E-2},{"$f":"(SA!DC20-SA!CQ20)/SA!CQ20","v":-2.8368794326241134E-2},{"$f":"(SA!DD20-SA!CR20)/SA!CR20","v":-2.8469750889679714E-2},{"$f":"(SA!DE20-SA!CS20)/SA!CS20","v":-3.214285714285714E-2},{"$f":"(SA!DF20-SA!CT20)/SA!CT20","v":-3.9285714285714285E-2},{"$f":"(SA!DG20-SA!CU20)/SA!CU20","v":-3.9145907473309607E-2},{"$f":"(SA!DH20-SA!CV20)/SA!CV20","v":-3.5842293906810034E-2},{"$f":"(SA!DI20-SA!CW20)/SA!CW20","v":-3.9426523297491037E-2},{"$f":"(SA!DJ20-SA!CX20)/SA!CX20","v":-5.0541516245487361E-2},{"$f":"(SA!DK20-SA!CY20)/SA!CY20","v":-6.1151079136690649E-2},{"$f":"(SA!DL20-SA!CZ20)/SA!CZ20","v":-6.4981949458483748E-2},{"$f":"(SA!DM20-SA!DA20)/SA!DA20","v":-7.2463768115942032E-2},{"$f":"(SA!DN20-SA!DB20)/SA!DB20","v":-6.545454545454546E-2},{"$f":"(SA!DO20-SA!DC20)/SA!DC20","v":-6.2043795620437957E-2},{"$f":"(SA!DP20-SA!DD20)/SA!DD20","v":-6.5934065934065936E-2},{"$f":"(SA!DQ20-SA!DE20)/SA!DE20","v":-5.9040590405904057E-2},{"$f":"(SA!DR20-SA!DF20)/SA!DF20","v":-5.5762081784386616E-2},{"$f":"(SA!DS20-SA!DG20)/SA!DG20","v":-6.2962962962962957E-2},{"$f":"(SA!DT20-SA!DH20)/SA!DH20","v":-6.6914498141263934E-2},{"$f":"(SA!DU20-SA!DI20)/SA!DI20","v":-6.3432835820895525E-2},{"$f":"(SA!DV20-SA!DJ20)/SA!DJ20","v":-3.8022813688212927E-2},{"$f":"(SA!DW20-SA!DK20)/SA!DK20","v":-3.4482758620689655E-2},{"$f":"(SA!DX20-SA!DL20)/SA!DL20","v":-3.0888030888030889E-2},{"$f":"(SA!DY20-SA!DM20)/SA!DM20","v":-2.734375E-2},{"$f":"(SA!DZ20-SA!DN20)/SA!DN20","v":-3.5019455252918288E-2},{"$f":"(SA!EA20-SA!DO20)/SA!DO20","v":-4.2801556420233464E-2},{"$f":"(SA!EB20-SA!DP20)/SA!DP20","v":-3.5294117647058823E-2},{"$f":"(SA!EC20-SA!DQ20)/SA!DQ20","v":-3.9215686274509803E-2},{"$f":"(SA!ED20-SA!DR20)/SA!DR20","v":-3.937007874015748E-2},{"$f":"(SA!EE20-SA!DS20)/SA!DS20","v":-2.766798418972332E-2},{"$f":"(SA!EF20-SA!DT20)/SA!DT20","v":-2.3904382470119521E-2},{"$f":"(SA!EG20-SA!DU20)/SA!DU20","v":-2.3904382470119521E-2},{"$f":"(SA!EH20-SA!DV20)/SA!DV20","v":-3.5573122529644272E-2},{"$f":"(SA!EI20-SA!DW20)/SA!DW20","v":-3.1746031746031744E-2},{"$f":"(SA!EJ20-SA!DX20)/SA!DX20","v":-2.3904382470119521E-2},{"$f":"(SA!EK20-SA!DY20)/SA!DY20","v":-1.6064257028112448E-2},{"$f":"(SA!EL20-SA!DZ20)/SA!DZ20","v":-2.4193548387096774E-2},{"$f":"(SA!EM20-SA!EA20)/SA!EA20","v":-1.2195121951219513E-2},{"$f":"(SA!EN20-SA!EB20)/SA!EB20","v":-1.6260162601626018E-2},{"$f":"(SA!EO20-SA!EC20)/SA!EC20","v":-1.6326530612244899E-2},{"$f":"(SA!EP20-SA!ED20)/SA!ED20","v":-8.1967213114754103E-3},{"$f":"(SA!EQ20-SA!EE20)/SA!EE20","v":-2.032520325203252E-2},{"$f":"(SA!ER20-SA!EF20)/SA!EF20","v":-1.6326530612244899E-2},{"$f":"(SA!ES20-SA!EG20)/SA!EG20","v":-1.6326530612244899E-2},{"$f":"(SA!ET20-SA!EH20)/SA!EH20","v":-8.1967213114754103E-3},{"$f":"(SA!EU20-SA!EI20)/SA!EI20","v":-1.2295081967213115E-2},{"$f":"(SA!EV20-SA!EJ20)/SA!EJ20","v":-1.6326530612244899E-2},{"$f":"(SA!EW20-SA!EK20)/SA!EK20","v":-1.6326530612244899E-2},{"$f":"(SA!EX20-SA!EL20)/SA!EL20","v":0},{"$f":"(SA!EY20-SA!EM20)/SA!EM20","v":-4.11522633744856E-3},{"$f":"(SA!EZ20-SA!EN20)/SA!EN20","v":4.1322314049586778E-3},{"$f":"(SA!FA20-SA!EO20)/SA!EO20","v":4.1493775933609959E-3},{"$f":"(SA!FB20-SA!EP20)/SA!EP20","v":-4.1322314049586778E-3},{"$f":"(SA!FC20-SA!EQ20)/SA!EQ20","v":4.1493775933609959E-3},{"$f":"(SA!FD20-SA!ER20)/SA!ER20","v":0},{"$f":"(SA!FE20-SA!ES20)/SA!ES20","v":4.1493775933609959E-3},{"$f":"(SA!FF20-SA!ET20)/SA!ET20","v":4.1322314049586778E-3},{"$f":"(SA!FG20-SA!EU20)/SA!EU20","v":8.2987551867219917E-3},{"$f":"(SA!FH20-SA!EV20)/SA!EV20","v":1.2448132780082987E-2},{"$f":"(SA!FI20-SA!EW20)/SA!EW20","v":8.2987551867219917E-3},{"$f":"(SA!FJ20-SA!EX20)/SA!EX20","v":1.2396694214876033E-2},{"$f":"(SA!FK20-SA!EY20)/SA!EY20","v":8.2644628099173556E-3},{"$f":"(SA!FL20-SA!EZ20)/SA!EZ20","v":8.23045267489712E-3},{"$f":"(SA!FM20-SA!FA20)/SA!FA20","v":8.2644628099173556E-3},{"$f":"(SA!FN20-SA!FB20)/SA!FB20","v":1.6597510373443983E-2},{"$f":"(SA!FO20-SA!FC20)/SA!FC20","v":4.1322314049586778E-3},{"$f":"(SA!FP20-SA!FD20)/SA!FD20","v":8.2987551867219917E-3},{"$f":"(SA!FQ20-SA!FE20)/SA!FE20","v":4.1322314049586778E-3},{"$f":"(SA!FR20-SA!FF20)/SA!FF20","v":-4.11522633744856E-3},{"$f":"(SA!FS20-SA!FG20)/SA!FG20","v":0},{"$f":"(SA!FT20-SA!FH20)/SA!FH20","v":0},{"$f":"(SA!FU20-SA!FI20)/SA!FI20","v":8.23045267489712E-3},{"$f":"(SA!FV20-SA!FJ20)/SA!FJ20","v":-4.0816326530612249E-3},{"$f":"(SA!FW20-SA!FK20)/SA!FK20","v":4.0983606557377051E-3},{"$f":"(SA!FX20-SA!FL20)/SA!FL20","v":-4.0816326530612249E-3},{"$f":"(SA!FY20-SA!FM20)/SA!FM20","v":0},{"$f":"(SA!FZ20-SA!FN20)/SA!FN20","v":4.0816326530612249E-3},{"$f":"(SA!GA20-SA!FO20)/SA!FO20","v":4.11522633744856E-3},{"$f":"(SA!GB20-SA!FP20)/SA!FP20","v":0},{"$f":"(SA!GC20-SA!FQ20)/SA!FQ20","v":0},{"$f":"(SA!GD20-SA!FR20)/SA!FR20","v":8.2644628099173556E-3},{"$f":"(SA!GE20-SA!FS20)/SA!FS20","v":8.23045267489712E-3},{"$f":"(SA!GF20-SA!FT20)/SA!FT20","v":8.1967213114754103E-3},{"$f":"(SA!GG20-SA!FU20)/SA!FU20","v":4.0816326530612249E-3},{"$f":"(SA!GH20-SA!FV20)/SA!FV20","v":2.0491803278688523E-2},{"$f":"(SA!GI20-SA!FW20)/SA!FW20","v":1.6326530612244899E-2},{"$f":"(SA!GJ20-SA!FX20)/SA!FX20","v":2.8688524590163935E-2},{"$f":"(SA!GK20-SA!FY20)/SA!FY20","v":2.8688524590163935E-2},{"$f":"(SA!GL20-SA!FZ20)/SA!FZ20","v":2.4390243902439025E-2},{"$f":"(SA!GM20-SA!GA20)/SA!GA20","v":3.6885245901639344E-2},{"$f":"(SA!GN20-SA!GB20)/SA!GB20","v":4.1152263374485597E-2},{"$f":"(SA!GO20-SA!GC20)/SA!GC20","v":4.1152263374485597E-2},{"$f":"(SA!GP20-SA!GD20)/SA!GD20","v":2.8688524590163935E-2},{"$f":"(SA!GQ20-SA!GE20)/SA!GE20","v":3.6734693877551024E-2},{"$f":"(SA!GR20-SA!GF20)/SA!GF20","v":2.8455284552845527E-2},{"$f":"(SA!GS20-SA!GG20)/SA!GG20","v":3.2520325203252036E-2},{"$f":"(SA!GT20-SA!GH20)/SA!GH20","v":2.0080321285140562E-2},{"$f":"(SA!GU20-SA!GI20)/SA!GI20","v":1.6064257028112448E-2},{"$f":"(SA!GV20-SA!GJ20)/SA!GJ20","v":1.9920318725099601E-2},{"$f":"(SA!GW20-SA!GK20)/SA!GK20","v":2.3904382470119521E-2},{"$f":"(SA!GX20-SA!GL20)/SA!GL20","v":1.984126984126984E-2},{"$f":"(SA!GY20-SA!GM20)/SA!GM20","v":2.3715415019762844E-2},{"$f":"(SA!GZ20-SA!GN20)/SA!GN20","v":2.766798418972332E-2},{"$f":"(SA!HA20-SA!GO20)/SA!GO20","v":2.766798418972332E-2},{"$f":"(SA!HB20-SA!GP20)/SA!GP20","v":3.9840637450199202E-2},{"$f":"(SA!HC20-SA!GQ20)/SA!GQ20","v":3.1496062992125984E-2},{"$f":"(SA!HD20-SA!GR20)/SA!GR20","v":3.9525691699604744E-2},{"$f":"(SA!HE20-SA!GS20)/SA!GS20","v":3.5433070866141732E-2},{"$f":"(SA!HF20-SA!GT20)/SA!GT20","v":3.1496062992125984E-2},{"$f":"(SA!HG20-SA!GU20)/SA!GU20","v":4.7430830039525688E-2},{"$f":"(SA!HH20-SA!GV20)/SA!GV20","v":3.125E-2},{"$f":"(SA!HI20-SA!GW20)/SA!GW20","v":2.3346303501945526E-2},{"$f":"(SA!HJ20-SA!GX20)/SA!GX20","v":2.3346303501945526E-2},{"$f":"(SA!HK20-SA!GY20)/SA!GY20","v":2.3166023166023165E-2},{"$f":"(SA!HL20-SA!GZ20)/SA!GZ20","v":2.3076923076923078E-2},{"$f":"(SA!HM20-SA!HA20)/SA!HA20","v":1.5384615384615385E-2},{"$f":"(SA!HN20-SA!HB20)/SA!HB20","v":1.532567049808429E-2},{"$f":"(SA!HO20-SA!HC20)/SA!HC20","v":1.5267175572519083E-2},{"$f":"(SA!HP20-SA!HD20)/SA!HD20","v":1.1406844106463879E-2},{"$f":"(SA!HQ20-SA!HE20)/SA!HE20","v":7.6045627376425855E-3},{"$f":"(SA!HR20-SA!HF20)/SA!HF20","v":1.5267175572519083E-2},{"$f":"(SA!HS20-SA!HG20)/SA!HG20","v":0},{"$f":"(SA!HT20-SA!HH20)/SA!HH20","v":1.1363636363636364E-2},{"$f":"(SA!HU20-SA!HI20)/SA!HI20","v":1.5209125475285171E-2},{"$f":"(SA!HV20-SA!HJ20)/SA!HJ20","v":1.5209125475285171E-2},{"$f":"(SA!HW20-SA!HK20)/SA!HK20","v":1.1320754716981131E-2},{"$f":"(SA!HX20-SA!HL20)/SA!HL20","v":7.5187969924812026E-3},{"$f":"(SA!HY20-SA!HM20)/SA!HM20","v":1.893939393939394E-2},{"$f":"(SA!HZ20-SA!HN20)/SA!HN20","v":1.8867924528301886E-2},{"$f":"(SA!IA20-SA!HO20)/SA!HO20","v":2.6315789473684209E-2},{"$f":"(SA!IB20-SA!HP20)/SA!HP20","v":1.5037593984962405E-2},{"$f":"(SA!IC20-SA!HQ20)/SA!HQ20","v":1.1320754716981131E-2},{"$f":"(SA!ID20-SA!HR20)/SA!HR20","v":3.7593984962406013E-3},{"$f":"(SA!IE20-SA!HS20)/SA!HS20","v":1.1320754716981131E-2},{"$f":"(SA!IF20-SA!HT20)/SA!HT20","v":7.4906367041198503E-3},{"$f":"(SA!IG20-SA!HU20)/SA!HU20","v":7.4906367041198503E-3},{"$f":"(SA!IH20-SA!HV20)/SA!HV20","v":3.7453183520599251E-3},{"$f":"(SA!II20-SA!HW20)/SA!HW20","v":0},{"$f":"(SA!IJ20-SA!HX20)/SA!HX20","v":0},{"$f":"(SA!IK20-SA!HY20)/SA!HY20","v":0},{"$f":"(SA!IL20-SA!HZ20)/SA!HZ20","v":-1}," n/a ","n/a",null,"Real Estate and Rental and Leasing",-7.2463768115942032E-2,-3.4643767610358242E-2,-1.5312313082115699E-2,0,4.1135397692774744E-3,1.0737327188940092E-2,2.3346303501945526E-2,4.7430830039525688E-2,2.6447538380058925E-2]
["Professional and Business Services",{"$f":"(SA!BN21-SA!BB21)/SA!BB21","v":3.888888888888889E-2},{"$f":"(SA!BO21-SA!BC21)/SA!BC21","v":4.1253470844902815E-2},{"$f":"(SA!BP21-SA!BD21)/SA!BD21","v":4.5958795562599047E-2},{"$f":"(SA!BQ21-SA!BE21)/SA!BE21","v":5.1840126632370399E-2},{"$f":"(SA!BR21-SA!BF21)/SA!BF21","v":4.2142575817250887E-2},{"$f":"(SA!BS21-SA!BG21)/SA!BG21","v":3.3593749999999999E-2},{"$f":"(SA!BT21-SA!BH21)/SA!BH21","v":4.2951971885981918E-2},{"$f":"(SA!BU21-SA!BI21)/SA!BI21","v":3.3179012345679014E-2},{"$f":"(SA!BV21-SA!BJ21)/SA!BJ21","v":4.518893650175302E-2},{"$f":"(SA!BW21-SA!BK21)/SA!BK21","v":2.7734976887519146E-2},{"$f":"(SA!BX21-SA!BL21)/SA!BL21","v":3.4655371582595303E-2},{"$f":"(SA!BY21-SA!BM21)/SA!BM21","v":3.7677816224528912E-2},{"$f":"(SA!BZ21-SA!BN21)/SA!BN21","v":2.9029793735676088E-2},{"$f":"(SA!CA21-SA!BO21)/SA!BO21","v":3.2000000000000001E-2},{"$f":"(SA!CB21-SA!BP21)/SA!BP21","v":2.7651515151515153E-2},{"$f":"(SA!CC21-SA!BQ21)/SA!BQ21","v":3.4612490594431902E-2},{"$f":"(SA!CD21-SA!BR21)/SA!BR21","v":3.5903250188964474E-2},{"$f":"(SA!CE21-SA!BS21)/SA!BS21","v":3.8170823885109596E-2},{"$f":"(SA!CF21-SA!BT21)/SA!BT21","v":2.6581804567577687E-2},{"$f":"(SA!CG21-SA!BU21)/SA!BU21","v":2.3151605675877519E-2},{"$f":"(SA!CH21-SA!BV21)/SA!BV21","v":2.4599329109206113E-2},{"$f":"(SA!CI21-SA!BW21)/SA!BW21","v":3.4482758620689655E-2},{"$f":"(SA!CJ21-SA!BX21)/SA!BX21","v":2.8656494231484926E-2},{"$f":"(SA!CK21-SA!BY21)/SA!BY21","v":2.0748425342719527E-2},{"$f":"(SA!CL21-SA!BZ21)/SA!BZ21","v":3.0438010393466965E-2},{"$f":"(SA!CM21-SA!CA21)/SA!CA21","v":2.6208933185677373E-2},{"$f":"(SA!CN21-SA!CB21)/SA!CB21","v":2.9856247696277184E-2},{"$f":"(SA!CO21-SA!CC21)/SA!CC21","v":2.3272727272727271E-2},{"$f":"(SA!CP21-SA!CD21)/SA!CD21","v":2.8821597956950017E-2},{"$f":"(SA!CQ21-SA!CE21)/SA!CE21","v":3.2763014197306151E-2},{"$f":"(SA!CR21-SA!CF21)/SA!CF21","v":3.2822757111597371E-2},{"$f":"(SA!CS21-SA!CG21)/SA!CG21","v":3.4671532846715328E-2},{"$f":"(SA!CT21-SA!CH21)/SA!CH21","v":3.019279738086577E-2},{"$f":"(SA!CU21-SA!CI21)/SA!CI21","v":2.5000000000000001E-2},{"$f":"(SA!CV21-SA!CJ21)/SA!CJ21","v":2.7496382054992764E-2},{"$f":"(SA!CW21-SA!CK21)/SA!CK21","v":3.6660617059891105E-2},{"$f":"(SA!CX21-SA!CL21)/SA!CL21","v":3.0979827089337175E-2},{"$f":"(SA!CY21-SA!CM21)/SA!CM21","v":3.3453237410071945E-2},{"$f":"(SA!CZ21-SA!CN21)/SA!CN21","v":2.4695776664280602E-2},{"$f":"(SA!DA21-SA!CO21)/SA!CO21","v":1.4570007107320541E-2},{"$f":"(SA!DB21-SA!CP21)/SA!CP21","v":1.3829787234042552E-2},{"$f":"(SA!DC21-SA!CQ21)/SA!CQ21","v":9.5170955234402544E-3},{"$f":"(SA!DD21-SA!CR21)/SA!CR21","v":9.887005649717515E-3},{"$f":"(SA!DE21-SA!CS21)/SA!CS21","v":1.0934744268077601E-2},{"$f":"(SA!DF21-SA!CT21)/SA!CT21","v":6.3559322033898309E-3},{"$f":"(SA!DG21-SA!CU21)/SA!CU21","v":-4.5952633439377876E-3},{"$f":"(SA!DH21-SA!CV21)/SA!CV21","v":-1.9014084507042252E-2},{"$f":"(SA!DI21-SA!CW21)/SA!CW21","v":-3.1162464985994398E-2},{"$f":"(SA!DJ21-SA!CX21)/SA!CX21","v":-5.1712089447938502E-2},{"$f":"(SA!DK21-SA!CY21)/SA!CY21","v":-7.1702053602506088E-2},{"$f":"(SA!DL21-SA!CZ21)/SA!CZ21","v":-8.4526720223541643E-2},{"$f":"(SA!DM21-SA!DA21)/SA!DA21","v":-9.0367775831873901E-2},{"$f":"(SA!DN21-SA!DB21)/SA!DB21","v":-9.1290661070304299E-2},{"$f":"(SA!DO21-SA!DC21)/SA!DC21","v":-9.8812849162011065E-2},{"$f":"(SA!DP21-SA!DD21)/SA!DD21","v":-9.8601398601398604E-2},{"$f":"(SA!DQ21-SA!DE21)/SA!DE21","v":-0.10293091416608503},{"$f":"(SA!DR21-SA!DF21)/SA!DF21","v":-9.6491228070175433E-2},{"$f":"(SA!DS21-SA!DG21)/SA!DG21","v":-7.7059659090909199E-2},{"$f":"(SA!DT21-SA!DH21)/SA!DH21","v":-5.8147882268485281E-2},{"$f":"(SA!DU21-SA!DI21)/SA!DI21","v":-4.7705095771593785E-2},{"$f":"(SA!DV21-SA!DJ21)/SA!DJ21","v":-2.6897568165070006E-2},{"$f":"(SA!DW21-SA!DK21)/SA!DK21","v":1.8747656542932134E-3},{"$f":"(SA!DX21-SA!DL21)/SA!DL21","v":1.4879816863792333E-2},{"$f":"(SA!DY21-SA!DM21)/SA!DM21","v":4.5437042741624953E-2},{"$f":"(SA!DZ21-SA!DN21)/SA!DN21","v":4.8498845265588918E-2},{"$f":"(SA!EA21-SA!DO21)/SA!DO21","v":5.6954668733049087E-2},{"$f":"(SA!EB21-SA!DP21)/SA!DP21","v":6.7106283941039568E-2},{"$f":"(SA!EC21-SA!DQ21)/SA!DQ21","v":7.9735511474134449E-2},{"$f":"(SA!ED21-SA!DR21)/SA!DR21","v":7.8446601941747574E-2},{"$f":"(SA!EE21-SA!DS21)/SA!DS21","v":8.1185071181223672E-2},{"$f":"(SA!EF21-SA!DT21)/SA!DT21","v":7.660060975609756E-2},{"$f":"(SA!EG21-SA!DU21)/SA!DU21","v":7.9696394686907021E-2},{"$f":"(SA!EH21-SA!DV21)/SA!DV21","v":8.1408557364634607E-2},{"$f":"(SA!EI21-SA!DW21)/SA!DW21","v":6.8113772455089816E-2},{"$f":"(SA!EJ21-SA!DX21)/SA!DX21","v":8.0827067669172928E-2},{"$f":"(SA!EK21-SA!DY21)/SA!DY21","v":5.3775322283609574E-2},{"$f":"(SA!EL21-SA!DZ21)/SA!DZ21","v":4.9559471365638763E-2},{"$f":"(SA!EM21-SA!EA21)/SA!EA21","v":5.0953079178885634E-2},{"$f":"(SA!EN21-SA!EB21)/SA!EB21","v":4.6892039258451472E-2},{"$f":"(SA!EO21-SA!EC21)/SA!EC21","v":3.7824207492795386E-2},{"$f":"(SA!EP21-SA!ED21)/SA!ED21","v":4.3932301044292403E-2},{"$f":"(SA!EQ21-SA!EE21)/SA!EE21","v":2.9537366548042704E-2},{"$f":"(SA!ER21-SA!EF21)/SA!EF21","v":2.6902654867256636E-2},{"$f":"(SA!ES21-SA!EG21)/SA!EG21","v":1.8980667838312829E-2},{"$f":"(SA!ET21-SA!EH21)/SA!EH21","v":1.9607843137254902E-2},{"$f":"(SA!EU21-SA!EI21)/SA!EI21","v":2.2424667133847231E-2},{"$f":"(SA!EV21-SA!EJ21)/SA!EJ21","v":2.6434782608695653E-2},{"$f":"(SA!EW21-SA!EK21)/SA!EK21","v":3.2855644879412796E-2},{"$f":"(SA!EX21-SA!EL21)/SA!EL21","v":2.8681357117873382E-2},{"$f":"(SA!EY21-SA!EM21)/SA!EM21","v":2.8252528775723752E-2},{"$f":"(SA!EZ21-SA!EN21)/SA!EN21","v":1.9444444444444445E-2},{"$f":"(SA!FA21-SA!EO21)/SA!EO21","v":1.8049288441513364E-2},{"$f":"(SA!FB21-SA!EP21)/SA!EP21","v":1.7247326664367024E-2},{"$f":"(SA!FC21-SA!EQ21)/SA!EQ21","v":2.1431040442447286E-2},{"$f":"(SA!FD21-SA!ER21)/SA!ER21","v":2.5508445363667701E-2},{"$f":"(SA!FE21-SA!ES21)/SA!ES21","v":1.8627112797516384E-2},{"$f":"(SA!FF21-SA!ET21)/SA!ET21","v":1.7857142857142856E-2},{"$f":"(SA!FG21-SA!EU21)/SA!EU21","v":2.3989033584647018E-2},{"$f":"(SA!FH21-SA!EV21)/SA!EV21","v":2.2026431718061675E-2},{"$f":"(SA!FI21-SA!EW21)/SA!EW21","v":1.1505922165820644E-2},{"$f":"(SA!FJ21-SA!EX21)/SA!EX21","v":2.2781366882012922E-2},{"$f":"(SA!FK21-SA!EY21)/SA!EY21","v":2.3744911804613297E-2},{"$f":"(SA!FL21-SA!EZ21)/SA!EZ21","v":3.0994550408719346E-2},{"$f":"(SA!FM21-SA!FA21)/SA!FA21","v":3.5458574838049775E-2},{"$f":"(SA!FN21-SA!FB21)/SA!FB21","v":2.9840623940318754E-2},{"$f":"(SA!FO21-SA!FC21)/SA!FC21","v":2.6395939086294416E-2},{"$f":"(SA!FP21-SA!FD21)/SA!FD21","v":2.1512605042016807E-2},{"$f":"(SA!FQ21-SA!FE21)/SA!FE21","v":3.521842194378598E-2},{"$f":"(SA!FR21-SA!FF21)/SA!FF21","v":3.2051282051282048E-2},{"$f":"(SA!FS21-SA!FG21)/SA!FG21","v":2.4096385542168676E-2},{"$f":"(SA!FT21-SA!FH21)/SA!FH21","v":1.3594164456233421E-2},{"$f":"(SA!FU21-SA!FI21)/SA!FI21","v":2.4757443961191034E-2},{"$f":"(SA!FV21-SA!FJ21)/SA!FJ21","v":2.1276595744680851E-2},{"$f":"(SA!FW21-SA!FK21)/SA!FK21","v":1.6898608349900597E-2},{"$f":"(SA!FX21-SA!FL21)/SA!FL21","v":1.4205483977535514E-2},{"$f":"(SA!FY21-SA!FM21)/SA!FM21","v":1.5146526177148501E-2},{"$f":"(SA!FZ21-SA!FN21)/SA!FN21","v":1.5475798485347383E-2},{"$f":"(SA!GA21-SA!FO21)/SA!FO21","v":2.2420046158918561E-2},{"$f":"(SA!GB21-SA!FP21)/SA!FP21","v":2.6982560052648898E-2},{"$f":"(SA!GC21-SA!FQ21)/SA!FQ21","v":1.3411841674844618E-2},{"$f":"(SA!GD21-SA!FR21)/SA!FR21","v":1.5364498202026806E-2},{"$f":"(SA!GE21-SA!FS21)/SA!FS21","v":1.3071895424836602E-2},{"$f":"(SA!GF21-SA!FT21)/SA!FT21","v":1.7337258750408896E-2},{"$f":"(SA!GG21-SA!FU21)/SA!FU21","v":1.8609206660137122E-2},{"$f":"(SA!GH21-SA!FV21)/SA!FV21","v":1.9856770833333332E-2},{"$f":"(SA!GI21-SA!FW21)/SA!FW21","v":2.1831215379602475E-2},{"$f":"(SA!GJ21-SA!FX21)/SA!FX21","v":2.8338762214983715E-2},{"$f":"(SA!GK21-SA!FY21)/SA!FY21","v":2.9841063898799869E-2},{"$f":"(SA!GL21-SA!FZ21)/SA!FZ21","v":2.5616083009079117E-2},{"$f":"(SA!GM21-SA!GA21)/SA!GA21","v":2.3540793292486296E-2},{"$f":"(SA!GN21-SA!GB21)/SA!GB21","v":2.0826658122396667E-2},{"$f":"(SA!GO21-SA!GC21)/SA!GC21","v":3.3247256294383472E-2},{"$f":"(SA!GP21-SA!GD21)/SA!GD21","v":3.8312942691564711E-2},{"$f":"(SA!GQ21-SA!GE21)/SA!GE21","v":0.04},{"$f":"(SA!GR21-SA!GF21)/SA!GF21","v":3.6012861736334403E-2},{"$f":"(SA!GS21-SA!GG21)/SA!GG21","v":3.3974358974358972E-2},{"$f":"(SA!GT21-SA!GH21)/SA!GH21","v":2.6492180019150973E-2},{"$f":"(SA!GU21-SA!GI21)/SA!GI21","v":2.4553571428571428E-2},{"$f":"(SA!GV21-SA!GJ21)/SA!GJ21","v":1.9955654101995565E-2},{"$f":"(SA!GW21-SA!GK21)/SA!GK21","v":1.3543307086614173E-2},{"$f":"(SA!GX21-SA!GL21)/SA!GL21","v":2.023395510591211E-2},{"$f":"(SA!GY21-SA!GM21)/SA!GM21","v":1.4177693761814745E-2},{"$f":"(SA!GZ21-SA!GN21)/SA!GN21","v":1.1613308223477715E-2},{"$f":"(SA!HA21-SA!GO21)/SA!GO21","v":7.4976569821930648E-3},{"$f":"(SA!HB21-SA!GP21)/SA!GP21","v":2.7906976744186047E-3},{"$f":"(SA!HC21-SA!GQ21)/SA!GQ21","v":-6.2034739454094293E-4},{"$f":"(SA!HD21-SA!GR21)/SA!GR21","v":7.1384233395406583E-3},{"$f":"(SA!HE21-SA!GS21)/SA!GS21","v":7.4395536267823931E-3},{"$f":"(SA!HF21-SA!GT21)/SA!GT21","v":8.7064676616915426E-3},{"$f":"(SA!HG21-SA!GU21)/SA!GU21","v":1.027077497665733E-2},{"$f":"(SA!HH21-SA!GV21)/SA!GV21","v":8.3850931677018625E-3},{"$f":"(SA!HI21-SA!GW21)/SA!GW21","v":6.2150403977625857E-3},{"$f":"(SA!HJ21-SA!GX21)/SA!GX21","v":1.5494267121165168E-3},{"$f":"(SA!HK21-SA!GY21)/SA!GY21","v":1.056228642435539E-2},{"$f":"(SA!HL21-SA!GZ21)/SA!GZ21","v":1.3031337263419174E-2},{"$f":"(SA!HM21-SA!HA21)/SA!HA21","v":1.6744186046511629E-2},{"$f":"(SA!HN21-SA!HB21)/SA!HB21","v":8.0395794681508963E-3},{"$f":"(SA!HO21-SA!HC21)/SA!HC21","v":1.2414649286157667E-2},{"$f":"(SA!HP21-SA!HD21)/SA!HD21","v":1.5716486902927582E-2},{"$f":"(SA!HQ21-SA!HE21)/SA!HE21","v":1.5384615384615385E-2},{"$f":"(SA!HR21-SA!HF21)/SA!HF21","v":1.2022194821208384E-2},{"$f":"(SA!HS21-SA!HG21)/SA!HG21","v":-3.0807147258163895E-4},{"$f":"(SA!HT21-SA!HH21)/SA!HH21","v":-7.0834616569140745E-3},{"$f":"(SA!HU21-SA!HI21)/SA!HI21","v":-4.9413218035824586E-3},{"$f":"(SA!HV21-SA!HJ21)/SA!HJ21","v":0},{"$f":"(SA!HW21-SA!HK21)/SA!HK21","v":-9.8370734706424833E-3},{"$f":"(SA!HX21-SA!HL21)/SA!HL21","v":-1.3476263399693721E-2},{"$f":"(SA!HY21-SA!HM21)/SA!HM21","v":-1.8908203720646537E-2},{"$f":"(SA!HZ21-SA!HN21)/SA!HN21","v":-6.1349693251533744E-3},{"$f":"(SA!IA21-SA!HO21)/SA!HO21","v":-1.8393623543838135E-3},{"$f":"(SA!IB21-SA!HP21)/SA!HP21","v":-1.3046116504854368E-2},{"$f":"(SA!IC21-SA!HQ21)/SA!HQ21","v":-5.1515151515151517E-3},{"$f":"(SA!ID21-SA!HR21)/SA!HR21","v":-6.7011879378617118E-3},{"$f":"(SA!IE21-SA!HS21)/SA!HS21","v":-3.3898305084745762E-3},{"$f":"(SA!IF21-SA!HT21)/SA!HT21","v":-2.4813895781637717E-3},{"$f":"(SA!IG21-SA!HU21)/SA!HU21","v":1.8621973929236499E-3},{"$f":"(SA!IH21-SA!HV21)/SA!HV21","v":2.165841584158416E-3},{"$f":"(SA!II21-SA!HW21)/SA!HW21","v":1.3970816516609749E-2},{"$f":"(SA!IJ21-SA!HX21)/SA!HX21","v":1.334989133809376E-2},{"$f":"(SA!IK21-SA!HY21)/SA!HY21","v":1.3055641902393535E-2},{"$f":"(SA!IL21-SA!HZ21)/SA!HZ21","v":-1}," n/a ","n/a",null,"Professional and Business Services",-0.10293091416608503,7.3492145406098726E-3,1.5409018315355037E-2,2.2460337108663804E-2,2.6377238496232712E-2,3.2030769230769231E-2,4.0376041253470822E-2,8.1408557364634607E-2,3.4315063352319028E-2]
["  Professional, Scientific, and Technical Services",{"$f":"(SA!BN22-SA!BB22)/SA!BB22","v":3.5187287173666287E-2},{"$f":"(SA!BO22-SA!BC22)/SA!BC22","v":3.5107587768969425E-2},{"$f":"(SA!BP22-SA!BD22)/SA!BD22","v":3.6199095022624438E-2},{"$f":"(SA!BQ22-SA!BE22)/SA!BE22","v":3.1531531531531529E-2},{"$f":"(SA!BR22-SA!BF22)/SA!BF22","v":2.7995520716685332E-2},{"$f":"(SA!BS22-SA!BG22)/SA!BG22","v":3.0201342281879196E-2},{"$f":"(SA!BT22-SA!BH22)/SA!BH22","v":3.3444816053511704E-2},{"$f":"(SA!BU22-SA!BI22)/SA!BI22","v":3.5595105672969966E-2},{"$f":"(SA!BV22-SA!BJ22)/SA!BJ22","v":4.0089086859688199E-2},{"$f":"(SA!BW22-SA!BK22)/SA!BK22","v":3.7735849056603772E-2},{"$f":"(SA!BX22-SA!BL22)/SA!BL22","v":3.6464088397790057E-2},{"$f":"(SA!BY22-SA!BM22)/SA!BM22","v":4.0838852097130243E-2},{"$f":"(SA!BZ22-SA!BN22)/SA!BN22","v":3.5087719298245612E-2},{"$f":"(SA!CA22-SA!BO22)/SA!BO22","v":3.5010940919037198E-2},{"$f":"(SA!CB22-SA!BP22)/SA!BP22","v":3.2751091703056769E-2},{"$f":"(SA!CC22-SA!BQ22)/SA!BQ22","v":4.2576419213973801E-2},{"$f":"(SA!CD22-SA!BR22)/SA!BR22","v":3.9215686274509803E-2},{"$f":"(SA!CE22-SA!BS22)/SA!BS22","v":3.9087947882736153E-2},{"$f":"(SA!CF22-SA!BT22)/SA!BT22","v":3.3441208198489752E-2},{"$f":"(SA!CG22-SA!BU22)/SA!BU22","v":2.9001074113856069E-2},{"$f":"(SA!CH22-SA!BV22)/SA!BV22","v":2.676659528907923E-2},{"$f":"(SA!CI22-SA!BW22)/SA!BW22","v":2.7807486631016044E-2},{"$f":"(SA!CJ22-SA!BX22)/SA!BX22","v":2.4520255863539446E-2},{"$f":"(SA!CK22-SA!BY22)/SA!BY22","v":1.8027571580063628E-2},{"$f":"(SA!CL22-SA!BZ22)/SA!BZ22","v":2.4364406779661018E-2},{"$f":"(SA!CM22-SA!CA22)/SA!CA22","v":2.3255813953488372E-2},{"$f":"(SA!CN22-SA!CB22)/SA!CB22","v":2.748414376321353E-2},{"$f":"(SA!CO22-SA!CC22)/SA!CC22","v":2.4083769633507852E-2},{"$f":"(SA!CP22-SA!CD22)/SA!CD22","v":2.9350104821802937E-2},{"$f":"(SA!CQ22-SA!CE22)/SA!CE22","v":2.9258098223615466E-2},{"$f":"(SA!CR22-SA!CF22)/SA!CF22","v":3.1315240083507306E-2},{"$f":"(SA!CS22-SA!CG22)/SA!CG22","v":3.3402922755741124E-2},{"$f":"(SA!CT22-SA!CH22)/SA!CH22","v":3.3368091762252347E-2},{"$f":"(SA!CU22-SA!CI22)/SA!CI22","v":3.1217481789802288E-2},{"$f":"(SA!CV22-SA!CJ22)/SA!CJ22","v":3.3298647242455778E-2},{"$f":"(SA!CW22-SA!CK22)/SA!CK22","v":3.5416666666666666E-2},{"$f":"(SA!CX22-SA!CL22)/SA!CL22","v":2.9989658738366079E-2},{"$f":"(SA!CY22-SA!CM22)/SA!CM22","v":3.2024793388429749E-2},{"$f":"(SA!CZ22-SA!CN22)/SA!CN22","v":2.7777777777777776E-2},{"$f":"(SA!DA22-SA!CO22)/SA!CO22","v":3.4764826175869123E-2},{"$f":"(SA!DB22-SA!CP22)/SA!CP22","v":2.7494908350305498E-2},{"$f":"(SA!DC22-SA!CQ22)/SA!CQ22","v":2.5380710659898477E-2},{"$f":"(SA!DD22-SA!CR22)/SA!CR22","v":2.1255060728744939E-2},{"$f":"(SA!DE22-SA!CS22)/SA!CS22","v":2.1212121212121213E-2},{"$f":"(SA!DF22-SA!CT22)/SA!CT22","v":2.119071644803229E-2},{"$f":"(SA!DG22-SA!CU22)/SA!CU22","v":1.7154389505549948E-2},{"$f":"(SA!DH22-SA!CV22)/SA!CV22","v":1.0070493454179255E-2},{"$f":"(SA!DI22-SA!CW22)/SA!CW22","v":6.0362173038229373E-3},{"$f":"(SA!DJ22-SA!CX22)/SA!CX22","v":-4.0160642570281121E-3},{"$f":"(SA!DK22-SA!CY22)/SA!CY22","v":-1.4014014014014014E-2},{"$f":"(SA!DL22-SA!CZ22)/SA!CZ22","v":-2.3023023023023025E-2},{"$f":"(SA!DM22-SA!DA22)/SA!DA22","v":-4.7430830039525688E-2},{"$f":"(SA!DN22-SA!DB22)/SA!DB22","v":-5.550049554013875E-2},{"$f":"(SA!DO22-SA!DC22)/SA!DC22","v":-6.0396039603960394E-2},{"$f":"(SA!DP22-SA!DD22)/SA!DD22","v":-6.8384539147670967E-2},{"$f":"(SA!DQ22-SA!DE22)/SA!DE22","v":-7.6162215628091001E-2},{"$f":"(SA!DR22-SA!DF22)/SA!DF22","v":-7.9051383399209488E-2},{"$f":"(SA!DS22-SA!DG22)/SA!DG22","v":-7.6388888888888895E-2},{"$f":"(SA!DT22-SA!DH22)/SA!DH22","v":-6.7796610169491525E-2},{"$f":"(SA!DU22-SA!DI22)/SA!DI22","v":-7.0000000000000007E-2},{"$f":"(SA!DV22-SA!DJ22)/SA!DJ22","v":-6.25E-2},{"$f":"(SA!DW22-SA!DK22)/SA!DK22","v":-5.685279187817259E-2},{"$f":"(SA!DX22-SA!DL22)/SA!DL22","v":-4.7131147540983603E-2},{"$f":"(SA!DY22-SA!DM22)/SA!DM22","v":-3.5269709543568464E-2},{"$f":"(SA!DZ22-SA!DN22)/SA!DN22","v":-2.3084994753410283E-2},{"$f":"(SA!EA22-SA!DO22)/SA!DO22","v":-1.8967334035827187E-2},{"$f":"(SA!EB22-SA!DP22)/SA!DP22","v":-4.2553191489361703E-3},{"$f":"(SA!EC22-SA!DQ22)/SA!DQ22","v":3.2119914346895075E-3},{"$f":"(SA!ED22-SA!DR22)/SA!DR22","v":3.2188841201716738E-3},{"$f":"(SA!EE22-SA!DS22)/SA!DS22","v":1.288936627282492E-2},{"$f":"(SA!EF22-SA!DT22)/SA!DT22","v":1.06951871657754E-2},{"$f":"(SA!EG22-SA!DU22)/SA!DU22","v":2.1505376344086023E-2},{"$f":"(SA!EH22-SA!DV22)/SA!DV22","v":2.4731182795698924E-2},{"$f":"(SA!EI22-SA!DW22)/SA!DW22","v":2.9063509149623249E-2},{"$f":"(SA!EJ22-SA!DX22)/SA!DX22","v":2.6881720430107527E-2},{"$f":"(SA!EK22-SA!DY22)/SA!DY22","v":3.5483870967741936E-2},{"$f":"(SA!EL22-SA!DZ22)/SA!DZ22","v":3.2223415682062301E-2},{"$f":"(SA!EM22-SA!EA22)/SA!EA22","v":2.9001074113856069E-2},{"$f":"(SA!EN22-SA!EB22)/SA!EB22","v":2.6709401709401708E-2},{"$f":"(SA!EO22-SA!EC22)/SA!EC22","v":2.7748132337246531E-2},{"$f":"(SA!EP22-SA!ED22)/SA!ED22","v":3.4224598930481284E-2},{"$f":"(SA!EQ22-SA!EE22)/SA!EE22","v":2.4390243902439025E-2},{"$f":"(SA!ER22-SA!EF22)/SA!EF22","v":2.9629629629629631E-2},{"$f":"(SA!ES22-SA!EG22)/SA!EG22","v":1.8947368421052633E-2},{"$f":"(SA!ET22-SA!EH22)/SA!EH22","v":1.888772298006296E-2},{"$f":"(SA!EU22-SA!EI22)/SA!EI22","v":1.7782426778242679E-2},{"$f":"(SA!EV22-SA!EJ22)/SA!EJ22","v":2.1989528795811519E-2},{"$f":"(SA!EW22-SA!EK22)/SA!EK22","v":1.6614745586708203E-2},{"$f":"(SA!EX22-SA!EL22)/SA!EL22","v":1.9771071800208116E-2},{"$f":"(SA!EY22-SA!EM22)/SA!EM22","v":2.8183716075156576E-2},{"$f":"(SA!EZ22-SA!EN22)/SA!EN22","v":1.9771071800208116E-2},{"$f":"(SA!FA22-SA!EO22)/SA!EO22","v":1.8691588785046728E-2},{"$f":"(SA!FB22-SA!EP22)/SA!EP22","v":1.5511892450879007E-2},{"$f":"(SA!FC22-SA!EQ22)/SA!EQ22","v":2.1739130434782608E-2},{"$f":"(SA!FD22-SA!ER22)/SA!ER22","v":2.9804727646454265E-2},{"$f":"(SA!FE22-SA!ES22)/SA!ES22","v":1.859504132231405E-2},{"$f":"(SA!FF22-SA!ET22)/SA!ET22","v":1.9567456230690009E-2},{"$f":"(SA!FG22-SA!EU22)/SA!EU22","v":2.0554984583761562E-2},{"$f":"(SA!FH22-SA!EV22)/SA!EV22","v":1.8442622950819672E-2},{"$f":"(SA!FI22-SA!EW22)/SA!EW22","v":1.5321756894790603E-2},{"$f":"(SA!FJ22-SA!EX22)/SA!EX22","v":1.6326530612244899E-2},{"$f":"(SA!FK22-SA!EY22)/SA!EY22","v":9.1370558375634525E-3},{"$f":"(SA!FL22-SA!EZ22)/SA!EZ22","v":2.3469387755102041E-2},{"$f":"(SA!FM22-SA!FA22)/SA!FA22","v":2.0387359836901122E-2},{"$f":"(SA!FN22-SA!FB22)/SA!FB22","v":2.1384928716904276E-2},{"$f":"(SA!FO22-SA!FC22)/SA!FC22","v":1.7223910840932118E-2},{"$f":"(SA!FP22-SA!FD22)/SA!FD22","v":-4.9900199600798403E-3},{"$f":"(SA!FQ22-SA!FE22)/SA!FE22","v":2.5354969574036511E-2},{"$f":"(SA!FR22-SA!FF22)/SA!FF22","v":1.5151515151515152E-2},{"$f":"(SA!FS22-SA!FG22)/SA!FG22","v":1.3091641490433032E-2},{"$f":"(SA!FT22-SA!FH22)/SA!FH22","v":1.5090543259557344E-2},{"$f":"(SA!FU22-SA!FI22)/SA!FI22","v":1.5090543259557344E-2},{"$f":"(SA!FV22-SA!FJ22)/SA!FJ22","v":1.4056224899598393E-2},{"$f":"(SA!FW22-SA!FK22)/SA!FK22","v":2.0120724346076459E-2},{"$f":"(SA!FX22-SA!FL22)/SA!FL22","v":1.0967098703888335E-2},{"$f":"(SA!FY22-SA!FM22)/SA!FM22","v":1.4985014985014986E-2},{"$f":"(SA!FZ22-SA!FN22)/SA!FN22","v":1.0967098703888335E-2},{"$f":"(SA!GA22-SA!FO22)/SA!FO22","v":9.9601593625498006E-3},{"$f":"(SA!GB22-SA!FP22)/SA!FP22","v":2.0060180541624874E-2},{"$f":"(SA!GC22-SA!FQ22)/SA!FQ22","v":1.0880316518298714E-2},{"$f":"(SA!GD22-SA!FR22)/SA!FR22","v":2.6865671641791045E-2},{"$f":"(SA!GE22-SA!FS22)/SA!FS22","v":2.4850894632206761E-2},{"$f":"(SA!GF22-SA!FT22)/SA!FT22","v":2.6759167492566897E-2},{"$f":"(SA!GG22-SA!FU22)/SA!FU22","v":2.8741328047571853E-2},{"$f":"(SA!GH22-SA!FV22)/SA!FV22","v":3.2673267326732675E-2},{"$f":"(SA!GI22-SA!FW22)/SA!FW22","v":3.1558185404339252E-2},{"$f":"(SA!GJ22-SA!FX22)/SA!FX22","v":3.3530571992110451E-2},{"$f":"(SA!GK22-SA!FY22)/SA!FY22","v":3.3464566929133861E-2},{"$f":"(SA!GL22-SA!FZ22)/SA!FZ22","v":3.8461538461538464E-2},{"$f":"(SA!GM22-SA!GA22)/SA!GA22","v":4.4378698224852069E-2},{"$f":"(SA!GN22-SA!GB22)/SA!GB22","v":4.4247787610619468E-2},{"$f":"(SA!GO22-SA!GC22)/SA!GC22","v":4.1095890410958902E-2},{"$f":"(SA!GP22-SA!GD22)/SA!GD22","v":3.294573643410853E-2},{"$f":"(SA!GQ22-SA!GE22)/SA!GE22","v":3.5887487875848688E-2},{"$f":"(SA!GR22-SA!GF22)/SA!GF22","v":3.1853281853281852E-2},{"$f":"(SA!GS22-SA!GG22)/SA!GG22","v":3.4682080924855488E-2},{"$f":"(SA!GT22-SA!GH22)/SA!GH22","v":2.9721955896452542E-2},{"$f":"(SA!GU22-SA!GI22)/SA!GI22","v":2.2944550669216062E-2},{"$f":"(SA!GV22-SA!GJ22)/SA!GJ22","v":2.8625954198473282E-2},{"$f":"(SA!GW22-SA!GK22)/SA!GK22","v":2.8571428571428571E-2},{"$f":"(SA!GX22-SA!GL22)/SA!GL22","v":2.8490028490028491E-2},{"$f":"(SA!GY22-SA!GM22)/SA!GM22","v":1.9830028328611898E-2},{"$f":"(SA!GZ22-SA!GN22)/SA!GN22","v":1.6949152542372881E-2},{"$f":"(SA!HA22-SA!GO22)/SA!GO22","v":1.5037593984962405E-2},{"$f":"(SA!HB22-SA!GP22)/SA!GP22","v":1.4071294559099437E-2},{"$f":"(SA!HC22-SA!GQ22)/SA!GQ22","v":1.3108614232209739E-2},{"$f":"(SA!HD22-SA!GR22)/SA!GR22","v":1.4031805425631431E-2},{"$f":"(SA!HE22-SA!GS22)/SA!GS22","v":9.3109869646182501E-3},{"$f":"(SA!HF22-SA!GT22)/SA!GT22","v":1.11731843575419E-2},{"$f":"(SA!HG22-SA!GU22)/SA!GU22","v":1.9626168224299065E-2},{"$f":"(SA!HH22-SA!GV22)/SA!GV22","v":9.2764378478664197E-3},{"$f":"(SA!HI22-SA!GW22)/SA!GW22","v":7.4074074074074077E-3},{"$f":"(SA!HJ22-SA!GX22)/SA!GX22","v":5.5401662049861496E-3},{"$f":"(SA!HK22-SA!GY22)/SA!GY22","v":1.1111111111111112E-2},{"$f":"(SA!HL22-SA!GZ22)/SA!GZ22","v":1.2037037037037037E-2},{"$f":"(SA!HM22-SA!HA22)/SA!HA22","v":2.0370370370370372E-2},{"$f":"(SA!HN22-SA!HB22)/SA!HB22","v":2.3126734505087881E-2},{"$f":"(SA!HO22-SA!HC22)/SA!HC22","v":1.4787430683918669E-2},{"$f":"(SA!HP22-SA!HD22)/SA!HD22","v":1.3837638376383764E-2},{"$f":"(SA!HQ22-SA!HE22)/SA!HE22","v":1.4760147601476014E-2},{"$f":"(SA!HR22-SA!HF22)/SA!HF22","v":5.5248618784530384E-3},{"$f":"(SA!HS22-SA!HG22)/SA!HG22","v":-1.5582034830430797E-2},{"$f":"(SA!HT22-SA!HH22)/SA!HH22","v":-1.7463235294117647E-2},{"$f":"(SA!HU22-SA!HI22)/SA!HI22","v":-1.7463235294117647E-2},{"$f":"(SA!HV22-SA!HJ22)/SA!HJ22","v":-1.3774104683195593E-2},{"$f":"(SA!HW22-SA!HK22)/SA!HK22","v":-1.9230769230769232E-2},{"$f":"(SA!HX22-SA!HL22)/SA!HL22","v":-1.8298261665141813E-2},{"$f":"(SA!HY22-SA!HM22)/SA!HM22","v":-2.5408348457350273E-2},{"$f":"(SA!HZ22-SA!HN22)/SA!HN22","v":9.0415913200723331E-3},{"$f":"(SA!IA22-SA!HO22)/SA!HO22","v":2.2768670309653915E-2},{"$f":"(SA!IB22-SA!HP22)/SA!HP22","v":2.1838034576888082E-2},{"$f":"(SA!IC22-SA!HQ22)/SA!HQ22","v":2.3636363636363636E-2},{"$f":"(SA!ID22-SA!HR22)/SA!HR22","v":2.6556776556776556E-2},{"$f":"(SA!IE22-SA!HS22)/SA!HS22","v":3.7243947858473E-2},{"$f":"(SA!IF22-SA!HT22)/SA!HT22","v":5.3320860617399442E-2},{"$f":"(SA!IG22-SA!HU22)/SA!HU22","v":5.5191768007483627E-2},{"$f":"(SA!IH22-SA!HV22)/SA!HV22","v":5.1210428305400374E-2},{"$f":"(SA!II22-SA!HW22)/SA!HW22","v":6.3492063492063489E-2},{"$f":"(SA!IJ22-SA!HX22)/SA!HX22","v":6.3373718546132343E-2},{"$f":"(SA!IK22-SA!HY22)/SA!HY22","v":5.7728119180633149E-2},{"$f":"(SA!IL22-SA!HZ22)/SA!HZ22","v":-1}," n/a ","n/a",null,"  Professional, Scientific, and Technical Services",-7.9051383399209488E-2,5.8874019741719007E-3,1.5114932016340467E-2,2.0404122311587166E-2,2.4507254667429406E-2,2.9180262594018579E-2,3.3738780073621688E-2,4.4378698224852069E-2,2.6358296170299011E-2]
["  Administrative and Support and Waste Management and Remediation Services",{"$f":"(SA!BN24-SA!BB24)/SA!BB24","v":4.9668874172185427E-2},{"$f":"(SA!BO24-SA!BC24)/SA!BC24","v":5.3024026512013253E-2},{"$f":"(SA!BP24-SA!BD24)/SA!BD24","v":6.0380479735318328E-2},{"$f":"(SA!BQ24-SA!BE24)/SA!BE24","v":7.4441687344913146E-2},{"$f":"(SA!BR24-SA!BF24)/SA!BF24","v":5.9308072487644151E-2},{"$f":"(SA!BS24-SA!BG24)/SA!BG24","v":4.0584415584415466E-2},{"$f":"(SA!BT24-SA!BH24)/SA!BH24","v":5.686433793663688E-2},{"$f":"(SA!BU24-SA!BI24)/SA!BI24","v":3.5771065182830006E-2},{"$f":"(SA!BV24-SA!BJ24)/SA!BJ24","v":5.6680161943319839E-2},{"$f":"(SA!BW24-SA!BK24)/SA!BK24","v":2.6211278792692496E-2},{"$f":"(SA!BX24-SA!BL24)/SA!BL24","v":4.1434262948207054E-2},{"$f":"(SA!BY24-SA!BM24)/SA!BM24","v":4.372019077901431E-2},{"$f":"(SA!BZ24-SA!BN24)/SA!BN24","v":3.3123028391167195E-2},{"$f":"(SA!CA24-SA!BO24)/SA!BO24","v":4.1699449252557044E-2},{"$f":"(SA!CB24-SA!BP24)/SA!BP24","v":3.5101404056162362E-2},{"$f":"(SA!CC24-SA!BQ24)/SA!BQ24","v":3.9260969976905313E-2},{"$f":"(SA!CD24-SA!BR24)/SA!BR24","v":4.3545878693623641E-2},{"$f":"(SA!CE24-SA!BS24)/SA!BS24","v":4.6801872074883115E-2},{"$f":"(SA!CF24-SA!BT24)/SA!BT24","v":2.6133743274404306E-2},{"$f":"(SA!CG24-SA!BU24)/SA!BU24","v":2.2256331542593901E-2},{"$f":"(SA!CH24-SA!BV24)/SA!BV24","v":2.528735632183908E-2},{"$f":"(SA!CI24-SA!BW24)/SA!BW24","v":4.0247678018575969E-2},{"$f":"(SA!CJ24-SA!BX24)/SA!BX24","v":3.0604437643458417E-2},{"$f":"(SA!CK24-SA!BY24)/SA!BY24","v":1.9040365575019039E-2},{"$f":"(SA!CL24-SA!BZ24)/SA!BZ24","v":2.748091603053435E-2},{"$f":"(SA!CM24-SA!CA24)/SA!CA24","v":1.7371601208459216E-2},{"$f":"(SA!CN24-SA!CB24)/SA!CB24","v":2.110022607385079E-2},{"$f":"(SA!CO24-SA!CC24)/SA!CC24","v":1.1851851851851851E-2},{"$f":"(SA!CP24-SA!CD24)/SA!CD24","v":1.9374068554396422E-2},{"$f":"(SA!CQ24-SA!CE24)/SA!CE24","v":2.9806259314456036E-2},{"$f":"(SA!CR24-SA!CF24)/SA!CF24","v":3.2209737827715357E-2},{"$f":"(SA!CS24-SA!CG24)/SA!CG24","v":3.6036036036036036E-2},{"$f":"(SA!CT24-SA!CH24)/SA!CH24","v":2.8400597907324365E-2},{"$f":"(SA!CU24-SA!CI24)/SA!CI24","v":2.0089285714285716E-2},{"$f":"(SA!CV24-SA!CJ24)/SA!CJ24","v":2.3756495916852263E-2},{"$f":"(SA!CW24-SA!CK24)/SA!CK24","v":4.1853512705530643E-2},{"$f":"(SA!CX24-SA!CL24)/SA!CL24","v":3.5661218424962851E-2},{"$f":"(SA!CY24-SA!CM24)/SA!CM24","v":3.9346696362286562E-2},{"$f":"(SA!CZ24-SA!CN24)/SA!CN24","v":2.5830258302583026E-2},{"$f":"(SA!DA24-SA!CO24)/SA!CO24","v":7.320644216691069E-4},{"$f":"(SA!DB24-SA!CP24)/SA!CP24","v":1.4619883040935672E-3},{"$f":"(SA!DC24-SA!CQ24)/SA!CQ24","v":-6.5123010130246021E-3},{"$f":"(SA!DD24-SA!CR24)/SA!CR24","v":-9.433962264150943E-3},{"$f":"(SA!DE24-SA!CS24)/SA!CS24","v":-8.6956521739130436E-3},{"$f":"(SA!DF24-SA!CT24)/SA!CT24","v":-1.9622093023255814E-2},{"$f":"(SA!DG24-SA!CU24)/SA!CU24","v":-3.7199124726477024E-2},{"$f":"(SA!DH24-SA!CV24)/SA!CV24","v":-6.2364031907179013E-2},{"$f":"(SA!DI24-SA!CW24)/SA!CW24","v":-8.4648493543758974E-2},{"$f":"(SA!DJ24-SA!CX24)/SA!CX24","v":-0.11477761836441894},{"$f":"(SA!DK24-SA!CY24)/SA!CY24","v":-0.14714285714285713},{"$f":"(SA!DL24-SA!CZ24)/SA!CZ24","v":-0.16618705035971224},{"$f":"(SA!DM24-SA!DA24)/SA!DA24","v":-0.15947329919531822},{"$f":"(SA!DN24-SA!DB24)/SA!DB24","v":-0.15328467153284672},{"$f":"(SA!DO24-SA!DC24)/SA!DC24","v":-0.16533139111434814},{"$f":"(SA!DP24-SA!DD24)/SA!DD24","v":-0.1575091575091575},{"$f":"(SA!DQ24-SA!DE24)/SA!DE24","v":-0.16008771929824561},{"$f":"(SA!DR24-SA!DF24)/SA!DF24","v":-0.14529280948851001},{"$f":"(SA!DS24-SA!DG24)/SA!DG24","v":-0.10757575757575757},{"$f":"(SA!DT24-SA!DH24)/SA!DH24","v":-7.3472544470224388E-2},{"$f":"(SA!DU24-SA!DI24)/SA!DI24","v":-5.0940438871473356E-2},{"$f":"(SA!DV24-SA!DJ24)/SA!DJ24","v":-8.9141004862236632E-3},{"$f":"(SA!DW24-SA!DK24)/SA!DK24","v":4.6063651591289785E-2},{"$f":"(SA!DX24-SA!DL24)/SA!DL24","v":6.3848144952545302E-2},{"$f":"(SA!DY24-SA!DM24)/SA!DM24","v":0.11662315056570943},{"$f":"(SA!DZ24-SA!DN24)/SA!DN24","v":0.11206896551724138},{"$f":"(SA!EA24-SA!DO24)/SA!DO24","v":0.12652705061082026},{"$f":"(SA!EB24-SA!DP24)/SA!DP24","v":0.1391304347826087},{"$f":"(SA!EC24-SA!DQ24)/SA!DQ24","v":0.15404699738903394},{"$f":"(SA!ED24-SA!DR24)/SA!DR24","v":0.15177797051170858},{"$f":"(SA!EE24-SA!DS24)/SA!DS24","v":0.14516129032258066},{"$f":"(SA!EF24-SA!DT24)/SA!DT24","v":0.13355592654424039},{"$f":"(SA!EG24-SA!DU24)/SA!DU24","v":0.13047068538398018},{"$f":"(SA!EH24-SA!DV24)/SA!DV24","v":0.12510220768601799},{"$f":"(SA!EI24-SA!DW24)/SA!DW24","v":9.5276220976781428E-2},{"$f":"(SA!EJ24-SA!DX24)/SA!DX24","v":0.12570965125709652},{"$f":"(SA!EK24-SA!DY24)/SA!DY24","v":6.2353858144972601E-2},{"$f":"(SA!EL24-SA!DZ24)/SA!DZ24","v":5.503875968992248E-2},{"$f":"(SA!EM24-SA!EA24)/SA!EA24","v":6.1192873741285826E-2},{"$f":"(SA!EN24-SA!EB24)/SA!EB24","v":5.1908396946564885E-2},{"$f":"(SA!EO24-SA!EC24)/SA!EC24","v":3.6199095022624438E-2},{"$f":"(SA!EP24-SA!ED24)/SA!ED24","v":4.2168674698795178E-2},{"$f":"(SA!EQ24-SA!EE24)/SA!EE24","v":2.0756115641215715E-2},{"$f":"(SA!ER24-SA!EF24)/SA!EF24","v":1.3991163475699559E-2},{"$f":"(SA!ES24-SA!EG24)/SA!EG24","v":6.5741417092768442E-3},{"$f":"(SA!ET24-SA!EH24)/SA!EH24","v":6.540697674418605E-3},{"$f":"(SA!EU24-SA!EI24)/SA!EI24","v":1.4619883040935672E-2},{"$f":"(SA!EV24-SA!EJ24)/SA!EJ24","v":1.9452449567723344E-2},{"$f":"(SA!EW24-SA!EK24)/SA!EK24","v":3.7417461482024947E-2},{"$f":"(SA!EX24-SA!EL24)/SA!EL24","v":2.718589272593681E-2},{"$f":"(SA!EY24-SA!EM24)/SA!EM24","v":1.9708029197080291E-2},{"$f":"(SA!EZ24-SA!EN24)/SA!EN24","v":8.708272859216255E-3},{"$f":"(SA!FA24-SA!EO24)/SA!EO24","v":8.7336244541484712E-3},{"$f":"(SA!FB24-SA!EP24)/SA!EP24","v":1.2283236994219654E-2},{"$f":"(SA!FC24-SA!EQ24)/SA!EQ24","v":1.6702977487291212E-2},{"$f":"(SA!FD24-SA!ER24)/SA!ER24","v":1.8155410312273058E-2},{"$f":"(SA!FE24-SA!ES24)/SA!ES24","v":1.0885341074020319E-2},{"$f":"(SA!FF24-SA!ET24)/SA!ET24","v":7.9422382671480145E-3},{"$f":"(SA!FG24-SA!EU24)/SA!EU24","v":2.0172910662824207E-2},{"$f":"(SA!FH24-SA!EV24)/SA!EV24","v":1.6254416961130742E-2},{"$f":"(SA!FI24-SA!EW24)/SA!EW24","v":-7.0721357850070724E-4},{"$f":"(SA!FJ24-SA!EX24)/SA!EX24","v":2.1459227467811159E-2},{"$f":"(SA!FK24-SA!EY24)/SA!EY24","v":2.863278453829635E-2},{"$f":"(SA!FL24-SA!EZ24)/SA!EZ24","v":3.4532374100719423E-2},{"$f":"(SA!FM24-SA!FA24)/SA!FA24","v":4.4011544011544008E-2},{"$f":"(SA!FN24-SA!FB24)/SA!FB24","v":3.1406138472519628E-2},{"$f":"(SA!FO24-SA!FC24)/SA!FC24","v":2.642857142857143E-2},{"$f":"(SA!FP24-SA!FD24)/SA!FD24","v":3.2810271041369472E-2},{"$f":"(SA!FQ24-SA!FE24)/SA!FE24","v":4.1636755204594401E-2},{"$f":"(SA!FR24-SA!FF24)/SA!FF24","v":5.0143266475644696E-2},{"$f":"(SA!FS24-SA!FG24)/SA!FG24","v":3.3898305084745763E-2},{"$f":"(SA!FT24-SA!FH24)/SA!FH24","v":1.3212795549374131E-2},{"$f":"(SA!FU24-SA!FI24)/SA!FI24","v":3.4677990092002828E-2},{"$f":"(SA!FV24-SA!FJ24)/SA!FJ24","v":2.8011204481792718E-2},{"$f":"(SA!FW24-SA!FK24)/SA!FK24","v":1.6005567153792623E-2},{"$f":"(SA!FX24-SA!FL24)/SA!FL24","v":1.5994436717663423E-2},{"$f":"(SA!FY24-SA!FM24)/SA!FM24","v":1.4512785072563926E-2},{"$f":"(SA!FZ24-SA!FN24)/SA!FN24","v":1.7993079584775088E-2},{"$f":"(SA!GA24-SA!FO24)/SA!FO24","v":3.6186499652052888E-2},{"$f":"(SA!GB24-SA!FP24)/SA!FP24","v":3.9364640883977897E-2},{"$f":"(SA!GC24-SA!FQ24)/SA!FQ24","v":1.722949689869056E-2},{"$f":"(SA!GD24-SA!FR24)/SA!FR24","v":-2.0463847203274215E-3},{"$f":"(SA!GE24-SA!FS24)/SA!FS24","v":-6.1475409836065573E-3},{"$f":"(SA!GF24-SA!FT24)/SA!FT24","v":-6.863417982155113E-4},{"$f":"(SA!GG24-SA!FU24)/SA!FU24","v":-1.3679890560875513E-3},{"$f":"(SA!GH24-SA!FV24)/SA!FV24","v":-4.0871934604904629E-3},{"$f":"(SA!GI24-SA!FW24)/SA!FW24","v":-1.3698630136986301E-3},{"$f":"(SA!GJ24-SA!FX24)/SA!FX24","v":4.1067761806981521E-3},{"$f":"(SA!GK24-SA!FY24)/SA!FY24","v":4.0871934604904629E-3},{"$f":"(SA!GL24-SA!FZ24)/SA!FZ24","v":-1.0197144799456152E-2},{"$f":"(SA!GM24-SA!GA24)/SA!GA24","v":-2.2834116856950974E-2},{"$f":"(SA!GN24-SA!GB24)/SA!GB24","v":-3.0564784053156147E-2},{"$f":"(SA!GO24-SA!GC24)/SA!GC24","v":-6.7750677506775072E-3},{"$f":"(SA!GP24-SA!GD24)/SA!GD24","v":1.2987012987012988E-2},{"$f":"(SA!GQ24-SA!GE24)/SA!GE24","v":1.5807560137457044E-2},{"$f":"(SA!GR24-SA!GF24)/SA!GF24","v":8.241758241758242E-3},{"$f":"(SA!GS24-SA!GG24)/SA!GG24","v":4.10958904109589E-3},{"$f":"(SA!GT24-SA!GH24)/SA!GH24","v":-3.4199726402188782E-3},{"$f":"(SA!GU24-SA!GI24)/SA!GI24","v":-6.8587105624142656E-4},{"$f":"(SA!GV24-SA!GJ24)/SA!GJ24","v":-8.8616223585548746E-3},{"$f":"(SA!GW24-SA!GK24)/SA!GK24","v":-1.5603799185888738E-2},{"$f":"(SA!GX24-SA!GL24)/SA!GL24","v":6.8681318681318687E-4},{"$f":"(SA!GY24-SA!GM24)/SA!GM24","v":-1.3745704467353953E-3},{"$f":"(SA!GZ24-SA!GN24)/SA!GN24","v":-6.8540095956134343E-4},{"$f":"(SA!HA24-SA!GO24)/SA!GO24","v":-3.4106412005457027E-3},{"$f":"(SA!HB24-SA!GP24)/SA!GP24","v":-1.6869095816464237E-2},{"$f":"(SA!HC24-SA!GQ24)/SA!GQ24","v":-2.2327469553450607E-2},{"$f":"(SA!HD24-SA!GR24)/SA!GR24","v":-6.8119891008174384E-4},{"$f":"(SA!HE24-SA!GS24)/SA!GS24","v":4.0927694406548429E-3},{"$f":"(SA!HF24-SA!GT24)/SA!GT24","v":6.1770761839396015E-3},{"$f":"(SA!HG24-SA!GU24)/SA!GU24","v":4.8043925875085793E-3},{"$f":"(SA!HH24-SA!GV24)/SA!GV24","v":1.1691884456671253E-2},{"$f":"(SA!HI24-SA!GW24)/SA!GW24","v":7.5809786354238459E-3},{"$f":"(SA!HJ24-SA!GX24)/SA!GX24","v":-6.863417982155113E-4},{"$f":"(SA!HK24-SA!GY24)/SA!GY24","v":1.307639366827254E-2},{"$f":"(SA!HL24-SA!GZ24)/SA!GZ24","v":1.646090534979424E-2},{"$f":"(SA!HM24-SA!HA24)/SA!HA24","v":1.3689253935660506E-2},{"$f":"(SA!HN24-SA!HB24)/SA!HB24","v":6.8634179821551134E-3},{"$f":"(SA!HO24-SA!HC24)/SA!HC24","v":1.9377162629757784E-2},{"$f":"(SA!HP24-SA!HD24)/SA!HD24","v":2.5221540558963872E-2},{"$f":"(SA!HQ24-SA!HE24)/SA!HE24","v":2.0380434782608696E-2},{"$f":"(SA!HR24-SA!HF24)/SA!HF24","v":2.0463847203274217E-2},{"$f":"(SA!HS24-SA!HG24)/SA!HG24","v":9.562841530054645E-3},{"$f":"(SA!HT24-SA!HH24)/SA!HH24","v":-6.7980965329707678E-4},{"$f":"(SA!HU24-SA!HI24)/SA!HI24","v":6.1559507523939808E-3},{"$f":"(SA!HV24-SA!HJ24)/SA!HJ24","v":1.304945054945055E-2},{"$f":"(SA!HW24-SA!HK24)/SA!HK24","v":-4.755434782608696E-3},{"$f":"(SA!HX24-SA!HL24)/SA!HL24","v":-1.417004048582996E-2},{"$f":"(SA!HY24-SA!HM24)/SA!HM24","v":-1.6205266711681297E-2},{"$f":"(SA!HZ24-SA!HN24)/SA!HN24","v":-4.7716428084526247E-3},{"$f":"(SA!IA24-SA!HO24)/SA!HO24","v":-4.7522063815342835E-3},{"$f":"(SA!IB24-SA!HP24)/SA!HP24","v":-2.5265957446808509E-2},{"$f":"(SA!IC24-SA!HQ24)/SA!HQ24","v":-6.6577896138482022E-3},{"$f":"(SA!ID24-SA!HR24)/SA!HR24","v":-1.4037433155080214E-2},{"$f":"(SA!IE24-SA!HS24)/SA!HS24","v":-1.4208389715832206E-2},{"$f":"(SA!IF24-SA!HT24)/SA!HT24","v":-3.1292517006802724E-2},{"$f":"(SA!IG24-SA!HU24)/SA!HU24","v":-2.5152957171991841E-2},{"$f":"(SA!IH24-SA!HV24)/SA!HV24","v":-1.9661016949152541E-2},{"$f":"(SA!II24-SA!HW24)/SA!HW24","v":-1.3651877133105802E-3},{"$f":"(SA!IJ24-SA!HX24)/SA!HX24","v":6.8446269678302531E-4},{"$f":"(SA!IK24-SA!HY24)/SA!HY24","v":4.1180507892930682E-3},{"$f":"(SA!IL24-SA!HZ24)/SA!HZ24","v":-1}," n/a ","n/a",null,"  Administrative and Support and Waste Management and Remediation Services",-0.16618705035971224,-9.070059019601848E-3,4.0983721366721669E-3,1.5826247795477682E-2,2.0697795143376566E-2,3.4932038470498548E-2,5.0672805616920724E-2,0.15404699738903394,5.7618723539744329E-2]
["Education and Health Services",{"$f":"(SA!BN25-SA!BB25)/SA!BB25","v":2.0624151967435549E-2},{"$f":"(SA!BO25-SA!BC25)/SA!BC25","v":1.7847485127095726E-2},{"$f":"(SA!BP25-SA!BD25)/SA!BD25","v":1.9443694301917364E-2},{"$f":"(SA!BQ25-SA!BE25)/SA!BE25","v":1.8593371059013743E-2},{"$f":"(SA!BR25-SA!BF25)/SA!BF25","v":1.8563357546408393E-2},{"$f":"(SA!BS25-SA!BG25)/SA!BG25","v":2.0172135556750941E-2},{"$f":"(SA!BT25-SA!BH25)/SA!BH25","v":1.9602577873254565E-2},{"$f":"(SA!BU25-SA!BI25)/SA!BI25","v":1.8478843063738617E-2},{"$f":"(SA!BV25-SA!BJ25)/SA!BJ25","v":2.2514071294559099E-2},{"$f":"(SA!BW25-SA!BK25)/SA!BK25","v":2.0058839261834716E-2},{"$f":"(SA!BX25-SA!BL25)/SA!BL25","v":2.1100427350427352E-2},{"$f":"(SA!BY25-SA!BM25)/SA!BM25","v":1.9445924347362812E-2},{"$f":"(SA!BZ25-SA!BN25)/SA!BN25","v":2.0207391651156606E-2},{"$f":"(SA!CA25-SA!BO25)/SA!BO25","v":2.2316684378320937E-2},{"$f":"(SA!CB25-SA!BP25)/SA!BP25","v":1.8807947019867551E-2},{"$f":"(SA!CC25-SA!BQ25)/SA!BQ25","v":1.984126984126984E-2},{"$f":"(SA!CD25-SA!BR25)/SA!BR25","v":1.9545694664553619E-2},{"$f":"(SA!CE25-SA!BS25)/SA!BS25","v":1.9245979435802793E-2},{"$f":"(SA!CF25-SA!BT25)/SA!BT25","v":2.1069265209375822E-2},{"$f":"(SA!CG25-SA!BU25)/SA!BU25","v":1.9984222981856429E-2},{"$f":"(SA!CH25-SA!BV25)/SA!BV25","v":1.9134993446920052E-2},{"$f":"(SA!CI25-SA!BW25)/SA!BW25","v":2.2024121657052961E-2},{"$f":"(SA!CJ25-SA!BX25)/SA!BX25","v":2.0402825006539366E-2},{"$f":"(SA!CK25-SA!BY25)/SA!BY25","v":1.9336294747844266E-2},{"$f":"(SA!CL25-SA!BZ25)/SA!BZ25","v":1.6419077404222049E-2},{"$f":"(SA!CM25-SA!CA25)/SA!CA25","v":1.5072765072765074E-2},{"$f":"(SA!CN25-SA!CB25)/SA!CB25","v":1.6900676027041081E-2},{"$f":"(SA!CO25-SA!CC25)/SA!CC25","v":1.556420233463035E-2},{"$f":"(SA!CP25-SA!CD25)/SA!CD25","v":1.5544041450777202E-2},{"$f":"(SA!CQ25-SA!CE25)/SA!CE25","v":1.6554578375581996E-2},{"$f":"(SA!CR25-SA!CF25)/SA!CF25","v":1.57338148052618E-2},{"$f":"(SA!CS25-SA!CG25)/SA!CG25","v":1.7014694508894045E-2},{"$f":"(SA!CT25-SA!CH25)/SA!CH25","v":1.7489711934156379E-2},{"$f":"(SA!CU25-SA!CI25)/SA!CI25","v":8.9789635710620826E-3},{"$f":"(SA!CV25-SA!CJ25)/SA!CJ25","v":7.1776467572417331E-3},{"$f":"(SA!CW25-SA!CK25)/SA!CK25","v":1.0253781081773904E-2},{"$f":"(SA!CX25-SA!CL25)/SA!CL25","v":1.1794871794871795E-2},{"$f":"(SA!CY25-SA!CM25)/SA!CM25","v":1.1264720942140297E-2},{"$f":"(SA!CZ25-SA!CN25)/SA!CN25","v":1.1761697775504986E-2},{"$f":"(SA!DA25-SA!CO25)/SA!CO25","v":1.3793103448275862E-2},{"$f":"(SA!DB25-SA!CP25)/SA!CP25","v":1.3775510204081633E-2},{"$f":"(SA!DC25-SA!CQ25)/SA!CQ25","v":1.3994910941475827E-2},{"$f":"(SA!DD25-SA!CR25)/SA!CR25","v":1.4474352463179279E-2},{"$f":"(SA!DE25-SA!CS25)/SA!CS25","v":1.4702154626108998E-2},{"$f":"(SA!DF25-SA!CT25)/SA!CT25","v":1.4661274014155713E-2},{"$f":"(SA!DG25-SA!CU25)/SA!CU25","v":2.4663107042969742E-2},{"$f":"(SA!DH25-SA!CV25)/SA!CV25","v":2.9015016543649783E-2},{"$f":"(SA!DI25-SA!CW25)/SA!CW25","v":3.0449124587668106E-2},{"$f":"(SA!DJ25-SA!CX25)/SA!CX25","v":2.7116066903193108E-2},{"$f":"(SA!DK25-SA!CY25)/SA!CY25","v":2.8101265822784809E-2},{"$f":"(SA!DL25-SA!CZ25)/SA!CZ25","v":2.7040687389436442E-2},{"$f":"(SA!DM25-SA!DA25)/SA!DA25","v":2.1919879062736205E-2},{"$f":"(SA!DN25-SA!DB25)/SA!DB25","v":2.214393558127831E-2},{"$f":"(SA!DO25-SA!DC25)/SA!DC25","v":2.3086574654956084E-2},{"$f":"(SA!DP25-SA!DD25)/SA!DD25","v":1.9274092615769713E-2},{"$f":"(SA!DQ25-SA!DE25)/SA!DE25","v":1.8486135398451162E-2},{"$f":"(SA!DR25-SA!DF25)/SA!DF25","v":1.1709018435475834E-2},{"$f":"(SA!DS25-SA!DG25)/SA!DG25","v":9.6774193548387101E-3},{"$f":"(SA!DT25-SA!DH25)/SA!DH25","v":5.1941627504328465E-3},{"$f":"(SA!DU25-SA!DI25)/SA!DI25","v":-9.8497906919477966E-4},{"$f":"(SA!DV25-SA!DJ25)/SA!DJ25","v":5.6748087836170739E-3},{"$f":"(SA!DW25-SA!DK25)/SA!DK25","v":4.6786505786752036E-3},{"$f":"(SA!DX25-SA!DL25)/SA!DL25","v":5.4133858267716535E-3},{"$f":"(SA!DY25-SA!DM25)/SA!DM25","v":7.3964497041420117E-4},{"$f":"(SA!DZ25-SA!DN25)/SA!DN25","v":-1.7232890201870998E-3},{"$f":"(SA!EA25-SA!DO25)/SA!DO25","v":-2.4527839097375523E-3},{"$f":"(SA!EB25-SA!DP25)/SA!DP25","v":2.455795677799607E-3},{"$f":"(SA!EC25-SA!DQ25)/SA!DQ25","v":3.4338974736325728E-3},{"$f":"(SA!ED25-SA!DR25)/SA!DR25","v":2.954937207584339E-3},{"$f":"(SA!EE25-SA!DS25)/SA!DS25","v":2.2118456623248955E-3},{"$f":"(SA!EF25-SA!DT25)/SA!DT25","v":3.6909448818897637E-3},{"$f":"(SA!EG25-SA!DU25)/SA!DU25","v":5.9157012570865168E-3},{"$f":"(SA!EH25-SA!DV25)/SA!DV25","v":1.4720314033366045E-3},{"$f":"(SA!EI25-SA!DW25)/SA!DW25","v":0},{"$f":"(SA!EJ25-SA!DX25)/SA!DX25","v":-3.6710719530102789E-3},{"$f":"(SA!EK25-SA!DY25)/SA!DY25","v":9.1155457009115554E-3},{"$f":"(SA!EL25-SA!DZ25)/SA!DZ25","v":1.1344019728729964E-2},{"$f":"(SA!EM25-SA!EA25)/SA!EA25","v":9.097614949594296E-3},{"$f":"(SA!EN25-SA!EB25)/SA!EB25","v":7.839294463498285E-3},{"$f":"(SA!EO25-SA!EC25)/SA!EC25","v":5.622097286726962E-3},{"$f":"(SA!EP25-SA!ED25)/SA!ED25","v":1.3258040756199362E-2},{"$f":"(SA!EQ25-SA!EE25)/SA!EE25","v":1.2751348700343305E-2},{"$f":"(SA!ER25-SA!EF25)/SA!EF25","v":1.3728855111546949E-2},{"$f":"(SA!ES25-SA!EG25)/SA!EG25","v":1.5437392795883362E-2},{"$f":"(SA!ET25-SA!EH25)/SA!EH25","v":1.6168544830965213E-2},{"$f":"(SA!EU25-SA!EI25)/SA!EI25","v":1.8627450980392157E-2},{"$f":"(SA!EV25-SA!EJ25)/SA!EJ25","v":2.3335789732252518E-2},{"$f":"(SA!EW25-SA!EK25)/SA!EK25","v":1.85546875E-2},{"$f":"(SA!EX25-SA!EL25)/SA!EL25","v":1.755669348939283E-2},{"$f":"(SA!EY25-SA!EM25)/SA!EM25","v":1.8518518518518517E-2},{"$f":"(SA!EZ25-SA!EN25)/SA!EN25","v":9.2367525522605732E-3},{"$f":"(SA!FA25-SA!EO25)/SA!EO25","v":1.5070491006319884E-2},{"$f":"(SA!FB25-SA!EP25)/SA!EP25","v":1.7688393506178821E-2},{"$f":"(SA!FC25-SA!EQ25)/SA!EQ25","v":2.1307506053268765E-2},{"$f":"(SA!FD25-SA!ER25)/SA!ER25","v":2.0556227327690448E-2},{"$f":"(SA!FE25-SA!ES25)/SA!ES25","v":2.0028957528957531E-2},{"$f":"(SA!FF25-SA!ET25)/SA!ET25","v":1.6393442622950821E-2},{"$f":"(SA!FG25-SA!EU25)/SA!EU25","v":1.5880654475457171E-2},{"$f":"(SA!FH25-SA!EV25)/SA!EV25","v":1.4642342774843975E-2},{"$f":"(SA!FI25-SA!EW25)/SA!EW25","v":1.3183125599232981E-2},{"$f":"(SA!FJ25-SA!EX25)/SA!EX25","v":1.509705248023005E-2},{"$f":"(SA!FK25-SA!EY25)/SA!EY25","v":1.291866028708134E-2},{"$f":"(SA!FL25-SA!EZ25)/SA!EZ25","v":2.023121387283237E-2},{"$f":"(SA!FM25-SA!FA25)/SA!FA25","v":1.7959770114942528E-2},{"$f":"(SA!FN25-SA!FB25)/SA!FB25","v":1.3095238095238096E-2},{"$f":"(SA!FO25-SA!FC25)/SA!FC25","v":9.9573257467994308E-3},{"$f":"(SA!FP25-SA!FD25)/SA!FD25","v":1.066350710900474E-2},{"$f":"(SA!FQ25-SA!FE25)/SA!FE25","v":8.0435296900875329E-3},{"$f":"(SA!FR25-SA!FF25)/SA!FF25","v":1.4943074003795066E-2},{"$f":"(SA!FS25-SA!FG25)/SA!FG25","v":1.3974419706300331E-2},{"$f":"(SA!FT25-SA!FH25)/SA!FH25","v":1.3957889756328366E-2},{"$f":"(SA!FU25-SA!FI25)/SA!FI25","v":1.5377336172226166E-2},{"$f":"(SA!FV25-SA!FJ25)/SA!FJ25","v":1.4164305949008499E-2},{"$f":"(SA!FW25-SA!FK25)/SA!FK25","v":1.6769012753897024E-2},{"$f":"(SA!FX25-SA!FL25)/SA!FL25","v":1.676109537299339E-2},{"$f":"(SA!FY25-SA!FM25)/SA!FM25","v":1.4820042342978124E-2},{"$f":"(SA!FZ25-SA!FN25)/SA!FN25","v":1.5041128084606345E-2},{"$f":"(SA!GA25-SA!FO25)/SA!FO25","v":1.3380281690140845E-2},{"$f":"(SA!GB25-SA!FP25)/SA!FP25","v":1.5005861664712778E-2},{"$f":"(SA!GC25-SA!FQ25)/SA!FQ25","v":1.6897441915043419E-2},{"$f":"(SA!GD25-SA!FR25)/SA!FR25","v":1.121757419957934E-2},{"$f":"(SA!GE25-SA!FS25)/SA!FS25","v":1.284746554543331E-2},{"$f":"(SA!GF25-SA!FT25)/SA!FT25","v":1.3999066728884742E-2},{"$f":"(SA!GG25-SA!FU25)/SA!FU25","v":1.2115563839701771E-2},{"$f":"(SA!GH25-SA!FV25)/SA!FV25","v":1.4199255121042831E-2},{"$f":"(SA!GI25-SA!FW25)/SA!FW25","v":1.2311265969802556E-2},{"$f":"(SA!GJ25-SA!FX25)/SA!FX25","v":1.4395170652426282E-2},{"$f":"(SA!GK25-SA!FY25)/SA!FY25","v":1.1821974965229486E-2},{"$f":"(SA!GL25-SA!FZ25)/SA!FZ25","v":1.1113683723084047E-2},{"$f":"(SA!GM25-SA!GA25)/SA!GA25","v":1.5056752374334029E-2},{"$f":"(SA!GN25-SA!GB25)/SA!GB25","v":1.4322014322014322E-2},{"$f":"(SA!GO25-SA!GC25)/SA!GC25","v":1.5693514885760443E-2},{"$f":"(SA!GP25-SA!GD25)/SA!GD25","v":1.941298821354287E-2},{"$f":"(SA!GQ25-SA!GE25)/SA!GE25","v":1.9372693726937271E-2},{"$f":"(SA!GR25-SA!GF25)/SA!GF25","v":1.8177634606534744E-2},{"$f":"(SA!GS25-SA!GG25)/SA!GG25","v":2.1869244935543278E-2},{"$f":"(SA!GT25-SA!GH25)/SA!GH25","v":1.9508836355290337E-2},{"$f":"(SA!GU25-SA!GI25)/SA!GI25","v":1.8815970628728775E-2},{"$f":"(SA!GV25-SA!GJ25)/SA!GJ25","v":2.1972991531242849E-2},{"$f":"(SA!GW25-SA!GK25)/SA!GK25","v":2.2451317296678121E-2},{"$f":"(SA!GX25-SA!GL25)/SA!GL25","v":2.3356995649187084E-2},{"$f":"(SA!GY25-SA!GM25)/SA!GM25","v":1.9625741670470105E-2},{"$f":"(SA!GZ25-SA!GN25)/SA!GN25","v":1.8446823047141882E-2},{"$f":"(SA!HA25-SA!GO25)/SA!GO25","v":1.5678254942058625E-2},{"$f":"(SA!HB25-SA!GP25)/SA!GP25","v":1.6549535252777147E-2},{"$f":"(SA!HC25-SA!GQ25)/SA!GQ25","v":1.5837104072398189E-2},{"$f":"(SA!HD25-SA!GR25)/SA!GR25","v":1.5367231638418079E-2},{"$f":"(SA!HE25-SA!GS25)/SA!GS25","v":1.2615453931065555E-2},{"$f":"(SA!HF25-SA!GT25)/SA!GT25","v":1.0355695632597929E-2},{"$f":"(SA!HG25-SA!GU25)/SA!GU25","v":1.6666666666666666E-2},{"$f":"(SA!HH25-SA!GV25)/SA!GV25","v":9.1825307950727884E-3},{"$f":"(SA!HI25-SA!GW25)/SA!GW25","v":1.0306968406901188E-2},{"$f":"(SA!HJ25-SA!GX25)/SA!GX25","v":9.3980756321324684E-3},{"$f":"(SA!HK25-SA!GY25)/SA!GY25","v":1.521933751119069E-2},{"$f":"(SA!HL25-SA!GZ25)/SA!GZ25","v":1.1404293381037567E-2},{"$f":"(SA!HM25-SA!HA25)/SA!HA25","v":1.3422818791946308E-2},{"$f":"(SA!HN25-SA!HB25)/SA!HB25","v":1.1373773416592329E-2},{"$f":"(SA!HO25-SA!HC25)/SA!HC25","v":1.0244988864142539E-2},{"$f":"(SA!HP25-SA!HD25)/SA!HD25","v":8.2350322724237708E-3},{"$f":"(SA!HQ25-SA!HE25)/SA!HE25","v":5.7842046718576193E-3},{"$f":"(SA!HR25-SA!HF25)/SA!HF25","v":6.2388591800356507E-3},{"$f":"(SA!HS25-SA!HG25)/SA!HG25","v":1.329198050509526E-3},{"$f":"(SA!HT25-SA!HH25)/SA!HH25","v":1.087438970261873E-2},{"$f":"(SA!HU25-SA!HI25)/SA!HI25","v":1.0645375914836993E-2},{"$f":"(SA!HV25-SA!HJ25)/SA!HJ25","v":1.4852582575925515E-2},{"$f":"(SA!HW25-SA!HK25)/SA!HK25","v":1.0802469135802469E-2},{"$f":"(SA!HX25-SA!HL25)/SA!HL25","v":1.6803006853858059E-2},{"$f":"(SA!HY25-SA!HM25)/SA!HM25","v":1.8543046357615896E-2},{"$f":"(SA!HZ25-SA!HN25)/SA!HN25","v":1.1245865490628445E-2},{"$f":"(SA!IA25-SA!HO25)/SA!HO25","v":6.6137566137566134E-3},{"$f":"(SA!IB25-SA!HP25)/SA!HP25","v":4.6357615894039739E-3},{"$f":"(SA!IC25-SA!HQ25)/SA!HQ25","v":1.4156160141561602E-2},{"$f":"(SA!ID25-SA!HR25)/SA!HR25","v":1.904340124003543E-2},{"$f":"(SA!IE25-SA!HS25)/SA!HS25","v":1.5929203539823009E-2},{"$f":"(SA!IF25-SA!HT25)/SA!HT25","v":5.7080131723380896E-3},{"$f":"(SA!IG25-SA!HU25)/SA!HU25","v":5.4860653938994955E-3},{"$f":"(SA!IH25-SA!HV25)/SA!HV25","v":1.3106159895150721E-3},{"$f":"(SA!II25-SA!HW25)/SA!HW25","v":2.1810250817884407E-3},{"$f":"(SA!IJ25-SA!HX25)/SA!HX25","v":1.0871928680147858E-3},{"$f":"(SA!IK25-SA!HY25)/SA!HY25","v":-8.6692674469007367E-4},{"$f":"(SA!IL25-SA!HZ25)/SA!HZ25","v":-1}," n/a ","n/a",null,"Education and Health Services",-3.6710719530102789E-3,9.1101664755163774E-3,1.2789795438379306E-2,1.4949352769886837E-2,1.5826775145684552E-2,1.8559889527845035E-2,2.0282697212944466E-2,3.0449124587668106E-2,6.2848699783948176E-3]
["Educational Services",{"$f":"(SA!BN26-SA!BB26)/SA!BB26","v":3.4782608695652174E-2},{"$f":"(SA!BO26-SA!BC26)/SA!BC26","v":1.9271948608137045E-2},{"$f":"(SA!BP26-SA!BD26)/SA!BD26","v":2.575107296137339E-2},{"$f":"(SA!BQ26-SA!BE26)/SA!BE26","v":1.9189765458422176E-2},{"$f":"(SA!BR26-SA!BF26)/SA!BF26","v":2.3554603854389723E-2},{"$f":"(SA!BS26-SA!BG26)/SA!BG26","v":2.1276595744680851E-2},{"$f":"(SA!BT26-SA!BH26)/SA!BH26","v":1.7021276595744681E-2},{"$f":"(SA!BU26-SA!BI26)/SA!BI26","v":1.4767932489451477E-2},{"$f":"(SA!BV26-SA!BJ26)/SA!BJ26","v":2.3454157782515993E-2},{"$f":"(SA!BW26-SA!BK26)/SA!BK26","v":1.4861995753715499E-2},{"$f":"(SA!BX26-SA!BL26)/SA!BL26","v":2.1231422505307854E-2},{"$f":"(SA!BY26-SA!BM26)/SA!BM26","v":1.2658227848101266E-2},{"$f":"(SA!BZ26-SA!BN26)/SA!BN26","v":1.4705882352941176E-2},{"$f":"(SA!CA26-SA!BO26)/SA!BO26","v":1.8907563025210083E-2},{"$f":"(SA!CB26-SA!BP26)/SA!BP26","v":1.2552301255230125E-2},{"$f":"(SA!CC26-SA!BQ26)/SA!BQ26","v":2.0920502092050208E-2},{"$f":"(SA!CD26-SA!BR26)/SA!BR26","v":2.5104602510460251E-2},{"$f":"(SA!CE26-SA!BS26)/SA!BS26","v":1.6666666666666666E-2},{"$f":"(SA!CF26-SA!BT26)/SA!BT26","v":2.7196652719665274E-2},{"$f":"(SA!CG26-SA!BU26)/SA!BU26","v":1.4553014553014554E-2},{"$f":"(SA!CH26-SA!BV26)/SA!BV26","v":2.0833333333333332E-2},{"$f":"(SA!CI26-SA!BW26)/SA!BW26","v":2.7196652719665274E-2},{"$f":"(SA!CJ26-SA!BX26)/SA!BX26","v":2.9106029106029108E-2},{"$f":"(SA!CK26-SA!BY26)/SA!BY26","v":2.2916666666666665E-2},{"$f":"(SA!CL26-SA!BZ26)/SA!BZ26","v":1.6563146997929608E-2},{"$f":"(SA!CM26-SA!CA26)/SA!CA26","v":1.443298969072165E-2},{"$f":"(SA!CN26-SA!CB26)/SA!CB26","v":2.0661157024793389E-2},{"$f":"(SA!CO26-SA!CC26)/SA!CC26","v":6.1475409836065573E-3},{"$f":"(SA!CP26-SA!CD26)/SA!CD26","v":8.1632653061224497E-3},{"$f":"(SA!CQ26-SA!CE26)/SA!CE26","v":8.1967213114754103E-3},{"$f":"(SA!CR26-SA!CF26)/SA!CF26","v":8.1466395112016286E-3},{"$f":"(SA!CS26-SA!CG26)/SA!CG26","v":1.8442622950819672E-2},{"$f":"(SA!CT26-SA!CH26)/SA!CH26","v":1.6326530612244899E-2},{"$f":"(SA!CU26-SA!CI26)/SA!CI26","v":-3.4623217922606926E-2},{"$f":"(SA!CV26-SA!CJ26)/SA!CJ26","v":-5.8585858585858588E-2},{"$f":"(SA!CW26-SA!CK26)/SA!CK26","v":-4.2769857433808553E-2},{"$f":"(SA!CX26-SA!CL26)/SA!CL26","v":-4.0733197556008148E-2},{"$f":"(SA!CY26-SA!CM26)/SA!CM26","v":-4.2682926829268296E-2},{"$f":"(SA!CZ26-SA!CN26)/SA!CN26","v":-4.8582995951417005E-2},{"$f":"(SA!DA26-SA!CO26)/SA!CO26","v":-2.6476578411405296E-2},{"$f":"(SA!DB26-SA!CP26)/SA!CP26","v":-3.643724696356275E-2},{"$f":"(SA!DC26-SA!CQ26)/SA!CQ26","v":-2.2357723577235773E-2},{"$f":"(SA!DD26-SA!CR26)/SA!CR26","v":-1.8181818181818181E-2},{"$f":"(SA!DE26-SA!CS26)/SA!CS26","v":-2.0120724346076459E-2},{"$f":"(SA!DF26-SA!CT26)/SA!CT26","v":-1.0040160642570281E-2},{"$f":"(SA!DG26-SA!CU26)/SA!CU26","v":6.118143459915612E-2},{"$f":"(SA!DH26-SA!CV26)/SA!CV26","v":8.5836909871244635E-2},{"$f":"(SA!DI26-SA!CW26)/SA!CW26","v":9.3617021276595741E-2},{"$f":"(SA!DJ26-SA!CX26)/SA!CX26","v":8.2802547770700632E-2},{"$f":"(SA!DK26-SA!CY26)/SA!CY26","v":8.2802547770700632E-2},{"$f":"(SA!DL26-SA!CZ26)/SA!CZ26","v":8.5106382978723402E-2},{"$f":"(SA!DM26-SA!DA26)/SA!DA26","v":4.8117154811715482E-2},{"$f":"(SA!DN26-SA!DB26)/SA!DB26","v":5.2521008403361345E-2},{"$f":"(SA!DO26-SA!DC26)/SA!DC26","v":6.6528066528066532E-2},{"$f":"(SA!DP26-SA!DD26)/SA!DD26","v":5.3497942386831275E-2},{"$f":"(SA!DQ26-SA!DE26)/SA!DE26","v":5.3388090349075976E-2},{"$f":"(SA!DR26-SA!DF26)/SA!DF26","v":1.6227180527383367E-2},{"$f":"(SA!DS26-SA!DG26)/SA!DG26","v":-5.9642147117296221E-3},{"$f":"(SA!DT26-SA!DH26)/SA!DH26","v":-1.5810276679841896E-2},{"$f":"(SA!DU26-SA!DI26)/SA!DI26","v":-3.6964980544747082E-2},{"$f":"(SA!DV26-SA!DJ26)/SA!DJ26","v":-2.1568627450980392E-2},{"$f":"(SA!DW26-SA!DK26)/SA!DK26","v":-1.9607843137254902E-2},{"$f":"(SA!DX26-SA!DL26)/SA!DL26","v":-1.7647058823529412E-2},{"$f":"(SA!DY26-SA!DM26)/SA!DM26","v":-1.5968063872255488E-2},{"$f":"(SA!DZ26-SA!DN26)/SA!DN26","v":-2.9940119760479042E-2},{"$f":"(SA!EA26-SA!DO26)/SA!DO26","v":-2.9239766081871343E-2},{"$f":"(SA!EB26-SA!DP26)/SA!DP26","v":-7.8125E-3},{"$f":"(SA!EC26-SA!DQ26)/SA!DQ26","v":3.8986354775828458E-3},{"$f":"(SA!ED26-SA!DR26)/SA!DR26","v":5.9880239520958087E-3},{"$f":"(SA!EE26-SA!DS26)/SA!DS26","v":-6.0000000000000001E-3},{"$f":"(SA!EF26-SA!DT26)/SA!DT26","v":-8.0321285140562242E-3},{"$f":"(SA!EG26-SA!DU26)/SA!DU26","v":-2.0202020202020202E-3},{"$f":"(SA!EH26-SA!DV26)/SA!DV26","v":-6.0120240480961923E-3},{"$f":"(SA!EI26-SA!DW26)/SA!DW26","v":-1.6E-2},{"$f":"(SA!EJ26-SA!DX26)/SA!DX26","v":-3.5928143712574849E-2},{"$f":"(SA!EK26-SA!DY26)/SA!DY26","v":8.1135902636916835E-3},{"$f":"(SA!EL26-SA!DZ26)/SA!DZ26","v":3.0864197530864196E-2},{"$f":"(SA!EM26-SA!EA26)/SA!EA26","v":2.008032128514056E-3},{"$f":"(SA!EN26-SA!EB26)/SA!EB26","v":-7.874015748031496E-3},{"$f":"(SA!EO26-SA!EC26)/SA!EC26","v":-1.7475728155339806E-2},{"$f":"(SA!EP26-SA!ED26)/SA!ED26","v":3.968253968253968E-3},{"$f":"(SA!EQ26-SA!EE26)/SA!EE26","v":2.0120724346076459E-2},{"$f":"(SA!ER26-SA!EF26)/SA!EF26","v":3.0364372469635626E-2},{"$f":"(SA!ES26-SA!EG26)/SA!EG26","v":2.8340080971659919E-2},{"$f":"(SA!ET26-SA!EH26)/SA!EH26","v":2.0161290322580645E-3},{"$f":"(SA!EU26-SA!EI26)/SA!EI26","v":1.2195121951219513E-2},{"$f":"(SA!EV26-SA!EJ26)/SA!EJ26","v":3.9337474120082816E-2},{"$f":"(SA!EW26-SA!EK26)/SA!EK26","v":1.2072434607645875E-2},{"$f":"(SA!EX26-SA!EL26)/SA!EL26","v":7.9840319361277438E-3},{"$f":"(SA!EY26-SA!EM26)/SA!EM26","v":6.0120240480961923E-3},{"$f":"(SA!EZ26-SA!EN26)/SA!EN26","v":-8.3333333333333329E-2},{"$f":"(SA!FA26-SA!EO26)/SA!EO26","v":-4.9407114624505928E-2},{"$f":"(SA!FB26-SA!EP26)/SA!EP26","v":-2.3715415019762844E-2},{"$f":"(SA!FC26-SA!EQ26)/SA!EQ26","v":-1.1834319526627219E-2},{"$f":"(SA!FD26-SA!ER26)/SA!ER26","v":-1.5717092337917484E-2},{"$f":"(SA!FE26-SA!ES26)/SA!ES26","v":-9.8425196850393699E-3},{"$f":"(SA!FF26-SA!ET26)/SA!ET26","v":-2.012072434607646E-3},{"$f":"(SA!FG26-SA!EU26)/SA!EU26","v":-2.008032128514056E-3},{"$f":"(SA!FH26-SA!EV26)/SA!EV26","v":-7.9681274900398405E-3},{"$f":"(SA!FI26-SA!EW26)/SA!EW26","v":-1.3916500994035786E-2},{"$f":"(SA!FJ26-SA!EX26)/SA!EX26","v":-1.782178217821782E-2},{"$f":"(SA!FK26-SA!EY26)/SA!EY26","v":-1.3944223107569721E-2},{"$f":"(SA!FL26-SA!EZ26)/SA!EZ26","v":6.9264069264069264E-2},{"$f":"(SA!FM26-SA!FA26)/SA!FA26","v":3.3264033264033266E-2},{"$f":"(SA!FN26-SA!FB26)/SA!FB26","v":6.0728744939271256E-3},{"$f":"(SA!FO26-SA!FC26)/SA!FC26","v":-3.9920159680638719E-3},{"$f":"(SA!FP26-SA!FD26)/SA!FD26","v":-3.9920159680638719E-3},{"$f":"(SA!FQ26-SA!FE26)/SA!FE26","v":-1.1928429423459244E-2},{"$f":"(SA!FR26-SA!FF26)/SA!FF26","v":8.0645161290322578E-3},{"$f":"(SA!FS26-SA!FG26)/SA!FG26","v":0},{"$f":"(SA!FT26-SA!FH26)/SA!FH26","v":-2.008032128514056E-3},{"$f":"(SA!FU26-SA!FI26)/SA!FI26","v":4.0322580645161289E-3},{"$f":"(SA!FV26-SA!FJ26)/SA!FJ26","v":1.0080645161290322E-2},{"$f":"(SA!FW26-SA!FK26)/SA!FK26","v":6.0606060606060606E-3},{"$f":"(SA!FX26-SA!FL26)/SA!FL26","v":1.2145748987854251E-2},{"$f":"(SA!FY26-SA!FM26)/SA!FM26","v":8.0482897384305842E-3},{"$f":"(SA!FZ26-SA!FN26)/SA!FN26","v":8.0482897384305842E-3},{"$f":"(SA!GA26-SA!FO26)/SA!FO26","v":0},{"$f":"(SA!GB26-SA!FP26)/SA!FP26","v":-2.004008016032064E-3},{"$f":"(SA!GC26-SA!FQ26)/SA!FQ26","v":1.0060362173038229E-2},{"$f":"(SA!GD26-SA!FR26)/SA!FR26","v":0},{"$f":"(SA!GE26-SA!FS26)/SA!FS26","v":1.0060362173038229E-2},{"$f":"(SA!GF26-SA!FT26)/SA!FT26","v":1.2072434607645875E-2},{"$f":"(SA!GG26-SA!FU26)/SA!FU26","v":6.024096385542169E-3},{"$f":"(SA!GH26-SA!FV26)/SA!FV26","v":1.996007984031936E-3},{"$f":"(SA!GI26-SA!FW26)/SA!FW26","v":6.024096385542169E-3},{"$f":"(SA!GJ26-SA!FX26)/SA!FX26","v":0.01},{"$f":"(SA!GK26-SA!FY26)/SA!FY26","v":-3.9920159680638719E-3},{"$f":"(SA!GL26-SA!FZ26)/SA!FZ26","v":0},{"$f":"(SA!GM26-SA!GA26)/SA!GA26","v":8.0160320641282558E-3},{"$f":"(SA!GN26-SA!GB26)/SA!GB26","v":1.2048192771084338E-2},{"$f":"(SA!GO26-SA!GC26)/SA!GC26","v":1.9920318725099601E-3},{"$f":"(SA!GP26-SA!GD26)/SA!GD26","v":6.0000000000000001E-3},{"$f":"(SA!GQ26-SA!GE26)/SA!GE26","v":-1.9920318725099601E-3},{"$f":"(SA!GR26-SA!GF26)/SA!GF26","v":0},{"$f":"(SA!GS26-SA!GG26)/SA!GG26","v":9.9800399201596807E-3},{"$f":"(SA!GT26-SA!GH26)/SA!GH26","v":7.9681274900398405E-3},{"$f":"(SA!GU26-SA!GI26)/SA!GI26","v":1.1976047904191617E-2},{"$f":"(SA!GV26-SA!GJ26)/SA!GJ26","v":7.9207920792079209E-3},{"$f":"(SA!GW26-SA!GK26)/SA!GK26","v":1.6032064128256512E-2},{"$f":"(SA!GX26-SA!GL26)/SA!GL26","v":9.9800399201596807E-3},{"$f":"(SA!GY26-SA!GM26)/SA!GM26","v":5.9642147117296221E-3},{"$f":"(SA!GZ26-SA!GN26)/SA!GN26","v":3.968253968253968E-3},{"$f":"(SA!HA26-SA!GO26)/SA!GO26","v":5.9642147117296221E-3},{"$f":"(SA!HB26-SA!GP26)/SA!GP26","v":7.9522862823061622E-3},{"$f":"(SA!HC26-SA!GQ26)/SA!GQ26","v":1.5968063872255488E-2},{"$f":"(SA!HD26-SA!GR26)/SA!GR26","v":9.9403578528827041E-3},{"$f":"(SA!HE26-SA!GS26)/SA!GS26","v":5.9288537549407111E-3},{"$f":"(SA!HF26-SA!GT26)/SA!GT26","v":-5.9288537549407111E-3},{"$f":"(SA!HG26-SA!GU26)/SA!GU26","v":5.9171597633136093E-3},{"$f":"(SA!HH26-SA!GV26)/SA!GV26","v":-3.929273084479371E-3},{"$f":"(SA!HI26-SA!GW26)/SA!GW26","v":-1.9723865877712033E-3},{"$f":"(SA!HJ26-SA!GX26)/SA!GX26","v":1.1857707509881422E-2},{"$f":"(SA!HK26-SA!GY26)/SA!GY26","v":7.9051383399209481E-3},{"$f":"(SA!HL26-SA!GZ26)/SA!GZ26","v":9.881422924901186E-3},{"$f":"(SA!HM26-SA!HA26)/SA!HA26","v":1.1857707509881422E-2},{"$f":"(SA!HN26-SA!HB26)/SA!HB26","v":9.8619329388560158E-3},{"$f":"(SA!HO26-SA!HC26)/SA!HC26","v":1.768172888015717E-2},{"$f":"(SA!HP26-SA!HD26)/SA!HD26","v":1.5748031496062992E-2},{"$f":"(SA!HQ26-SA!HE26)/SA!HE26","v":7.8585461689587421E-3},{"$f":"(SA!HR26-SA!HF26)/SA!HF26","v":1.3916500994035786E-2},{"$f":"(SA!HS26-SA!HG26)/SA!HG26","v":-5.8823529411764705E-3},{"$f":"(SA!HT26-SA!HH26)/SA!HH26","v":0},{"$f":"(SA!HU26-SA!HI26)/SA!HI26","v":-1.976284584980237E-3},{"$f":"(SA!HV26-SA!HJ26)/SA!HJ26","v":1.5625E-2},{"$f":"(SA!HW26-SA!HK26)/SA!HK26","v":3.3333333333333333E-2},{"$f":"(SA!HX26-SA!HL26)/SA!HL26","v":3.7181996086105673E-2},{"$f":"(SA!HY26-SA!HM26)/SA!HM26","v":3.7109375E-2},{"$f":"(SA!HZ26-SA!HN26)/SA!HN26","v":4.1015625E-2},{"$f":"(SA!IA26-SA!HO26)/SA!HO26","v":1.3513513513513514E-2},{"$f":"(SA!IB26-SA!HP26)/SA!HP26","v":1.7441860465116279E-2},{"$f":"(SA!IC26-SA!HQ26)/SA!HQ26","v":2.7290448343079921E-2},{"$f":"(SA!ID26-SA!HR26)/SA!HR26","v":3.7254901960784313E-2},{"$f":"(SA!IE26-SA!HS26)/SA!HS26","v":4.7337278106508875E-2},{"$f":"(SA!IF26-SA!HT26)/SA!HT26","v":5.128205128205128E-2},{"$f":"(SA!IG26-SA!HU26)/SA!HU26","v":5.3465346534653464E-2},{"$f":"(SA!IH26-SA!HV26)/SA!HV26","v":1.7307692307692309E-2},{"$f":"(SA!II26-SA!HW26)/SA!HW26","v":-7.5901328273244783E-3},{"$f":"(SA!IJ26-SA!HX26)/SA!HX26","v":-1.1320754716981131E-2},{"$f":"(SA!IK26-SA!HY26)/SA!HY26","v":-1.3182674199623353E-2},{"$f":"(SA!IL26-SA!HZ26)/SA!HZ26","v":-1}," n/a ","n/a",null,"Educational Services",-8.3333333333333329E-2,-1.6442718446601945E-2,-2.0104563121702101E-3,6.0012024048096196E-3,8.1086828502257412E-3,1.4505004608097392E-2,2.4019603451210854E-2,9.3617021276595741E-2,2.653117180552024E-2]
["Health Care and Social Assistance",{"$f":"(SA!BN27-SA!BB27)/SA!BB27","v":1.8604651162790697E-2},{"$f":"(SA!BO27-SA!BC27)/SA!BC27","v":1.7641597028783658E-2},{"$f":"(SA!BP27-SA!BD27)/SA!BD27","v":1.8535681186283594E-2},{"$f":"(SA!BQ27-SA!BE27)/SA!BE27","v":1.850709438618137E-2},{"$f":"(SA!BR27-SA!BF27)/SA!BF27","v":1.7846153846153845E-2},{"$f":"(SA!BS27-SA!BG27)/SA!BG27","v":2.001231527093596E-2},{"$f":"(SA!BT27-SA!BH27)/SA!BH27","v":1.9975414874001229E-2},{"$f":"(SA!BU27-SA!BI27)/SA!BI27","v":1.9018404907975461E-2},{"$f":"(SA!BV27-SA!BJ27)/SA!BJ27","v":2.2378908645003064E-2},{"$f":"(SA!BW27-SA!BK27)/SA!BK27","v":2.0807833537331701E-2},{"$f":"(SA!BX27-SA!BL27)/SA!BL27","v":2.1081576535288724E-2},{"$f":"(SA!BY27-SA!BM27)/SA!BM27","v":2.0426829268292684E-2},{"$f":"(SA!BZ27-SA!BN27)/SA!BN27","v":2.1004566210045664E-2},{"$f":"(SA!CA27-SA!BO27)/SA!BO27","v":2.281021897810219E-2},{"$f":"(SA!CB27-SA!BP27)/SA!BP27","v":1.9714892326357293E-2},{"$f":"(SA!CC27-SA!BQ27)/SA!BQ27","v":1.968503937007874E-2},{"$f":"(SA!CD27-SA!BR27)/SA!BR27","v":1.8742442563482467E-2},{"$f":"(SA!CE27-SA!BS27)/SA!BS27","v":1.9619680048294598E-2},{"$f":"(SA!CF27-SA!BT27)/SA!BT27","v":2.0186803253992167E-2},{"$f":"(SA!CG27-SA!BU27)/SA!BU27","v":2.0770620108368453E-2},{"$f":"(SA!CH27-SA!BV27)/SA!BV27","v":1.8890554722638682E-2},{"$f":"(SA!CI27-SA!BW27)/SA!BW27","v":2.1282973621103117E-2},{"$f":"(SA!CJ27-SA!BX27)/SA!BX27","v":1.9150209455415918E-2},{"$f":"(SA!CK27-SA!BY27)/SA!BY27","v":1.8822826411711981E-2},{"$f":"(SA!CL27-SA!BZ27)/SA!BZ27","v":1.6398330351818723E-2},{"$f":"(SA!CM27-SA!CA27)/SA!CA27","v":1.5165031222123104E-2},{"$f":"(SA!CN27-SA!CB27)/SA!CB27","v":1.6359309934562759E-2},{"$f":"(SA!CO27-SA!CC27)/SA!CC27","v":1.6929016929016927E-2},{"$f":"(SA!CP27-SA!CD27)/SA!CD27","v":1.661721068249258E-2},{"$f":"(SA!CQ27-SA!CE27)/SA!CE27","v":1.7761989342806393E-2},{"$f":"(SA!CR27-SA!CF27)/SA!CF27","v":1.6834022445363261E-2},{"$f":"(SA!CS27-SA!CG27)/SA!CG27","v":1.6809200825715128E-2},{"$f":"(SA!CT27-SA!CH27)/SA!CH27","v":1.7657445556209534E-2},{"$f":"(SA!CU27-SA!CI27)/SA!CI27","v":1.5262694452597593E-2},{"$f":"(SA!CV27-SA!CJ27)/SA!CJ27","v":1.6735173223722841E-2},{"$f":"(SA!CW27-SA!CK27)/SA!CK27","v":1.7888563049853371E-2},{"$f":"(SA!CX27-SA!CL27)/SA!CL27","v":1.9360516280434146E-2},{"$f":"(SA!CY27-SA!CM27)/SA!CM27","v":1.9039250146455772E-2},{"$f":"(SA!CZ27-SA!CN27)/SA!CN27","v":2.0485806262803628E-2},{"$f":"(SA!DA27-SA!CO27)/SA!CO27","v":1.9567757009345793E-2},{"$f":"(SA!DB27-SA!CP27)/SA!CP27","v":2.1015761821366025E-2},{"$f":"(SA!DC27-SA!CQ27)/SA!CQ27","v":1.9197207678883072E-2},{"$f":"(SA!DD27-SA!CR27)/SA!CR27","v":1.9169329073482427E-2},{"$f":"(SA!DE27-SA!CS27)/SA!CS27","v":1.9721577726218097E-2},{"$f":"(SA!DF27-SA!CT27)/SA!CT27","v":1.8218623481781375E-2},{"$f":"(SA!DG27-SA!CU27)/SA!CU27","v":1.9658860942468923E-2},{"$f":"(SA!DH27-SA!CV27)/SA!CV27","v":2.1368755414380596E-2},{"$f":"(SA!DI27-SA!CW27)/SA!CW27","v":2.1895707288965716E-2},{"$f":"(SA!DJ27-SA!CX27)/SA!CX27","v":1.9568345323741007E-2},{"$f":"(SA!DK27-SA!CY27)/SA!CY27","v":2.0695602184535786E-2},{"$f":"(SA!DL27-SA!CZ27)/SA!CZ27","v":1.9214224261542873E-2},{"$f":"(SA!DM27-SA!DA27)/SA!DA27","v":1.8332855915210541E-2},{"$f":"(SA!DN27-SA!DB27)/SA!DB27","v":1.8010291595197257E-2},{"$f":"(SA!DO27-SA!DC27)/SA!DC27","v":1.7123287671232876E-2},{"$f":"(SA!DP27-SA!DD27)/SA!DD27","v":1.4534055286406384E-2},{"$f":"(SA!DQ27-SA!DE27)/SA!DE27","v":1.3651877133105802E-2},{"$f":"(SA!DR27-SA!DF27)/SA!DF27","v":1.1076398750355012E-2},{"$f":"(SA!DS27-SA!DG27)/SA!DG27","v":1.1908137227105188E-2},{"$f":"(SA!DT27-SA!DH27)/SA!DH27","v":8.1990387333898788E-3},{"$f":"(SA!DU27-SA!DI27)/SA!DI27","v":4.22892585283338E-3},{"$f":"(SA!DV27-SA!DJ27)/SA!DJ27","v":9.5963872424499018E-3},{"$f":"(SA!DW27-SA!DK27)/SA!DK27","v":8.1667136018023084E-3},{"$f":"(SA!DX27-SA!DL27)/SA!DL27","v":8.7225661226786721E-3},{"$f":"(SA!DY27-SA!DM27)/SA!DM27","v":3.0942334739803095E-3},{"$f":"(SA!DZ27-SA!DN27)/SA!DN27","v":2.2465599550688009E-3},{"$f":"(SA!EA27-SA!DO27)/SA!DO27","v":1.4029180695847362E-3},{"$f":"(SA!EB27-SA!DP27)/SA!DP27","v":3.9325842696629216E-3},{"$f":"(SA!EC27-SA!DQ27)/SA!DQ27","v":3.3670033670033669E-3},{"$f":"(SA!ED27-SA!DR27)/SA!DR27","v":2.5280898876404493E-3},{"$f":"(SA!EE27-SA!DS27)/SA!DS27","v":3.3622863547212102E-3},{"$f":"(SA!EF27-SA!DT27)/SA!DT27","v":5.3280987100392599E-3},{"$f":"(SA!EG27-SA!DU27)/SA!DU27","v":7.0185289163391352E-3},{"$f":"(SA!EH27-SA!DV27)/SA!DV27","v":2.516074923119933E-3},{"$f":"(SA!EI27-SA!DW27)/SA!DW27","v":2.2346368715083797E-3},{"$f":"(SA!EJ27-SA!DX27)/SA!DX27","v":8.3682008368200832E-4},{"$f":"(SA!EK27-SA!DY27)/SA!DY27","v":9.2540661805945029E-3},{"$f":"(SA!EL27-SA!DZ27)/SA!DZ27","v":8.6859064163631265E-3},{"$f":"(SA!EM27-SA!EA27)/SA!EA27","v":1.0086859064163631E-2},{"$f":"(SA!EN27-SA!EB27)/SA!EB27","v":1.0072747621712367E-2},{"$f":"(SA!EO27-SA!EC27)/SA!EC27","v":8.948545861297539E-3},{"$f":"(SA!EP27-SA!ED27)/SA!ED27","v":1.4569907537125245E-2},{"$f":"(SA!EQ27-SA!EE27)/SA!EE27","v":1.1728567439262776E-2},{"$f":"(SA!ER27-SA!EF27)/SA!EF27","v":1.1436541143654114E-2},{"$f":"(SA!ES27-SA!EG27)/SA!EG27","v":1.366044047950934E-2},{"$f":"(SA!ET27-SA!EH27)/SA!EH27","v":1.8126045733407696E-2},{"$f":"(SA!EU27-SA!EI27)/SA!EI27","v":1.950947603121516E-2},{"$f":"(SA!EV27-SA!EJ27)/SA!EJ27","v":2.1181716833890748E-2},{"$f":"(SA!EW27-SA!EK27)/SA!EK27","v":1.9449847179772158E-2},{"$f":"(SA!EX27-SA!EL27)/SA!EL27","v":1.8888888888888889E-2},{"$f":"(SA!EY27-SA!EM27)/SA!EM27","v":2.0249653259361997E-2},{"$f":"(SA!EZ27-SA!EN27)/SA!EN27","v":2.2160664819944598E-2},{"$f":"(SA!FA27-SA!EO27)/SA!EO27","v":2.4113082039911308E-2},{"$f":"(SA!FB27-SA!EP27)/SA!EP27","v":2.3474178403755867E-2},{"$f":"(SA!FC27-SA!EQ27)/SA!EQ27","v":2.5945349158156224E-2},{"$f":"(SA!FD27-SA!ER27)/SA!ER27","v":2.5648097076668507E-2},{"$f":"(SA!FE27-SA!ES27)/SA!ES27","v":2.4202420242024202E-2},{"$f":"(SA!FF27-SA!ET27)/SA!ET27","v":1.8898931799506986E-2},{"$f":"(SA!FG27-SA!EU27)/SA!EU27","v":1.8316019682886823E-2},{"$f":"(SA!FH27-SA!EV27)/SA!EV27","v":1.7740174672489083E-2},{"$f":"(SA!FI27-SA!EW27)/SA!EW27","v":1.6898337421640774E-2},{"$f":"(SA!FJ27-SA!EX27)/SA!EX27","v":1.9629225736095966E-2},{"$f":"(SA!FK27-SA!EY27)/SA!EY27","v":1.6585100598151169E-2},{"$f":"(SA!FL27-SA!EZ27)/SA!EZ27","v":1.4092140921409214E-2},{"$f":"(SA!FM27-SA!FA27)/SA!FA27","v":1.5967523680649527E-2},{"$f":"(SA!FN27-SA!FB27)/SA!FB27","v":1.4031300593631947E-2},{"$f":"(SA!FO27-SA!FC27)/SA!FC27","v":1.1837503362927092E-2},{"$f":"(SA!FP27-SA!FD27)/SA!FD27","v":1.2637805861790804E-2},{"$f":"(SA!FQ27-SA!FE27)/SA!FE27","v":1.0741138560687433E-2},{"$f":"(SA!FR27-SA!FF27)/SA!FF27","v":1.5860215053763442E-2},{"$f":"(SA!FS27-SA!FG27)/SA!FG27","v":1.5838926174496646E-2},{"$f":"(SA!FT27-SA!FH27)/SA!FH27","v":1.6090104585679808E-2},{"$f":"(SA!FU27-SA!FI27)/SA!FI27","v":1.6885553470919325E-2},{"$f":"(SA!FV27-SA!FJ27)/SA!FJ27","v":1.4705882352941176E-2},{"$f":"(SA!FW27-SA!FK27)/SA!FK27","v":1.8186680930730142E-2},{"$f":"(SA!FX27-SA!FL27)/SA!FL27","v":1.7370390165686797E-2},{"$f":"(SA!FY27-SA!FM27)/SA!FM27","v":1.5716568993074054E-2},{"$f":"(SA!FZ27-SA!FN27)/SA!FN27","v":1.5965939329430547E-2},{"$f":"(SA!GA27-SA!FO27)/SA!FO27","v":1.5155543738367456E-2},{"$f":"(SA!GB27-SA!FP27)/SA!FP27","v":1.7259691980881571E-2},{"$f":"(SA!GC27-SA!FQ27)/SA!FQ27","v":1.7800212539851222E-2},{"$f":"(SA!GD27-SA!FR27)/SA!FR27","v":1.2701772955808415E-2},{"$f":"(SA!GE27-SA!FS27)/SA!FS27","v":1.3213530655391121E-2},{"$f":"(SA!GF27-SA!FT27)/SA!FT27","v":1.4251781472684086E-2},{"$f":"(SA!GG27-SA!FU27)/SA!FU27","v":1.2915129151291513E-2},{"$f":"(SA!GH27-SA!FV27)/SA!FV27","v":1.5810276679841896E-2},{"$f":"(SA!GI27-SA!FW27)/SA!FW27","v":1.3133701076963489E-2},{"$f":"(SA!GJ27-SA!FX27)/SA!FX27","v":1.4972419227738377E-2},{"$f":"(SA!GK27-SA!FY27)/SA!FY27","v":1.3899816417519015E-2},{"$f":"(SA!GL27-SA!FZ27)/SA!FZ27","v":1.2572027239392353E-2},{"$f":"(SA!GM27-SA!GA27)/SA!GA27","v":1.5976951283394446E-2},{"$f":"(SA!GN27-SA!GB27)/SA!GB27","v":1.4617593317671627E-2},{"$f":"(SA!GO27-SA!GC27)/SA!GC27","v":1.7488906290785696E-2},{"$f":"(SA!GP27-SA!GD27)/SA!GD27","v":2.1165403710478183E-2},{"$f":"(SA!GQ27-SA!GE27)/SA!GE27","v":2.2170057381324985E-2},{"$f":"(SA!GR27-SA!GF27)/SA!GF27","v":2.0556856622430394E-2},{"$f":"(SA!GS27-SA!GG27)/SA!GG27","v":2.3419203747072601E-2},{"$f":"(SA!GT27-SA!GH27)/SA!GH27","v":2.1011673151750974E-2},{"$f":"(SA!GU27-SA!GI27)/SA!GI27","v":1.9704433497536946E-2},{"$f":"(SA!GV27-SA!GJ27)/SA!GJ27","v":2.3809523809523808E-2},{"$f":"(SA!GW27-SA!GK27)/SA!GK27","v":2.3279875840662184E-2},{"$f":"(SA!GX27-SA!GL27)/SA!GL27","v":2.5090532850491464E-2},{"$f":"(SA!GY27-SA!GM27)/SA!GM27","v":2.139726733694251E-2},{"$f":"(SA!GZ27-SA!GN27)/SA!GN27","v":2.0324157447903269E-2},{"$f":"(SA!HA27-SA!GO27)/SA!GO27","v":1.693175987685993E-2},{"$f":"(SA!HB27-SA!GP27)/SA!GP27","v":1.7656090071647902E-2},{"$f":"(SA!HC27-SA!GQ27)/SA!GQ27","v":1.5820362337330952E-2},{"$f":"(SA!HD27-SA!GR27)/SA!GR27","v":1.6063233044365119E-2},{"$f":"(SA!HE27-SA!GS27)/SA!GS27","v":1.3475718281210271E-2},{"$f":"(SA!HF27-SA!GT27)/SA!GT27","v":1.2449186991869919E-2},{"$f":"(SA!HG27-SA!GU27)/SA!GU27","v":1.8052377320111872E-2},{"$f":"(SA!HH27-SA!GV27)/SA!GV27","v":1.0869565217391304E-2},{"$f":"(SA!HI27-SA!GW27)/SA!GW27","v":1.1880687563195146E-2},{"$f":"(SA!HJ27-SA!GX27)/SA!GX27","v":9.0840272520817562E-3},{"$f":"(SA!HK27-SA!GY27)/SA!GY27","v":1.6153457849570924E-2},{"$f":"(SA!HL27-SA!GZ27)/SA!GZ27","v":1.1598587997982855E-2},{"$f":"(SA!HM27-SA!HA27)/SA!HA27","v":1.3622603430877902E-2},{"$f":"(SA!HN27-SA!HB27)/SA!HB27","v":1.1566507417651497E-2},{"$f":"(SA!HO27-SA!HC27)/SA!HC27","v":9.2941471991961812E-3},{"$f":"(SA!HP27-SA!HD27)/SA!HD27","v":7.2772898368883314E-3},{"$f":"(SA!HQ27-SA!HE27)/SA!HE27","v":5.5193176116407425E-3},{"$f":"(SA!HR27-SA!HF27)/SA!HF27","v":5.269761606022585E-3},{"$f":"(SA!HS27-SA!HG27)/SA!HG27","v":2.247752247752248E-3},{"$f":"(SA!HT27-SA!HH27)/SA!HH27","v":1.2253063265816454E-2},{"$f":"(SA!HU27-SA!HI27)/SA!HI27","v":1.2240819385460905E-2},{"$f":"(SA!HV27-SA!HJ27)/SA!HJ27","v":1.4753688422105527E-2},{"$f":"(SA!HW27-SA!HK27)/SA!HK27","v":7.9483358171882762E-3},{"$f":"(SA!HX27-SA!HL27)/SA!HL27","v":1.4207377866400797E-2},{"$f":"(SA!HY27-SA!HM27)/SA!HM27","v":1.6177202588352414E-2},{"$f":"(SA!HZ27-SA!HN27)/SA!HN27","v":7.4571215510812828E-3},{"$f":"(SA!IA27-SA!HO27)/SA!HO27","v":5.7242409158785468E-3},{"$f":"(SA!IB27-SA!HP27)/SA!HP27","v":2.9895366218236174E-3},{"$f":"(SA!IC27-SA!HQ27)/SA!HQ27","v":1.2475049900199601E-2},{"$f":"(SA!ID27-SA!HR27)/SA!HR27","v":1.6724912631053419E-2},{"$f":"(SA!IE27-SA!HS27)/SA!HS27","v":1.1961126339396959E-2},{"$f":"(SA!IF27-SA!HT27)/SA!HT27","v":0},{"$f":"(SA!IG27-SA!HU27)/SA!HU27","v":-4.935834155972359E-4},{"$f":"(SA!IH27-SA!HV27)/SA!HV27","v":-7.3928043371118777E-4},{"$f":"(SA!II27-SA!HW27)/SA!HW27","v":3.4499753573188764E-3},{"$f":"(SA!IJ27-SA!HX27)/SA!HX27","v":2.7033669206193169E-3},{"$f":"(SA!IK27-SA!HY27)/SA!HY27","v":7.347538574577516E-4},{"$f":"(SA!IL27-SA!HZ27)/SA!HZ27","v":-1}," n/a ","n/a",null,"Health Care and Social Assistance",8.3682008368200832E-4,1.0544854711730292E-2,1.4155997141919162E-2,1.6629006936615606E-2,1.7759807875774664E-2,1.9207417628478954E-2,2.0866853339145886E-2,2.5945349158156224E-2,5.408130502045509E-3]
["Leisure and Hospitality",{"$f":"(SA!BN28-SA!BB28)/SA!BB28","v":1.2429831595829992E-2},{"$f":"(SA!BO28-SA!BC28)/SA!BC28","v":1.8518518518518517E-2},{"$f":"(SA!BP28-SA!BD28)/SA!BD28","v":2.0908725371934056E-2},{"$f":"(SA!BQ28-SA!BE28)/SA!BE28","v":3.0861723446893786E-2},{"$f":"(SA!BR28-SA!BF28)/SA!BF28","v":2.0816653322658127E-2},{"$f":"(SA!BS28-SA!BG28)/SA!BG28","v":2.2498995580554439E-2},{"$f":"(SA!BT28-SA!BH28)/SA!BH28","v":1.1093502377179081E-2},{"$f":"(SA!BU28-SA!BI28)/SA!BI28","v":1.3074484944532488E-2},{"$f":"(SA!BV28-SA!BJ28)/SA!BJ28","v":1.665344964314025E-2},{"$f":"(SA!BW28-SA!BK28)/SA!BK28","v":8.2938388625592423E-3},{"$f":"(SA!BX28-SA!BL28)/SA!BL28","v":1.5829046299960427E-2},{"$f":"(SA!BY28-SA!BM28)/SA!BM28","v":1.2243285939968405E-2},{"$f":"(SA!BZ28-SA!BN28)/SA!BN28","v":2.1782178217821781E-2},{"$f":"(SA!CA28-SA!BO28)/SA!BO28","v":2.3715415019762844E-2},{"$f":"(SA!CB28-SA!BP28)/SA!BP28","v":2.3237495076801892E-2},{"$f":"(SA!CC28-SA!BQ28)/SA!BQ28","v":1.0497667185069871E-2},{"$f":"(SA!CD28-SA!BR28)/SA!BR28","v":1.0980392156862745E-2},{"$f":"(SA!CE28-SA!BS28)/SA!BS28","v":1.6110019646365537E-2},{"$f":"(SA!CF28-SA!BT28)/SA!BT28","v":1.6457680250783584E-2},{"$f":"(SA!CG28-SA!BU28)/SA!BU28","v":1.5643332029722332E-2},{"$f":"(SA!CH28-SA!BV28)/SA!BV28","v":1.2480499219969026E-2},{"$f":"(SA!CI28-SA!BW28)/SA!BW28","v":2.1151586368977675E-2},{"$f":"(SA!CJ28-SA!BX28)/SA!BX28","v":1.4803272302298403E-2},{"$f":"(SA!CK28-SA!BY28)/SA!BY28","v":1.9898556379242961E-2},{"$f":"(SA!CL28-SA!BZ28)/SA!BZ28","v":1.6666666666666666E-2},{"$f":"(SA!CM28-SA!CA28)/SA!CA28","v":1.3899613899613899E-2},{"$f":"(SA!CN28-SA!CB28)/SA!CB28","v":1.1162432640492687E-2},{"$f":"(SA!CO28-SA!CC28)/SA!CC28","v":6.1562139284341254E-3},{"$f":"(SA!CP28-SA!CD28)/SA!CD28","v":1.5128006206361521E-2},{"$f":"(SA!CQ28-SA!CE28)/SA!CE28","v":1.4694508894044743E-2},{"$f":"(SA!CR28-SA!CF28)/SA!CF28","v":7.7101002313030081E-3},{"$f":"(SA!CS28-SA!CG28)/SA!CG28","v":8.856372737774355E-3},{"$f":"(SA!CT28-SA!CH28)/SA!CH28","v":2.6964560862864822E-3},{"$f":"(SA!CU28-SA!CI28)/SA!CI28","v":4.9865746068277718E-3},{"$f":"(SA!CV28-SA!CJ28)/SA!CJ28","v":8.4452975047984644E-3},{"$f":"(SA!CW28-SA!CK28)/SA!CK28","v":3.4429992348891706E-3},{"$f":"(SA!CX28-SA!CL28)/SA!CL28","v":-1.9062142584826535E-3},{"$f":"(SA!CY28-SA!CM28)/SA!CM28","v":-5.7121096725056015E-3},{"$f":"(SA!CZ28-SA!CN28)/SA!CN28","v":-6.8519223448802024E-3},{"$f":"(SA!DA28-SA!CO28)/SA!CO28","v":-4.5889101338432124E-3},{"$f":"(SA!DB28-SA!CP28)/SA!CP28","v":-6.1138708444782993E-3},{"$f":"(SA!DC28-SA!CQ28)/SA!CQ28","v":-1.1051829268292682E-2},{"$f":"(SA!DD28-SA!CR28)/SA!CR28","v":-8.0336648814076945E-3},{"$f":"(SA!DE28-SA!CS28)/SA!CS28","v":-1.2595419847328244E-2},{"$f":"(SA!DF28-SA!CT28)/SA!CT28","v":-8.4517864003072259E-3},{"$f":"(SA!DG28-SA!CU28)/SA!CU28","v":-1.297709923664111E-2},{"$f":"(SA!DH28-SA!CV28)/SA!CV28","v":-1.8271792919680355E-2},{"$f":"(SA!DI28-SA!CW28)/SA!CW28","v":-2.0205871139916128E-2},{"$f":"(SA!DJ28-SA!CX28)/SA!CX28","v":-2.6737967914438502E-2},{"$f":"(SA!DK28-SA!CY28)/SA!CY28","v":-2.2596706242818954E-2},{"$f":"(SA!DL28-SA!CZ28)/SA!CZ28","v":-2.568033729398226E-2},{"$f":"(SA!DM28-SA!DA28)/SA!DA28","v":-2.9965424510180562E-2},{"$f":"(SA!DN28-SA!DB28)/SA!DB28","v":-1.9223375624759818E-2},{"$f":"(SA!DO28-SA!DC28)/SA!DC28","v":-2.1579961464354529E-2},{"$f":"(SA!DP28-SA!DD28)/SA!DD28","v":-2.699575780948708E-2},{"$f":"(SA!DQ28-SA!DE28)/SA!DE28","v":-2.8604561267877852E-2},{"$f":"(SA!DR28-SA!DF28)/SA!DF28","v":-2.5184037194885812E-2},{"$f":"(SA!DS28-SA!DG28)/SA!DG28","v":-3.2095901005413874E-2},{"$f":"(SA!DT28-SA!DH28)/SA!DH28","v":-2.9856533540131725E-2},{"$f":"(SA!DU28-SA!DI28)/SA!DI28","v":-2.7237354085603113E-2},{"$f":"(SA!DV28-SA!DJ28)/SA!DJ28","v":-1.5698587127158554E-2},{"$f":"(SA!DW28-SA!DK28)/SA!DK28","v":-2.0768025078369907E-2},{"$f":"(SA!DX28-SA!DL28)/SA!DL28","v":-1.7702596380802519E-2},{"$f":"(SA!DY28-SA!DM28)/SA!DM28","v":-2.7722772277227721E-3},{"$f":"(SA!DZ28-SA!DN28)/SA!DN28","v":-1.528812230497844E-2},{"$f":"(SA!EA28-SA!DO28)/SA!DO28","v":-1.3391098857818039E-2},{"$f":"(SA!EB28-SA!DP28)/SA!DP28","v":-2.7744748315497426E-3},{"$f":"(SA!EC28-SA!DQ28)/SA!DQ28","v":3.9793076004775172E-3},{"$f":"(SA!ED28-SA!DR28)/SA!DR28","v":7.9491255961844202E-4},{"$f":"(SA!EE28-SA!DS28)/SA!DS28","v":9.5884938074310821E-3},{"$f":"(SA!EF28-SA!DT28)/SA!DT28","v":1.0791366906474821E-2},{"$f":"(SA!EG28-SA!DU28)/SA!DU28","v":1.12E-2},{"$f":"(SA!EH28-SA!DV28)/SA!DV28","v":5.9808612440191387E-3},{"$f":"(SA!EI28-SA!DW28)/SA!DW28","v":6.4025610244097643E-3},{"$f":"(SA!EJ28-SA!DX28)/SA!DX28","v":5.2062474969963961E-3},{"$f":"(SA!EK28-SA!DY28)/SA!DY28","v":0},{"$f":"(SA!EL28-SA!DZ28)/SA!DZ28","v":1.1942675159235668E-3},{"$f":"(SA!EM28-SA!EA28)/SA!EA28","v":5.5888223552894214E-3},{"$f":"(SA!EN28-SA!EB28)/SA!EB28","v":4.3720190779014305E-3},{"$f":"(SA!EO28-SA!EC28)/SA!EC28","v":4.3598890210067376E-3},{"$f":"(SA!EP28-SA!ED28)/SA!ED28","v":6.354249404289118E-3},{"$f":"(SA!EQ28-SA!EE28)/SA!EE28","v":4.7487138899881282E-3},{"$f":"(SA!ER28-SA!EF28)/SA!EF28","v":1.9770660340055358E-3},{"$f":"(SA!ES28-SA!EG28)/SA!EG28","v":3.9556962025316455E-4},{"$f":"(SA!ET28-SA!EH28)/SA!EH28","v":7.5307173999207295E-3},{"$f":"(SA!EU28-SA!EI28)/SA!EI28","v":1.3121272365805169E-2},{"$f":"(SA!EV28-SA!EJ28)/SA!EJ28","v":2.3107569721115537E-2},{"$f":"(SA!EW28-SA!EK28)/SA!EK28","v":2.5416997617156472E-2},{"$f":"(SA!EX28-SA!EL28)/SA!EL28","v":2.027833001988083E-2},{"$f":"(SA!EY28-SA!EM28)/SA!EM28","v":2.2628026994839338E-2},{"$f":"(SA!EZ28-SA!EN28)/SA!EN28","v":1.8599129402453386E-2},{"$f":"(SA!FA28-SA!EO28)/SA!EO28","v":1.3812154696132482E-2},{"$f":"(SA!FB28-SA!EP28)/SA!EP28","v":1.8942383583267563E-2},{"$f":"(SA!FC28-SA!EQ28)/SA!EQ28","v":1.2209531311539977E-2},{"$f":"(SA!FD28-SA!ER28)/SA!ER28","v":1.5390686661404893E-2},{"$f":"(SA!FE28-SA!ES28)/SA!ES28","v":2.1352313167259787E-2},{"$f":"(SA!FF28-SA!ET28)/SA!ET28","v":1.8095987411487019E-2},{"$f":"(SA!FG28-SA!EU28)/SA!EU28","v":1.726844583987441E-2},{"$f":"(SA!FH28-SA!EV28)/SA!EV28","v":9.7352024922118374E-3},{"$f":"(SA!FI28-SA!EW28)/SA!EW28","v":-3.4856700232378003E-3},{"$f":"(SA!FJ28-SA!EX28)/SA!EX28","v":1.5588464536243178E-2},{"$f":"(SA!FK28-SA!EY28)/SA!EY28","v":1.1257763975155165E-2},{"$f":"(SA!FL28-SA!EZ28)/SA!EZ28","v":1.5540015540015542E-2},{"$f":"(SA!FM28-SA!FA28)/SA!FA28","v":2.2966134682756052E-2},{"$f":"(SA!FN28-SA!FB28)/SA!FB28","v":2.0139426800929512E-2},{"$f":"(SA!FO28-SA!FC28)/SA!FC28","v":2.4124513618677044E-2},{"$f":"(SA!FP28-SA!FD28)/SA!FD28","v":2.3707734162456275E-2},{"$f":"(SA!FQ28-SA!FE28)/SA!FE28","v":2.0905923344947737E-2},{"$f":"(SA!FR28-SA!FF28)/SA!FF28","v":1.5842349304482226E-2},{"$f":"(SA!FS28-SA!FG28)/SA!FG28","v":1.5046296296296295E-2},{"$f":"(SA!FT28-SA!FH28)/SA!FH28","v":1.3112225221750868E-2},{"$f":"(SA!FU28-SA!FI28)/SA!FI28","v":2.1375825884181889E-2},{"$f":"(SA!FV28-SA!FJ28)/SA!FJ28","v":1.1895625479662204E-2},{"$f":"(SA!FW28-SA!FK28)/SA!FK28","v":1.6506717850287907E-2},{"$f":"(SA!FX28-SA!FL28)/SA!FL28","v":6.5034429992350011E-3},{"$f":"(SA!FY28-SA!FM28)/SA!FM28","v":4.5662100456621002E-3},{"$f":"(SA!FZ28-SA!FN28)/SA!FN28","v":3.0372057706909645E-3},{"$f":"(SA!GA28-SA!FO28)/SA!FO28","v":5.6990881458966565E-3},{"$f":"(SA!GB28-SA!FP28)/SA!FP28","v":8.7319665907365229E-3},{"$f":"(SA!GC28-SA!FQ28)/SA!FQ28","v":1.0238907849829351E-2},{"$f":"(SA!GD28-SA!FR28)/SA!FR28","v":1.7877519969570179E-2},{"$f":"(SA!GE28-SA!FS28)/SA!FS28","v":1.6723679209426075E-2},{"$f":"(SA!GF28-SA!FT28)/SA!FT28","v":2.3601065854586982E-2},{"$f":"(SA!GG28-SA!FU28)/SA!FU28","v":2.4733637747336376E-2},{"$f":"(SA!GH28-SA!FV28)/SA!FV28","v":2.3890784982935155E-2},{"$f":"(SA!GI28-SA!FW28)/SA!FW28","v":2.1525679758308158E-2},{"$f":"(SA!GJ28-SA!FX28)/SA!FX28","v":2.6605853287723299E-2},{"$f":"(SA!GK28-SA!FY28)/SA!FY28","v":2.6893939393939394E-2},{"$f":"(SA!GL28-SA!FZ28)/SA!FZ28","v":2.838758516275549E-2},{"$f":"(SA!GM28-SA!GA28)/SA!GA28","v":3.2111824707215714E-2},{"$f":"(SA!GN28-SA!GB28)/SA!GB28","v":3.5001881821603312E-2},{"$f":"(SA!GO28-SA!GC28)/SA!GC28","v":3.1531531531531529E-2},{"$f":"(SA!GP28-SA!GD28)/SA!GD28","v":2.6905829596412557E-2},{"$f":"(SA!GQ28-SA!GE28)/SA!GE28","v":3.02803738317757E-2},{"$f":"(SA!GR28-SA!GF28)/SA!GF28","v":2.3056898475269618E-2},{"$f":"(SA!GS28-SA!GG28)/SA!GG28","v":2.2651318232454511E-2},{"$f":"(SA!GT28-SA!GH28)/SA!GH28","v":1.9629629629629629E-2},{"$f":"(SA!GU28-SA!GI28)/SA!GI28","v":1.3678373382624769E-2},{"$f":"(SA!GV28-SA!GJ28)/SA!GJ28","v":2.1473528322843393E-2},{"$f":"(SA!GW28-SA!GK28)/SA!GK28","v":2.0656584286241238E-2},{"$f":"(SA!GX28-SA!GL28)/SA!GL28","v":2.0242914979757085E-2},{"$f":"(SA!GY28-SA!GM28)/SA!GM28","v":1.6837481698389459E-2},{"$f":"(SA!GZ28-SA!GN28)/SA!GN28","v":8.7272727272727276E-3},{"$f":"(SA!HA28-SA!GO28)/SA!GO28","v":9.4614264919941782E-3},{"$f":"(SA!HB28-SA!GP28)/SA!GP28","v":1.8922852983988356E-2},{"$f":"(SA!HC28-SA!GQ28)/SA!GQ28","v":1.7779390420899856E-2},{"$f":"(SA!HD28-SA!GR28)/SA!GR28","v":2.1810250817884406E-2},{"$f":"(SA!HE28-SA!GS28)/SA!GS28","v":1.4524328249818447E-2},{"$f":"(SA!HF28-SA!GT28)/SA!GT28","v":1.198692335633854E-2},{"$f":"(SA!HG28-SA!GU28)/SA!GU28","v":2.4799416484318017E-2},{"$f":"(SA!HH28-SA!GV28)/SA!GV28","v":1.5947807176513229E-2},{"$f":"(SA!HI28-SA!GW28)/SA!GW28","v":1.3010480664980123E-2},{"$f":"(SA!HJ28-SA!GX28)/SA!GX28","v":7.215007215007215E-3},{"$f":"(SA!HK28-SA!GY28)/SA!GY28","v":7.9193664506839456E-3},{"$f":"(SA!HL28-SA!GZ28)/SA!GZ28","v":1.4780100937274693E-2},{"$f":"(SA!HM28-SA!HA28)/SA!HA28","v":2.1268925739005046E-2},{"$f":"(SA!HN28-SA!HB28)/SA!HB28","v":1.2857142857142857E-2},{"$f":"(SA!HO28-SA!HC28)/SA!HC28","v":7.1301247771836003E-3},{"$f":"(SA!HP28-SA!HD28)/SA!HD28","v":4.6246887228744218E-3},{"$f":"(SA!HQ28-SA!HE28)/SA!HE28","v":6.442376521116679E-3},{"$f":"(SA!HR28-SA!HF28)/SA!HF28","v":8.9734386216798277E-3},{"$f":"(SA!HS28-SA!HG28)/SA!HG28","v":1.5658362989323844E-2},{"$f":"(SA!HT28-SA!HH28)/SA!HH28","v":2.4259721726721369E-2},{"$f":"(SA!HU28-SA!HI28)/SA!HI28","v":1.5340706386014985E-2},{"$f":"(SA!HV28-SA!HJ28)/SA!HJ28","v":1.7191977077363897E-2},{"$f":"(SA!HW28-SA!HK28)/SA!HK28","v":1.7142857142857144E-2},{"$f":"(SA!HX28-SA!HL28)/SA!HL28","v":3.1971580817051509E-2},{"$f":"(SA!HY28-SA!HM28)/SA!HM28","v":4.2004941757853867E-2},{"$f":"(SA!HZ28-SA!HN28)/SA!HN28","v":2.1509167842031031E-2},{"$f":"(SA!IA28-SA!HO28)/SA!HO28","v":2.6548672566371681E-2},{"$f":"(SA!IB28-SA!HP28)/SA!HP28","v":1.3456090651558074E-2},{"$f":"(SA!IC28-SA!HQ28)/SA!HQ28","v":1.3513513513513514E-2},{"$f":"(SA!ID28-SA!HR28)/SA!HR28","v":1.3874066168623266E-2},{"$f":"(SA!IE28-SA!HS28)/SA!HS28","v":3.1534688156972671E-3},{"$f":"(SA!IF28-SA!HT28)/SA!HT28","v":6.9662138627655872E-4},{"$f":"(SA!IG28-SA!HU28)/SA!HU28","v":7.0274068868587491E-4},{"$f":"(SA!IH28-SA!HV28)/SA!HV28","v":3.5211267605633804E-3},{"$f":"(SA!II28-SA!HW28)/SA!HW28","v":3.1601123595505617E-3},{"$f":"(SA!IJ28-SA!HX28)/SA!HX28","v":-1.4457831325301205E-2},{"$f":"(SA!IK28-SA!HY28)/SA!HY28","v":-1.7953929539295393E-2},{"$f":"(SA!IL28-SA!HZ28)/SA!HZ28","v":-1}," n/a ","n/a",null,"Leisure and Hospitality",-3.2095901005413874E-2,-8.1591013370775536E-3,5.3592774403136059E-3,1.1100395403510443E-2,1.3798776564781711E-2,1.783826815010205E-2,2.2537705004839908E-2,3.5001881821603312E-2,1.5032076055883295E-2]
["Arts, Entertainment, and Recreation",{"$f":"(SA!BN29-SA!BB29)/SA!BB29","v":-1.7094017094017096E-2},{"$f":"(SA!BO29-SA!BC29)/SA!BC29","v":-2.2922636103151862E-2},{"$f":"(SA!BP29-SA!BD29)/SA!BD29","v":-5.7971014492753624E-3},{"$f":"(SA!BQ29-SA!BE29)/SA!BE29","v":2.0289855072463767E-2},{"$f":"(SA!BR29-SA!BF29)/SA!BF29","v":0},{"$f":"(SA!BS29-SA!BG29)/SA!BG29","v":8.7976539589442824E-3},{"$f":"(SA!BT29-SA!BH29)/SA!BH29","v":-2.8985507246376812E-3},{"$f":"(SA!BU29-SA!BI29)/SA!BI29","v":2.9069767441860465E-3},{"$f":"(SA!BV29-SA!BJ29)/SA!BJ29","v":1.1661807580174927E-2},{"$f":"(SA!BW29-SA!BK29)/SA!BK29","v":2.8901734104046241E-3},{"$f":"(SA!BX29-SA!BL29)/SA!BL29","v":2.881844380403458E-3},{"$f":"(SA!BY29-SA!BM29)/SA!BM29","v":-5.7471264367816091E-3},{"$f":"(SA!BZ29-SA!BN29)/SA!BN29","v":2.8985507246376812E-3},{"$f":"(SA!CA29-SA!BO29)/SA!BO29","v":2.6392961876832845E-2},{"$f":"(SA!CB29-SA!BP29)/SA!BP29","v":2.0408163265306121E-2},{"$f":"(SA!CC29-SA!BQ29)/SA!BQ29","v":1.7045454545454544E-2},{"$f":"(SA!CD29-SA!BR29)/SA!BR29","v":1.4577259475218658E-2},{"$f":"(SA!CE29-SA!BS29)/SA!BS29","v":1.4534883720930232E-2},{"$f":"(SA!CF29-SA!BT29)/SA!BT29","v":1.4534883720930232E-2},{"$f":"(SA!CG29-SA!BU29)/SA!BU29","v":1.7391304347826087E-2},{"$f":"(SA!CH29-SA!BV29)/SA!BV29","v":1.4409221902017291E-2},{"$f":"(SA!CI29-SA!BW29)/SA!BW29","v":1.1527377521613832E-2},{"$f":"(SA!CJ29-SA!BX29)/SA!BX29","v":2.8735632183908046E-3},{"$f":"(SA!CK29-SA!BY29)/SA!BY29","v":1.4450867052023121E-2},{"$f":"(SA!CL29-SA!BZ29)/SA!BZ29","v":2.6011560693641619E-2},{"$f":"(SA!CM29-SA!CA29)/SA!CA29","v":2.2857142857142857E-2},{"$f":"(SA!CN29-SA!CB29)/SA!CB29","v":2.8571428571428571E-2},{"$f":"(SA!CO29-SA!CC29)/SA!CC29","v":-1.11731843575419E-2},{"$f":"(SA!CP29-SA!CD29)/SA!CD29","v":3.7356321839080463E-2},{"$f":"(SA!CQ29-SA!CE29)/SA!CE29","v":4.0114613180515762E-2},{"$f":"(SA!CR29-SA!CF29)/SA!CF29","v":3.151862464183381E-2},{"$f":"(SA!CS29-SA!CG29)/SA!CG29","v":2.564102564102564E-2},{"$f":"(SA!CT29-SA!CH29)/SA!CH29","v":1.9886363636363636E-2},{"$f":"(SA!CU29-SA!CI29)/SA!CI29","v":2.8490028490028491E-2},{"$f":"(SA!CV29-SA!CJ29)/SA!CJ29","v":4.2979942693409739E-2},{"$f":"(SA!CW29-SA!CK29)/SA!CK29","v":3.7037037037037035E-2},{"$f":"(SA!CX29-SA!CL29)/SA!CL29","v":2.5352112676056339E-2},{"$f":"(SA!CY29-SA!CM29)/SA!CM29","v":1.11731843575419E-2},{"$f":"(SA!CZ29-SA!CN29)/SA!CN29","v":-2.7777777777777779E-3},{"$f":"(SA!DA29-SA!CO29)/SA!CO29","v":-2.8248587570621469E-3},{"$f":"(SA!DB29-SA!CP29)/SA!CP29","v":-8.3102493074792248E-3},{"$f":"(SA!DC29-SA!CQ29)/SA!CQ29","v":-1.3774104683195593E-2},{"$f":"(SA!DD29-SA!CR29)/SA!CR29","v":-8.3333333333333332E-3},{"$f":"(SA!DE29-SA!CS29)/SA!CS29","v":-2.7777777777777779E-3},{"$f":"(SA!DF29-SA!CT29)/SA!CT29","v":-2.2284122562674095E-2},{"$f":"(SA!DG29-SA!CU29)/SA!CU29","v":-5.5401662049861496E-3},{"$f":"(SA!DH29-SA!CV29)/SA!CV29","v":-3.5714285714285712E-2},{"$f":"(SA!DI29-SA!CW29)/SA!CW29","v":-2.7472527472527472E-2},{"$f":"(SA!DJ29-SA!CX29)/SA!CX29","v":-3.8461538461538464E-2},{"$f":"(SA!DK29-SA!CY29)/SA!CY29","v":-4.4198895027624308E-2},{"$f":"(SA!DL29-SA!CZ29)/SA!CZ29","v":-3.6211699164345405E-2},{"$f":"(SA!DM29-SA!DA29)/SA!DA29","v":-4.5325779036827198E-2},{"$f":"(SA!DN29-SA!DB29)/SA!DB29","v":-1.3966480446927373E-2},{"$f":"(SA!DO29-SA!DC29)/SA!DC29","v":-1.9553072625698324E-2},{"$f":"(SA!DP29-SA!DD29)/SA!DD29","v":-3.3613445378151259E-2},{"$f":"(SA!DQ29-SA!DE29)/SA!DE29","v":-4.1782729805013928E-2},{"$f":"(SA!DR29-SA!DF29)/SA!DF29","v":-8.5470085470085479E-3},{"$f":"(SA!DS29-SA!DG29)/SA!DG29","v":-5.2924791086350974E-2},{"$f":"(SA!DT29-SA!DH29)/SA!DH29","v":-2.2792022792022793E-2},{"$f":"(SA!DU29-SA!DI29)/SA!DI29","v":-3.954802259887006E-2},{"$f":"(SA!DV29-SA!DJ29)/SA!DJ29","v":-2.5714285714285714E-2},{"$f":"(SA!DW29-SA!DK29)/SA!DK29","v":-1.7341040462427744E-2},{"$f":"(SA!DX29-SA!DL29)/SA!DL29","v":-5.7803468208092483E-3},{"$f":"(SA!DY29-SA!DM29)/SA!DM29","v":5.0445103857566766E-2},{"$f":"(SA!DZ29-SA!DN29)/SA!DN29","v":-1.69971671388102E-2},{"$f":"(SA!EA29-SA!DO29)/SA!DO29","v":-3.7037037037037035E-2},{"$f":"(SA!EB29-SA!DP29)/SA!DP29","v":5.7971014492753624E-3},{"$f":"(SA!EC29-SA!DQ29)/SA!DQ29","v":1.4534883720930232E-2},{"$f":"(SA!ED29-SA!DR29)/SA!DR29","v":-5.7471264367816091E-3},{"$f":"(SA!EE29-SA!DS29)/SA!DS29","v":1.7647058823529412E-2},{"$f":"(SA!EF29-SA!DT29)/SA!DT29","v":8.7463556851311956E-3},{"$f":"(SA!EG29-SA!DU29)/SA!DU29","v":2.0588235294117647E-2},{"$f":"(SA!EH29-SA!DV29)/SA!DV29","v":1.1730205278592375E-2},{"$f":"(SA!EI29-SA!DW29)/SA!DW29","v":2.0588235294117647E-2},{"$f":"(SA!EJ29-SA!DX29)/SA!DX29","v":-2.9069767441860465E-3},{"$f":"(SA!EK29-SA!DY29)/SA!DY29","v":-1.977401129943503E-2},{"$f":"(SA!EL29-SA!DZ29)/SA!DZ29","v":-1.4409221902017291E-2},{"$f":"(SA!EM29-SA!EA29)/SA!EA29","v":2.3668639053254437E-2},{"$f":"(SA!EN29-SA!EB29)/SA!EB29","v":1.4409221902017291E-2},{"$f":"(SA!EO29-SA!EC29)/SA!EC29","v":8.5959885386819486E-3},{"$f":"(SA!EP29-SA!ED29)/SA!ED29","v":1.7341040462427744E-2},{"$f":"(SA!EQ29-SA!EE29)/SA!EE29","v":2.8901734104046242E-2},{"$f":"(SA!ER29-SA!EF29)/SA!EF29","v":2.6011560693641619E-2},{"$f":"(SA!ES29-SA!EG29)/SA!EG29","v":2.3054755043227664E-2},{"$f":"(SA!ET29-SA!EH29)/SA!EH29","v":2.8985507246376812E-2},{"$f":"(SA!EU29-SA!EI29)/SA!EI29","v":1.4409221902017291E-2},{"$f":"(SA!EV29-SA!EJ29)/SA!EJ29","v":6.1224489795918366E-2},{"$f":"(SA!EW29-SA!EK29)/SA!EK29","v":7.7809798270893377E-2},{"$f":"(SA!EX29-SA!EL29)/SA!EL29","v":4.0935672514619881E-2},{"$f":"(SA!EY29-SA!EM29)/SA!EM29","v":2.6011560693641619E-2},{"$f":"(SA!EZ29-SA!EN29)/SA!EN29","v":8.5227272727272721E-3},{"$f":"(SA!FA29-SA!EO29)/SA!EO29","v":2.840909090909091E-3},{"$f":"(SA!FB29-SA!EP29)/SA!EP29","v":2.2727272727272728E-2},{"$f":"(SA!FC29-SA!EQ29)/SA!EQ29","v":-2.8089887640449437E-3},{"$f":"(SA!FD29-SA!ER29)/SA!ER29","v":-5.6338028169014088E-3},{"$f":"(SA!FE29-SA!ES29)/SA!ES29","v":2.8169014084507044E-3},{"$f":"(SA!FF29-SA!ET29)/SA!ET29","v":8.4507042253521118E-3},{"$f":"(SA!FG29-SA!EU29)/SA!EU29","v":1.4204545454545454E-2},{"$f":"(SA!FH29-SA!EV29)/SA!EV29","v":-2.4725274725274724E-2},{"$f":"(SA!FI29-SA!EW29)/SA!EW29","v":-9.6256684491978606E-2},{"$f":"(SA!FJ29-SA!EX29)/SA!EX29","v":1.9662921348314606E-2},{"$f":"(SA!FK29-SA!EY29)/SA!EY29","v":1.1267605633802818E-2},{"$f":"(SA!FL29-SA!EZ29)/SA!EZ29","v":8.4507042253521118E-3},{"$f":"(SA!FM29-SA!FA29)/SA!FA29","v":2.2662889518413599E-2},{"$f":"(SA!FN29-SA!FB29)/SA!FB29","v":1.1111111111111112E-2},{"$f":"(SA!FO29-SA!FC29)/SA!FC29","v":2.2535211267605635E-2},{"$f":"(SA!FP29-SA!FD29)/SA!FD29","v":3.6827195467422094E-2},{"$f":"(SA!FQ29-SA!FE29)/SA!FE29","v":4.2134831460674156E-2},{"$f":"(SA!FR29-SA!FF29)/SA!FF29","v":1.9553072625698324E-2},{"$f":"(SA!FS29-SA!FG29)/SA!FG29","v":2.8011204481792718E-2},{"$f":"(SA!FT29-SA!FH29)/SA!FH29","v":2.5352112676056339E-2},{"$f":"(SA!FU29-SA!FI29)/SA!FI29","v":4.7337278106508875E-2},{"$f":"(SA!FV29-SA!FJ29)/SA!FJ29","v":5.5096418732782371E-3},{"$f":"(SA!FW29-SA!FK29)/SA!FK29","v":1.9498607242339833E-2},{"$f":"(SA!FX29-SA!FL29)/SA!FL29","v":3.0726256983240222E-2},{"$f":"(SA!FY29-SA!FM29)/SA!FM29","v":1.662049861495845E-2},{"$f":"(SA!FZ29-SA!FN29)/SA!FN29","v":8.241758241758242E-3},{"$f":"(SA!GA29-SA!FO29)/SA!FO29","v":8.2644628099173556E-3},{"$f":"(SA!GB29-SA!FP29)/SA!FP29","v":1.6393442622950821E-2},{"$f":"(SA!GC29-SA!FQ29)/SA!FQ29","v":1.078167115902965E-2},{"$f":"(SA!GD29-SA!FR29)/SA!FR29","v":2.7397260273972601E-2},{"$f":"(SA!GE29-SA!FS29)/SA!FS29","v":1.3623978201634877E-2},{"$f":"(SA!GF29-SA!FT29)/SA!FT29","v":3.2967032967032968E-2},{"$f":"(SA!GG29-SA!FU29)/SA!FU29","v":6.4971751412429377E-2},{"$f":"(SA!GH29-SA!FV29)/SA!FV29","v":3.8356164383561646E-2},{"$f":"(SA!GI29-SA!FW29)/SA!FW29","v":4.0983606557377046E-2},{"$f":"(SA!GJ29-SA!FX29)/SA!FX29","v":5.4200542005420054E-3},{"$f":"(SA!GK29-SA!FY29)/SA!FY29","v":2.9972752043596729E-2},{"$f":"(SA!GL29-SA!FZ29)/SA!FZ29","v":3.5422343324250684E-2},{"$f":"(SA!GM29-SA!GA29)/SA!GA29","v":5.737704918032787E-2},{"$f":"(SA!GN29-SA!GB29)/SA!GB29","v":6.1827956989247312E-2},{"$f":"(SA!GO29-SA!GC29)/SA!GC29","v":3.4666666666666665E-2},{"$f":"(SA!GP29-SA!GD29)/SA!GD29","v":0.04},{"$f":"(SA!GQ29-SA!GE29)/SA!GE29","v":5.6451612903225805E-2},{"$f":"(SA!GR29-SA!GF29)/SA!GF29","v":4.7872340425531915E-2},{"$f":"(SA!GS29-SA!GG29)/SA!GG29","v":4.7745358090185673E-2},{"$f":"(SA!GT29-SA!GH29)/SA!GH29","v":4.4854881266490766E-2},{"$f":"(SA!GU29-SA!GI29)/SA!GI29","v":3.1496062992125984E-2},{"$f":"(SA!GV29-SA!GJ29)/SA!GJ29","v":7.277628032345014E-2},{"$f":"(SA!GW29-SA!GK29)/SA!GK29","v":5.8201058201058198E-2},{"$f":"(SA!GX29-SA!GL29)/SA!GL29","v":5.526315789473684E-2},{"$f":"(SA!GY29-SA!GM29)/SA!GM29","v":3.875968992248062E-2},{"$f":"(SA!GZ29-SA!GN29)/SA!GN29","v":1.0126582278481013E-2},{"$f":"(SA!HA29-SA!GO29)/SA!GO29","v":1.804123711340206E-2},{"$f":"(SA!HB29-SA!GP29)/SA!GP29","v":5.3846153846153849E-2},{"$f":"(SA!HC29-SA!GQ29)/SA!GQ29","v":3.5623409669211195E-2},{"$f":"(SA!HD29-SA!GR29)/SA!GR29","v":3.2994923857868022E-2},{"$f":"(SA!HE29-SA!GS29)/SA!GS29","v":2.2784810126582278E-2},{"$f":"(SA!HF29-SA!GT29)/SA!GT29","v":1.7676767676767676E-2},{"$f":"(SA!HG29-SA!GU29)/SA!GU29","v":4.5801526717557252E-2},{"$f":"(SA!HH29-SA!GV29)/SA!GV29","v":1.7587939698492462E-2},{"$f":"(SA!HI29-SA!GW29)/SA!GW29","v":1.7500000000000002E-2},{"$f":"(SA!HJ29-SA!GX29)/SA!GX29","v":-4.9875311720698253E-3},{"$f":"(SA!HK29-SA!GY29)/SA!GY29","v":6.2189054726368161E-2},{"$f":"(SA!HL29-SA!GZ29)/SA!GZ29","v":7.2681704260651625E-2},{"$f":"(SA!HM29-SA!HA29)/SA!HA29","v":8.8607594936708861E-2},{"$f":"(SA!HN29-SA!HB29)/SA!HB29","v":1.9464720194647202E-2},{"$f":"(SA!HO29-SA!HC29)/SA!HC29","v":4.4226044226044224E-2},{"$f":"(SA!HP29-SA!HD29)/SA!HD29","v":2.7027027027027029E-2},{"$f":"(SA!HQ29-SA!HE29)/SA!HE29","v":-9.9009900990099011E-3},{"$f":"(SA!HR29-SA!HF29)/SA!HF29","v":-9.9255583126550868E-3},{"$f":"(SA!HS29-SA!HG29)/SA!HG29","v":-1.9464720194647202E-2},{"$f":"(SA!HT29-SA!HH29)/SA!HH29","v":2.4691358024691358E-3},{"$f":"(SA!HU29-SA!HI29)/SA!HI29","v":-7.3710073710073713E-3},{"$f":"(SA!HV29-SA!HJ29)/SA!HJ29","v":2.5062656641604009E-3},{"$f":"(SA!HW29-SA!HK29)/SA!HK29","v":-2.3419203747072601E-2},{"$f":"(SA!HX29-SA!HL29)/SA!HL29","v":1.4018691588785047E-2},{"$f":"(SA!HY29-SA!HM29)/SA!HM29","v":0},{"$f":"(SA!HZ29-SA!HN29)/SA!HN29","v":0.13126491646778043},{"$f":"(SA!IA29-SA!HO29)/SA!HO29","v":0.14823529411764705},{"$f":"(SA!IB29-SA!HP29)/SA!HP29","v":9.569377990430622E-2},{"$f":"(SA!IC29-SA!HQ29)/SA!HQ29","v":0.1275},{"$f":"(SA!ID29-SA!HR29)/SA!HR29","v":0.11027568922305764},{"$f":"(SA!IE29-SA!HS29)/SA!HS29","v":0.11166253101736973},{"$f":"(SA!IF29-SA!HT29)/SA!HT29","v":0.13300492610837439},{"$f":"(SA!IG29-SA!HU29)/SA!HU29","v":0.12871287128712872},{"$f":"(SA!IH29-SA!HV29)/SA!HV29","v":0.15},{"$f":"(SA!II29-SA!HW29)/SA!HW29","v":0.11270983213429256},{"$f":"(SA!IJ29-SA!HX29)/SA!HX29","v":6.9124423963133647E-2},{"$f":"(SA!IK29-SA!HY29)/SA!HY29","v":9.0697674418604657E-2},{"$f":"(SA!IL29-SA!HZ29)/SA!HZ29","v":-1}," n/a ","n/a",null,"Arts, Entertainment, and Recreation",-9.6256684491978606E-2,-1.4099302883454349E-2,2.8851759924039245E-3,1.422501309929264E-2,1.7641146911025717E-2,2.6011560693641619E-2,4.0360930980746987E-2,8.8607594936708861E-2,2.7864154698161097E-2]
["Accommodation and Food Services",{"$f":"(SA!BN30-SA!BB30)/SA!BB30","v":1.726551563229118E-2},{"$f":"(SA!BO30-SA!BC30)/SA!BC30","v":2.5292740046838409E-2},{"$f":"(SA!BP30-SA!BD30)/SA!BD30","v":2.5210084033613446E-2},{"$f":"(SA!BQ30-SA!BE30)/SA!BE30","v":3.255813953488372E-2},{"$f":"(SA!BR30-SA!BF30)/SA!BF30","v":2.4129930394431554E-2},{"$f":"(SA!BS30-SA!BG30)/SA!BG30","v":2.4674115456238363E-2},{"$f":"(SA!BT30-SA!BH30)/SA!BH30","v":1.330885727397889E-2},{"$f":"(SA!BU30-SA!BI30)/SA!BI30","v":1.4678899082568808E-2},{"$f":"(SA!BV30-SA!BJ30)/SA!BJ30","v":1.7439192290041303E-2},{"$f":"(SA!BW30-SA!BK30)/SA!BK30","v":9.1491308325709064E-3},{"$f":"(SA!BX30-SA!BL30)/SA!BL30","v":1.7889908256880735E-2},{"$f":"(SA!BY30-SA!BM30)/SA!BM30","v":1.510989010989011E-2},{"$f":"(SA!BZ30-SA!BN30)/SA!BN30","v":2.4770642201834864E-2},{"$f":"(SA!CA30-SA!BO30)/SA!BO30","v":2.3298309730470534E-2},{"$f":"(SA!CB30-SA!BP30)/SA!BP30","v":2.3679417122040074E-2},{"$f":"(SA!CC30-SA!BQ30)/SA!BQ30","v":9.45945945945946E-3},{"$f":"(SA!CD30-SA!BR30)/SA!BR30","v":1.042138649750793E-2},{"$f":"(SA!CE30-SA!BS30)/SA!BS30","v":1.6356201726487961E-2},{"$f":"(SA!CF30-SA!BT30)/SA!BT30","v":1.6757246376811596E-2},{"$f":"(SA!CG30-SA!BU30)/SA!BU30","v":1.5370705244122965E-2},{"$f":"(SA!CH30-SA!BV30)/SA!BV30","v":1.2178619756427604E-2},{"$f":"(SA!CI30-SA!BW30)/SA!BW30","v":2.2665457842248413E-2},{"$f":"(SA!CJ30-SA!BX30)/SA!BX30","v":1.6674177557458314E-2},{"$f":"(SA!CK30-SA!BY30)/SA!BY30","v":2.0748759585024808E-2},{"$f":"(SA!CL30-SA!BZ30)/SA!BZ30","v":1.521933751119069E-2},{"$f":"(SA!CM30-SA!CA30)/SA!CA30","v":1.2500000000000001E-2},{"$f":"(SA!CN30-SA!CB30)/SA!CB30","v":8.451957295373666E-3},{"$f":"(SA!CO30-SA!CC30)/SA!CC30","v":8.9245872378402504E-3},{"$f":"(SA!CP30-SA!CD30)/SA!CD30","v":1.1659192825112108E-2},{"$f":"(SA!CQ30-SA!CE30)/SA!CE30","v":1.0728654447921324E-2},{"$f":"(SA!CR30-SA!CF30)/SA!CF30","v":4.0089086859688193E-3},{"$f":"(SA!CS30-SA!CG30)/SA!CG30","v":6.2333036509349959E-3},{"$f":"(SA!CT30-SA!CH30)/SA!CH30","v":0},{"$f":"(SA!CU30-SA!CI30)/SA!CI30","v":1.3297872340425532E-3},{"$f":"(SA!CV30-SA!CJ30)/SA!CJ30","v":3.1028368794326243E-3},{"$f":"(SA!CW30-SA!CK30)/SA!CK30","v":-1.7675651789659744E-3},{"$f":"(SA!CX30-SA!CL30)/SA!CL30","v":-6.1728395061728392E-3},{"$f":"(SA!CY30-SA!CM30)/SA!CM30","v":-8.3774250440917103E-3},{"$f":"(SA!CZ30-SA!CN30)/SA!CN30","v":-7.4988972209969126E-3},{"$f":"(SA!DA30-SA!CO30)/SA!CO30","v":-4.8651039363113669E-3},{"$f":"(SA!DB30-SA!CP30)/SA!CP30","v":-5.7624113475177301E-3},{"$f":"(SA!DC30-SA!CQ30)/SA!CQ30","v":-1.0614772224679346E-2},{"$f":"(SA!DD30-SA!CR30)/SA!CR30","v":-7.9858030168589167E-3},{"$f":"(SA!DE30-SA!CS30)/SA!CS30","v":-1.415929203539823E-2},{"$f":"(SA!DF30-SA!CT30)/SA!CT30","v":-6.2388591800356507E-3},{"$f":"(SA!DG30-SA!CU30)/SA!CU30","v":-1.416555998229305E-2},{"$f":"(SA!DH30-SA!CV30)/SA!CV30","v":-1.5466195315952275E-2},{"$f":"(SA!DI30-SA!CW30)/SA!CW30","v":-1.9034971226206288E-2},{"$f":"(SA!DJ30-SA!CX30)/SA!CX30","v":-2.4844720496894408E-2},{"$f":"(SA!DK30-SA!CY30)/SA!CY30","v":-1.9119608714984436E-2},{"$f":"(SA!DL30-SA!CZ30)/SA!CZ30","v":-2.4E-2},{"$f":"(SA!DM30-SA!DA30)/SA!DA30","v":-2.7555555555555555E-2},{"$f":"(SA!DN30-SA!DB30)/SA!DB30","v":-2.0062416406598307E-2},{"$f":"(SA!DO30-SA!DC30)/SA!DC30","v":-2.1904336164506034E-2},{"$f":"(SA!DP30-SA!DD30)/SA!DD30","v":-2.59391771019678E-2},{"$f":"(SA!DQ30-SA!DE30)/SA!DE30","v":-2.6481149012567325E-2},{"$f":"(SA!DR30-SA!DF30)/SA!DF30","v":-2.780269058295964E-2},{"$f":"(SA!DS30-SA!DG30)/SA!DG30","v":-2.8738212842388863E-2},{"$f":"(SA!DT30-SA!DH30)/SA!DH30","v":-3.096947935368043E-2},{"$f":"(SA!DU30-SA!DI30)/SA!DI30","v":-2.5270758122743681E-2},{"$f":"(SA!DV30-SA!DJ30)/SA!DJ30","v":-1.4103730664240218E-2},{"$f":"(SA!DW30-SA!DK30)/SA!DK30","v":-2.130553037171351E-2},{"$f":"(SA!DX30-SA!DL30)/SA!DL30","v":-1.9581056466302368E-2},{"$f":"(SA!DY30-SA!DM30)/SA!DM30","v":-1.0968921389396709E-2},{"$f":"(SA!DZ30-SA!DN30)/SA!DN30","v":-1.5013648771610554E-2},{"$f":"(SA!EA30-SA!DO30)/SA!DO30","v":-9.5978062157221211E-3},{"$f":"(SA!EB30-SA!DP30)/SA!DP30","v":-4.1322314049586778E-3},{"$f":"(SA!EC30-SA!DQ30)/SA!DQ30","v":2.3052097740894422E-3},{"$f":"(SA!ED30-SA!DR30)/SA!DR30","v":1.8450184501845018E-3},{"$f":"(SA!EE30-SA!DS30)/SA!DS30","v":8.321775312066574E-3},{"$f":"(SA!EF30-SA!DT30)/SA!DT30","v":1.11162575266327E-2},{"$f":"(SA!EG30-SA!DU30)/SA!DU30","v":9.7222222222222224E-3},{"$f":"(SA!EH30-SA!DV30)/SA!DV30","v":5.076142131979695E-3},{"$f":"(SA!EI30-SA!DW30)/SA!DW30","v":4.1685965724872626E-3},{"$f":"(SA!EJ30-SA!DX30)/SA!DX30","v":6.5025545750116119E-3},{"$f":"(SA!EK30-SA!DY30)/SA!DY30","v":3.234750462107209E-3},{"$f":"(SA!EL30-SA!DZ30)/SA!DZ30","v":3.695150115473441E-3},{"$f":"(SA!EM30-SA!EA30)/SA!EA30","v":2.7688047992616522E-3},{"$f":"(SA!EN30-SA!EB30)/SA!EB30","v":2.7662517289073307E-3},{"$f":"(SA!EO30-SA!EC30)/SA!EC30","v":3.6798528058877645E-3},{"$f":"(SA!EP30-SA!ED30)/SA!ED30","v":4.6040515653775326E-3},{"$f":"(SA!EQ30-SA!EE30)/SA!EE30","v":9.1701054562127462E-4},{"$f":"(SA!ER30-SA!EF30)/SA!EF30","v":-1.8323408153916628E-3},{"$f":"(SA!ES30-SA!EG30)/SA!EG30","v":-3.2095369096744614E-3},{"$f":"(SA!ET30-SA!EH30)/SA!EH30","v":4.1322314049586778E-3},{"$f":"(SA!EU30-SA!EI30)/SA!EI30","v":1.2915129151291513E-2},{"$f":"(SA!EV30-SA!EJ30)/SA!EJ30","v":1.7074296262113521E-2},{"$f":"(SA!EW30-SA!EK30)/SA!EK30","v":1.704283740211884E-2},{"$f":"(SA!EX30-SA!EL30)/SA!EL30","v":1.7027151403589506E-2},{"$f":"(SA!EY30-SA!EM30)/SA!EM30","v":2.208927749654855E-2},{"$f":"(SA!EZ30-SA!EN30)/SA!EN30","v":2.0229885057471263E-2},{"$f":"(SA!FA30-SA!EO30)/SA!EO30","v":1.5582034830430797E-2},{"$f":"(SA!FB30-SA!EP30)/SA!EP30","v":1.8331805682859761E-2},{"$f":"(SA!FC30-SA!EQ30)/SA!EQ30","v":1.4658726523133303E-2},{"$f":"(SA!FD30-SA!ER30)/SA!ER30","v":1.8815970628728775E-2},{"$f":"(SA!FE30-SA!ES30)/SA!ES30","v":2.437902483900644E-2},{"$f":"(SA!FF30-SA!ET30)/SA!ET30","v":1.9661636945587563E-2},{"$f":"(SA!FG30-SA!EU30)/SA!EU30","v":1.7759562841530054E-2},{"$f":"(SA!FH30-SA!EV30)/SA!EV30","v":1.5426497277676952E-2},{"$f":"(SA!FI30-SA!EW30)/SA!EW30","v":1.2228260869565218E-2},{"$f":"(SA!FJ30-SA!EX30)/SA!EX30","v":1.493212669683258E-2},{"$f":"(SA!FK30-SA!EY30)/SA!EY30","v":1.125619090499775E-2},{"$f":"(SA!FL30-SA!EZ30)/SA!EZ30","v":1.6674177557458314E-2},{"$f":"(SA!FM30-SA!FA30)/SA!FA30","v":2.3014440433212997E-2},{"$f":"(SA!FN30-SA!FB30)/SA!FB30","v":2.1602160216021602E-2},{"$f":"(SA!FO30-SA!FC30)/SA!FC30","v":2.437923250564334E-2},{"$f":"(SA!FP30-SA!FD30)/SA!FD30","v":2.1621621621621623E-2},{"$f":"(SA!FQ30-SA!FE30)/SA!FE30","v":1.7512348450830714E-2},{"$f":"(SA!FR30-SA!FF30)/SA!FF30","v":1.5246636771300448E-2},{"$f":"(SA!FS30-SA!FG30)/SA!FG30","v":1.2975391498881432E-2},{"$f":"(SA!FT30-SA!FH30)/SA!FH30","v":1.1170688114387846E-2},{"$f":"(SA!FU30-SA!FI30)/SA!FI30","v":1.74496644295302E-2},{"$f":"(SA!FV30-SA!FJ30)/SA!FJ30","v":1.2929112795363353E-2},{"$f":"(SA!FW30-SA!FK30)/SA!FK30","v":1.6028495102404273E-2},{"$f":"(SA!FX30-SA!FL30)/SA!FL30","v":2.6595744680851063E-3},{"$f":"(SA!FY30-SA!FM30)/SA!FM30","v":2.6466696074106751E-3},{"$f":"(SA!FZ30-SA!FN30)/SA!FN30","v":2.2026431718061676E-3},{"$f":"(SA!GA30-SA!FO30)/SA!FO30","v":5.2886734244160421E-3},{"$f":"(SA!GB30-SA!FP30)/SA!FP30","v":7.4955908289241618E-3},{"$f":"(SA!GC30-SA!FQ30)/SA!FQ30","v":1.0150044130626656E-2},{"$f":"(SA!GD30-SA!FR30)/SA!FR30","v":1.6342756183745585E-2},{"$f":"(SA!GE30-SA!FS30)/SA!FS30","v":1.7226148409893994E-2},{"$f":"(SA!GF30-SA!FT30)/SA!FT30","v":2.209456473707468E-2},{"$f":"(SA!GG30-SA!FU30)/SA!FU30","v":1.8469656992084433E-2},{"$f":"(SA!GH30-SA!FV30)/SA!FV30","v":2.1566901408450703E-2},{"$f":"(SA!GI30-SA!FW30)/SA!FW30","v":1.8404907975460124E-2},{"$f":"(SA!GJ30-SA!FX30)/SA!FX30","v":3.0061892130857647E-2},{"$f":"(SA!GK30-SA!FY30)/SA!FY30","v":2.6396832380114386E-2},{"$f":"(SA!GL30-SA!FZ30)/SA!FZ30","v":2.7252747252747254E-2},{"$f":"(SA!GM30-SA!GA30)/SA!GA30","v":2.8057869355545814E-2},{"$f":"(SA!GN30-SA!GB30)/SA!GB30","v":3.0634573304157548E-2},{"$f":"(SA!GO30-SA!GC30)/SA!GC30","v":3.1017911751856708E-2},{"$f":"(SA!GP30-SA!GD30)/SA!GD30","v":2.4771838331160364E-2},{"$f":"(SA!GQ30-SA!GE30)/SA!GE30","v":2.6052974381241857E-2},{"$f":"(SA!GR30-SA!GF30)/SA!GF30","v":1.9022913964548204E-2},{"$f":"(SA!GS30-SA!GG30)/SA!GG30","v":1.8566493955094993E-2},{"$f":"(SA!GT30-SA!GH30)/SA!GH30","v":1.5510555794915984E-2},{"$f":"(SA!GU30-SA!GI30)/SA!GI30","v":1.0757314974182444E-2},{"$f":"(SA!GV30-SA!GJ30)/SA!GJ30","v":1.3304721030042918E-2},{"$f":"(SA!GW30-SA!GK30)/SA!GK30","v":1.4573510501500214E-2},{"$f":"(SA!GX30-SA!GL30)/SA!GL30","v":1.4548566538296961E-2},{"$f":"(SA!GY30-SA!GM30)/SA!GM30","v":1.3219616204690832E-2},{"$f":"(SA!GZ30-SA!GN30)/SA!GN30","v":8.4925690021231421E-3},{"$f":"(SA!HA30-SA!GO30)/SA!GO30","v":8.0508474576271184E-3},{"$f":"(SA!HB30-SA!GP30)/SA!GP30","v":1.3146734520780322E-2},{"$f":"(SA!HC30-SA!GQ30)/SA!GQ30","v":1.4811680067710538E-2},{"$f":"(SA!HD30-SA!GR30)/SA!GR30","v":1.9940602460755196E-2},{"$f":"(SA!HE30-SA!GS30)/SA!GS30","v":1.3141161509114031E-2},{"$f":"(SA!HF30-SA!GT30)/SA!GT30","v":1.1030971574034791E-2},{"$f":"(SA!HG30-SA!GU30)/SA!GU30","v":2.1285653469561516E-2},{"$f":"(SA!HH30-SA!GV30)/SA!GV30","v":1.5671325709445152E-2},{"$f":"(SA!HI30-SA!GW30)/SA!GW30","v":1.2251795521757499E-2},{"$f":"(SA!HJ30-SA!GX30)/SA!GX30","v":9.2787853226486711E-3},{"$f":"(SA!HK30-SA!GY30)/SA!GY30","v":-1.2626262626262627E-3},{"$f":"(SA!HL30-SA!GZ30)/SA!GZ30","v":5.0526315789473685E-3},{"$f":"(SA!HM30-SA!HA30)/SA!HA30","v":1.0088272383354351E-2},{"$f":"(SA!HN30-SA!HB30)/SA!HB30","v":1.1720385098367517E-2},{"$f":"(SA!HO30-SA!HC30)/SA!HC30","v":8.3402835696413675E-4},{"$f":"(SA!HP30-SA!HD30)/SA!HD30","v":8.3194675540765393E-4},{"$f":"(SA!HQ30-SA!HE30)/SA!HE30","v":9.2050209205020925E-3},{"$f":"(SA!HR30-SA!HF30)/SA!HF30","v":1.2169534200587495E-2},{"$f":"(SA!HS30-SA!HG30)/SA!HG30","v":2.1675698207586493E-2},{"$f":"(SA!HT30-SA!HH30)/SA!HH30","v":2.7939949958298581E-2},{"$f":"(SA!HU30-SA!HI30)/SA!HI30","v":1.9198664440734557E-2},{"$f":"(SA!HV30-SA!HJ30)/SA!HJ30","v":1.9640618470539072E-2},{"$f":"(SA!HW30-SA!HK30)/SA!HK30","v":2.4441635061104087E-2},{"$f":"(SA!HX30-SA!HL30)/SA!HL30","v":3.519061583577713E-2},{"$f":"(SA!HY30-SA!HM30)/SA!HM30","v":4.9521431543903455E-2},{"$f":"(SA!HZ30-SA!HN30)/SA!HN30","v":2.4824162184526274E-3},{"$f":"(SA!IA30-SA!HO30)/SA!HO30","v":5.0000000000000001E-3},{"$f":"(SA!IB30-SA!HP30)/SA!HP30","v":-8.3125519534497092E-4},{"$f":"(SA!IC30-SA!HQ30)/SA!HQ30","v":-5.3897180762852402E-3},{"$f":"(SA!ID30-SA!HR30)/SA!HR30","v":-2.0729684908789387E-3},{"$f":"(SA!IE30-SA!HS30)/SA!HS30","v":-1.4687882496940025E-2},{"$f":"(SA!IF30-SA!HT30)/SA!HT30","v":-2.1095334685598377E-2},{"$f":"(SA!IG30-SA!HU30)/SA!HU30","v":-2.0475020475020474E-2},{"$f":"(SA!IH30-SA!HV30)/SA!HV30","v":-2.0491803278688523E-2},{"$f":"(SA!II30-SA!HW30)/SA!HW30","v":-1.5631427396133279E-2},{"$f":"(SA!IJ30-SA!HX30)/SA!HX30","v":-2.9138000809388911E-2},{"$f":"(SA!IK30-SA!HY30)/SA!HY30","v":-3.6478984932593182E-2},{"$f":"(SA!IL30-SA!HZ30)/SA!HZ30","v":-1}," n/a ","n/a",null,"Accommodation and Food Services",-3.096947935368043E-2,-8.7435393955808335E-3,3.4127913996194305E-3,1.0452113292549272E-2,1.3124584508090772E-2,1.6724018849070283E-2,2.1607998637701607E-2,3.255813953488372E-2,1.4594195276219763E-2]
["Other Services",{"$f":"(SA!BN31-SA!BB31)/SA!BB31","v":1.267710663683818E-2},{"$f":"(SA!BO31-SA!BC31)/SA!BC31","v":1.1904761904761904E-2},{"$f":"(SA!BP31-SA!BD31)/SA!BD31","v":1.0401188707280832E-2},{"$f":"(SA!BQ31-SA!BE31)/SA!BE31","v":1.1135857461024499E-2},{"$f":"(SA!BR31-SA!BF31)/SA!BF31","v":9.6367679762787255E-3},{"$f":"(SA!BS31-SA!BG31)/SA!BG31","v":4.4378698224852072E-3},{"$f":"(SA!BT31-SA!BH31)/SA!BH31","v":5.1736881005173688E-3},{"$f":"(SA!BU31-SA!BI31)/SA!BI31","v":3.687315634218289E-3},{"$f":"(SA!BV31-SA!BJ31)/SA!BJ31","v":3.687315634218289E-3},{"$f":"(SA!BW31-SA!BK31)/SA!BK31","v":-8.7463556851311956E-3},{"$f":"(SA!BX31-SA!BL31)/SA!BL31","v":0},{"$f":"(SA!BY31-SA!BM31)/SA!BM31","v":5.1736881005173688E-3},{"$f":"(SA!BZ31-SA!BN31)/SA!BN31","v":7.3637702503681884E-4},{"$f":"(SA!CA31-SA!BO31)/SA!BO31","v":-2.2058823529411764E-3},{"$f":"(SA!CB31-SA!BP31)/SA!BP31","v":-1.4705882352941176E-3},{"$f":"(SA!CC31-SA!BQ31)/SA!BQ31","v":-3.6710719530102789E-3},{"$f":"(SA!CD31-SA!BR31)/SA!BR31","v":-2.936857562408223E-3},{"$f":"(SA!CE31-SA!BS31)/SA!BS31","v":7.3637702503681884E-4},{"$f":"(SA!CF31-SA!BT31)/SA!BT31","v":0},{"$f":"(SA!CG31-SA!BU31)/SA!BU31","v":-7.347538574577516E-4},{"$f":"(SA!CH31-SA!BV31)/SA!BV31","v":7.347538574577516E-4},{"$f":"(SA!CI31-SA!BW31)/SA!BW31","v":1.4705882352941176E-3},{"$f":"(SA!CJ31-SA!BX31)/SA!BX31","v":2.9433406916850625E-3},{"$f":"(SA!CK31-SA!BY31)/SA!BY31","v":4.4117647058823529E-3},{"$f":"(SA!CL31-SA!BZ31)/SA!BZ31","v":8.8300220750551876E-3},{"$f":"(SA!CM31-SA!CA31)/SA!CA31","v":1.105379513633014E-2},{"$f":"(SA!CN31-SA!CB31)/SA!CB31","v":1.1045655375552283E-2},{"$f":"(SA!CO31-SA!CC31)/SA!CC31","v":1.3264554163596167E-2},{"$f":"(SA!CP31-SA!CD31)/SA!CD31","v":1.3991163475699559E-2},{"$f":"(SA!CQ31-SA!CE31)/SA!CE31","v":1.3245033112582781E-2},{"$f":"(SA!CR31-SA!CF31)/SA!CF31","v":1.3235294117647059E-2},{"$f":"(SA!CS31-SA!CG31)/SA!CG31","v":1.1029411764705883E-2},{"$f":"(SA!CT31-SA!CH31)/SA!CH31","v":7.3421439060205578E-3},{"$f":"(SA!CU31-SA!CI31)/SA!CI31","v":1.2481644640234948E-2},{"$f":"(SA!CV31-SA!CJ31)/SA!CJ31","v":1.2472487160674981E-2},{"$f":"(SA!CW31-SA!CK31)/SA!CK31","v":1.0980966325036604E-2},{"$f":"(SA!CX31-SA!CL31)/SA!CL31","v":6.5645514223194746E-3},{"$f":"(SA!CY31-SA!CM31)/SA!CM31","v":6.5597667638483967E-3},{"$f":"(SA!CZ31-SA!CN31)/SA!CN31","v":6.5549890750182084E-3},{"$f":"(SA!DA31-SA!CO31)/SA!CO31","v":8.0000000000000002E-3},{"$f":"(SA!DB31-SA!CP31)/SA!CP31","v":8.7145969498910684E-3},{"$f":"(SA!DC31-SA!CQ31)/SA!CQ31","v":8.7145969498910684E-3},{"$f":"(SA!DD31-SA!CR31)/SA!CR31","v":8.708272859216255E-3},{"$f":"(SA!DE31-SA!CS31)/SA!CS31","v":1.2363636363636363E-2},{"$f":"(SA!DF31-SA!CT31)/SA!CT31","v":1.3848396501457727E-2},{"$f":"(SA!DG31-SA!CU31)/SA!CU31","v":2.3930384336475707E-2},{"$f":"(SA!DH31-SA!CV31)/SA!CV31","v":1.5217391304347827E-2},{"$f":"(SA!DI31-SA!CW31)/SA!CW31","v":1.0137581462708182E-2},{"$f":"(SA!DJ31-SA!CX31)/SA!CX31","v":8.6956521739130436E-3},{"$f":"(SA!DK31-SA!CY31)/SA!CY31","v":6.5170166545981175E-3},{"$f":"(SA!DL31-SA!CZ31)/SA!CZ31","v":5.7887120115774236E-3},{"$f":"(SA!DM31-SA!DA31)/SA!DA31","v":-2.1645021645021645E-3},{"$f":"(SA!DN31-SA!DB31)/SA!DB31","v":-4.3196544276457886E-3},{"$f":"(SA!DO31-SA!DC31)/SA!DC31","v":-5.7595392368610509E-3},{"$f":"(SA!DP31-SA!DD31)/SA!DD31","v":-8.6330935251798559E-3},{"$f":"(SA!DQ31-SA!DE31)/SA!DE31","v":-1.1494252873563218E-2},{"$f":"(SA!DR31-SA!DF31)/SA!DF31","v":-1.0783608914450037E-2},{"$f":"(SA!DS31-SA!DG31)/SA!DG31","v":-2.6203966005665724E-2},{"$f":"(SA!DT31-SA!DH31)/SA!DH31","v":-1.8558172733761598E-2},{"$f":"(SA!DU31-SA!DI31)/SA!DI31","v":-1.5770609318996417E-2},{"$f":"(SA!DV31-SA!DJ31)/SA!DJ31","v":-1.6522988505747127E-2},{"$f":"(SA!DW31-SA!DK31)/SA!DK31","v":-1.5107913669064749E-2},{"$f":"(SA!DX31-SA!DL31)/SA!DL31","v":-1.4388489208633094E-2},{"$f":"(SA!DY31-SA!DM31)/SA!DM31","v":-7.9537237888647871E-3},{"$f":"(SA!DZ31-SA!DN31)/SA!DN31","v":-1.012292118582791E-2},{"$f":"(SA!EA31-SA!DO31)/SA!DO31","v":-1.0137581462708182E-2},{"$f":"(SA!EB31-SA!DP31)/SA!DP31","v":-6.5312046444121917E-3},{"$f":"(SA!EC31-SA!DQ31)/SA!DQ31","v":-5.0872093023255818E-3},{"$f":"(SA!ED31-SA!DR31)/SA!DR31","v":-5.8139534883720929E-3},{"$f":"(SA!EE31-SA!DS31)/SA!DS31","v":0},{"$f":"(SA!EF31-SA!DT31)/SA!DT31","v":-3.6363636363636364E-3},{"$f":"(SA!EG31-SA!DU31)/SA!DU31","v":-2.9133284777858705E-3},{"$f":"(SA!EH31-SA!DV31)/SA!DV31","v":1.4609203798392988E-3},{"$f":"(SA!EI31-SA!DW31)/SA!DW31","v":7.3046018991964939E-4},{"$f":"(SA!EJ31-SA!DX31)/SA!DX31","v":7.2992700729927003E-4},{"$f":"(SA!EK31-SA!DY31)/SA!DY31","v":0},{"$f":"(SA!EL31-SA!DZ31)/SA!DZ31","v":2.1913805697589481E-3},{"$f":"(SA!EM31-SA!EA31)/SA!EA31","v":1.463057790782736E-3},{"$f":"(SA!EN31-SA!EB31)/SA!EB31","v":4.3827611395178961E-3},{"$f":"(SA!EO31-SA!EC31)/SA!EC31","v":2.9218407596785976E-3},{"$f":"(SA!EP31-SA!ED31)/SA!ED31","v":2.9239766081871343E-3},{"$f":"(SA!EQ31-SA!EE31)/SA!EE31","v":-2.9090909090909089E-3},{"$f":"(SA!ER31-SA!EF31)/SA!EF31","v":1.4598540145985401E-3},{"$f":"(SA!ES31-SA!EG31)/SA!EG31","v":5.1132213294375461E-3},{"$f":"(SA!ET31-SA!EH31)/SA!EH31","v":3.6469730123997084E-3},{"$f":"(SA!EU31-SA!EI31)/SA!EI31","v":6.5693430656934308E-3},{"$f":"(SA!EV31-SA!EJ31)/SA!EJ31","v":4.3763676148796497E-3},{"$f":"(SA!EW31-SA!EK31)/SA!EK31","v":4.3731778425655978E-3},{"$f":"(SA!EX31-SA!EL31)/SA!EL31","v":3.6443148688046646E-3},{"$f":"(SA!EY31-SA!EM31)/SA!EM31","v":1.3878743608473338E-2},{"$f":"(SA!EZ31-SA!EN31)/SA!EN31","v":2.1818181818181819E-3},{"$f":"(SA!FA31-SA!EO31)/SA!EO31","v":3.6416605972323379E-3},{"$f":"(SA!FB31-SA!EP31)/SA!EP31","v":3.6443148688046646E-3},{"$f":"(SA!FC31-SA!EQ31)/SA!EQ31","v":3.6469730123997084E-3},{"$f":"(SA!FD31-SA!ER31)/SA!ER31","v":3.6443148688046646E-3},{"$f":"(SA!FE31-SA!ES31)/SA!ES31","v":0},{"$f":"(SA!FF31-SA!ET31)/SA!ET31","v":-1.4534883720930232E-3},{"$f":"(SA!FG31-SA!EU31)/SA!EU31","v":-4.3509789702683103E-3},{"$f":"(SA!FH31-SA!EV31)/SA!EV31","v":-2.1786492374727671E-3},{"$f":"(SA!FI31-SA!EW31)/SA!EW31","v":-3.6284470246734399E-3},{"$f":"(SA!FJ31-SA!EX31)/SA!EX31","v":-7.2621641249092229E-4},{"$f":"(SA!FK31-SA!EY31)/SA!EY31","v":-6.4841498559077811E-3},{"$f":"(SA!FL31-SA!EZ31)/SA!EZ31","v":-1.4513788098693759E-3},{"$f":"(SA!FM31-SA!FA31)/SA!FA31","v":7.2568940493468795E-4},{"$f":"(SA!FN31-SA!FB31)/SA!FB31","v":7.988380537400145E-3},{"$f":"(SA!FO31-SA!FC31)/SA!FC31","v":5.8139534883720929E-3},{"$f":"(SA!FP31-SA!FD31)/SA!FD31","v":1.1619462599854757E-2},{"$f":"(SA!FQ31-SA!FE31)/SA!FE31","v":1.5261627906976744E-2},{"$f":"(SA!FR31-SA!FF31)/SA!FF31","v":2.1106259097525473E-2},{"$f":"(SA!FS31-SA!FG31)/SA!FG31","v":2.6948288419519302E-2},{"$f":"(SA!FT31-SA!FH31)/SA!FH31","v":2.7656477438136828E-2},{"$f":"(SA!FU31-SA!FI31)/SA!FI31","v":3.3503277494537506E-2},{"$f":"(SA!FV31-SA!FJ31)/SA!FJ31","v":3.4156976744186045E-2},{"$f":"(SA!FW31-SA!FK31)/SA!FK31","v":3.698332124728064E-2},{"$f":"(SA!FX31-SA!FL31)/SA!FL31","v":4.5058139534883718E-2},{"$f":"(SA!FY31-SA!FM31)/SA!FM31","v":4.9311094996374184E-2},{"$f":"(SA!FZ31-SA!FN31)/SA!FN31","v":4.4668587896253602E-2},{"$f":"(SA!GA31-SA!FO31)/SA!FO31","v":4.9132947976878616E-2},{"$f":"(SA!GB31-SA!FP31)/SA!FP31","v":4.6661880832735106E-2},{"$f":"(SA!GC31-SA!FQ31)/SA!FQ31","v":4.5096635647816748E-2},{"$f":"(SA!GD31-SA!FR31)/SA!FR31","v":4.8467569493941556E-2},{"$f":"(SA!GE31-SA!FS31)/SA!FS31","v":4.6099290780141841E-2},{"$f":"(SA!GF31-SA!FT31)/SA!FT31","v":4.6742209631728045E-2},{"$f":"(SA!GG31-SA!FU31)/SA!FU31","v":4.2988019732205777E-2},{"$f":"(SA!GH31-SA!FV31)/SA!FV31","v":4.286718200983837E-2},{"$f":"(SA!GI31-SA!FW31)/SA!FW31","v":3.6363636363636362E-2},{"$f":"(SA!GJ31-SA!FX31)/SA!FX31","v":3.1988873435326845E-2},{"$f":"(SA!GK31-SA!FY31)/SA!FY31","v":2.4187975120939877E-2},{"$f":"(SA!GL31-SA!FZ31)/SA!FZ31","v":2.2068965517241378E-2},{"$f":"(SA!GM31-SA!GA31)/SA!GA31","v":2.2038567493112948E-2},{"$f":"(SA!GN31-SA!GB31)/SA!GB31","v":1.8518518518518517E-2},{"$f":"(SA!GO31-SA!GC31)/SA!GC31","v":1.9863013698630139E-2},{"$f":"(SA!GP31-SA!GD31)/SA!GD31","v":1.2236573759347382E-2},{"$f":"(SA!GQ31-SA!GE31)/SA!GE31","v":8.8135593220338981E-3},{"$f":"(SA!GR31-SA!GF31)/SA!GF31","v":7.4424898511502033E-3},{"$f":"(SA!GS31-SA!GG31)/SA!GG31","v":1.0810810810810811E-2},{"$f":"(SA!GT31-SA!GH31)/SA!GH31","v":7.4123989218328841E-3},{"$f":"(SA!GU31-SA!GI31)/SA!GI31","v":6.7476383265856954E-3},{"$f":"(SA!GV31-SA!GJ31)/SA!GJ31","v":1.2803234501347708E-2},{"$f":"(SA!GW31-SA!GK31)/SA!GK31","v":1.4844804318488529E-2},{"$f":"(SA!GX31-SA!GL31)/SA!GL31","v":1.7543859649122806E-2},{"$f":"(SA!GY31-SA!GM31)/SA!GM31","v":1.4824797843665768E-2},{"$f":"(SA!GZ31-SA!GN31)/SA!GN31","v":1.6835016835016835E-2},{"$f":"(SA!HA31-SA!GO31)/SA!GO31","v":1.208865010073875E-2},{"$f":"(SA!HB31-SA!GP31)/SA!GP31","v":1.1417058428475487E-2},{"$f":"(SA!HC31-SA!GQ31)/SA!GQ31","v":1.4784946236559141E-2},{"$f":"(SA!HD31-SA!GR31)/SA!GR31","v":1.544660846205507E-2},{"$f":"(SA!HE31-SA!GS31)/SA!GS31","v":8.6898395721925134E-3},{"$f":"(SA!HF31-SA!GT31)/SA!GT31","v":8.0267558528428085E-3},{"$f":"(SA!HG31-SA!GU31)/SA!GU31","v":1.0723860589812333E-2},{"$f":"(SA!HH31-SA!GV31)/SA!GV31","v":6.6533599467731206E-4},{"$f":"(SA!HI31-SA!GW31)/SA!GW31","v":1.3297872340425532E-3},{"$f":"(SA!HJ31-SA!GX31)/SA!GX31","v":-1.3262599469496021E-3},{"$f":"(SA!HK31-SA!GY31)/SA!GY31","v":1.0624169986719787E-2},{"$f":"(SA!HL31-SA!GZ31)/SA!GZ31","v":2.6490066225165563E-3},{"$f":"(SA!HM31-SA!HA31)/SA!HA31","v":1.9907100199071004E-3},{"$f":"(SA!HN31-SA!HB31)/SA!HB31","v":2.0584329349269587E-2},{"$f":"(SA!HO31-SA!HC31)/SA!HC31","v":1.0596026490066225E-2},{"$f":"(SA!HP31-SA!HD31)/SA!HD31","v":9.9206349206349201E-3},{"$f":"(SA!HQ31-SA!HE31)/SA!HE31","v":4.6388336646785953E-3},{"$f":"(SA!HR31-SA!HF31)/SA!HF31","v":7.2992700729927005E-3},{"$f":"(SA!HS31-SA!HG31)/SA!HG31","v":7.2944297082228118E-3},{"$f":"(SA!HT31-SA!HH31)/SA!HH31","v":8.6436170212765961E-3},{"$f":"(SA!HU31-SA!HI31)/SA!HI31","v":5.3120849933598934E-3},{"$f":"(SA!HV31-SA!HJ31)/SA!HJ31","v":5.3120849933598934E-3},{"$f":"(SA!HW31-SA!HK31)/SA!HK31","v":-3.2851511169513796E-3},{"$f":"(SA!HX31-SA!HL31)/SA!HL31","v":4.623513870541612E-3},{"$f":"(SA!HY31-SA!HM31)/SA!HM31","v":5.2980132450331126E-3},{"$f":"(SA!HZ31-SA!HN31)/SA!HN31","v":3.9037085230969422E-3},{"$f":"(SA!IA31-SA!HO31)/SA!HO31","v":9.1743119266055051E-3},{"$f":"(SA!IB31-SA!HP31)/SA!HP31","v":1.2442698100851343E-2},{"$f":"(SA!IC31-SA!HQ31)/SA!HQ31","v":1.7150395778364115E-2},{"$f":"(SA!ID31-SA!HR31)/SA!HR31","v":1.9104084321475624E-2},{"$f":"(SA!IE31-SA!HS31)/SA!HS31","v":1.1849901250822911E-2},{"$f":"(SA!IF31-SA!HT31)/SA!HT31","v":1.845748187211602E-2},{"$f":"(SA!IG31-SA!HU31)/SA!HU31","v":1.9154557463672391E-2},{"$f":"(SA!IH31-SA!HV31)/SA!HV31","v":2.2457067371202115E-2},{"$f":"(SA!II31-SA!HW31)/SA!HW31","v":1.5820698747528016E-2},{"$f":"(SA!IJ31-SA!HX31)/SA!HX31","v":4.6022353714661405E-3},{"$f":"(SA!IK31-SA!HY31)/SA!HY31","v":1.6469038208168644E-2},{"$f":"(SA!IL31-SA!HZ31)/SA!HZ31","v":-1}," n/a ","n/a",null,"Other Services",-2.6203966005665724E-2,-3.1443344010877883E-3,9.7374110863911179E-4,4.4143752175426383E-3,7.9337914687751532E-3,1.2015094822348011E-2,2.0740908273746344E-2,4.9311094996374184E-2,1.453664120947728E-2]
["Government",{"$f":"(SA!BN32-SA!BB32)/SA!BB32","v":2.0323212536728696E-2},{"$f":"(SA!BO32-SA!BC32)/SA!BC32","v":1.0930289045421423E-2},{"$f":"(SA!BP32-SA!BD32)/SA!BD32","v":5.0958505217180297E-3},{"$f":"(SA!BQ32-SA!BE32)/SA!BE32","v":1.1466211271041717E-2},{"$f":"(SA!BR32-SA!BF32)/SA!BF32","v":8.2765335929892887E-3},{"$f":"(SA!BS32-SA!BG32)/SA!BG32","v":-1.6928657799274486E-3},{"$f":"(SA!BT32-SA!BH32)/SA!BH32","v":3.1484620973601355E-3},{"$f":"(SA!BU32-SA!BI32)/SA!BI32","v":-2.4154589371980676E-4},{"$f":"(SA!BV32-SA!BJ32)/SA!BJ32","v":1.9493177387914229E-2},{"$f":"(SA!BW32-SA!BK32)/SA!BK32","v":6.0444874274661504E-3},{"$f":"(SA!BX32-SA!BL32)/SA!BL32","v":-1.6875602700096432E-3},{"$f":"(SA!BY32-SA!BM32)/SA!BM32","v":1.1896091284292304E-2},{"$f":"(SA!BZ32-SA!BN32)/SA!BN32","v":-2.3998080153587713E-3},{"$f":"(SA!CA32-SA!BO32)/SA!BO32","v":-3.8443056222969728E-3},{"$f":"(SA!CB32-SA!BP32)/SA!BP32","v":3.1385803959439883E-3},{"$f":"(SA!CC32-SA!BQ32)/SA!BQ32","v":1.9295706705258081E-3},{"$f":"(SA!CD32-SA!BR32)/SA!BR32","v":-9.6571704490584255E-4},{"$f":"(SA!CE32-SA!BS32)/SA!BS32","v":9.9321705426356592E-3},{"$f":"(SA!CF32-SA!BT32)/SA!BT32","v":3.8628681796233702E-3},{"$f":"(SA!CG32-SA!BU32)/SA!BU32","v":4.8320850446967869E-3},{"$f":"(SA!CH32-SA!BV32)/SA!BV32","v":-7.1701720841300194E-4},{"$f":"(SA!CI32-SA!BW32)/SA!BW32","v":-4.085556356645037E-3},{"$f":"(SA!CJ32-SA!BX32)/SA!BX32","v":2.1733880705143687E-3},{"$f":"(SA!CK32-SA!BY32)/SA!BY32","v":-5.5182341650671781E-3},{"$f":"(SA!CL32-SA!BZ32)/SA!BZ32","v":-3.6083714216983403E-3},{"$f":"(SA!CM32-SA!CA32)/SA!CA32","v":-3.8591413410516162E-3},{"$f":"(SA!CN32-SA!CB32)/SA!CB32","v":-4.0914560770156441E-3},{"$f":"(SA!CO32-SA!CC32)/SA!CC32","v":-9.6292729898892631E-4},{"$f":"(SA!CP32-SA!CD32)/SA!CD32","v":5.0749154180763653E-3},{"$f":"(SA!CQ32-SA!CE32)/SA!CE32","v":8.6351643079875268E-3},{"$f":"(SA!CR32-SA!CF32)/SA!CF32","v":3.1265031265031266E-3},{"$f":"(SA!CS32-SA!CG32)/SA!CG32","v":6.0110603510459245E-3},{"$f":"(SA!CT32-SA!CH32)/SA!CH32","v":7.4144941401578573E-3},{"$f":"(SA!CU32-SA!CI32)/SA!CI32","v":3.3783783783783786E-3},{"$f":"(SA!CV32-SA!CJ32)/SA!CJ32","v":-2.4096385542168677E-3},{"$f":"(SA!CW32-SA!CK32)/SA!CK32","v":7.4788902291917977E-3},{"$f":"(SA!CX32-SA!CL32)/SA!CL32","v":1.5692901979719943E-2},{"$f":"(SA!CY32-SA!CM32)/SA!CM32","v":1.5738498789346248E-2},{"$f":"(SA!CZ32-SA!CN32)/SA!CN32","v":1.1116481391976801E-2},{"$f":"(SA!DA32-SA!CO32)/SA!CO32","v":5.0602409638554214E-3},{"$f":"(SA!DB32-SA!CP32)/SA!CP32","v":9.8581389757153165E-3},{"$f":"(SA!DC32-SA!CQ32)/SA!CQ32","v":-2.3781212841854932E-3},{"$f":"(SA!DD32-SA!CR32)/SA!CR32","v":1.1747782306401342E-2},{"$f":"(SA!DE32-SA!CS32)/SA!CS32","v":5.4971319311663477E-3},{"$f":"(SA!DF32-SA!CT32)/SA!CT32","v":2.4928774928774929E-2},{"$f":"(SA!DG32-SA!CU32)/SA!CU32","v":2.2126022126022125E-2},{"$f":"(SA!DH32-SA!CV32)/SA!CV32","v":3.5024154589371984E-2},{"$f":"(SA!DI32-SA!CW32)/SA!CW32","v":1.7480842911877393E-2},{"$f":"(SA!DJ32-SA!CX32)/SA!CX32","v":4.9916805324459234E-3},{"$f":"(SA!DK32-SA!CY32)/SA!CY32","v":9.2967818831942786E-3},{"$f":"(SA!DL32-SA!CZ32)/SA!CZ32","v":1.0994263862332695E-2},{"$f":"(SA!DM32-SA!DA32)/SA!DA32","v":1.2467034284344283E-2},{"$f":"(SA!DN32-SA!DB32)/SA!DB32","v":9.0476190476190474E-3},{"$f":"(SA!DO32-SA!DC32)/SA!DC32","v":2.8605482717520858E-3},{"$f":"(SA!DP32-SA!DD32)/SA!DD32","v":-1.6587677725118483E-3},{"$f":"(SA!DQ32-SA!DE32)/SA!DE32","v":-4.7539814594723083E-3},{"$f":"(SA!DR32-SA!DF32)/SA!DF32","v":-3.3819782256196432E-2},{"$f":"(SA!DS32-SA!DG32)/SA!DG32","v":-1.1764705882352941E-2},{"$f":"(SA!DT32-SA!DH32)/SA!DH32","v":-2.3803967327887983E-2},{"$f":"(SA!DU32-SA!DI32)/SA!DI32","v":-1.0826076723935044E-2},{"$f":"(SA!DV32-SA!DJ32)/SA!DJ32","v":-8.2781456953642391E-3},{"$f":"(SA!DW32-SA!DK32)/SA!DK32","v":-1.4407179971658007E-2},{"$f":"(SA!DX32-SA!DL32)/SA!DL32","v":-1.1347517730496455E-2},{"$f":"(SA!DY32-SA!DM32)/SA!DM32","v":-1.6575893914278948E-3},{"$f":"(SA!DZ32-SA!DN32)/SA!DN32","v":4.4832468145351578E-3},{"$f":"(SA!EA32-SA!DO32)/SA!DO32","v":5.2293796054195384E-3},{"$f":"(SA!EB32-SA!DP32)/SA!DP32","v":-4.9845715642060293E-3},{"$f":"(SA!EC32-SA!DQ32)/SA!DQ32","v":-3.1048483401003107E-3},{"$f":"(SA!ED32-SA!DR32)/SA!DR32","v":2.8770079117717575E-3},{"$f":"(SA!EE32-SA!DS32)/SA!DS32","v":-2.8571428571428571E-3},{"$f":"(SA!EF32-SA!DT32)/SA!DT32","v":3.5859431030360986E-3},{"$f":"(SA!EG32-SA!DU32)/SA!DU32","v":-1.3085891030216512E-2},{"$f":"(SA!EH32-SA!DV32)/SA!DV32","v":-5.008347245409015E-3},{"$f":"(SA!EI32-SA!DW32)/SA!DW32","v":3.1152647975077881E-3},{"$f":"(SA!EJ32-SA!DX32)/SA!DX32","v":1.1956001912960307E-3},{"$f":"(SA!EK32-SA!DY32)/SA!DY32","v":-1.3282732447817837E-2},{"$f":"(SA!EL32-SA!DZ32)/SA!DZ32","v":-1.9262391355414611E-2},{"$f":"(SA!EM32-SA!EA32)/SA!EA32","v":-1.9626389217309057E-2},{"$f":"(SA!EN32-SA!EB32)/SA!EB32","v":-2.3854961832061068E-4},{"$f":"(SA!EO32-SA!EC32)/SA!EC32","v":-8.1456636320076659E-3},{"$f":"(SA!EP32-SA!ED32)/SA!ED32","v":-1.4343772412144394E-2},{"$f":"(SA!EQ32-SA!EE32)/SA!EE32","v":-2.3400191021967526E-2},{"$f":"(SA!ER32-SA!EF32)/SA!EF32","v":-3.1681753215817059E-2},{"$f":"(SA!ES32-SA!EG32)/SA!EG32","v":-9.1610414657666353E-3},{"$f":"(SA!ET32-SA!EH32)/SA!EH32","v":-3.787152444870566E-2},{"$f":"(SA!EU32-SA!EI32)/SA!EI32","v":-3.4400382226469184E-2},{"$f":"(SA!EV32-SA!EJ32)/SA!EJ32","v":-1.9106759016001909E-2},{"$f":"(SA!EW32-SA!EK32)/SA!EK32","v":-4.3269230769230772E-3},{"$f":"(SA!EX32-SA!EL32)/SA!EL32","v":1.6766467065868263E-3},{"$f":"(SA!EY32-SA!EM32)/SA!EM32","v":-4.5827303424987942E-3},{"$f":"(SA!EZ32-SA!EN32)/SA!EN32","v":-2.1951801479360534E-2},{"$f":"(SA!FA32-SA!EO32)/SA!EO32","v":-2.8985507246376812E-3},{"$f":"(SA!FB32-SA!EP32)/SA!EP32","v":-3.6381275770070338E-3},{"$f":"(SA!FC32-SA!EQ32)/SA!EQ32","v":6.3569682151589238E-3},{"$f":"(SA!FD32-SA!ER32)/SA!ER32","v":2.3124231242312422E-2},{"$f":"(SA!FE32-SA!ES32)/SA!ES32","v":7.2992700729927003E-4},{"$f":"(SA!FF32-SA!ET32)/SA!ET32","v":-1.7438963627304435E-3},{"$f":"(SA!FG32-SA!EU32)/SA!EU32","v":1.9049975259772391E-2},{"$f":"(SA!FH32-SA!EV32)/SA!EV32","v":-1.9478938397857316E-3},{"$f":"(SA!FI32-SA!EW32)/SA!EW32","v":-1.5692901979719943E-2},{"$f":"(SA!FJ32-SA!EX32)/SA!EX32","v":-2.4390243902439025E-2},{"$f":"(SA!FK32-SA!EY32)/SA!EY32","v":-7.7538163314756483E-3},{"$f":"(SA!FL32-SA!EZ32)/SA!EZ32","v":-1.463771651622347E-3},{"$f":"(SA!FM32-SA!FA32)/SA!FA32","v":-1.0901162790697675E-2},{"$f":"(SA!FN32-SA!FB32)/SA!FB32","v":3.6514118792599806E-3},{"$f":"(SA!FO32-SA!FC32)/SA!FC32","v":4.8590864917395527E-4},{"$f":"(SA!FP32-SA!FD32)/SA!FD32","v":-1.8514065881221446E-2},{"$f":"(SA!FQ32-SA!FE32)/SA!FE32","v":-1.4587892049598833E-3},{"$f":"(SA!FR32-SA!FF32)/SA!FF32","v":2.6703269278762168E-2},{"$f":"(SA!FS32-SA!FG32)/SA!FG32","v":-5.826656955571741E-3},{"$f":"(SA!FT32-SA!FH32)/SA!FH32","v":-2.4396194193705782E-4},{"$f":"(SA!FU32-SA!FI32)/SA!FI32","v":4.6602894285013487E-3},{"$f":"(SA!FV32-SA!FJ32)/SA!FJ32","v":5.392156862745098E-3},{"$f":"(SA!FW32-SA!FK32)/SA!FK32","v":5.3724053724053724E-3},{"$f":"(SA!FX32-SA!FL32)/SA!FL32","v":4.6420718299535792E-3},{"$f":"(SA!FY32-SA!FM32)/SA!FM32","v":2.1797697771246634E-2},{"$f":"(SA!FZ32-SA!FN32)/SA!FN32","v":2.1828765462042201E-3},{"$f":"(SA!GA32-SA!FO32)/SA!FO32","v":9.7134531325886349E-4},{"$f":"(SA!GB32-SA!FP32)/SA!FP32","v":1.6903478686918178E-2},{"$f":"(SA!GC32-SA!FQ32)/SA!FQ32","v":7.3046018991964939E-4},{"$f":"(SA!GD32-SA!FR32)/SA!FR32","v":-3.6460865337870686E-3},{"$f":"(SA!GE32-SA!FS32)/SA!FS32","v":4.6398046398046398E-3},{"$f":"(SA!GF32-SA!FT32)/SA!FT32","v":1.2201073694485115E-3},{"$f":"(SA!GG32-SA!FU32)/SA!FU32","v":4.638671875E-3},{"$f":"(SA!GH32-SA!FV32)/SA!FV32","v":7.3135056070209659E-4},{"$f":"(SA!GI32-SA!FW32)/SA!FW32","v":-2.1860578090842847E-3},{"$f":"(SA!GJ32-SA!FX32)/SA!FX32","v":-3.6478599221789884E-3},{"$f":"(SA!GK32-SA!FY32)/SA!FY32","v":-2.0373921380632789E-2},{"$f":"(SA!GL32-SA!FZ32)/SA!FZ32","v":-1.1132623426911906E-2},{"$f":"(SA!GM32-SA!GA32)/SA!GA32","v":-8.9762251334303735E-3},{"$f":"(SA!GN32-SA!GB32)/SA!GB32","v":-2.9872319922910142E-2},{"$f":"(SA!GO32-SA!GC32)/SA!GC32","v":-5.3527980535279804E-3},{"$f":"(SA!GP32-SA!GD32)/SA!GD32","v":1.7077335935594047E-3},{"$f":"(SA!GQ32-SA!GE32)/SA!GE32","v":-1.9445794846864365E-3},{"$f":"(SA!GR32-SA!GF32)/SA!GF32","v":-1.4623446258834999E-3},{"$f":"(SA!GS32-SA!GG32)/SA!GG32","v":4.8602673147023087E-4},{"$f":"(SA!GT32-SA!GH32)/SA!GH32","v":-4.3848964677222898E-3},{"$f":"(SA!GU32-SA!GI32)/SA!GI32","v":0},{"$f":"(SA!GV32-SA!GJ32)/SA!GJ32","v":5.6138638027825238E-3},{"$f":"(SA!GW32-SA!GK32)/SA!GK32","v":2.4223146562270613E-2},{"$f":"(SA!GX32-SA!GL32)/SA!GL32","v":6.8526676456191872E-3},{"$f":"(SA!GY32-SA!GM32)/SA!GM32","v":5.1407588739290086E-3},{"$f":"(SA!GZ32-SA!GN32)/SA!GN32","v":3.253041966724609E-2},{"$f":"(SA!HA32-SA!GO32)/SA!GO32","v":6.6046966731898235E-3},{"$f":"(SA!HB32-SA!GP32)/SA!GP32","v":-4.1402825133950317E-3},{"$f":"(SA!HC32-SA!GQ32)/SA!GQ32","v":-4.870920603994155E-3},{"$f":"(SA!HD32-SA!GR32)/SA!GR32","v":-1.0739565535757872E-2},{"$f":"(SA!HE32-SA!GS32)/SA!GS32","v":-9.4729171726985664E-3},{"$f":"(SA!HF32-SA!GT32)/SA!GT32","v":3.6701737215561535E-3},{"$f":"(SA!HG32-SA!GU32)/SA!GU32","v":-9.4936708860759497E-3},{"$f":"(SA!HH32-SA!GV32)/SA!GV32","v":-6.5533980582524274E-3},{"$f":"(SA!HI32-SA!GW32)/SA!GW32","v":-2.9144768275203056E-2},{"$f":"(SA!HJ32-SA!GX32)/SA!GX32","v":-7.0491006319883323E-3},{"$f":"(SA!HK32-SA!GY32)/SA!GY32","v":-4.870920603994155E-3},{"$f":"(SA!HL32-SA!GZ32)/SA!GZ32","v":-2.6455026455026454E-2},{"$f":"(SA!HM32-SA!HA32)/SA!HA32","v":-1.2636695018226002E-2},{"$f":"(SA!HN32-SA!HB32)/SA!HB32","v":-3.6683785766691121E-3},{"$f":"(SA!HO32-SA!HC32)/SA!HC32","v":1.7131669114047968E-3},{"$f":"(SA!HP32-SA!HD32)/SA!HD32","v":5.4280779669380703E-3},{"$f":"(SA!HQ32-SA!HE32)/SA!HE32","v":9.8087297694948511E-4},{"$f":"(SA!HR32-SA!HF32)/SA!HF32","v":-2.6816187225743538E-3},{"$f":"(SA!HS32-SA!HG32)/SA!HG32","v":7.6185795035635289E-3},{"$f":"(SA!HT32-SA!HH32)/SA!HH32","v":4.6420718299535792E-3},{"$f":"(SA!HU32-SA!HI32)/SA!HI32","v":1.9931102362204724E-2},{"$f":"(SA!HV32-SA!HJ32)/SA!HJ32","v":3.6719706242350062E-3},{"$f":"(SA!HW32-SA!HK32)/SA!HK32","v":-2.936857562408223E-3},{"$f":"(SA!HX32-SA!HL32)/SA!HL32","v":1.2104743083003952E-2},{"$f":"(SA!HY32-SA!HM32)/SA!HM32","v":8.368200836820083E-3},{"$f":"(SA!HZ32-SA!HN32)/SA!HN32","v":-8.3456062837506135E-3},{"$f":"(SA!IA32-SA!HO32)/SA!HO32","v":-1.8568287319814317E-2},{"$f":"(SA!IB32-SA!HP32)/SA!HP32","v":-8.5889570552147246E-3},{"$f":"(SA!IC32-SA!HQ32)/SA!HQ32","v":-1.0779029887310143E-2},{"$f":"(SA!ID32-SA!HR32)/SA!HR32","v":-9.288682473722807E-3},{"$f":"(SA!IE32-SA!HS32)/SA!HS32","v":-2.1951219512195124E-3},{"$f":"(SA!IF32-SA!HT32)/SA!HT32","v":-8.7548638132295721E-3},{"$f":"(SA!IG32-SA!HU32)/SA!HU32","v":-2.3401688781664657E-2},{"$f":"(SA!IH32-SA!HV32)/SA!HV32","v":-1.1219512195121951E-2},{"$f":"(SA!II32-SA!HW32)/SA!HW32","v":-4.9091801669121256E-3},{"$f":"(SA!IJ32-SA!HX32)/SA!HX32","v":-1.4888943129118867E-2},{"$f":"(SA!IK32-SA!HY32)/SA!HY32","v":-1.2936294849890163E-2},{"$f":"(SA!IL32-SA!HZ32)/SA!HZ32","v":-1}," n/a ","n/a",null,"Government",-3.787152444870566E-2,-1.1472674176053401E-2,-4.3617071114026044E-3,-1.6586499344034529E-3,7.3126152362385183E-4,4.6530023890822411E-3,9.8803484457914183E-3,3.5024154589371984E-2,1.2486006374001159E-2]
["Federal Government",{"$f":"(SA!BN33-SA!BB33)/SA!BB33","v":-6.7567567567567571E-3},{"$f":"(SA!BO33-SA!BC33)/SA!BC33","v":-6.7567567567567571E-3},{"$f":"(SA!BP33-SA!BD33)/SA!BD33","v":-6.7796610169491523E-3},{"$f":"(SA!BQ33-SA!BE33)/SA!BE33","v":-1.0101010101010102E-2},{"$f":"(SA!BR33-SA!BF33)/SA!BF33","v":-3.3898305084745762E-3},{"$f":"(SA!BS33-SA!BG33)/SA!BG33","v":-1.0169491525423728E-2},{"$f":"(SA!BT33-SA!BH33)/SA!BH33","v":-1.3513513513513514E-2},{"$f":"(SA!BU33-SA!BI33)/SA!BI33","v":-1.6835016835016835E-2},{"$f":"(SA!BV33-SA!BJ33)/SA!BJ33","v":-1.0169491525423728E-2},{"$f":"(SA!BW33-SA!BK33)/SA!BK33","v":-1.6891891891891893E-2},{"$f":"(SA!BX33-SA!BL33)/SA!BL33","v":-1.6891891891891893E-2},{"$f":"(SA!BY33-SA!BM33)/SA!BM33","v":-1.020408163265306E-2},{"$f":"(SA!BZ33-SA!BN33)/SA!BN33","v":-1.020408163265306E-2},{"$f":"(SA!CA33-SA!BO33)/SA!BO33","v":-1.020408163265306E-2},{"$f":"(SA!CB33-SA!BP33)/SA!BP33","v":0},{"$f":"(SA!CC33-SA!BQ33)/SA!BQ33","v":-3.4013605442176869E-3},{"$f":"(SA!CD33-SA!BR33)/SA!BR33","v":-6.8027210884353739E-3},{"$f":"(SA!CE33-SA!BS33)/SA!BS33","v":3.4246575342465752E-3},{"$f":"(SA!CF33-SA!BT33)/SA!BT33","v":3.4246575342465752E-3},{"$f":"(SA!CG33-SA!BU33)/SA!BU33","v":0},{"$f":"(SA!CH33-SA!BV33)/SA!BV33","v":3.4246575342465752E-3},{"$f":"(SA!CI33-SA!BW33)/SA!BW33","v":3.4364261168384879E-3},{"$f":"(SA!CJ33-SA!BX33)/SA!BX33","v":6.8728522336769758E-3},{"$f":"(SA!CK33-SA!BY33)/SA!BY33","v":6.8728522336769758E-3},{"$f":"(SA!CL33-SA!BZ33)/SA!BZ33","v":1.0309278350515464E-2},{"$f":"(SA!CM33-SA!CA33)/SA!CA33","v":3.4364261168384879E-3},{"$f":"(SA!CN33-SA!CB33)/SA!CB33","v":-3.4129692832764505E-3},{"$f":"(SA!CO33-SA!CC33)/SA!CC33","v":-3.4129692832764505E-3},{"$f":"(SA!CP33-SA!CD33)/SA!CD33","v":0},{"$f":"(SA!CQ33-SA!CE33)/SA!CE33","v":0},{"$f":"(SA!CR33-SA!CF33)/SA!CF33","v":-3.4129692832764505E-3},{"$f":"(SA!CS33-SA!CG33)/SA!CG33","v":3.4246575342465752E-3},{"$f":"(SA!CT33-SA!CH33)/SA!CH33","v":-3.4129692832764505E-3},{"$f":"(SA!CU33-SA!CI33)/SA!CI33","v":6.8493150684931503E-3},{"$f":"(SA!CV33-SA!CJ33)/SA!CJ33","v":0},{"$f":"(SA!CW33-SA!CK33)/SA!CK33","v":-6.8259385665529011E-3},{"$f":"(SA!CX33-SA!CL33)/SA!CL33","v":0},{"$f":"(SA!CY33-SA!CM33)/SA!CM33","v":1.0273972602739725E-2},{"$f":"(SA!CZ33-SA!CN33)/SA!CN33","v":1.0273972602739725E-2},{"$f":"(SA!DA33-SA!CO33)/SA!CO33","v":1.0273972602739725E-2},{"$f":"(SA!DB33-SA!CP33)/SA!CP33","v":1.3698630136986301E-2},{"$f":"(SA!DC33-SA!CQ33)/SA!CQ33","v":1.0238907849829351E-2},{"$f":"(SA!DD33-SA!CR33)/SA!CR33","v":2.0547945205479451E-2},{"$f":"(SA!DE33-SA!CS33)/SA!CS33","v":1.7064846416382253E-2},{"$f":"(SA!DF33-SA!CT33)/SA!CT33","v":2.0547945205479451E-2},{"$f":"(SA!DG33-SA!CU33)/SA!CU33","v":6.8027210884353739E-3},{"$f":"(SA!DH33-SA!CV33)/SA!CV33","v":1.3651877133105802E-2},{"$f":"(SA!DI33-SA!CW33)/SA!CW33","v":2.4054982817869417E-2},{"$f":"(SA!DJ33-SA!CX33)/SA!CX33","v":1.7006802721088437E-2},{"$f":"(SA!DK33-SA!CY33)/SA!CY33","v":1.3559322033898305E-2},{"$f":"(SA!DL33-SA!CZ33)/SA!CZ33","v":6.7796610169491523E-3},{"$f":"(SA!DM33-SA!DA33)/SA!DA33","v":8.1355932203389825E-2},{"$f":"(SA!DN33-SA!DB33)/SA!DB33","v":7.77027027027027E-2},{"$f":"(SA!DO33-SA!DC33)/SA!DC33","v":6.7567567567567571E-3},{"$f":"(SA!DP33-SA!DD33)/SA!DD33","v":-6.7114093959731542E-3},{"$f":"(SA!DQ33-SA!DE33)/SA!DE33","v":-3.3557046979865771E-3},{"$f":"(SA!DR33-SA!DF33)/SA!DF33","v":-6.7114093959731542E-3},{"$f":"(SA!DS33-SA!DG33)/SA!DG33","v":6.7567567567567571E-3},{"$f":"(SA!DT33-SA!DH33)/SA!DH33","v":0},{"$f":"(SA!DU33-SA!DI33)/SA!DI33","v":-3.3557046979865771E-3},{"$f":"(SA!DV33-SA!DJ33)/SA!DJ33","v":-1.0033444816053512E-2},{"$f":"(SA!DW33-SA!DK33)/SA!DK33","v":-1.0033444816053512E-2},{"$f":"(SA!DX33-SA!DL33)/SA!DL33","v":2.0202020202020204E-2},{"$f":"(SA!DY33-SA!DM33)/SA!DM33","v":5.0156739811912224E-2},{"$f":"(SA!DZ33-SA!DN33)/SA!DN33","v":0.18808777429467086},{"$f":"(SA!EA33-SA!DO33)/SA!DO33","v":0.15100671140939598},{"$f":"(SA!EB33-SA!DP33)/SA!DP33","v":9.45945945945946E-2},{"$f":"(SA!EC33-SA!DQ33)/SA!DQ33","v":2.6936026936026935E-2},{"$f":"(SA!ED33-SA!DR33)/SA!DR33","v":3.3783783783783786E-3},{"$f":"(SA!EE33-SA!DS33)/SA!DS33","v":-6.7114093959731542E-3},{"$f":"(SA!EF33-SA!DT33)/SA!DT33","v":-3.3670033670033669E-3},{"$f":"(SA!EG33-SA!DU33)/SA!DU33","v":-6.7340067340067337E-3},{"$f":"(SA!EH33-SA!DV33)/SA!DV33","v":-3.3783783783783786E-3},{"$f":"(SA!EI33-SA!DW33)/SA!DW33","v":-6.7567567567567571E-3},{"$f":"(SA!EJ33-SA!DX33)/SA!DX33","v":-2.6402640264026403E-2},{"$f":"(SA!EK33-SA!DY33)/SA!DY33","v":-0.11940298507462686},{"$f":"(SA!EL33-SA!DZ33)/SA!DZ33","v":-0.22427440633245382},{"$f":"(SA!EM33-SA!EA33)/SA!EA33","v":-0.14285714285714285},{"$f":"(SA!EN33-SA!EB33)/SA!EB33","v":-8.9506172839506168E-2},{"$f":"(SA!EO33-SA!EC33)/SA!EC33","v":-3.6065573770491806E-2},{"$f":"(SA!EP33-SA!ED33)/SA!ED33","v":-1.0101010101010102E-2},{"$f":"(SA!EQ33-SA!EE33)/SA!EE33","v":-6.7567567567567571E-3},{"$f":"(SA!ER33-SA!EF33)/SA!EF33","v":-1.6891891891891893E-2},{"$f":"(SA!ES33-SA!EG33)/SA!EG33","v":-1.3559322033898305E-2},{"$f":"(SA!ET33-SA!EH33)/SA!EH33","v":-1.6949152542372881E-2},{"$f":"(SA!EU33-SA!EI33)/SA!EI33","v":-1.3605442176870748E-2},{"$f":"(SA!EV33-SA!EJ33)/SA!EJ33","v":-1.3559322033898305E-2},{"$f":"(SA!EW33-SA!EK33)/SA!EK33","v":-1.6949152542372881E-2},{"$f":"(SA!EX33-SA!EL33)/SA!EL33","v":-1.3605442176870748E-2},{"$f":"(SA!EY33-SA!EM33)/SA!EM33","v":-1.3605442176870748E-2},{"$f":"(SA!EZ33-SA!EN33)/SA!EN33","v":-1.3559322033898305E-2},{"$f":"(SA!FA33-SA!EO33)/SA!EO33","v":-1.020408163265306E-2},{"$f":"(SA!FB33-SA!EP33)/SA!EP33","v":-1.3605442176870748E-2},{"$f":"(SA!FC33-SA!EQ33)/SA!EQ33","v":-1.020408163265306E-2},{"$f":"(SA!FD33-SA!ER33)/SA!ER33","v":-1.3745704467353952E-2},{"$f":"(SA!FE33-SA!ES33)/SA!ES33","v":-6.8728522336769758E-3},{"$f":"(SA!FF33-SA!ET33)/SA!ET33","v":-6.8965517241379309E-3},{"$f":"(SA!FG33-SA!EU33)/SA!EU33","v":-3.4482758620689655E-3},{"$f":"(SA!FH33-SA!EV33)/SA!EV33","v":-1.7182130584192441E-2},{"$f":"(SA!FI33-SA!EW33)/SA!EW33","v":-6.8965517241379309E-3},{"$f":"(SA!FJ33-SA!EX33)/SA!EX33","v":-1.0344827586206896E-2},{"$f":"(SA!FK33-SA!EY33)/SA!EY33","v":-1.3793103448275862E-2},{"$f":"(SA!FL33-SA!EZ33)/SA!EZ33","v":-1.7182130584192441E-2},{"$f":"(SA!FM33-SA!FA33)/SA!FA33","v":-2.0618556701030927E-2},{"$f":"(SA!FN33-SA!FB33)/SA!FB33","v":-1.3793103448275862E-2},{"$f":"(SA!FO33-SA!FC33)/SA!FC33","v":-2.0618556701030927E-2},{"$f":"(SA!FP33-SA!FD33)/SA!FD33","v":0},{"$f":"(SA!FQ33-SA!FE33)/SA!FE33","v":-1.7301038062283738E-2},{"$f":"(SA!FR33-SA!FF33)/SA!FF33","v":-6.9444444444444441E-3},{"$f":"(SA!FS33-SA!FG33)/SA!FG33","v":-1.0380622837370242E-2},{"$f":"(SA!FT33-SA!FH33)/SA!FH33","v":0},{"$f":"(SA!FU33-SA!FI33)/SA!FI33","v":-6.9444444444444441E-3},{"$f":"(SA!FV33-SA!FJ33)/SA!FJ33","v":-3.4843205574912892E-3},{"$f":"(SA!FW33-SA!FK33)/SA!FK33","v":-3.4965034965034965E-3},{"$f":"(SA!FX33-SA!FL33)/SA!FL33","v":0},{"$f":"(SA!FY33-SA!FM33)/SA!FM33","v":7.0175438596491229E-3},{"$f":"(SA!FZ33-SA!FN33)/SA!FN33","v":3.4965034965034965E-3},{"$f":"(SA!GA33-SA!FO33)/SA!FO33","v":7.0175438596491229E-3},{"$f":"(SA!GB33-SA!FP33)/SA!FP33","v":3.4843205574912892E-3},{"$f":"(SA!GC33-SA!FQ33)/SA!FQ33","v":1.4084507042253521E-2},{"$f":"(SA!GD33-SA!FR33)/SA!FR33","v":3.4965034965034965E-3},{"$f":"(SA!GE33-SA!FS33)/SA!FS33","v":3.4965034965034965E-3},{"$f":"(SA!GF33-SA!FT33)/SA!FT33","v":3.4965034965034965E-3},{"$f":"(SA!GG33-SA!FU33)/SA!FU33","v":6.993006993006993E-3},{"$f":"(SA!GH33-SA!FV33)/SA!FV33","v":6.993006993006993E-3},{"$f":"(SA!GI33-SA!FW33)/SA!FW33","v":1.4035087719298246E-2},{"$f":"(SA!GJ33-SA!FX33)/SA!FX33","v":1.048951048951049E-2},{"$f":"(SA!GK33-SA!FY33)/SA!FY33","v":3.4843205574912892E-3},{"$f":"(SA!GL33-SA!FZ33)/SA!FZ33","v":3.4843205574912892E-3},{"$f":"(SA!GM33-SA!GA33)/SA!GA33","v":3.4843205574912892E-3},{"$f":"(SA!GN33-SA!GB33)/SA!GB33","v":3.472222222222222E-3},{"$f":"(SA!GO33-SA!GC33)/SA!GC33","v":3.472222222222222E-3},{"$f":"(SA!GP33-SA!GD33)/SA!GD33","v":6.9686411149825784E-3},{"$f":"(SA!GQ33-SA!GE33)/SA!GE33","v":6.9686411149825784E-3},{"$f":"(SA!GR33-SA!GF33)/SA!GF33","v":1.0452961672473868E-2},{"$f":"(SA!GS33-SA!GG33)/SA!GG33","v":3.472222222222222E-3},{"$f":"(SA!GT33-SA!GH33)/SA!GH33","v":3.472222222222222E-3},{"$f":"(SA!GU33-SA!GI33)/SA!GI33","v":6.920415224913495E-3},{"$f":"(SA!GV33-SA!GJ33)/SA!GJ33","v":0},{"$f":"(SA!GW33-SA!GK33)/SA!GK33","v":1.0416666666666666E-2},{"$f":"(SA!GX33-SA!GL33)/SA!GL33","v":1.3888888888888888E-2},{"$f":"(SA!GY33-SA!GM33)/SA!GM33","v":1.0416666666666666E-2},{"$f":"(SA!GZ33-SA!GN33)/SA!GN33","v":1.0380622837370242E-2},{"$f":"(SA!HA33-SA!GO33)/SA!GO33","v":6.920415224913495E-3},{"$f":"(SA!HB33-SA!GP33)/SA!GP33","v":1.0380622837370242E-2},{"$f":"(SA!HC33-SA!GQ33)/SA!GQ33","v":6.920415224913495E-3},{"$f":"(SA!HD33-SA!GR33)/SA!GR33","v":6.8965517241379309E-3},{"$f":"(SA!HE33-SA!GS33)/SA!GS33","v":0},{"$f":"(SA!HF33-SA!GT33)/SA!GT33","v":6.920415224913495E-3},{"$f":"(SA!HG33-SA!GU33)/SA!GU33","v":0},{"$f":"(SA!HH33-SA!GV33)/SA!GV33","v":6.920415224913495E-3},{"$f":"(SA!HI33-SA!GW33)/SA!GW33","v":-1.0309278350515464E-2},{"$f":"(SA!HJ33-SA!GX33)/SA!GX33","v":-6.8493150684931503E-3},{"$f":"(SA!HK33-SA!GY33)/SA!GY33","v":-3.4364261168384879E-3},{"$f":"(SA!HL33-SA!GZ33)/SA!GZ33","v":-6.8493150684931503E-3},{"$f":"(SA!HM33-SA!HA33)/SA!HA33","v":-3.4364261168384879E-3},{"$f":"(SA!HN33-SA!HB33)/SA!HB33","v":-3.4246575342465752E-3},{"$f":"(SA!HO33-SA!HC33)/SA!HC33","v":0},{"$f":"(SA!HP33-SA!HD33)/SA!HD33","v":-6.8493150684931503E-3},{"$f":"(SA!HQ33-SA!HE33)/SA!HE33","v":3.4602076124567475E-3},{"$f":"(SA!HR33-SA!HF33)/SA!HF33","v":0},{"$f":"(SA!HS33-SA!HG33)/SA!HG33","v":0},{"$f":"(SA!HT33-SA!HH33)/SA!HH33","v":0},{"$f":"(SA!HU33-SA!HI33)/SA!HI33","v":1.3888888888888888E-2},{"$f":"(SA!HV33-SA!HJ33)/SA!HJ33","v":1.0344827586206896E-2},{"$f":"(SA!HW33-SA!HK33)/SA!HK33","v":1.0344827586206896E-2},{"$f":"(SA!HX33-SA!HL33)/SA!HL33","v":1.0344827586206896E-2},{"$f":"(SA!HY33-SA!HM33)/SA!HM33","v":3.4482758620689655E-3},{"$f":"(SA!HZ33-SA!HN33)/SA!HN33","v":-3.4364261168384879E-3},{"$f":"(SA!IA33-SA!HO33)/SA!HO33","v":-3.4364261168384879E-3},{"$f":"(SA!IB33-SA!HP33)/SA!HP33","v":-3.4482758620689655E-3},{"$f":"(SA!IC33-SA!HQ33)/SA!HQ33","v":0},{"$f":"(SA!ID33-SA!HR33)/SA!HR33","v":0},{"$f":"(SA!IE33-SA!HS33)/SA!HS33","v":0},{"$f":"(SA!IF33-SA!HT33)/SA!HT33","v":0},{"$f":"(SA!IG33-SA!HU33)/SA!HU33","v":1.3698630136986301E-2},{"$f":"(SA!IH33-SA!HV33)/SA!HV33","v":3.4129692832764505E-3},{"$f":"(SA!II33-SA!HW33)/SA!HW33","v":0},{"$f":"(SA!IJ33-SA!HX33)/SA!HX33","v":-3.4129692832764505E-3},{"$f":"(SA!IK33-SA!HY33)/SA!HY33","v":3.4364261168384879E-3},{"$f":"(SA!IL33-SA!HZ33)/SA!HZ33","v":-1}," n/a ","n/a",null,"Federal Government",-0.22427440633245382,-1.3605442176870748E-2,-6.863437367603446E-3,-3.4002075406433757E-3,0,6.7704993128721944E-3,1.0391435986159169E-2,0.18808777429467086,3.4947792690905526E-2]
["State Government",{"$f":"(SA!BN34-SA!BB34)/SA!BB34","v":5.2313883299798795E-2},{"$f":"(SA!BO34-SA!BC34)/SA!BC34","v":2.002002002002002E-2},{"$f":"(SA!BP34-SA!BD34)/SA!BD34","v":1.503006012024048E-2},{"$f":"(SA!BQ34-SA!BE34)/SA!BE34","v":1.1022044088176353E-2},{"$f":"(SA!BR34-SA!BF34)/SA!BF34","v":1.7119838872104734E-2},{"$f":"(SA!BS34-SA!BG34)/SA!BG34","v":-1.4705882352941176E-2},{"$f":"(SA!BT34-SA!BH34)/SA!BH34","v":-4.8971596474045058E-3},{"$f":"(SA!BU34-SA!BI34)/SA!BI34","v":-1.9474196689386564E-2},{"$f":"(SA!BV34-SA!BJ34)/SA!BJ34","v":2.881844380403458E-3},{"$f":"(SA!BW34-SA!BK34)/SA!BK34","v":-7.7745383867832843E-3},{"$f":"(SA!BX34-SA!BL34)/SA!BL34","v":-8.7548638132295721E-3},{"$f":"(SA!BY34-SA!BM34)/SA!BM34","v":5.8422590068159686E-3},{"$f":"(SA!BZ34-SA!BN34)/SA!BN34","v":-7.6481835564053535E-3},{"$f":"(SA!CA34-SA!BO34)/SA!BO34","v":6.8694798822374874E-3},{"$f":"(SA!CB34-SA!BP34)/SA!BP34","v":6.9101678183613032E-3},{"$f":"(SA!CC34-SA!BQ34)/SA!BQ34","v":1.0901883052527254E-2},{"$f":"(SA!CD34-SA!BR34)/SA!BR34","v":3.9603960396039604E-3},{"$f":"(SA!CE34-SA!BS34)/SA!BS34","v":3.5820895522388062E-2},{"$f":"(SA!CF34-SA!BT34)/SA!BT34","v":2.0669291338582679E-2},{"$f":"(SA!CG34-SA!BU34)/SA!BU34","v":3.1777557100297914E-2},{"$f":"(SA!CH34-SA!BV34)/SA!BV34","v":1.1494252873563218E-2},{"$f":"(SA!CI34-SA!BW34)/SA!BW34","v":1.3712047012732615E-2},{"$f":"(SA!CJ34-SA!BX34)/SA!BX34","v":5.8881256133464181E-3},{"$f":"(SA!CK34-SA!BY34)/SA!BY34","v":-9.6805421103581804E-4},{"$f":"(SA!CL34-SA!BZ34)/SA!BZ34","v":-9.6339113680154135E-3},{"$f":"(SA!CM34-SA!CA34)/SA!CA34","v":5.8479532163742687E-3},{"$f":"(SA!CN34-SA!CB34)/SA!CB34","v":1.7647058823529412E-2},{"$f":"(SA!CO34-SA!CC34)/SA!CC34","v":7.8431372549019607E-3},{"$f":"(SA!CP34-SA!CD34)/SA!CD34","v":2.2682445759368838E-2},{"$f":"(SA!CQ34-SA!CE34)/SA!CE34","v":2.881844380403458E-3},{"$f":"(SA!CR34-SA!CF34)/SA!CF34","v":-2.8929604628736743E-3},{"$f":"(SA!CS34-SA!CG34)/SA!CG34","v":9.6246390760346492E-4},{"$f":"(SA!CT34-SA!CH34)/SA!CH34","v":-1.231060606060606E-2},{"$f":"(SA!CU34-SA!CI34)/SA!CI34","v":-8.6956521739130436E-3},{"$f":"(SA!CV34-SA!CJ34)/SA!CJ34","v":0},{"$f":"(SA!CW34-SA!CK34)/SA!CK34","v":2.9069767441860465E-3},{"$f":"(SA!CX34-SA!CL34)/SA!CL34","v":2.0428015564202335E-2},{"$f":"(SA!CY34-SA!CM34)/SA!CM34","v":5.8139534883720929E-3},{"$f":"(SA!CZ34-SA!CN34)/SA!CN34","v":-3.8535645472061657E-3},{"$f":"(SA!DA34-SA!CO34)/SA!CO34","v":-1.9455252918287938E-3},{"$f":"(SA!DB34-SA!CP34)/SA!CP34","v":1.9286403085824494E-3},{"$f":"(SA!DC34-SA!CQ34)/SA!CQ34","v":-1.0536398467432951E-2},{"$f":"(SA!DD34-SA!CR34)/SA!CR34","v":7.7369439071566732E-3},{"$f":"(SA!DE34-SA!CS34)/SA!CS34","v":0},{"$f":"(SA!DF34-SA!CT34)/SA!CT34","v":-6.7114093959731542E-3},{"$f":"(SA!DG34-SA!CU34)/SA!CU34","v":2.3391812865497075E-2},{"$f":"(SA!DH34-SA!CV34)/SA!CV34","v":1.8536585365853658E-2},{"$f":"(SA!DI34-SA!CW34)/SA!CW34","v":7.7294685990338162E-3},{"$f":"(SA!DJ34-SA!CX34)/SA!CX34","v":-1.2392755004766444E-2},{"$f":"(SA!DK34-SA!CY34)/SA!CY34","v":-6.7437379576107898E-3},{"$f":"(SA!DL34-SA!CZ34)/SA!CZ34","v":-1.9342359767891683E-3},{"$f":"(SA!DM34-SA!DA34)/SA!DA34","v":-2.9239766081871343E-2},{"$f":"(SA!DN34-SA!DB34)/SA!DB34","v":-2.8873917228103944E-2},{"$f":"(SA!DO34-SA!DC34)/SA!DC34","v":-3.6786060019361085E-2},{"$f":"(SA!DP34-SA!DD34)/SA!DD34","v":-4.7984644913627639E-2},{"$f":"(SA!DQ34-SA!DE34)/SA!DE34","v":-4.7115384615384615E-2},{"$f":"(SA!DR34-SA!DF34)/SA!DF34","v":-6.0810810810810814E-2},{"$f":"(SA!DS34-SA!DG34)/SA!DG34","v":-7.2380952380952379E-2},{"$f":"(SA!DT34-SA!DH34)/SA!DH34","v":-5.938697318007663E-2},{"$f":"(SA!DU34-SA!DI34)/SA!DI34","v":-4.8897411313518699E-2},{"$f":"(SA!DV34-SA!DJ34)/SA!DJ34","v":-5.5984555984555984E-2},{"$f":"(SA!DW34-SA!DK34)/SA!DK34","v":-4.6556741028128033E-2},{"$f":"(SA!DX34-SA!DL34)/SA!DL34","v":-5.329457364341085E-2},{"$f":"(SA!DY34-SA!DM34)/SA!DM34","v":-2.008032128514056E-3},{"$f":"(SA!DZ34-SA!DN34)/SA!DN34","v":-1.4866204162537165E-2},{"$f":"(SA!EA34-SA!DO34)/SA!DO34","v":1.3065326633165829E-2},{"$f":"(SA!EB34-SA!DP34)/SA!DP34","v":1.5120967741935484E-2},{"$f":"(SA!EC34-SA!DQ34)/SA!DQ34","v":1.6145307769929364E-2},{"$f":"(SA!ED34-SA!DR34)/SA!DR34","v":2.9804727646454265E-2},{"$f":"(SA!EE34-SA!DS34)/SA!DS34","v":2.2587268993839837E-2},{"$f":"(SA!EF34-SA!DT34)/SA!DT34","v":8.1466395112016286E-3},{"$f":"(SA!EG34-SA!DU34)/SA!DU34","v":-1.9153225806451613E-2},{"$f":"(SA!EH34-SA!DV34)/SA!DV34","v":-5.1124744376278121E-3},{"$f":"(SA!EI34-SA!DW34)/SA!DW34","v":-8.1383519837232958E-3},{"$f":"(SA!EJ34-SA!DX34)/SA!DX34","v":4.0941658137154556E-3},{"$f":"(SA!EK34-SA!DY34)/SA!DY34","v":-2.6156941649899398E-2},{"$f":"(SA!EL34-SA!DZ34)/SA!DZ34","v":5.0301810865191147E-3},{"$f":"(SA!EM34-SA!EA34)/SA!EA34","v":-3.6706349206349208E-2},{"$f":"(SA!EN34-SA!EB34)/SA!EB34","v":-3.6742800397219465E-2},{"$f":"(SA!EO34-SA!EC34)/SA!EC34","v":-8.937437934458789E-2},{"$f":"(SA!EP34-SA!ED34)/SA!ED34","v":-5.7884231536926151E-2},{"$f":"(SA!EQ34-SA!EE34)/SA!EE34","v":-4.0160642570281124E-2},{"$f":"(SA!ER34-SA!EF34)/SA!EF34","v":-3.3333333333333333E-2},{"$f":"(SA!ES34-SA!EG34)/SA!EG34","v":-9.249743062692703E-3},{"$f":"(SA!ET34-SA!EH34)/SA!EH34","v":-0.10380267214799589},{"$f":"(SA!EU34-SA!EI34)/SA!EI34","v":-7.3846153846153853E-2},{"$f":"(SA!EV34-SA!EJ34)/SA!EJ34","v":-2.4464831804281346E-2},{"$f":"(SA!EW34-SA!EK34)/SA!EK34","v":-5.1652892561983473E-3},{"$f":"(SA!EX34-SA!EL34)/SA!EL34","v":-3.2032032032032032E-2},{"$f":"(SA!EY34-SA!EM34)/SA!EM34","v":-2.368692070030896E-2},{"$f":"(SA!EZ34-SA!EN34)/SA!EN34","v":-8.2474226804123713E-3},{"$f":"(SA!FA34-SA!EO34)/SA!EO34","v":4.4711014176663032E-2},{"$f":"(SA!FB34-SA!EP34)/SA!EP34","v":3.3898305084745763E-2},{"$f":"(SA!FC34-SA!EQ34)/SA!EQ34","v":1.4644351464435146E-2},{"$f":"(SA!FD34-SA!ER34)/SA!ER34","v":1.3584117032392894E-2},{"$f":"(SA!FE34-SA!ES34)/SA!ES34","v":1.037344398340249E-3},{"$f":"(SA!FF34-SA!ET34)/SA!ET34","v":-2.2935779816513763E-3},{"$f":"(SA!FG34-SA!EU34)/SA!EU34","v":7.1982281284606861E-2},{"$f":"(SA!FH34-SA!EV34)/SA!EV34","v":4.1797283176593526E-3},{"$f":"(SA!FI34-SA!EW34)/SA!EW34","v":-1.0384215991692627E-3},{"$f":"(SA!FJ34-SA!EX34)/SA!EX34","v":-2.688728024819028E-2},{"$f":"(SA!FK34-SA!EY34)/SA!EY34","v":1.0548523206751054E-2},{"$f":"(SA!FL34-SA!EZ34)/SA!EZ34","v":4.1580041580041582E-3},{"$f":"(SA!FM34-SA!FA34)/SA!FA34","v":1.4613778705636743E-2},{"$f":"(SA!FN34-SA!FB34)/SA!FB34","v":6.1475409836065573E-3},{"$f":"(SA!FO34-SA!FC34)/SA!FC34","v":1.6494845360824743E-2},{"$f":"(SA!FP34-SA!FD34)/SA!FD34","v":9.2783505154639175E-3},{"$f":"(SA!FQ34-SA!FE34)/SA!FE34","v":1.5544041450777202E-2},{"$f":"(SA!FR34-SA!FF34)/SA!FF34","v":0.13333333333333333},{"$f":"(SA!FS34-SA!FG34)/SA!FG34","v":1.3429752066115703E-2},{"$f":"(SA!FT34-SA!FH34)/SA!FH34","v":1.2486992715920915E-2},{"$f":"(SA!FU34-SA!FI34)/SA!FI34","v":1.5592515592515593E-2},{"$f":"(SA!FV34-SA!FJ34)/SA!FJ34","v":2.975557917109458E-2},{"$f":"(SA!FW34-SA!FK34)/SA!FK34","v":1.6701461377870562E-2},{"$f":"(SA!FX34-SA!FL34)/SA!FL34","v":9.316770186335404E-3},{"$f":"(SA!FY34-SA!FM34)/SA!FM34","v":7.2016460905349796E-3},{"$f":"(SA!FZ34-SA!FN34)/SA!FN34","v":8.1466395112016286E-3},{"$f":"(SA!GA34-SA!FO34)/SA!FO34","v":-6.0851926977687626E-3},{"$f":"(SA!GB34-SA!FP34)/SA!FP34","v":9.1930541368743617E-3},{"$f":"(SA!GC34-SA!FQ34)/SA!FQ34","v":6.1224489795918364E-3},{"$f":"(SA!GD34-SA!FR34)/SA!FR34","v":-4.0567951318458417E-3},{"$f":"(SA!GE34-SA!FS34)/SA!FS34","v":3.0581039755351682E-3},{"$f":"(SA!GF34-SA!FT34)/SA!FT34","v":1.1305241521068859E-2},{"$f":"(SA!GG34-SA!FU34)/SA!FU34","v":2.0470829068577278E-3},{"$f":"(SA!GH34-SA!FV34)/SA!FV34","v":1.0319917440660474E-3},{"$f":"(SA!GI34-SA!FW34)/SA!FW34","v":-7.1868583162217657E-3},{"$f":"(SA!GJ34-SA!FX34)/SA!FX34","v":-5.1282051282051282E-3},{"$f":"(SA!GK34-SA!FY34)/SA!FY34","v":-1.8386108273748723E-2},{"$f":"(SA!GL34-SA!FZ34)/SA!FZ34","v":-2.9292929292929294E-2},{"$f":"(SA!GM34-SA!GA34)/SA!GA34","v":-2.6530612244897958E-2},{"$f":"(SA!GN34-SA!GB34)/SA!GB34","v":-3.643724696356275E-2},{"$f":"(SA!GO34-SA!GC34)/SA!GC34","v":-2.6369168356997971E-2},{"$f":"(SA!GP34-SA!GD34)/SA!GD34","v":-2.4439918533604887E-2},{"$f":"(SA!GQ34-SA!GE34)/SA!GE34","v":-2.7439024390243903E-2},{"$f":"(SA!GR34-SA!GF34)/SA!GF34","v":-2.7439024390243903E-2},{"$f":"(SA!GS34-SA!GG34)/SA!GG34","v":-2.5536261491317672E-2},{"$f":"(SA!GT34-SA!GH34)/SA!GH34","v":-1.7525773195876289E-2},{"$f":"(SA!GU34-SA!GI34)/SA!GI34","v":-1.2409513960703205E-2},{"$f":"(SA!GV34-SA!GJ34)/SA!GJ34","v":-1.443298969072165E-2},{"$f":"(SA!GW34-SA!GK34)/SA!GK34","v":-6.2434963579604576E-3},{"$f":"(SA!GX34-SA!GL34)/SA!GL34","v":-1.040582726326743E-2},{"$f":"(SA!GY34-SA!GM34)/SA!GM34","v":6.2893081761006293E-3},{"$f":"(SA!GZ34-SA!GN34)/SA!GN34","v":8.4033613445378148E-3},{"$f":"(SA!HA34-SA!GO34)/SA!GO34","v":-3.1250000000000002E-3},{"$f":"(SA!HB34-SA!GP34)/SA!GP34","v":-4.1753653444676405E-3},{"$f":"(SA!HC34-SA!GQ34)/SA!GQ34","v":-1.0449320794148381E-3},{"$f":"(SA!HD34-SA!GR34)/SA!GR34","v":-5.4336468129571575E-2},{"$f":"(SA!HE34-SA!GS34)/SA!GS34","v":4.1928721174004195E-3},{"$f":"(SA!HF34-SA!GT34)/SA!GT34","v":1.2591815320041973E-2},{"$f":"(SA!HG34-SA!GU34)/SA!GU34","v":1.0471204188481676E-2},{"$f":"(SA!HH34-SA!GV34)/SA!GV34","v":6.2761506276150627E-3},{"$f":"(SA!HI34-SA!GW34)/SA!GW34","v":9.4240837696335077E-3},{"$f":"(SA!HJ34-SA!GX34)/SA!GX34","v":3.1545741324921135E-3},{"$f":"(SA!HK34-SA!GY34)/SA!GY34","v":-1.3541666666666667E-2},{"$f":"(SA!HL34-SA!GZ34)/SA!GZ34","v":-9.3749999999999997E-3},{"$f":"(SA!HM34-SA!HA34)/SA!HA34","v":-3.8662486938349006E-2},{"$f":"(SA!HN34-SA!HB34)/SA!HB34","v":-3.3542976939203356E-2},{"$f":"(SA!HO34-SA!HC34)/SA!HC34","v":-2.0920502092050208E-2},{"$f":"(SA!HP34-SA!HD34)/SA!HD34","v":2.6519337016574586E-2},{"$f":"(SA!HQ34-SA!HE34)/SA!HE34","v":-2.1920668058455117E-2},{"$f":"(SA!HR34-SA!HF34)/SA!HF34","v":-2.5906735751295335E-2},{"$f":"(SA!HS34-SA!HG34)/SA!HG34","v":-2.3834196891191709E-2},{"$f":"(SA!HT34-SA!HH34)/SA!HH34","v":-2.286902286902287E-2},{"$f":"(SA!HU34-SA!HI34)/SA!HI34","v":-3.0082987551867221E-2},{"$f":"(SA!HV34-SA!HJ34)/SA!HJ34","v":-1.3626834381551363E-2},{"$f":"(SA!HW34-SA!HK34)/SA!HK34","v":-1.1615628299894404E-2},{"$f":"(SA!HX34-SA!HL34)/SA!HL34","v":-8.4121976866456359E-3},{"$f":"(SA!HY34-SA!HM34)/SA!HM34","v":3.1521739130434781E-2},{"$f":"(SA!HZ34-SA!HN34)/SA!HN34","v":-4.3383947939262474E-3},{"$f":"(SA!IA34-SA!HO34)/SA!HO34","v":-1.1752136752136752E-2},{"$f":"(SA!IB34-SA!HP34)/SA!HP34","v":-6.4585575888051671E-3},{"$f":"(SA!IC34-SA!HQ34)/SA!HQ34","v":-2.5613660618996798E-2},{"$f":"(SA!ID34-SA!HR34)/SA!HR34","v":-1.8085106382978722E-2},{"$f":"(SA!IE34-SA!HS34)/SA!HS34","v":-9.5541401273885346E-3},{"$f":"(SA!IF34-SA!HT34)/SA!HT34","v":0},{"$f":"(SA!IG34-SA!HU34)/SA!HU34","v":-1.2834224598930482E-2},{"$f":"(SA!IH34-SA!HV34)/SA!HV34","v":-2.5504782146652496E-2},{"$f":"(SA!II34-SA!HW34)/SA!HW34","v":-1.3888888888888888E-2},{"$f":"(SA!IJ34-SA!HX34)/SA!HX34","v":-2.0148462354188761E-2},{"$f":"(SA!IK34-SA!HY34)/SA!HY34","v":-2.8451001053740779E-2},{"$f":"(SA!IL34-SA!HZ34)/SA!HZ34","v":-1}," n/a ","n/a",null,"State Government",-0.10380267214799589,-3.0114660114660116E-2,-1.1600923023336819E-2,-3.1017960462873654E-3,2.7983682330488899E-3,7.8006599158038448E-3,1.5247889854587993E-2,0.13333333333333333,2.7796394044352576E-2]
["Local Government",{"$f":"(SA!BN35-SA!BB35)/SA!BB35","v":1.1811023622047244E-2},{"$f":"(SA!BO35-SA!BC35)/SA!BC35","v":9.5676824946846206E-3},{"$f":"(SA!BP35-SA!BD35)/SA!BD35","v":2.828854314002829E-3},{"$f":"(SA!BQ35-SA!BE35)/SA!BE35","v":1.3908701854493581E-2},{"$f":"(SA!BR35-SA!BF35)/SA!BF35","v":6.382978723404255E-3},{"$f":"(SA!BS35-SA!BG35)/SA!BG35","v":3.900709219858156E-3},{"$f":"(SA!BT35-SA!BH35)/SA!BH35","v":7.8236130867709811E-3},{"$f":"(SA!BU35-SA!BI35)/SA!BI35","v":8.5227272727272721E-3},{"$f":"(SA!BV35-SA!BJ35)/SA!BJ35","v":2.8901734104046242E-2},{"$f":"(SA!BW35-SA!BK35)/SA!BK35","v":1.3518320882248309E-2},{"$f":"(SA!BX35-SA!BL35)/SA!BL35","v":2.4787535410764872E-3},{"$f":"(SA!BY35-SA!BM35)/SA!BM35","v":1.6440314510364547E-2},{"$f":"(SA!BZ35-SA!BN35)/SA!BN35","v":3.5373187124159886E-4},{"$f":"(SA!CA35-SA!BO35)/SA!BO35","v":-7.0200070200070203E-3},{"$f":"(SA!CB35-SA!BP35)/SA!BP35","v":2.1156558533145277E-3},{"$f":"(SA!CC35-SA!BQ35)/SA!BQ35","v":-7.0348223707351388E-4},{"$f":"(SA!CD35-SA!BR35)/SA!BR35","v":-2.1141649048625794E-3},{"$f":"(SA!CE35-SA!BS35)/SA!BS35","v":1.4129282938890851E-3},{"$f":"(SA!CF35-SA!BT35)/SA!BT35","v":-2.1171489061397319E-3},{"$f":"(SA!CG35-SA!BU35)/SA!BU35","v":-4.2253521126760559E-3},{"$f":"(SA!CH35-SA!BV35)/SA!BV35","v":-5.6179775280898875E-3},{"$f":"(SA!CI35-SA!BW35)/SA!BW35","v":-1.1232011232011231E-2},{"$f":"(SA!CJ35-SA!BX35)/SA!BX35","v":3.5323207347227127E-4},{"$f":"(SA!CK35-SA!BY35)/SA!BY35","v":-8.4388185654008432E-3},{"$f":"(SA!CL35-SA!BZ35)/SA!BZ35","v":-2.828854314002829E-3},{"$f":"(SA!CM35-SA!CA35)/SA!CA35","v":-8.130081300813009E-3},{"$f":"(SA!CN35-SA!CB35)/SA!CB35","v":-1.1963406052076003E-2},{"$f":"(SA!CO35-SA!CC35)/SA!CC35","v":-3.871876099964801E-3},{"$f":"(SA!CP35-SA!CD35)/SA!CD35","v":-7.0621468926553672E-4},{"$f":"(SA!CQ35-SA!CE35)/SA!CE35","v":1.164021164021164E-2},{"$f":"(SA!CR35-SA!CF35)/SA!CF35","v":6.0113154172560116E-3},{"$f":"(SA!CS35-SA!CG35)/SA!CG35","v":8.1329561527581327E-3},{"$f":"(SA!CT35-SA!CH35)/SA!CH35","v":1.5889830508474576E-2},{"$f":"(SA!CU35-SA!CI35)/SA!CI35","v":7.4547390841320556E-3},{"$f":"(SA!CV35-SA!CJ35)/SA!CJ35","v":-3.5310734463276836E-3},{"$f":"(SA!CW35-SA!CK35)/SA!CK35","v":1.0638297872340425E-2},{"$f":"(SA!CX35-SA!CL35)/SA!CL35","v":1.5602836879432624E-2},{"$f":"(SA!CY35-SA!CM35)/SA!CM35","v":1.9957234497505347E-2},{"$f":"(SA!CZ35-SA!CN35)/SA!CN35","v":1.6737891737891739E-2},{"$f":"(SA!DA35-SA!CO35)/SA!CO35","v":7.0671378091872791E-3},{"$f":"(SA!DB35-SA!CP35)/SA!CP35","v":1.2367491166077738E-2},{"$f":"(SA!DC35-SA!CQ35)/SA!CQ35","v":-6.9735006973500695E-4},{"$f":"(SA!DD35-SA!CR35)/SA!CR35","v":1.2302284710017574E-2},{"$f":"(SA!DE35-SA!CS35)/SA!CS35","v":6.3135741844966677E-3},{"$f":"(SA!DF35-SA!CT35)/SA!CT35","v":3.6843934654153629E-2},{"$f":"(SA!DG35-SA!CU35)/SA!CU35","v":2.3255813953488372E-2},{"$f":"(SA!DH35-SA!CV35)/SA!CV35","v":4.3231750531537917E-2},{"$f":"(SA!DI35-SA!CW35)/SA!CW35","v":2.0350877192982456E-2},{"$f":"(SA!DJ35-SA!CX35)/SA!CX35","v":1.0125698324022346E-2},{"$f":"(SA!DK35-SA!CY35)/SA!CY35","v":1.4675052410901468E-2},{"$f":"(SA!DL35-SA!CZ35)/SA!CZ35","v":1.6112084063047285E-2},{"$f":"(SA!DM35-SA!DA35)/SA!DA35","v":2.0350877192982456E-2},{"$f":"(SA!DN35-SA!DB35)/SA!DB35","v":1.5706806282722512E-2},{"$f":"(SA!DO35-SA!DC35)/SA!DC35","v":1.6748080949057921E-2},{"$f":"(SA!DP35-SA!DD35)/SA!DD35","v":1.5625E-2},{"$f":"(SA!DQ35-SA!DE35)/SA!DE35","v":1.0456605088881143E-2},{"$f":"(SA!DR35-SA!DF35)/SA!DF35","v":-2.7153871940998994E-2},{"$f":"(SA!DS35-SA!DG35)/SA!DG35","v":8.2644628099173556E-3},{"$f":"(SA!DT35-SA!DH35)/SA!DH35","v":-1.358695652173913E-2},{"$f":"(SA!DU35-SA!DI35)/SA!DI35","v":2.0632737276478678E-3},{"$f":"(SA!DV35-SA!DJ35)/SA!DJ35","v":8.9872105081230565E-3},{"$f":"(SA!DW35-SA!DK35)/SA!DK35","v":-3.4435261707988982E-3},{"$f":"(SA!DX35-SA!DL35)/SA!DL35","v":3.4470872113064461E-4},{"$f":"(SA!DY35-SA!DM35)/SA!DM35","v":-7.2214580467675378E-3},{"$f":"(SA!DZ35-SA!DN35)/SA!DN35","v":-8.9347079037800682E-3},{"$f":"(SA!EA35-SA!DO35)/SA!DO35","v":-1.2354152367879203E-2},{"$f":"(SA!EB35-SA!DP35)/SA!DP35","v":-2.188034188034188E-2},{"$f":"(SA!EC35-SA!DQ35)/SA!DQ35","v":-1.2763021731631597E-2},{"$f":"(SA!ED35-SA!DR35)/SA!DR35","v":-6.202618883528601E-3},{"$f":"(SA!EE35-SA!DS35)/SA!DS35","v":-1.092896174863388E-2},{"$f":"(SA!EF35-SA!DT35)/SA!DT35","v":2.7548209366391185E-3},{"$f":"(SA!EG35-SA!DU35)/SA!DU35","v":-1.1667810569663692E-2},{"$f":"(SA!EH35-SA!DV35)/SA!DV35","v":-5.1387461459403904E-3},{"$f":"(SA!EI35-SA!DW35)/SA!DW35","v":7.9474775397373881E-3},{"$f":"(SA!EJ35-SA!DX35)/SA!DX35","v":3.1013094417643005E-3},{"$f":"(SA!EK35-SA!DY35)/SA!DY35","v":3.4638032559750607E-3},{"$f":"(SA!EL35-SA!DZ35)/SA!DZ35","v":-6.9348127600554787E-4},{"$f":"(SA!EM35-SA!EA35)/SA!EA35","v":1.0423905489923557E-3},{"$f":"(SA!EN35-SA!EB35)/SA!EB35","v":2.2719328905976933E-2},{"$f":"(SA!EO35-SA!EC35)/SA!EC35","v":2.3410202655485674E-2},{"$f":"(SA!EP35-SA!ED35)/SA!ED35","v":3.4674063800277393E-4},{"$f":"(SA!EQ35-SA!EE35)/SA!EE35","v":-1.9337016574585635E-2},{"$f":"(SA!ER35-SA!EF35)/SA!EF35","v":-3.2623626373626376E-2},{"$f":"(SA!ES35-SA!EG35)/SA!EG35","v":-8.6805555555555559E-3},{"$f":"(SA!ET35-SA!EH35)/SA!EH35","v":-1.790633608815427E-2},{"$f":"(SA!EU35-SA!EI35)/SA!EI35","v":-2.3311621528968117E-2},{"$f":"(SA!EV35-SA!EJ35)/SA!EJ35","v":-1.7863277224321537E-2},{"$f":"(SA!EW35-SA!EK35)/SA!EK35","v":-2.7614773904038659E-3},{"$f":"(SA!EX35-SA!EL35)/SA!EL35","v":1.4920194309507287E-2},{"$f":"(SA!EY35-SA!EM35)/SA!EM35","v":2.7768136063866713E-3},{"$f":"(SA!EZ35-SA!EN35)/SA!EN35","v":-2.7341079972658919E-2},{"$f":"(SA!FA35-SA!EO35)/SA!EO35","v":-1.7070672584499829E-2},{"$f":"(SA!FB35-SA!EP35)/SA!EP35","v":-1.4904679376083189E-2},{"$f":"(SA!FC35-SA!EQ35)/SA!EQ35","v":5.2816901408450703E-3},{"$f":"(SA!FD35-SA!ER35)/SA!ER35","v":3.017394391196308E-2},{"$f":"(SA!FE35-SA!ES35)/SA!ES35","v":1.4010507880910684E-3},{"$f":"(SA!FF35-SA!ET35)/SA!ET35","v":-1.0518934081346423E-3},{"$f":"(SA!FG35-SA!EU35)/SA!EU35","v":4.563004563004563E-3},{"$f":"(SA!FH35-SA!EV35)/SA!EV35","v":-2.4484085344526059E-3},{"$f":"(SA!FI35-SA!EW35)/SA!EW35","v":-2.1460713049498096E-2},{"$f":"(SA!FJ35-SA!EX35)/SA!EX35","v":-2.4957264957264958E-2},{"$f":"(SA!FK35-SA!EY35)/SA!EY35","v":-1.3153340256143994E-2},{"$f":"(SA!FL35-SA!EZ35)/SA!EZ35","v":-1.7568517217146872E-3},{"$f":"(SA!FM35-SA!FA35)/SA!FA35","v":-1.8409169850642584E-2},{"$f":"(SA!FN35-SA!FB35)/SA!FB35","v":4.5742434904996482E-3},{"$f":"(SA!FO35-SA!FC35)/SA!FC35","v":-2.8021015761821367E-3},{"$f":"(SA!FP35-SA!FD35)/SA!FD35","v":-2.9634734665747762E-2},{"$f":"(SA!FQ35-SA!FE35)/SA!FE35","v":-5.5963623644630991E-3},{"$f":"(SA!FR35-SA!FF35)/SA!FF35","v":-2.4570024570024569E-3},{"$f":"(SA!FS35-SA!FG35)/SA!FG35","v":-1.1879804332634521E-2},{"$f":"(SA!FT35-SA!FH35)/SA!FH35","v":-4.5582047685834501E-3},{"$f":"(SA!FU35-SA!FI35)/SA!FI35","v":2.1223912274495934E-3},{"$f":"(SA!FV35-SA!FJ35)/SA!FJ35","v":-1.7531556802244039E-3},{"$f":"(SA!FW35-SA!FK35)/SA!FK35","v":2.4552788495264821E-3},{"$f":"(SA!FX35-SA!FL35)/SA!FL35","v":3.5198873636043647E-3},{"$f":"(SA!FY35-SA!FM35)/SA!FM35","v":2.8308563340410473E-2},{"$f":"(SA!FZ35-SA!FN35)/SA!FN35","v":0},{"$f":"(SA!GA35-SA!FO35)/SA!FO35","v":2.8099754127151387E-3},{"$f":"(SA!GB35-SA!FP35)/SA!FP35","v":2.0951704545454544E-2},{"$f":"(SA!GC35-SA!FQ35)/SA!FQ35","v":-2.4621878297572987E-3},{"$f":"(SA!GD35-SA!FR35)/SA!FR35","v":-4.22237860661506E-3},{"$f":"(SA!GE35-SA!FS35)/SA!FS35","v":5.3041018387553042E-3},{"$f":"(SA!GF35-SA!FT35)/SA!FT35","v":-2.4656569214512153E-3},{"$f":"(SA!GG35-SA!FU35)/SA!FU35","v":5.2947405577126721E-3},{"$f":"(SA!GH35-SA!FV35)/SA!FV35","v":0},{"$f":"(SA!GI35-SA!FW35)/SA!FW35","v":-2.0993701889433169E-3},{"$f":"(SA!GJ35-SA!FX35)/SA!FX35","v":-4.5598035776920377E-3},{"$f":"(SA!GK35-SA!FY35)/SA!FY35","v":-2.3399862353750859E-2},{"$f":"(SA!GL35-SA!FZ35)/SA!FZ35","v":-6.3047285464098071E-3},{"$f":"(SA!GM35-SA!GA35)/SA!GA35","v":-4.2031523642732053E-3},{"$f":"(SA!GN35-SA!GB35)/SA!GB35","v":-3.0956521739130435E-2},{"$f":"(SA!GO35-SA!GC35)/SA!GC35","v":1.0578279266572638E-3},{"$f":"(SA!GP35-SA!GD35)/SA!GD35","v":1.0247349823321554E-2},{"$f":"(SA!GQ35-SA!GE35)/SA!GE35","v":5.9795990151248679E-3},{"$f":"(SA!GR35-SA!GF35)/SA!GF35","v":6.3559322033898309E-3},{"$f":"(SA!GS35-SA!GG35)/SA!GG35","v":9.1292134831460672E-3},{"$f":"(SA!GT35-SA!GH35)/SA!GH35","v":-7.0249385317878467E-4},{"$f":"(SA!GU35-SA!GI35)/SA!GI35","v":3.5063113604488078E-3},{"$f":"(SA!GV35-SA!GJ35)/SA!GJ35","v":1.3037350246652573E-2},{"$f":"(SA!GW35-SA!GK35)/SA!GK35","v":3.5940803382663845E-2},{"$f":"(SA!GX35-SA!GL35)/SA!GL35","v":1.1984490659146986E-2},{"$f":"(SA!GY35-SA!GM35)/SA!GM35","v":4.2208934224410837E-3},{"$f":"(SA!GZ35-SA!GN35)/SA!GN35","v":4.3072505384063174E-2},{"$f":"(SA!HA35-SA!GO35)/SA!GO35","v":9.8626276858048614E-3},{"$f":"(SA!HB35-SA!GP35)/SA!GP35","v":-5.5963623644630991E-3},{"$f":"(SA!HC35-SA!GQ35)/SA!GQ35","v":-7.3426573426573424E-3},{"$f":"(SA!HD35-SA!GR35)/SA!GR35","v":2.1052631578947368E-3},{"$f":"(SA!HE35-SA!GS35)/SA!GS35","v":-1.4961725817675714E-2},{"$f":"(SA!HF35-SA!GT35)/SA!GT35","v":3.5149384885764501E-4},{"$f":"(SA!HG35-SA!GU35)/SA!GU35","v":-1.7120894479385047E-2},{"$f":"(SA!HH35-SA!GV35)/SA!GV35","v":-1.2173913043478261E-2},{"$f":"(SA!HI35-SA!GW35)/SA!GW35","v":-4.3537414965986392E-2},{"$f":"(SA!HJ35-SA!GX35)/SA!GX35","v":-1.0449320794148381E-2},{"$f":"(SA!HK35-SA!GY35)/SA!GY35","v":-2.1015761821366026E-3},{"$f":"(SA!HL35-SA!GZ35)/SA!GZ35","v":-3.4067446662078456E-2},{"$f":"(SA!HM35-SA!HA35)/SA!HA35","v":-4.8831531217300318E-3},{"$f":"(SA!HN35-SA!HB35)/SA!HB35","v":6.3313401336616247E-3},{"$f":"(SA!HO35-SA!HC35)/SA!HC35","v":9.5103909827404017E-3},{"$f":"(SA!HP35-SA!HD35)/SA!HD35","v":0},{"$f":"(SA!HQ35-SA!HE35)/SA!HE35","v":8.477569763334511E-3},{"$f":"(SA!HR35-SA!HF35)/SA!HF35","v":4.9191848208011242E-3},{"$f":"(SA!HS35-SA!HG35)/SA!HG35","v":1.9196587273373623E-2},{"$f":"(SA!HT35-SA!HH35)/SA!HH35","v":1.4436619718309859E-2},{"$f":"(SA!HU35-SA!HI35)/SA!HI35","v":3.7695590327169272E-2},{"$f":"(SA!HV35-SA!HJ35)/SA!HJ35","v":8.7997184090109117E-3},{"$f":"(SA!HW35-SA!HK35)/SA!HK35","v":-1.4040014040014039E-3},{"$f":"(SA!HX35-SA!HL35)/SA!HL35","v":1.9237620235126471E-2},{"$f":"(SA!HY35-SA!HM35)/SA!HM35","v":1.4020329477742728E-3},{"$f":"(SA!HZ35-SA!HN35)/SA!HN35","v":-1.0136315973435861E-2},{"$f":"(SA!IA35-SA!HO35)/SA!HO35","v":-2.2330774598743892E-2},{"$f":"(SA!IB35-SA!HP35)/SA!HP35","v":-9.8039215686274508E-3},{"$f":"(SA!IC35-SA!HQ35)/SA!HQ35","v":-7.0052539404553416E-3},{"$f":"(SA!ID35-SA!HR35)/SA!HR35","v":-7.3426573426573424E-3},{"$f":"(SA!IE35-SA!HS35)/SA!HS35","v":0},{"$f":"(SA!IF35-SA!HT35)/SA!HT35","v":-1.2495661228740022E-2},{"$f":"(SA!IG35-SA!HU35)/SA!HU35","v":-3.0500342700479782E-2},{"$f":"(SA!IH35-SA!HV35)/SA!HV35","v":-8.0251221214235873E-3},{"$f":"(SA!II35-SA!HW35)/SA!HW35","v":-2.4604569420035149E-3},{"$f":"(SA!IJ35-SA!HX35)/SA!HX35","v":-1.4330653617616217E-2},{"$f":"(SA!IK35-SA!HY35)/SA!HY35","v":-9.450472523626182E-3},{"$f":"(SA!IL35-SA!HZ35)/SA!HZ35","v":-1}," n/a ","n/a",null,"Local Government",-4.3537414965986392E-2,-1.2476813177004921E-2,-4.4250637062204926E-3,-6.9696319036206095E-4,2.1217176900360868E-3,6.7934741748740656E-3,1.4748594980483211E-2,4.3231750531537917E-2,1.4397098718601023E-2]
[]
["Note  Current month is preliminary.  All other results utilize revised and/or benchmarked results.",null,null,null,null,null,null,null,null,null,null,null,null,null,null,null,null,null,null,null,null,null,null,null,null,null,null,null,null,null,null,null,null,null,null,null,null,null,null,null,null,null,null,null,null,null,null,null,null,null,null,null,null,null,null,null,null,null,null,null,null,null,null,null,null,null,null,null,null,null,null,null,null,null,null,null,null,null,null,null,null,null,null,null,null,null,null,null,null,null,null,null,null,null,null,null,null,null,null,null,null,null,null,null,null,null,null,null,null,null,null,null,null,null,null,null,null,null,null,null,null,null,null,null,null,null,null,null,null,null,null,null,null,null,null,null,null,null,null,null,null,null,null,null,null,null,null,null,null,null,null,null,null,null,null,null,null,null,null,null,null,null,null,null,null,null,null,null,null,null,null,null,null,null,null,null,null,null,null,null,null,null,null,null,null,"Note  Current month is preliminary.  All other results utilize revised and/or benchmarked results."]

{"sheet":"NSA","index":7,"n_rows":393,"n_cols":245,"rows_kept":393,"cut":false,"hidden":false,"merged":[]}
[null,null,"AREA  ","INDUSTRY TITLE AE","SERIES","2000-01-01","2000-02-01","2000-03-01","2000-04-01","2000-05-01","2000-06-01","2000-07-01","2000-08-01","2000-09-01","2000-10-01","2000-11-01","2000-12-01","2001-01-01","2001-02-01","2001-03-01","2001-04-01","2001-05-01","2001-06-01","2001-07-01","2001-08-01","2001-09-01","2001-10-01","2001-11-01","2001-12-01","2002-01-01","2002-02-01","2002-03-01","2002-04-01","2002-05-01","2002-06-01","2002-07-01","2002-08-01","2002-09-01","2002-10-01","2002-11-01","2002-12-01","2003-01-01","2003-02-01","2003-03-01","2003-04-01","2003-05-01","2003-06-01","2003-07-01","2003-08-01","2003-09-01","2003-10-01","2003-11-01","2003-12-01","2004-01-01","2004-02-01","2004-03-01","2004-04-01","2004-05-01","2004-06-01","2004-07-01","2004-08-01","2004-09-01","2004-10-01","2004-11-01","2004-12-01","2005-01-01","2005-02-01","2005-03-01","2005-04-01","2005-05-01","2005-06-01","2005-07-01","2005-08-01","2005-09-01","2005-10-01","2005-11-01","2005-12-01","2006-01-01","2006-02-01","2006-03-01","2006-04-01","2006-05-01","2006-06-01","2006-07-01","2006-08-01","2006-09-01","2006-10-01","2006-11-01","2006-12-01","2007-01-01","2007-02-01","2007-03-01","2007-04-01","2007-05-01","2007-06-01","2007-07-01","2007-08-01","2007-09-01","2007-10-01","2007-11-01","2007-12-01","2008-01-01","2008-02-01","2008-03-01","2008-04-01","2008-05-01","2008-06-01","2008-07-01","2008-08-01","2008-09-01","2008-10-01","2008-11-01","2008-12-01","2009-01-01","2009-02-01","2009-03-01","2009-04-01","2009-05-01","2009-06-01","2009-07-01","2009-08-01","2009-09-01","2009-10-01","2009-11-01","2009-12-01","2010-01-01","2010-02-01","2010-03-01","2010-04-01","2010-05-01","2010-06-01","2010-07-01","2010-08-01","2010-09-01","2010-10-01","2010-11-01","2010-12-01","2011-01-01","2011-02-01","2011-03-01","2011-04-01","2011-05-01","2011-06-01","2011-07-01","2011-08-01","2011-09-01","2011-10-01","2011-11-01","2011-12-01","2012-01-01","2012-02-01","2012-03-01","2012-04-01","2012-05-01","2012-06-01","2012-07-01","2012-08-01","2012-09-01","2012-10-01","2012-11-01","2012-12-01","2013-01-01","2013-02-01","2013-03-01","2013-04-01","2013-05-01","2013-06-01","2013-07-01","2013-08-01","2013-09-01","2013-10-01","2013-11-01","2013-12-01","2014-01-01","2014-02-01","2014-03-01","2014-04-01","2014-05-01","2014-06-01","2014-07-01","2014-08-01","2014-09-01","2014-10-01","2014-11-01","2014-12-01","2015-01-01","2015-02-01","2015-03-01","2015-04-01","2015-05-01","2015-06-01","2015-07-01","2015-08-01","2015-09-01","2015-10-01","2015-11-01","2015-12-01","2016-01-01","2016-02-01","2016-03-01","2016-04-01","2016-05-01","2016-06-01","2016-07-01","2016-08-01","2016-09-01","2016-10-01","2016-11-01","2016-12-01","2017-01-01","2017-02-01","2017-03-01","2017-04-01","2017-05-01","2017-06-01","2017-07-01","2017-08-01","2017-09-01","2017-10-01","2017-11-01","2017-12-01","2018-01-01","2018-02-01","2018-03-01","2018-04-01","2018-05-01","2018-06-01","2018-07-01","2018-08-01","2018-09-01","2018-10-01","2018-11-01","2018-12-01","2019-01-01","2019-02-01","2019-03-01","2019-04-01","2019-05-01","2019-06-01","2019-07-01","2019-08-01","2019-09-01","2019-10-01","2019-11-01","2019-12-01"]
[null,null,"State","Total Nonfarm",0,2747400,2758200,2783600,2818800,2845300,2883900,2851000,2856900,2857700,2862400,2868300,2853100,2769100,2774800,2787200,2811900,2838400,2859900,2827600,2827400,2823300,2819000,2810800,2796600,2717600,2715800,2734100,2764200,2797400,2821000,2793100,2798100,2796000,2811500,2813700,2799100,2707500,2715400,2723500,2758300,2792500,2814800,2778200,2780200,2789200,2806400,2799400,2796000,2713900,2723000,2739800,2779300,2812600,2843100,2829700,2833900,2831700,2842500,2841900,2836100,2751800,2763200,2777800,2824900,2849000,2874400,2855600,2857800,2870600,2867700,2869500,2869600,2783200,2786900,2804800,2844400,2873300,2909700,2878400,2879500,2888500,2887400,2887400,2885100,2806300,2801800,2821700,2854000,2895800,2934100,2897500,2898800,2899000,2900100,2901300,2897600,2818900,2814600,2827300,2855800,2898000,2919100,2887600,2886300,2889500,2889600,2877100,2854600,2744600,2731300,2723600,2735600,2765000,2775300,2738500,2732300,2732000,2744100,2739800,2731900,2646300,2651100,2665300,2710700,2743200,2761900,2740700,2744900,2747100,2767500,2768100,2753300,2676600,2683600,2699300,2737100,2766600,2784300,2770800,2770900,2782500,2786000,2785900,2777500,2690200,2704400,2732800,2768600,2802200,2820300,2787900,2794300,2805300,2819000,2826900,2814500,2716800,2746300,2760200,2779500,2822300,2844700,2821100,2830100,2840800,2849800,2853300,2847000,2761800,2778500,2792100,2827800,2863000,2888500,2867000,2880200,2881600,2892900,2902700,2891000,2805000,2824400,2838100,2877400,2905400,2927300,2910900,2913000,2915500,2929600,2928300,2929000,2847900,2868800,2878500,2922000,2937000,2955800,2946800,2952200,2945600,2954000,2963900,2945200,2870400,2890400,2903000,2934800,2959400,2983000,2965600,2961300,2957000,2979500,2975400,2957800,2892900,2915800,2930400,2954900,2981400,3015500,3009800,3004200,2996900,3011100,3018200,3007800,2923800,2934200,2942000,2964300,2992900,3026400,3008400,2996600,2987700,3011600,3008000,2999300]
[null,null,"State","Total Private",5000000,2347800,2349400,2371500,2400100,2427900,2470600,2469900,2478500,2460000,2452400,2450600,2441000,2366800,2357100,2366200,2386800,2413900,2443800,2440200,2443400,2411700,2395000,2384200,2372300,2309000,2294300,2307900,2336000,2371300,2407700,2409400,2418000,2392000,2384800,2380900,2372900,2303200,2290500,2297300,2329400,2367500,2394500,2395200,2400300,2390000,2386000,2377100,2375800,2310700,2302700,2317800,2356600,2390400,2428500,2445100,2452100,2425700,2421800,2415700,2414600,2340900,2338600,2354000,2397700,2423000,2460100,2469900,2476300,2456300,2444600,2444100,2442600,2373100,2367200,2380200,2416900,2447300,2491100,2491100,2496200,2474600,2466000,2462500,2459600,2396100,2385000,2399200,2427000,2468700,2512000,2509200,2514000,2485000,2476300,2475000,2468800,2402200,2392400,2400100,2426200,2465500,2496900,2495200,2499300,2466500,2457100,2435700,2418600,2326000,2300100,2290900,2300700,2329200,2353500,2346000,2347200,2323400,2317900,2308600,2300100,2231000,2226000,2237700,2275300,2305700,2340500,2350700,2360600,2335900,2338700,2334200,2326800,2264400,2257000,2271200,2306300,2338000,2372800,2383900,2390200,2373800,2366900,2363900,2355200,2294300,2293000,2312900,2341300,2373500,2411600,2409600,2415700,2398600,2396700,2397200,2391600,2321900,2326000,2340700,2356800,2405400,2440500,2442900,2454400,2431900,2427500,2429800,2424800,2356600,2360400,2373300,2403100,2445100,2482800,2486200,2495800,2471100,2470300,2471700,2468200,2401900,2404400,2419200,2450700,2488000,2523300,2530600,2535800,2509600,2511000,2509100,2508300,2444800,2449700,2460300,2494900,2521800,2552100,2563500,2565100,2537500,2533300,2530700,2521900,2469500,2473500,2489400,2511500,2542800,2583600,2584300,2584800,2552200,2559600,2554200,2541400,2492100,2494500,2513000,2531400,2562700,2614800,2628000,2624900,2590600,2591900,2593600,2586300,2525600,2522000,2527400,2545600,2582000,2624900,2627400,2623300,2589100,2595500,2588900,2583000]
[null,null,"State","Goods Producing",6000000,701300,700700,708000,716500,724400,742700,741700,742500,734200,729500,722600,711800,689500,682500,683200,687100,694400,706800,706100,705600,694600,685400,674500,664800,643500,634900,638600,646800,658000,671800,673100,675700,667400,662400,657000,645700,621100,613000,614000,623200,635800,646300,647700,648200,640800,637200,631100,623900,607000,603400,608700,623300,634000,646100,654600,655800,648500,644100,640000,634300,612000,611300,615000,628400,637100,652200,656400,657000,649000,644400,640500,633200,618800,613900,617200,629700,638800,656000,656700,656900,648400,642900,636500,630200,614400,607400,612200,620800,633600,649200,650100,650000,640900,636200,632300,623200,606800,601700,603600,610300,621300,633800,633500,632100,621900,616000,605500,590100,561400,546800,538300,536200,540500,546900,546200,545700,541800,536500,531300,521700.00000000006,504300,500900,504700,517500,526300,540100,546200,548700,542800,540100,536700,527800,515000,512500,517299.99999999994,529200,539900,554400,561000,562000,555300,551600,549200,541300,529300,527100,533000,544300,551500,566800,571500,571600,563800,562100,558000,552900,539400,537600,541000,545200,559400,573000,577600,579300,570800,569000,566300,558000,546200,544500,549300,559000,571500,585900,593300,594200,585700,583200,579900,574300,561800,560200,563400,573300,582200,595100,600200,598600,589300,585900,582400,577200,563800,561600,565600,574700,581500,594300,598700,597900,588900,586200,583200,576500,566600,566200,571000,580200,588500,603400,608100,607100,597900,597200,594900,589000,580400,582300,589400,598400,609400,629900,635000,634900,627600,627300,621800,614700,590100,587100,588700,593700,606000,621600,620500,619900,610400,608200,605100,599200]
[null,null,"State","Service-Providing",7000000,2046100,2057500,2075600,2102300,2120900,2141200,2109300,2114400,2123500,2132900,2145700,2141300,2079600,2092300.0000000002,2104000,2124800,2144000,2153100,2121500,2121800,2128700,2133600,2136300,2131800,2074100,2080900,2095500,2117400,2139400,2149200,2120000,2122400,2128600,2149100,2156700,2153400,2086400,2102400,2109500,2135100,2156700,2168500,2130500,2132000,2148400,2169200,2168300,2172100,2106900,2119600,2131100,2156000,2178600,2197000,2175100,2178100,2183200,2198400,2201900,2201800,2139800,2151900,2162800,2196500,2211900,2222200,2199200,2200800,2221600,2223300,2229000,2236400,2164400,2173000,2187600,2214700,2234500,2253700,2221700,2222600,2240100,2244500,2250900,2254900,2191900,2194400,2209500,2233200,2262200,2284900,2247400,2248800,2258100,2263900,2269000,2274400,2212100,2212900,2223700,2245500,2276700,2285300,2254100,2254200,2267600,2273600,2271600,2264500,2183200,2184500,2185300,2199400,2224500,2228400,2192300,2186600,2190200,2207600,2208500,2210200,2142000,2150200,2160600,2193200,2216900,2221800,2194500,2196200,2204300,2227400,2231400,2225500,2161600,2171100,2182000,2207900,2226700,2229900,2209800,2208900,2227200,2234400,2236700,2236200,2160900,2177300,2199800,2224300,2250700,2253500,2216400,2222700,2241500,2256900,2268900,2261600,2177400,2208700,2219200,2234300,2262900,2271700,2243500,2250800,2270000,2280800,2287000,2289000,2215600,2234000,2242800,2268800,2291500,2302600,2273700,2286000,2295900,2309700,2322800,2316700,2243200,2264200,2274700,2304100,2323200,2332200,2310700,2314400,2326200,2343700,2345900,2351800,2284100,2307200,2312900,2347300,2355500,2361500,2348100,2354300,2356700,2367800,2380700,2368700,2303800,2324200,2332000,2354600,2370900,2379600,2357500,2354200,2359100,2382300,2380500,2368800,2312500,2333500,2341000,2356500,2372000,2385600,2374800,2369300,2369300,2383800,2396400,2393100,2333700,2347100,2353300,2370600,2386900,2404800,2387900,2376700,2377300,2403400,2402900,2400100]
[null,null,"State","Private Service Providing",8000000,1646500,1648700,1663500,1683600,1703500,1727900,1728200,1736000,1725800,1722900,1728000,1729200,1677300,1674600,1683000,1699700,1719500,1737000,1734100,1737800,1717100,1709600,1709700,1707500,1665500,1659400,1669300,1689200,1713300,1735900,1736300,1742300,1724600,1722400,1723900,1727200,1682100,1677500,1683300,1706200,1731700,1748200,1747500,1752100,1749200,1748800,1746000,1751900,1703700,1699300,1709100,1733300,1756400,1782400,1790500,1796300,1777200,1777700,1775700,1780300,1728900,1727300,1739000,1769300,1785900,1807900,1813500,1819300,1807300,1800200,1803600,1809400,1754300,1753300,1763000,1787200,1808500,1835100,1834400,1839300,1826200,1823100,1826000,1829400,1781700,1777600,1787000,1806200,1835100,1862800,1859100,1864000,1844100,1840100,1842700,1845600,1795400,1790700,1796500,1815900,1844200,1863100,1861700,1867200,1844600,1841100,1830200,1828500,1764600,1753300,1752600,1764500,1788700,1806600,1799800,1801500,1781600,1781400,1777300,1778400,1726700,1725100,1733000,1757800,1779400,1800400,1804500,1811900,1793100,1798600,1797500,1799000,1749400,1744500,1753900,1777100,1798100,1818400,1822900,1828200,1818500,1815300,1814700,1813900,1765000,1765900,1779900,1797000,1822000,1844800,1838100,1844100,1834800,1834600,1839200,1838700,1782500,1788400,1799700,1811600,1846000,1867500,1865300,1875100,1861100,1858500,1863500,1866800,1810400,1815900,1824000,1844100,1873600,1896900,1892900,1901600,1885400,1887100,1891800,1893900,1840100,1844200,1855800,1877400,1905800,1928200,1930400,1937200,1920300,1925100,1926700,1931100,1881000,1888100,1894700,1920200,1940300,1957800,1964800,1967200,1948600,1947100,1947500,1945400,1902900,1907300,1918400,1931300,1954300,1980200,1976200,1977700,1954300,1962400,1959300,1952400,1911700,1912200,1923600,1933000,1953300,1984900,1993000,1990000,1963000,1964600,1971800,1971600,1935500,1934900,1938700,1951900,1976000,2003300,2006900,2003400,1978700,1987300,1983800,1983800]
[null,null,"State","Mining and Logging",10000000,3500,3600,3700,3900,4300,4400,4400,4400,4300,4200,4100,3600,3200,3300,3400,3600,4100,4300,4300,4300,4200,4200,4000,3700,3200,3200,3300,3600,4100,4200,4200,4200,4200,4100,3900,3600,3200,3100,3200,3500,4000,4100,4100,4100,4100,4000,3900,3700,3100,3200,3300,3700,4000,4100,4200,4200,4100,4200,4100,3900,3300,3300,3500,3800,4100,4300,4400,4400,4300,4200,4100,3800,3400,3400,3500,3800,4200,4300,4300,4300,4200,4100,3900,3700,3200,3200,3300,3500,3900,3900,4000,4000,3900,3800,3700,3300,3000,2900,3000,3100,3500,3700,3700,3800,3700,3600,3500,3100,2600,2600,2600,2700,3100,3200,3300,3300,3300,3300,3100,2800,2400,2400,2500,2800,3100,3200,3300,3300,3200,3200,3100,2700,2500,2500,2600,2700,3000,3300,3300,3300,3400,3400,3400,3100,2900,2900,3100,3400,3600,3700,3800,3800,3800,3700,3600,3400,3200,3200,3200,3400,3800,4000,4000,4100,4000,4000,3900,3600,3400,3500,3500,3800,4100,4300,4400,4500,4400,4500,4400,4200,3900,4000,4000,4200,4400,4500,4400,4300,4200,4200,4100,3900,3500,3500,3600,3700,3900,3900,3900,3900,3800,3900,3800,3600,3500,3600,3900,4200,4400,4600,4700,4800,4700,4700,4700,4300,4100,4200,4300,4500,4700,4800,4900,4900,4800,4800,4700,4400,4300,4400,4500,4700,4900,5000,5000,5000,4800,4800,4700,4400]
[null,null,"State","Mining, Logging and Construction",15000000,111100,109700,114900,125200,133000,139700,141700,141900,137900,135900,131800,123500,112500,111300,113500,121700,132100,138900,142400,143100,139000,137500,133000,126000,111900,108900,111300,121500,131300,137600,140900,140900,137300,136100,133100,124500,111800,108100,109800,119700,131800,137700,140100,140600,137400,136800,133000,127100,113500,110800,114200,125900,133600,139500,143900,142900,139800,138200,135500,129300.00000000001,115400,112800,115300,127000,134600,140800,143900,143300,140500,138800,136300,129000,117700,115300,116900,127800,135300,142100,142800,142400,139100,137000,133200,127300,115700,111100,116300,123500,134100,139600,141000,140900,137700,136600,133700,124500,111000,107800,109800,116900,127400,131600,133100,132800,129300.00000000001,127700,121900,112000,96500,94000,93600,100700,108800,112700,114100,112800,110900,109500,105800,97100,84500,82300,84100,94900,100200,104900,106900,107200,105300,105500,101600,92700,81700,79300,82100,90400,98100,103800,106100,106300,104400,103700,100700,92700,82600,80900,84600,93800,98900,104300,105700,106100,104300,104900,101900,96500,86800,86100,88400,92800,104800,110300,112800,114300,111600,111200,108300,99700,90500,89700,92600,100000,109300,116000,118500,119600,117400,117000,113800,107300,98300,97200,99500,109900,117100,122200,124500,123700,120800,120400,117400,111900,101800,101600,104600,113200,118700,123700,126100,126200,123500,122900,120600,113000,105500,105900,108500,117300,124400,129900,132100,131700,128800.00000000001,126900,123200,117200,109100,109300,113500,120700,129000,138700,139900,139400,137000,136500,131300,125400,117300,116100,117200,121700,131800,139400,141400,141000,139900,138700,134200,127100]
[null,null,"State","Construction",20000000,107600,106100,111200,121300,128699.99999999999,135300,137300,137500,133600,131700,127700,119900,109300,108000,110100,118100,128000,134600,138100,138800,134800,133300,129000,122300,108700,105700,108000,117900,127200,133400,136700,136700,133100,132000,129199.99999999999,120900,108600,105000,106600,116200,127800,133600,136000,136500,133300,132800,129100,123400,110400,107600,110900,122200,129600,135400,139700,138700,135700,134000,131400,125400,112100,109500,111800,123200,130500,136500,139500,138900,136200,134600,132200,125200,114300,111900,113400,124000,131100,137800,138500,138100,134900,132900,129300.00000000001,123600,112500,107900,113000,120000,130199.99999999999,135700,137000,136900,133800,132800,130000,121200,108000,104900,106800,113800,123900,127900,129400,129000,125600,124100,118400,108900,93900,91400,91000,98000,105700,109500,110800,109500,107600,106200,102700,94300,82100,79900,81600,92100,97100,101700,103600,103900,102100,102300,98500,90000,79200,76800,79500,87700,95100,100500,102800,103000,101000,100300,97300,89600,79700,78000,81500,90400,95300,100600,101900,102300,100500,101200,98300,93100,83600,82900,85200,89400,101000,106300,108800,110200,107600,107200,104400,96100,87100,86200,89100,96200,105200,111700,114100,115100,113000,112500,109400,103100,94400,93200,95500,105700,112700,117700,120100,119400,116600,116200,113300,108000,98300,98100,101000,109500,114800,119800,122200,122300,119700,119000,116800,109400,102000,102300,104600,113100,120000,125300,127400,126900,124100,122200,118500,112900,105000,105100,109200,116200,124300,133900,135000,134500,132200,131700,126600,121000,113000,111700,112700,117000,126900,134400,136400,136000,135100,133900,129500,122700]
[null,null,"State","Construction of Buildings",20236000,28800,28000,28700,29800,31000,32700.000000000004,33100,33100,32000,31700,31300,30500,29100,28500,28600,29300,30800,32500,33400,33500,32400,32299.999999999996,31700,31000,29100,28100,28300,29600,30800,32400,33200,33400,32200.000000000004,32100,31800,30800,29200,27900,28200,29300,31000,32500,33300,33200,32100,31900,31600,31300,29400,28500,29100,30200,31400,33000,33900,33600,32900,32600,32200.000000000004,31600,30100,29300,29400,30600,31500,33100,33700,33400,32600,32400,32200.000000000004,31500,30000,28900,29000,30100,31200,32900,33000,32800,31800,31400,31100,30800,28900,27400,28200,29100,30500,31800,32000,32100,31500,31300,30900,30100,27800,26700,26800,27800,29100,29900,30000,29800,29000,28700,27800,26500,23500,22500,22100,22900,23900,24700,24800,24500,24100,23700,23500,22800,20300,19600,19800,21100,21800,23100,23500,23400,23000,23300,22700,21900,19500,18600,18900,20000,21000,22200,23000,23100,22600,22400,22000,21400,19700,19200,19400,20600,21400,22700,22900,23200,22700,23400,23100,22800,21100,20800,20700,21000,22500,23700,24300,24700,24000,24100,23600,23000,21600,21100,21600,22500,23600,25100,25900,26000,25500,25400,25300,24900,23600,23300,23500,24800,25600,26900,27500,27400,26800,26700,26300,26200,25200,24900,25100,25700,26500,27800,28400,28500,27600,27700,27300,26800,25700,25500,25700,26300,27300,28400,28900,28700,28100,28000,27100,27700,25900,26300,25900,25900,27500,30100,30500,29600,29000,28900,29000,28600,29100,28800,29200,29000,29900,31500,32100,32300,32300,32400,31900,31600]
[null,null,"State","Heavy and Civil Engineering Construction",20237000,8300,8300,9500,12800,15400,16400,17500,17500,17100,16700,14900,11800,8800,8900,9400,12200,15900,16800,17400,17600,17200,17000,15100,11800,8700,8500,9100,11900,15200,16100.000000000002,16400,16500,16500,16300,15200,11600,8700,8500,8800,11900,15800,16400,16400,16800,16600,16200,14700,12000,8800,8500,9100,12700,15200,16300,16600,16400,15900,15700,15000,12300,9100,8600,9500,12300,14700,15700,16100.000000000002,16500,16300,16100.000000000002,15400,12700,10000,10000,10500,13900,16200,17300,17400,17600,17100,17000,15900,13700,11200,11400,12500,14100,17500,18500,18900,18800,18500,18300,17500,14100,11300,11300,11700,13400,16900,17900,18600,18500,18000,17800,16100.000000000002,12700,10100,10300,10600,13200,15700,16500,16900,17000,17100,16700,15400,11900,9400,9100,9600,12400,13900,14500,14800,14900,14900,14500,13200,10100,8000,8100,9100,11300,13400,14300,14500,14700,14700,14700,13600,10100,8300,8400,9700,12200,13300,14200,14400,14300,14400,14500,13400,11100,9000,9200,10300,11200,14100,15000,15300,15700,15500,15400,14600,11300,9400,9600,10400,12500,15100,16200,16100.000000000002,16400,16400,16400,15400,12400,10300,10400,11000,14100,16300,16800,17000,16800,16600,16300,15100,12300,9400,9700,10500,13600,15000,15300,15600,15700,15600,15400,14800,11900,9900,10000,10900,13400,15400,16000,16500,16700,16300,15900,15100,12200,10000,10100,11000,13700,16200,17600,17900,18200,17900,17600,16600,13800,10600,10600,11300,13600,15800,16700,17000,17000,17000,17000,15900,13900]
[null,null,"State","Specialty Trade Contractors",20238000,70500,69800,73000,78700,82300,86200,86700,86900,84500,83300,81500,77600,71400,70600,72100,76600,81300,85300,87300,87700,85200,84000,82200,79500,70900,69100,70600,76400,81200,84900,87100,86800,84400,83600,82200,78500,70700,68600,69600,75000,81000,84700,86300,86500,84600,84700,82800,80100,72200,70600,72700,79300,83000,86100,89200,88700,86900,85700,84200,81500,72900,71600,72900,80300,84300,87700,89700,89000,87300,86100,84600,81000,74300,73000,73900,80000,83700,87600,88100,87700,86000,84500,82300,79100,72400,69100,72300,76800,82200,85400,86100,86000,83800,83200,81600,77000,68900,66900,68300,72600,77900,80100,80800,80700,78600,77600,74500,69700,60300,58600,58300,61900,66100,68300,69100,68000,66400,65800,63800,59600,52400,51200,52200,58600,61400,64099.999999999993,65300,65600,64200,64500,62600,58000,51700,50100,51500,56400,60700,64000,65300,65200,63700,63200,61700,58100,51700,50400,52400,57600,60600,63700,64599.999999999993,64800,63400,63300,61800,59200,53500,52900,54200,57200,64400.000000000007,67600,69200,69800,68100,67700,66200,61800,56100,55500,57100,61200,66500,70400,72100,72700,71100,70700,68700,65800,60500,59500,61000,66800,70800,74000,75600,75200,73200,73200,71900,69500,63700,63500,65400.000000000007,70200,73300,76700,78200,78100,76500,75900,74700,70700,66400,66800,68000,73400,77300,80900,82000,81500,79700,78300,76300,73000,69100,68700,72300,76600,80600,86200,86600,86700,85300,85200,81000,78600,73300,72300,72200,74400,81200,86200,87300,86700,85800,84500,81700,77200]
[null,null,"State","Building Equipment Contractors",20238200,0,0,0,0,0,0,0,0,0,0,0,0,0,0,0,0,0,0,0,0,0,0,0,0,0,0,0,0,0,0,0,0,0,0,0,0,34600,34000,33700,34100,35100,35900,36800,36500,36400,36700,36600,36700,35500,34900,35000,35300,36000,36700,37500,37400,37200,37000,37000,37300,35800,35000,35100,35800,36400,37100,38100,37900,37600,37500,37400,37800,36300,36100,36000,36600,37200,38100,38500,38600,38400,38300,37800,37900,36600,36100,36400,36700,37400,38300,38400,38500,38100,38000,37700,37800,36300,35600,35400,35800,35900,36400,36200,36000,35800,36100,35300,35100,32800,31700,31300,31200,31600,31900,32000,31500,31000,31300,31000,30600,29100,28700,28600,29500,29900,30500,30700,30900,30500,30800,30600,30400,28900,28300,28300,28900,29400,30200,30600,30500,30200,30200,30100,30000,28600,28100,28300,29000,29400,30200,30800,31000,30800,31100,31000,31200,30300,30100,30400,31000,32200.000000000004,33100,33600,33800,33400,33300,33300,33100,31600,31500,31700,32100,33000,34000,34700,35000,34700,34700,34400,34400,33400,33100,33200,33600,34200,35200,36100,36000,35600,35700,35800,35900,35000,34800,34900,35400,36000,37100,37800,37800,37400,37200,37200,37200,36300,36200,36300,37300,38300,39200,39800,39700,39200,39200,39300,38600,36900,36800,38300,40400,42000,44200,44500,45900,45300,45600,44600,44300,39800,38800,38700,39800,41900,43400,44300,43700,43300,43800,43500,42700]
[null,null,"State","Manufacturing",30000000,590200,591000,593100,591300,591400,603000,600000,600600,596300,593600,590800,588300,577000,571200,569700,565400,562300,567900,563700,562500,555600,547900,541500,538800,531600,526000,527300,525300,526700,534200,532200,534800,530100,526300,523900,521200.00000000006,509300,504900,504200,503500,504000,508600,507600,507600,503400,500400,498100,496800,493500,492600,494500,497400,500400,506600,510700,512900,508700,505900,504500,505000,496600,498500,499700,501400,502500,511400,512500,513700.00000000006,508500,505600,504200,504200,501100,498600,500300,501900,503500,513900,513900,514500,509300,505900,503300,502900,498700,496300,495900,497300,499500,509600,509100,509100,503200,499600,498600,498700,495800,493900,493800,493400,493900,502200,500400,499300,492600,488300,483600,478100,464900,452800,444700,435500,431700,434200,432100,432900,430900,427000,425500,424600,419800,418600,420600,422600,426100,435200,439300,441500,437500,434600,435100,435100,433300,433200,435200,438800,441800,450600,454900,455700,450900,447900,448500,448600,446700,446200,448400,450500,452600,462500,465800,465500,459500,457200,456100,456400,452600,451500,452600,452400,454600,462700,464800,465000,459200,457800,458000,458300,455700,454800,456700,459000,462200,469900,474800,474600,468300,466200,466100,467000,463500,463000,463900,463400,465100,472900,475700,474900,468500,465500,465000,465300,462000,460000,461000,461500,462800,470600,472600,471700,465400,463300,462600,463500,461100,460300,462500,462900,464100,473500,476000,475400,469100,470300,471700,471800,471300,473000,475900,477700,480400,491200,495100,495500,490600,490800,490500,489300,472800,471000,471500,472000,474200,482200,479100,478900,470500,469500,470900,472100]
[null,null,"State","Durable Goods",31000000,372600,373200,374200,374300,373800,378500,374500,374400,372700,372600,371700,370100,362900,359000,357300,352900,350900,352200,346500,345400,341400,336400,333300,331300,326500,323800,324100,322900,324000,327800,324400,326100,323700,321700,321200,319100,314600,311700,311600,311500,311300,313400,309900,309400,307700,307200,307200,306800,304400,304800,306600,308600,311000,314100,315800,317300,315100,314800,315400,316400,310200,313000,314300,316200,316700,321400,320000,320900,318000,317900,317400,317700,316600,315300,316800,318100,319400,325000,323400,323700,320800,319800,318700,318200,315600,314100,313500,315400,316300,320500,318900,318800,315500,313900,313700,313400,312500,311400,311400,311200,310800,314800,312700,311100,307300,304900,302200,298000,288300,278900,272100,264300,260800,260000,257500,256899.99999999997,256500,255600,254600,253900,251200,250800,252600,254100,256399.99999999997,260600.00000000003,262100.00000000003,263300,261600.00000000003,261100.00000000003,262000,262900,262200,262800,264500,266900,269000,273800,275400,275300,272600,272000,273300,274000,273500,273700,275700,276900,278600,283600,284500,283800,280000,279600,279100,279500,277800,277200,278000,277900,279000,283000,282400,282100,278600,278900,279300,279600,278300,277500,278900,281100,283000,286900,288500,287900,284200,284300,284600,285800,283800,283500,284300,283800,284400,288000,288300,287100,283400,282100,281800,281800,280200,279000,279300,279400,280200,283600,283400,282100,278500,277800,277500,278400,277200,276700,278000,278800,279600,284500,285200,284200,280500,282600,284300,283800,285200,287300,289300,290400,291900,299400,301300,300900,296600,295800,294400,294900,285500,283300,284000,284000,285400,289500,287200,285500,280600,279600,279900,280700]
[null,null,"State","Wood Product Manufacturing",31321000,27200,27000,27300,27600,27900,29000,28100,28300,28000,27700,27500,27300,26800,26200,26600,27000,27200,28100,27900,27900,27100,26800,26400,26100,25400,25000,25300,25700,26200,27000,27200,27100,26500,26200,25900,25500,25100,24600,24200,25100,25700,26700,26500,26500,26000,25800,25600,25700,25100,25000,25200,25600,26200,26800,27000,26900,26500,26300,26000,26000,25300,25000,25200,26100,25900,27300,27100,27200,26600,26400,26300,26100,26000,25300,25800,25700,26300,26900,26900,26800,26100,25400,25100,24600,24400,23900,24100,24200,24400,24900,24900,24800,24300,23800,23500,23400,22800,22400,22300,22200,22400,22800,22600,22200,21900,21300,20800,20400,19000,17800,17700,17800,17700,17800,17700,17800,17600,17500,17200,16700,15900,15800,15800,16400,16700,16900,16800,16700,16400,16200,16300,16300,16100.000000000002,15900,16100.000000000002,16200,16500,16900,16600,16700,16400,16400,16200,16200,15800,15700,15900,15900,16100.000000000002,16400,16400,16400,16200,16100.000000000002,16100.000000000002,16200,15900,15800,16100.000000000002,16200,16500,16800,16900,17000,16900,16900,16800,16900,16600,16400,16600,16800,17100,17400,17700,17700,17400,17300,17200,17300,16900,17000,17000,17200,17400,17700,17800,17800,17600,17400,17400,17400,17400,17100,17300,17400,17500,17900,17800,17800,17500,17300,17300,17400,17400,17200,17400,17400,17500,17900,17800,17900,17600,17400,17400,17500,17300,17200,17300,17400,17600,18000,18000,18000,17800,17700,17600,17600,17800,17700,17800,17900,18000,18400,18300,18300,18000,17900,17800,18000]
[null,null,"State","Fabricated Metal Product Manufacturing",31332000,80200,80400,80400,81300,81200,81800,81900,81500,80800,80600,80100,80000,78900,77800,77000,76500,76000,75700,74400,74300,73400,72500,71400,71400,70600,69900,70000,70200,70700,71400,71100,71200,70600,70300,70300,70100,69400,68700,68700,68800,68600,69000,68300,68100,67800,67800,67800,67800,67200,67400,68100,68300,69100,70100,70800,71100,70500,70700,70800,71300,71100,71200,71600,72000,72400,73300,73500,73700,73100,73100,72900,73300,73100,73200,73500,74200,74700,76000,76600,76900,76400,76100,76100,76400,75900,75700,76000,76300,76400,77300,77000,77000,76300,76300,76100,76300,76300,76000,76000,76400,76300,76900,76800,76600,75800,75600,75000,74300,72400,69700,67400,65500,64000,63400,62000,61700,61700,61800,61600,61900,61000,61400,61800,62300,62900,64099.999999999993,64900.000000000007,65600,65500,65400.000000000007,65700,66400,66300,66500,67300,68000,68500,69500,70100,70400,70100,70000,70100,70500,70700,70900,71500,71900,72500,73800,74200,74200,73400,73200,73000,73100,72800,72600,72800,72800,73000,73900,73600,73500,72700,72600,72600,72600,72600,72600,73000,73400,73900,74800,75400,75400,74500,74600,74700,74900,75000,74800,74900,74600,74700,75600,75600,75100,74000,73500,73400,73400,72900,72700,72700,72900,73100,74100,73900,73600,72300,72100,72100,72400,72400,72200,72400,72800,73100,74600,75100,75000,73800,74500,75500,74600,74800,75900,76800,77200,76600,78500,78700,78800,77100,76500,76700,77000,76900,76000,76200,76200,76300,77100,77300,76800,75700,75200,75900,75400]
[null,null,"State","Machinery Manufacturing",31333000,89800,90100,90200,89400,88500,89500,88800,86900,88000,88000,87600,87900,86700,85400,84800,83000,82100,81900,80600,79200,78700,77400,76600,76600,75700,74900,74700,73500,73100,73200,72100,71700,71400,70900,70800,71000,70100,69700,69700,69200,68500,68900,68000,66900,67400,67500,67700,68000,67800,67700,67800,67900,67800,67400,68600,68500,68100,68000,68300,68800,68000,68200,68400,68800,68900,69200,68600,68900,68500,69100,68800,69000,69200,69300,69300,69400,69500,70000,69700,68700,68700,68600,68400,68500,68500,68500,68600,68800,69000,69900,69900,69300,69500,69100,69300,69600,69800,69800,70100,70200,70100,70800,70500,70400,69700,69500,69100,68300,67000,65400.000000000007,63900,60000,60200,59800,59200,58900,58800,57900,57700,57800,57600,57400,58300,58000,58600,59400,59800,59900,59800,59800,60300,60800,60900,61300,61500,62300,62800,64099.999999999993,64700,64700,64200,64400.000000000007,65099.999999999993,65400.000000000007,65600,65600,65900,66000,66400,67500,67700,67600,66800,66800,66800,67300,67400,67300,67500,67200,67400,68200,67700,67900,67000,67200,67500,68000,67700,67200,67500,67900,68100,69100,69200,69100,68200,68300,68300,69000,68100,68100,68200,67700,67800,68600,68100,68000,67100,66900,66800,67000,66700,66400,66200,65200,65700,66200,66100,65400.000000000007,65000,64500,64300,64700,64500,64599.999999999993,64900.000000000007,64700,64800,66000,66000,65600,65099.999999999993,65099.999999999993,65099.999999999993,65500,65300,65200,65300,65100,65400,66200,66100,65900,65300,65200,65300,65700,67700,67400,67800,67500,67800,68900,68600,67900,66700,66500,66300,66600]
[null,null,"State","Electrical Equipment, Appliance, and Component Manufacturing",31335000,33100,33200,33300,33100,33300,33500,33500,33300,32900,32500,32400,32400,31500,31200,31100,30500,30300,30400,30100,29800,29500,28800,28700,28600,28100,27800,27600,27300,27200,27400,26600,27000,26800,26700,26600,26700,26300,26100,26000,25600,24900,25100,24500,24700,24600,24500,24400,24500,24500,24400,24500,24500,24500,24700,24600,24600,24500,24300,24300,24600,24600,24600,24400,24200,24300,24600,25000,25000,24800,24800,24900,25100,25200,25100,25100,25200,25300,25800,25700,25600,25200,25300,25000,25100,24900,24700,23400,24500,24600,24900,24700,24600,24200,24000,24000,24100,24300,24300,24200,24400,24400,24500,24600,24600,24300,24300,24200,24000,23700,22900,22300,21900,21300,21600,21300,21200,21200,21200,21100,21100,20900,20700,20700,20900,21000,21200,21500,21400,21200,21100,21300,21400,21600,21500,21500,21600,21600,21900,21900,22000,21800,21400,21800,22000,22300,22300,22300,22500,22500,22800,23000,22900,22500,22600,22600,22700,22700,22700,22800,23100,23000,23200,23400,23400,23100,23200,23200,23200,23300,23200,23200,23600,23600,23900,24100,24100,23800,23900,24000,24200,24300,24200,24100,24200,24100,24300,24400,24200,23900,23900,23900,23900,23900,23800,23700,23800,23800,24000,24000,23900,23400,23400,23400,23500,23700,23600,23700,23800,23800,24000,23900,23800,23500,23500,23600,23700,23800,23600,23600,23900,24000,24300,24500,24400,24200,24200,24300,24200,24800,24800,24900,25100,25300,25700,25900,25800,25500,25700,25800,26000]
[null,null,"State","Transportation Equipment Manufacturing",31336000,42300,42500,42600,42200,42200,42600,40400,42300,41700,41800,41900,40800,40000,40100,39900,38700,38500,38600,37200,38200,38000,37100,36900,36500,36400,36700,36700,36000,36100,36800,35800,37400,37600,37000,37100,36800,36700,36400,36700,36000,36100,36500,36000,36500,36200,35800,35800,35400,35600,36100,36400,36500,36700,36900,36100,37200,37100,37200,37300,37300,34500,37600,37900,37400,37400,37500,36600,37200,37100,37200,37200,37200,37200,37100,37100,36900,36500,37000,35800,36500,36400,36200,36100,36100,35400,35400,35500,35300,35000,35700,34800,35500,35100,34500,34500,34600,34700,35100,34900,34500,33400,34800,33600,32800,32100,31700,31200,30700,28700,27900,27900,27100,26100,25400,25500,25300,25600,25700,25200,25400,26000,25900,26000,25600,25600,25800,25300,25500,25300,25100,24800,24800,25000,25200,25200,25300,25500,25800,25700,25500,25500,25500,25700,26000,26100,26200,26600,26500,26500,26900,26800,26700,26600,26800,26700,26900,27100,27200,27100,27000,26800,27000,26500,26200,26000,25800,26000,26200,26500,26500,26800,26900,27000,27200,27100,26700,26600,26500,26400,26700,26800,26800,27000,26800,26600,26900,26900,26800,26600,26700,26700,26700,26700,26600,26600,26600,26500,26500,26500,26600,26600,26800,27000,27200,27100,27100,27300,27300,27200,27300,27300,27200,26900,27100,27500,27900,28000,28500,28500,28500,28300,28700,28700,28900,28700,29100,28800,28200,26100,26200,26200,26100,26200,26500,26400,26300,26000,25900,25900,25800]
[null,null,"State","Non-Durable Goods",32000000,217600,217800,218900,217000,217600,224500,225500,226200,223600,221000,219100,218200,214100,212200,212400,212500,211400,215700,217200,217100,214200,211500,208200,207500,205100,202200,203200,202400,202700,206400,207800,208700,206400,204600,202700,202100,194700,193200,192600,192000,192700,195200,197700,198200,195700,193200,190900,190000,189100,187800,187900,188800,189400,192500,194900,195600,193600,191100,189100,188600,186400,185500,185400,185200,185800,190000,192500,192800,190500,187700,186800,186500,184500,183300,183500,183800,184100,188900,190500,190800,188500,186100,184600,184700,183100,182200,182400,181900,183200,189100,190200,190300,187700,185700,184900,185300,183300,182500,182400,182200,183100,187400,187700,188200,185300,183400,181400,180100,176600,173900,172600,171200,170900,174200,174600,176000,174400,171400,170900,170700,168600,167800,168000,168500,169700,174600,177200,178200,175900,173500,173100,172200,171100,170400,170700,171900,172800,176800,179500,180400,178300,175900,175200,174600,173200,172500,172700,173600,174000,178900,181300,181700,179500,177600,177000,176900,174800,174300,174600,174500,175600,179700,182400,182900,180600,178900,178700,178700,177400,177300,177800,177900,179200,183000,186300,186700,184100,181900,181500,181200,179700,179500,179600,179600,180700,184900,187400,187800,185100,183400,183200,183500,181800,181000,181700,182100,182600,187000,189200,189600,186900,185500,185100,185100,183900,183600,184500,184100,184500,189000,190800,191200,188600,187700,187400,188000,186100,185700,186600,187300,188500,191800,193800,194600,194000,195000,196100,194400,187300,187700,187500,188000,188800,192700,191900,193400,189900,189900,191000,191400]
[null,null,"State","Food Manufacturing",32311000,62500,62700,62900,62000,62600,66000,67200,68600,68200,66800,65099.999999999993,64400.000000000007,62200,62000,62300,62600,62800,64800,67500,68200,67800,66200,63700,63200,61600,61200,61400,61600,61800,63300,64900.000000000007,66100,65800,64599.999999999993,62900,61900,60600,60100,59500,59300,60000,61200,63900,65300,65200,63500,62100,61100,59800,59200,59200,59900,60200,61400,63400,64500,64200,62800,61000,60100,58700,58400,58500,57800,58100,60200,62200,63000,62600,60100,59400,58500,57400,56900,56900,57100,57500,59900,61700,62000,62000,60000,59000,58300,57400,57100,57200,56700,57500,60800,62100,62600,61800,60100,59800,59600,58000,57700,57700,58000,58700,61000,61800,63100,62700,62000,60300,59600,58500,58300,58300,58400,58800,61200,61800,63600,62900,60900,60000,59300,58000,57900,57800,58000,58500,61200,63100,64099.999999999993,63100,61000,60600,59700,58900,58400,58700,59200,59500,61400,63700,64599.999999999993,64200,62300,61700,60800,60000,59800,60000,60500,60700,63400,65500,66000,65400.000000000007,63700,62900,62400,60700,60500,60700,60500,61200,62700,65000,65800,65200,63900,63400,62900,61800,61900,62100,62300,62900,64500,67300,68100,67300,65400.000000000007,64500,63800,62400,62400,62400,62500,62900,65000,66800,67300,66600,65200,64800,64599.999999999993,63400,63000,63200,63600,63900,66100,67700,68500,67900,66900,66600,66200,65500,65200,65700,65600,65900,68200,69800,70400,69500,69200,69000,69500,67500,67300,68100,68000,67900,69500,70500,71100,70900,70600,71000,71300,68900,69300,69900,69100,70000,71700,71500,72500,71500,71900,72700,72600]
[null,null,"State","Animal Slaughtering and Processing",32311600,18400,18400,18400,18200,18200,18500,18500,18500,18400,18500,18500,18600,18200,18200,18500,18500,18500,18800,19000,18800,18600,18500,18600,18400,17900,17900,18000,18300,18200,18300,18100,18200,18300,18400,18600,18800,18600,18600,18200,18200,18400,18500,18500,18600,18500,18700,19000,18900,18800,18700,18600,18800,18800,18800,18500,18400,18400,18300,18400,18400,18100,18200,18200,17700,17700,17800,17700,17700,17600,17600,17700,17700,17600,17400,17500,17500,17500,17800,17700,17700,17600,17700,17800,18000,17800,17700,17800,17500,17500,17700,17600,17600,17600,17900,18200,18300,18000,17900,17900,18000,17900,18000,18000,18000,18100,18300,18400,18500,18200,18100,18200,18200,18200,18200,17000,18000,17900,17800,17900,18100,17800,17800,17700,17500,17300,17400,17200,17100,17100,17100,17100,17100,17000,16800,16700,16700,16600,16700,16500,16600,16600,16500,16600,16700,16500,16400,16400,16400,16300,16600,16600,16500,16600,16700,16800,17000,17000,16900,17000,16900,16900,17000,17000,17000,17000,17100,17200,17400,17200,17100,17200,17100,17100,17200,17200,17200,17200,16600,16700,17000,16600,16700,16700,16600,16600,16700,16600,16700,16700,16600,16500,16800,16500,16400,16400,16200,16200,16300,16000,16100.000000000002,16000,16200,16300,16300,16100.000000000002,16100.000000000002,16100.000000000002,15800,15800,15800,15800,15800,15800,15900,16000,16100.000000000002,16200,16000,16200,16100,16000,16200,16100,16200,16100,16100,16000,16400,16200,16200,16200,16100,16200,16200,16200,16300,16300,16200,16400,16500]
[null,null,"State","Paper Manufacturing",32322000,0,0,0,0,0,0,0,0,0,0,0,0,0,0,0,0,0,0,0,0,0,0,0,0,0,0,0,0,0,0,0,0,0,0,0,0,41500,41200,41100,40700,40600,41000,41100,40600,39800,39200,38800,38700,39000,38600,38500,38400,38400,39000,39000,38900,38400,37900,37800,38000,38100,37700,37600,37400,37200,38100,38300,37800,36800,36700,36500,36600,36400,36000,35900,35800,35700,36300,36600,36600,35700,35500,35600,35800,35800,35500,35400,35400,35600,36400,36400,36200,35400,35300,35200,35300,35500,35100,35000,34800,34900,35800,35700,35300,34300,34000,34200,34000,33700,33100,32700.000000000004,32299.999999999996,32200.000000000004,32700.000000000004,32700.000000000004,32500,32100,31400,31900,32200.000000000004,32100,31900,31700,31500,31700,32400,32400,32400,31700,31300,31300,31400,31400,31200,31200,31200,31300,32100,31900,31700,31100,31000,30900,31200,31000,30700,30600,30700,30600,31300,31500,31400,30800,30700,30800,30900,30700,30600,30600,30600,30600,31400,31300,31200,30600,30400,30400,30500,30600,30500,30500,30500,30600,31400,31400,31100,30500,30500,30600,30700,30600,30600,30400,30300,30400,31000,31200,31100,30600,30200,30400,30500,30500,30300,30400,30400,30400,31200,31100,30900,30200,30000,29900,29900,30000,29800,30000,29800,29800,30400,30600,30500,29900,29800,29900,30000,30100,29900,29900,29900,30000,30700,30800,30700,30200,30000,30000,30200,29400,29300,29300,29300,29400,30100,30100,30000,29600,29300,29400,29600]
[null,null,"State","Printing and Related Support Activities",32323000,38400,38500,38800,38500,38500,39300,40000,40100,39700,38800,38700,39100,38700,38400,38200,37900,37400,38100,38000,37700,37200,36800,36200,36200,35500,35100,35000,34900,34700,34900,35100,34800,34400,34100,34100,34100,34000,33700,33700,33400,33600,34000,34400,34500,34000,34000,33900,34000,33600,33200,33300,33000,33100,33500,33700,33600,33200,32800,32900,33100,32800,32600,32600,32900,32900,33500,33900,33900,33500,33500,33400,33600,33400,33300,33400,33200,33100,33800,33800,33900,33500,33400,33200,33400,33000,32900,33000,32800,32800,33200,33400,33500,33200,33200,33000,33000,32700.000000000004,32700.000000000004,32700.000000000004,32500,32400,32700.000000000004,32700.000000000004,32600,32100,31800,31700,31600,31000,30100,29800,29500,29000,29100,29000,28900,28700,28700,28600,28600,28400,28000,28000,28100,28000,28600,29000,29000,28700,28800,28900,28700,28800,28700,28800,29000,29000,29500,29800,30000,29600,29600,29500,29500,29400,28900,28900,28800,28800,29200,29300,29400,29000,29100,29100,29200,29000,28700,28700,28900,28900,29600,29800,29700,29400,29500,29500,29500,29200,28900,29000,28900,29000,29400,29700,29600,29300,29300,29500,29500,29700,29500,29600,29500,29600,30100,30100,30200,29700,29800,29900,29800,29700,29600,29700,29400,29400,29800,30000,29900,29500,29600,29600,29600,29300,29300,29300,29100,28900,29300,29200,29100,28700,28800,28800,28800,28500,28300,28300,28200,28100,28600,28700,28600,28300,28200,28100,28100,27600,27500,27200,27300,27100,27500,27600,27600,27400,27400,27400,27100]
[null,null,"State","Plastics and Rubber Products Manufacturing",32326000,37700,37900,38400,38200,38200,38600,38300,37800,37600,37700,37600,37200,36900,36400,36300,36200,35500,35500,35400,35300,34900,34600,34400,34300,34000,34000,34000,33900,34000,34300,34100,34200,33700,33700,33600,33600,33400,33300,33300,33300,33300,33500,33100,33000,32500,32700.000000000004,32700.000000000004,32900,32700.000000000004,32700.000000000004,32800,33000,33100,33300,33500,33400,33100,33000,33000,32900,32800,32800,32700.000000000004,32800,33100,33300,33200,33400,33200,33300,33300,33500,33300,33100,33300,33100,33000,33400,33200,33200,32600,32500,32200.000000000004,32200.000000000004,32100,32000,32100,32100,32200.000000000004,32900,33000,33000,32700.000000000004,32800,32700.000000000004,32800,32900,32800,32800,32700.000000000004,32600,32800,32600,32299.999999999996,31900,31500,31200,30800,29900,29100,28600,28200,27900,27900,27900,27600,27700,27300,27400,27500,27100,27200,27400,27600,27800,28300,28300,28300,28100,28100,28000,28100,28000,28100,28000,28400,28400,28800,29000,29000,28700,28500,28600,28700,28800,28900,29000,29200,29300,29700,29900,29700,29500,29500,29500,29600,29800,29800,29900,29700,29800,30300,30600,30700,30300,30200,30500,30700,30800,30900,31100,31000,31200,31700,31800,31800,31400,31300,31400,31700,31600,31700,31700,31800,31800,32299.999999999996,32600,32400,31900,31800,31800,32100,32000,32000,32100,32200.000000000004,32000,32500,32600,32500,32100,32000,32000,32400,32299.999999999996,32400,32500,32400,32400,32800,33100,33200,32800,33000,33000,33200,33000,33200,33200,33300,33200,33600,33800,33800,33500,33400,33700,33700,33900,33800,33900,33800,33900,34400,34500,34400,33900,33800,33900,34200]
[null,null,"State","Plastics Product Manufacturing",32326100,0,0,0,0,0,0,0,0,0,0,0,0,0,0,0,0,0,0,0,0,0,0,0,0,0,0,0,0,0,0,0,0,0,0,0,0,30900,30800,30700,30700,30800,30900,30700,30500,30100,30300,30300,30500,30200,30200,30300,30500,30600,30800,30900,30800,30600,30400,30400,30400,30200,30300,30100,30200,30500,30700,30600,30800,30600,30600,30700,30800,30700,30500,30700,30500,30500,30800,30500,30400,30000,29800,29800,29700,29600,29300,29300,29400,29500,30200,30300,30300,30000,30100,30000,30100,30200,30100,30200,30100,30000,30200,30000,29800,29500,29000,28800,28400,27700,27000,26500,26200,25900,25800,25900,25600,25700,25300,25400,25500,25100,25200,25400,25600,25800,26200,26100,26100,26000,25900,25800,25900,25900,25900,25900,26200,26200,26600,26800,26800,26500,26300,26300,26500,26500,26600,26800,26900,27100,27500,27700,27500,27200,27300,27300,27500,27600,27600,27700,27500,27600,28100,28400,28400,28100,27900,28300,28500,28400,28600,28700,28700,28900,29300,29400,29400,29000,29000,29100,29300,29200,29200,29200,29300,29300,29800,30100,29900,29400,29300,29400,29600,29500,29400,29600,29600,29500,30000,30100,30000,29600,29500,29500,29800,29800,29800,29900,29800,29800,30300,30500,30600,30200,30500,30300,30500,30500,30500,30500,30600,30700,31200,31400,31400,31000,31000,31100,31000,31000,30900,30900,30900,30900,31400,31400,31500,31000,30800,31100,31400]
[null,null,"State","Trade, Transportation, and Utilities",40000000,541400,535800,539400,543900,548400,550600,549200,552000,555700,564700,574900,578700,549200,540000,541700,544100,549200,549800,543500,546300,544300,548000,557200,558800,533000,524700,527400,528900,535800,538200,533500,534900,535400,540800,552400,556000,528300,521900,521799.99999999994,528400,535800,540100,533300,535600,537700,543700,551800,557700,529500,522500,524700,529200,537100,543000,539900,540600,540000,545700,555600,559500,532000,526700,529000,535400,541300,543800,542100,543900,544100,551700,561400,566800,536000,529600,532700,536800,542900,548000,542900,544300,544400,549300,561400,565800,541300,533500,536300,538300,547700,552300,547500,547200,546500,550000,561000,563000,539900,531400,533200,536600,543200,546300,541600,542100,538800,541500,546400,547700,520700.00000000006,511900,510200,512400,519000,523100,515900,515700.00000000006,513600,517799.99999999994,523200.00000000006,524600,501300,494500,496300,501700,507600,512200.00000000006,508000,508900,507200,514700.00000000006,521500,524100,502100,495500,497700,503900,508700,512100,511400,512600,512200.00000000006,516799.99999999994,525500,527900,505500,498600,500600,503300,511200,514799.99999999994,511600,513100,511800,517299.99999999994,528900,530500,507500,502500,504400,508500,517000,522299.99999999994,518799.99999999994,520900,517900,522600,533100,537000,513400,509300,511900,517200.00000000006,524300,529200,526500,527600,524400,528500,539400,542800,519400,514299.99999999994,517400,521299.99999999994,529400,534800,533900,536200,535000,539300,548100,550600,530300,526900,528500,534600,540000,542500,543100,543000,539200,543100,552200,555300,536700,531800,533200,535700,542100,544700,543300,544100,539900,542300,553000,553300,535200,531100,533000,534100,538300,544600,547600,548500,540100,541500,553400,555700,543100,538700,538800,537800,542800,548900,551100,551100,548800,552400,559900,560200]
[null,null,"State","Wholesale Trade",41000000,114900,115000,115700,116000,116500,117900,118300,118200,117100,117200,117400,117800,116200,116000,116300,116200,117200,118400,118100,117700,116300,116100,115600,115700,114000,113500,114000,114700,115600,116300,116900,116400,115200,114300,114500,114400,112000,111800,112000,113200,114000,115200,114900,114900,114000,114500,114000,114700,113100,112600,113200,113700,114400,115700,117400,117800,115800,116500,116800,117300,115800,115500,115700,117700,118600,120100,120600,120400,119200,119700,119900,120600,119300,118900,119600,120700,121400,123400,123600,123300,122000,122100,122200,122700,120800,120600,120900,122000,123100,125000,125200,124400,123200,123100,123500,123800,122000,121300,121800,122900,124100,125200,125100,124500,122400,122000,121700,121100,118600,117400,116900,116600,117100,117900,117200,116200,114300,114700,114200,114000,111500,110900,111100,112800,113600,114900,115500,115300,113200,114200,114200,114300,112700,112400,112900,114500,115600,117000,118100,117600,116300,116600,116700,116900,115300,115100,115800,117200,117900,119400,119300,118600,117100,117500,117700,117900,117400,117300,117500,118700,120100,121500,121400,121000,119300,119400,119500,119700,117800,117800,118600,119800,121100,122500,122800,122600,120600,120600,120700,121000,119900,119600,120200,121800,123100,124700,125100,124800,122900,123600,123800,124000,122400,122400,122900,124300,125100,126300,126900,126400,124500,124200,124300,124800,123200,123100,123600,124500,125900,127600,127600,127500,125600,125600,126900,124400,124000,124300,123800,124400,124500,126700,127700,127400,124100,124100,125500,125600,127500,126500,126400,125600,126100,128700,129200,129300,127100,127300,126300,127100]
[null,null,"State","Merchant Wholesalers, Durable Goods",41423000,66200,66200,66600,66200,66300,67200,67400,67200,66600,66500,66400,66600,65500,65400.000000000007,65500,65400.000000000007,65900,66600,66400,66300,65600,65600,65099.999999999993,65300,64300,64200,64300,64300,64700,65200,65500,65099.999999999993,64500,63900,64000,63900,63000,62900,63000,63300,63700,64300,64500,64599.999999999993,64099.999999999993,63800,63800,64200,63700,63600,64000,64000,64400.000000000007,65300,66100,66100,65600,65800,65900,66400,65700,65700,65700,66600,67000,68000,68200,68100,67500,67400,67500,67900,67500,67500,67900,68300,68700,70000,70000,69900,69200,68900,68700,69100,68100,68000,68200,68500,68900,70100,70200,69900,69200,68900,68800,69100,68200,67900,68000,68600,69000,69900,69900,69500,68300,67800,67600,67200,65900,65300,64500,63900,64200,64599.999999999993,64400.000000000007,63900,62900,63000,62700,62800,61500,61000,61300,61800,62300,63000,63400,63400,62400,62700,62600,62900,62200,62100,62300,63000,63500,64500,65400.000000000007,65400.000000000007,64800,64900.000000000007,65000,65300,64599.999999999993,64400.000000000007,64700,65200,65500,66400,66300,66000,65000,64900.000000000007,65099.999999999993,65300,64700,64599.999999999993,64700,65000,65500,66400,66500,66300,65500,65400.000000000007,65300,65500,64599.999999999993,64500,65000,65400.000000000007,65800,66600,67000,66900,66000,65800,65800,66100,65600,65400.000000000007,65700,66000,66500,67600,68000,67900,66900,67000,67200,67400,66600,66800,67000,67400,67700,68600,69000,68700,67700,67300,67200,67700,67100,67100,67400,67600,67900,69100,69100,69000,68000,68100,68600,68100,67700,68000,67200,67400,68100,69900,70500,70000,69000,69100,70000,70200,73000,72300,72200,72600,72300,73100,73000,73600,73000,72700,72100,73200]
[null,null,"State","Merchant Wholesalers, Nondurable Goods",41424000,43000,43000,43300,43900,44300,44800,45000,45200,44700,44900,45100,45300,44800,44600,44900,44900,45500,45900,45800,45500,44800,44500,44500,44400,43800,43400,43600,44300,44900,45300,45600,45600,45200,45000,45100,45200,45200,44900,44700,44600,45100,45500,45100,45200,44700,45300,44900,45100,44100,43700,43900,44400,44800,45300,45800,46200,44800,45200,45400,45500,44700,44400,44500,45400,45700,46200,46300,46200,45500,46000,46000,46200,45500,45100,45300,45800,46100,46800,46900,46600,46000,46100,46400,46500,45500,45300,45400,45900,46600,47200,47200,46700,46300,46400,46800,46900,46000,45700,46000,46400,47100,47400,47100,46900,46000,46100,46000,45800,44800,44400,44700,44900,45200,45500,45000,44600,43700,43900,43700,43400,42500,42400,42400,43400,43600,44200,44400,44200,43000,43300,43300,43100,42300,42200,42400,43200,43700,44100,44200,43800,43100,43200,43100,43000,42200,42100,42500,43200,43600,44200,44200,43600,43200,43500,43500,43400,42500,42500,42600,43200,44000,44500,44300,44100,43200,43300,43300,43300,42400,42500,42800,43500,44500,44900,44800,44700,43700,43800,43900,44000,43100,43000,43300,43900,44600,45100,44800,44700,43900,44300,44300,44300,43500,43400,43600,44400,45000,45300,45600,45500,44600,44600,44700,44900,43800,43800,44000,44400,45600,46000,45600,45600,44800,45600,46100,45800,44000,43700,44300,44600,45100,45500,45700,45300,44200,44200,44700,44900,47300,46900,46900,46600,47900,48600,49600,49000,47300,47200,47200,47000]
[null,null,"State","Grocery and Related Product Merchant Wholesalers",41424400,0,0,0,0,0,0,0,0,0,0,0,0,0,0,0,0,0,0,0,0,0,0,0,0,0,0,0,0,0,0,0,0,0,0,0,0,18700,18600,18600,18800,18700,19000,18500,18500,18500,18900,18400,18400,18000,17800,17900,17800,17800,18100,18400,18900,18200,18400,18600,18600,17900,17700,17700,18000,18100,18400,18600,18600,18500,19000,19000,19100,18500,18300,18300,18300,18300,18700,18800,18800,18700,18800,18900,19100,18700,18600,18700,18600,18700,19100,19100,19100,19100,19100,19300,19400,18800,18500,18800,18800,18800,19100,19100,19100,19000,19000,19000,19100,18400,18300,18400,18200,18200,18400,18300,18300,18100,18300,18200,18100,17800,17700,17800,17700,17700,17900,17700,18300,17600,17800,17800,17700,17300,17300,17300,17400,17400,17700,17600,17700,17500,17600,17600,17500,17100,17000,17200,17200,17300,17600,17700,17700,17600,17800,17800,17800,17300,17300,17200,17300,17400,17600,17700,17700,17600,17700,17700,17800,17600,17600,17700,17800,17900,18100,18200,18300,18100,18200,18300,18500,18100,18000,18100,18000,18100,18400,18400,18400,18200,18400,18400,18500,18100,17900,18000,18100,18100,18300,18600,18900,18500,18500,18600,18700,18300,18200,18400,18300,19000,19200,19200,19300,19100,19400,19600,19600,18700,18600,18800,18900,18900,19100,19100,19200,19000,19200,19500,19600,20300,20200,20300,20400,20400,20800,20900,21100,20800,20800,20900,21000]
[null,null,"State","Retail Trade",42000000,324200,318400,320500,322700,325400,327700,327500,329700,330800,337400,348300,352400,325600,316900,318000,318800,321600,322700,319500,322200,318800,322300,332800,335500,316300,309100,310500,309700,313700,316800,315000,316600,314200,319100,330700,335700,313500,307300,306500,310000,314800,317500,315100,317500,315900,320400,329800,335800,313000,306500,307300,309600,314800,318900,317100,317700,315300,318100,328300,332600,310900,305400,306600,309400,313200,314600,314900,316900,314300,321100,330700,335300,309600,303100,304700,306800,310600,313600,311700,313200,310400,314700,327200,330600,312700,304700,306700,307000,313100,315200,314800,314100,311000,314000,324700,326500,309400,301600,302900,305000,309000,311100,310300,311100,307000,309800,315800,318100,298500,291500,290500,291600,296000,298900,296900,297500,293800,297600,304500,306200,289400,283100,284400,286500,290800,293700,292500,293900,290800,296500,303800,306200,289700,283700,285100,288700,291400,294200,294600,296200,293400,297400,306200,308200,291300,284700,286000,287400,291900,294800,293900,295700,292600,297400,308800,309600,291300,286300,287600,290500,295800,300200,299800,301200,297200,301200,311200,314400,296400,292100,293700,297000,301100,304700,304800,305200,300800,304400,314100,316000,298300,293700,295600,297200,302400,305800,306100,307400,304300,307600,315800,316500,302800,299400,300500,304200,307500,309800,311500,311300,306100,309700,317600,318800,306300,302200,303000,304400,307300,309800,310000,310000,304500,306600,315500,315300,301900,298600,299600,300900,303300,307100,308000,308200,301700,302600,313000,313600,305900,303700,303100,302200,304900,308000,309100,308800,307200,311100,319500,320700]
[null,null,"State","Motor Vehicle and Parts Dealers",42441000,37600,37800,38300,38900,39100,39300,39200,39300,38900,39000,38800,38600,37600,37700,38000,38900,39200,39800,39700,39800,39400,39300,39200,39000,38400,38300,38700,39400,39800,40100,40000,40100,39800,39300,39200,39200,38400,38300,38600,39000,39700,39900,39900,39900,39600,39200,38800,38600,38000,38000,38400,39000,39400,39600,39700,39700,39300,38900,38600,38400,37600,37800,38200,38900,39100,39400,39100,39100,38600,37800,37100,36900,36200,36100,36500,37200,37600,37900,37600,37600,37300,36700,36200,36100,35600,35500,36100,36800,37300,37700,37600,37400,37000,36300,35900,35700,35300,35200,35600,36400,37000,37200,37000,36700,36300,35300,34500,34000,33000,32800,33000,33200,33600,33800,33500,33400,33200,32600,32400,32200.000000000004,31800,31800,32200.000000000004,32900,33200,33500,33500,33700,33500,33400,33200,33100,32700.000000000004,32900,33400,34200,34600,34900,35200,35200,35100,34800,34800,34700,34300,34400,35000,35500,35900,36300,36200,36200,36000,35800,35500,35500,34900,34900,35400,36000,36700,37100,37300,37500,37300,37000,36900,36900,36600,37000,37500,38300,38800,39300,39300,39400,39200,38700,38700,38900,38100,38200,38700,39200,39700,39900,39800,40000,39700,39600,39400,39400,38800,39000,39400,40100,40600,40600,40900,40700,40400,40300,40200,40100,39800,40000,40200,40500,41000,40900,41000,41000,40600,39800,39600,39000,39400,39000,40000,40800,40400,41600,41500,41500,41300,41000,41000,41500,39600,40000,39600,39600,40500,40800,40700,40100,40100,40300,40100,40100]
[null,null,"State","Building Material and Garden Equipment and Supplies Dealers",42444000,26600,26500,27400,28600,29800,30300,30000,29700,28900,28800,29000,28700,27100,26900,27500,28600,29700,28900,28200,28200,26500,26200,25800,25400,24300,24100,24600,25700,27300,28300,27700,27600,26600,26100,25900,26300,24600,24300,24000,26100,27900,28400,28100,27800,26900,26900,26700,26600,25300,25000,25300,27500,28900,29100,28600,27800,27000,26700,26700,26600,25300,25100,25500,27300,28800,29000,28300,27700,26900,27000,27200,27200,26200,26100,26600,28100,29300,29600,28900,28100,27300,27200,27100,26800,25700,25400,25700,27200,28800,29100,28400,27700,26600,26300,26400,26000,24700,24300,24500,25700,27500,27700,27100,26400,25500,25400,25100,24800,23500,23100,23200,24600,26200,26500,25600,25000,24200,23900,23700,23500,22400,22300,22800,24500,26100,26300,25500,25000,24000,23700,23500,23300,22300,22100,22600,24100,25300,25800,25300,24800,24100,23700,23600,23200,22200,22300,23100,24700,26000,26200,25600,24700,24200,23700,23700,23500,22600,22600,23300,24100,25900,26300,26000,25200,24500,24300,24100,23900,23200,23100,23700,25100,26700,27000,26600,25900,25300,25000,25000,24900,24300,24200,24800,26200,27600,27500,27000,26400,25300,25200,25200,25000,24400,24400,25100,26600,27700,27900,27300,26600,25500,25500,25500,25300,24600,24700,25300,26500,27700,27900,27400,26800,25800,25800,25900,25600,24900,24800,25500,26800,28000,28200,27500,26800,25800,25700,25600,25400,25300,25300,26000,27200,28600,28700,28400,27800,26900,27100,27100,27100]
[null,null,"State","Food and Beverage Stores",42445000,62600,62300,62500,62700,62700,63000,64200,64599.999999999993,64500,63100,64000,64900.000000000007,63300,62100,62200,62100,62400,62700,62300,63200,62600,61900,62600,64000,61100,60500,60200,59600,60100,60700,60200,60100,59300,59100,59600,60200,59200,58500,58300,58400,59400,59500,58700,59000,58900,58300,59000,59800,58400,57700,57400,56400,57700,59000,58200,59000,58400,58200,58600,59300,57700,56900,57000,56600,57400,57900,58000,58700,58100,57700,57900,58300,57100,55700,55900,56200,56800,58000,57900,58400,57500,57600,58600,59100,57900,56600,56700,55400,56900,57500,57500,57800,57000,57500,58000,58300,57400,55800,55800,56000,56700,57300,57300,57700,56200,56100,56000,56600,55500,54600,54400,53700,55000,56200,56100,56100,54500,54900,54700,54800,54200,52700,52400,52400,53300,54200,54200,54500,53500,53700,53700,53900,52900,52100,52200,52300,52600,53500,53200,53700,52800,53000,53200,53700,53000,52000,52000,51500,52700,53800,53900,54500,53000,53200,53900,54200,53700,52800,52900,53500,54900,55900,55900,56200,54800,55200,55800,56100,55400,54600,54600,54900,56100,57200,57000,57100,56200,56700,56900,57600,56000,55000,54900,54400,55400,56100,56300,56500,55000,55000,55200,55500,55000,54700,54800,55000,55700,57100,57600,57700,56000,56000,56200,56800,56500,56000,56100,55800,56500,57400,57600,57700,55800,54600,55900,55300,54200,54400,54900,53900,54100,54600,54900,54800,54200,54200,54800,55700,57100,56500,56600,56800,57300,57800,58300,58300,58000,57800,58700,59400]
[null,null,"State","Grocery Stores",42445100,54100,54000,54100,53900,53900,54100,55300,55600,55500,54200,54600,55300,54400,53600,53600,53400,53500,53700,53400,54100,53600,52900,53400,54400,52300,51900,51600,51100,51500,51900,51600,51500,50800,50700,51100,51600,50900,50400,50300,50200,51000,51100,50300,50600,50400,49900,50500,51200,50400,49800,49500,48300,49500,50600,49800,50500,49800,49800,50000,50700,49700,48900,49000,48600,49200,49500,49600,50300,49600,49100,49100,49300,48500,47300,47400,47500,48000,49000,48900,49300,48400,48300,49200,49600,48900,47900,47900,46700,48000,48400,48500,48700,48000,48400,48700,48900,48200,47000,47000,47100,47700,48100,48200,48600,47200,47100,47000,47500,46800,46000,46000,45200,46300,47400,47400,47400,46000,46300,46100,46100,46000,44600,44300,44400,45100,45900,45900,46200,45200,45400,45500,45600,45000,44300,44400,44500,44700,45400,45100,45600,44700,44900,45200,45600,45300,44400,44300,43900,44900,45700,45800,46200,44900,45100,45800,46100,45600,44800,45000,45600,46700,47700,47600,47900,46500,46800,47300,47500,47200,46600,46600,46900,47700,48800,48500,48500,47700,48100,48400,48900,47800,46900,46800,46200,46900,47400,47600,47700,46200,46300,46500,46700,46600,46400,46500,46800,47300,48500,49000,49000,47500,47400,47600,48100,48200,47800,48000,47600,48100,48800,49000,49000,47200,47300,47800,48000,47700,47800,47800,46900,47500,48000,48200,48300,47600,47700,48100,48400,48200,47700,47600,47800,48100,48600,49100,49100,48100,48300,49000,49500]
[null,null,"State","Gasoline Stations",42447000,24200,23900,24100,24400,24800,25000,25000,24800,25000,24500,24500,24600,23900,23700,23700,23800,24100,24300,24300,24500,24100,24000,23900,23800,23400,23000,22900,22900,23300,23500,23800,24000,23800,23500,23600,23700,23400,23200,23400,23500,23800,23900,24000,24000,23900,23700,23500,23600,23200,23000,23100,23200,23300,23600,23500,23500,23400,23100,23100,23100,22600,22600,22600,22900,23100,23400,23500,23600,23500,23300,23600,23600,23200,23100,23200,23300,23600,23900,23900,24000,24100,23600,23500,23700,23000,22900,23100,23200,23700,24000,24200,24400,24100,23700,23900,23700,23100,22900,23000,22900,23200,23500,23600,23600,23400,23300,23600,23200,22800,22500,22600,22600,23100,23300,23300,23300,23000,22900,23000,22700,22400,22200,22200,22500,22800,23100,23000,23100,22900,22700,22800,22700,22500,22300,22300,22400,22600,22900,23000,23100,23000,22900,23000,23000,22400,22300,22500,22700,23000,23200,23200,23300,23100,22900,23000,23000,22600,22500,22700,22800,23100,23500,23600,23700,23500,23400,23800,23600,23300,23200,23300,23600,24200,24600,24600,25000,24700,24700,25200,25000,24600,24400,24600,24600,25200,25700,25900,26100,25800,26000,26500,26200,25800,25700,25600,25900,26200,26500,26700,26800,26700,26400,26600,26700,26400,26400,26500,26500,27000,27400,27400,27600,27500,27300,27600,27500,27000,26900,27000,27200,27600,28100,28200,28500,28100,28100,28500,28500,27800,27700,27900,28000,28400,28800,29000,29300,29000,29100,29500,29500]
[null,null,"State","General Merchandise Stores",42452000,60800,59400,59300,59900,60000,60100,59600,59800,60300,63900,67800,69200,60100,58100,58100,57500,58000,57800,57000,56400,55900,57700,62100,62100,59500,57600,58100,57600,57800,57400,56400,55800,56100,58700,65200,66500,61000,59400,58500,58600,59200,59500,59500,60200,60200,62900,66400,68000,62500,60400,60500,60100,61100,61400,61400,61200,60500,62100,66300,66900,62100,60200,60400,61100,61300,60900,61200,61900,61500,62100,65500,65800,62200,60100,60500,60000,60700,60500,60000,60400,59700,61900,66600,67300,64599.999999999993,61800,62600,61800,63000,62500,62500,62100,61800,63100,66800,67200,64099.999999999993,62200,62900,62800,62600,62900,62900,63000,62400,63300,66400,67200,63500,61600,61200,61400,62000,62500,62300,62400,61900,61800,65500,65400.000000000007,61600,60100,60500,59800,60400,60800,61000,61200,60500,62100,65700,66200,62900,60900,61300,61900,61900,62100,62500,62700,61700,63200,67800,68400,64200,61300,60800,60400,60800,60800,60900,61300,60900,62500,67500,68000,61500,59900,60000,60400,60800,61400,61200,61300,60400,61700,65400.000000000007,66400,61300,59900,60000,60400,60300,60700,61000,60800,59700,61000,64599.999999999993,65099.999999999993,59400,58100,58600,58800,59900,61000,61400,62100,61600,63400,66700,66500,62700,60900,61000,61800,62300,62800,63000,63100,61600,63400,67100,66800,63300,61200,60800,60900,60900,61300,61800,62000,61000,62100,65200,65200,62600,61300,60900,61100,61300,61300,61100,62000,61100,60900,64200,63800,59200,56900,56500,53200,53400,53200,53200,53100,52700,53800,57900,58000]
[null,null,"State","Department Stores",42452200,45600,44300,44000,44200,44300,44500,43600,43900,44300,47100,50800,52000,43700,41500,41300,40700,41000,40700,40000,39300,38900,40400,44100,43900,41700,40100,40400,39600,39800,39100,38100,37900,37800,40000,44800,45800,41000,39500,38500,38400,38700,38900,38600,39300,39300,41500,44700,46000,41100,39100,39000,38500,39100,39100,39100,38900,38400,39500,43400,44000,39700,38000,38000,38400,38500,38000,38200,38800,38500,39100,42100,42300,39300,37300,37500,36900,37300,37100,36600,36900,36300,38100,42600,43000,40600,38100,38500,37700,38700,38100,37800,37000,36800,37800,41000,41200,38500,36800,37200,37100,36600,36800,36500,36500,36000,36900,39500,40300,37100,35300,34900,34800,35200,35500,35200,35100,34800,34800,38100,38000,34700,33200,33300,32800,33200,33400,33400,33600,33100,34600,37900,38400,35300,33400,33600,33900,33500,33300,33000,33000,31800,32700.000000000004,36700,37100,33600,31400,30900,29700,29700,29400,29100,29300,29000,29900,33900,33700,30500,29200,29100,29200,29300,29800,29800,30000,29600,30900,34200,35200,32100,31000,30900,30800,30500,30500,30500,30300,29600,30700,33600,34100,30400,29000,28900,28500,28400,28600,28600,28800,28600,29800,32600,32800,30200,28300,27700,27700,27400,27200,27200,27100,26100,27400,30000,30300,27700,25800,25300,25000,24800,24700,25100,25300,24700,25600,28100,28900,26500,25100,24400,24400,24300,24100,23500,23900,23500,23500,25600,25900,23100,21700,21300,18000,17800,17700,17800,17800,17700,18400,20700,20900]
[null,null,"State","Nonstore Retailers",42454000,25800,23300,23100,22900,22600,23300,23900,24800,26900,29900,32800,32900,26800,24000,24100,23600,22900,23000,23300,24400,25800,28200,31500,31500,25100,23600,22900,22100,21700,21800,21900,23200,24200,27200,29500,30500,23700,22300,22300,22600,21700,21700,21900,22700,23900,25200,28600,29900,22800,21400,21400,21200,20900,21000,21500,22100,22900,24200,27400,28300,21900,20900,20800,20000,19800,19600,19800,20500,21200,22700,25700,26800,20600,19500,19500,19100,18900,19100,19200,19700,20600,22800,26100,27200,21300,20000,20000,19800,19500,19600,19700,20100,20800,22600,25600,26200,21100,19700,19800,19700,19500,19500,19300,19900,20700,22900,25100,25700,20400,19200,18900,19100,18500,18500,18600,19400,20100,22900,24200,25400,20100,19200,19100,18600,18500,18700,18700,19400,20800,23500,24500,25500,20500,19300,19100,19000,18700,18500,18900,19600,20900,22800,23900,24500,19700,18400,18300,18100,18000,18100,17900,18700,19300,21000,23000,23700,19000,18200,17900,18100,17900,18300,18400,19000,19900,20800,23000,23900,19300,18700,18700,18500,18600,18900,19500,19700,19700,20900,23000,23700,19900,19100,18900,18600,18400,18700,19000,19200,19100,20200,21600,22400,19000,18500,18100,18100,17800,17900,18300,18500,18600,19400,21000,21300,18600,18200,18200,18200,18000,18300,18300,18400,18500,19600,21600,22400,19300,18200,18100,18000,18100,18300,18300,18300,18400,19100,21200,21300,18200,17600,17400,17300,17400,17600,17800,17700,17900,18900,20200,20000]
[null,null,"State","Electronic Shopping and Mail-Order Houses",42454100,20300,17700,17500,17200,17000,17700,18400,19500,21500,24400,27300,27300,21400,18600,18800,18300,17600,17700,18100,19100,20500,23000,26300,26200,19800,18400,17600,17000,16600,16600,16800,18200,19300,22400,24800,25800,19100,17700,17700,18000,17100,17100,17300,18200,19300,20600,24100,25500,18300,17000,17000,16800,16500,16700,17100,17700,18500,19900,23100,24000,17500,16700,16500,15800,15700,15400,15600,16300,17100,18700,21700,22700,16500,15500,15400,15100,14800,14900,14900,15500,16400,18500,21800,22800,17000,15800,15800,15500,15300,15300,15400,15900,16600,18300,21300,21900,16800,15500,15500,15500,15300,15300,15000,15700,16600,18700,20900,21500,16300,15100,14900,15000,14500,14400,14500,15400,16100.000000000002,18800,20100,21200,16200,15200,15100,14700,14600,14600,14600,15400,16900,19500,20500,21400,16600,15300,15200,15000,14800,14600,14800,15600,16900,18800,19800,20400,15700,14300,14300,14100,14000,14000,13800,14600,15200,17000,19000,19600,15000,14200,13900,14100,13900,14200,14300,14900,15800,16800,18800,19700,15200,14700,14600,14500,14500,14800,15200,15500,15500,16700,18800,19400,15600,14900,14600,14300,14200,14600,14600,14700,14800,15700,17100,17900,14700,14000,13600,13600,13400,13700,13800,14000,14100,14800,16400,16700,14200,13700,13600,13600,13500,13700,13700,13700,14000,14800,16900,17600,14800,13600,13400,13400,13600,13600,13600,13600,13600,14100,15700,15400,13900,13400,13300,13100,13100,13500,13800,13700,13800,14900,16000,15600]
[null,null,"State","Transportation, Warehousing, and Utilities",43000000,102300,102400,103200,105200,106500,105000,103400,104100,107800,110100,109200,108500,107400,107100,107400,109100,110400,108700,105900,106400,109200,109600,108800,107600,102700,102100,102900,104500,106500,105100,101600,101900,106000,107400,107200,105900,102800,102800,103300,105200,107000,107400,103300,103200,107800,108800,108000,107200,103400,103400,104200,105900,107900,108400,105400,105100,108900,111100,110500,109600,105300,105800,106700,108300,109500,109100,106600,106600,110600,110900,110800,110900,107100,107600,108400,109300,110900,111000,107600,107800,112000,112500,112000,112500,107800,108200,108700,109300,111500,112100,107500,108700,112300,112900,112800,112700,108500,108500,108500,108700,110100,110000,106200,106500,109400,109700,108900,108500,103600,103000,102800,104200,105900,106300,101800,102000,105500,105500,104500,104400,100400,100500,100800,102400,103200,103600,100000,99700,103200,104000,103500,103600,99700,99400,99700,100700,101700,100900,98700,98800,102500,102800,102600,102800,98900,98800,98800,98700,101400,100600,98400,98800,102100,102400,102400,103000,98800,98900,99300,99300,101100,100600,97600,98700,101400,102000,102400,102900,99200,99400,99600,100400,102100,102000,98900,99800,103000,103500,104600,105800,101200,101000,101600,102300,103900,104300,102700,104000,107800,108100,108500,110100,105100,105100,105100,106100,107400,106400,104700,105300,108600,109200,110300,111700,107200,106500,106600,106800,108900,107300,105700,106600,109800,110100,110600,113600,109300,108200,109600,108800,110500,110800,111900,112900,114300,114800,114900,116500,109700,108500,109300,110000,111800,112200,112800,113000,114500,114000,114100,112400]
[null,null,"State","Utilities",43220000,13200,13100,13100,13200,13200,13700,13700,13700,13400,13400,13400,13400,13400,13400,13300,13200,13000,13400,13200,12900,12400,12300,12100,11900,11700,11700,11700,11700,11700,12000,12000,11900,11600,11500,11500,11400,11400,11400,11400,11500,11500,11800,11900,11800,11600,11600,11500,11500,11500,11400,11400,11500,11700,11800,11800,11800,11600,11700,11500,11400,11400,11400,11400,11500,11500,11700,11700,11600,11400,11300,11200,11200,11200,11100,11000,11100,11200,11400,11500,11400,11200,11300,11100,11000,11000,11100,11000,11000,11100,11400,11300,11300,11000,11100,11000,10900,10900,10900,11000,11100,11100,11300,11400,11300,11100,11000,11000,11000,11100,11000,11100,11100,11200,11400,11400,11500,11300,11300,11100,11000,11000,11100,11000,11000,11000,11100,11200,11100,11000,10900,10900,10900,10800,10800,10800,10900,10900,11100,11100,11100,10900,10900,10900,10800,10800,10800,10800,10800,10800,11100,11100,11100,10900,10900,10800,10800,10700,10800,10700,10700,10800,10900,10900,10800,10600,10500,10500,10400,10200,10600,10300,10400,10500,10700,10700,10700,10500,10500,10500,10500,10300,10500,10500,10500,10500,10700,10700,10600,10300,10100,10100,9900,9700,9700,9700,9700,9800,9900,9900,9900,9600,9600,9600,9500,9400,9500,9500,9600,9600,9700,9700,9600,9500,9400,9400,9400,9400,9300,9300,9200,9200,9300,9300,9200,9100,9100,9100,9100,8900,8900,8900,8900,9000,9100,9200,9200,8900,8900,8800,8800]
[null,null,"State","Transportation and Warehousing",43400089,89100,89300,90100,92000,93300,91300,89700,90400,94400,96700,95800,95100,94000,93700,94100,95900,97400,95300,92700,93500,96800,97300,96700,95700,91000,90400,91200,92800,94800,93100,89600,90000,94400,95900,95700,94500,91400,91400,91900,93700,95500,95600,91400,91400,96200,97200,96500,95700,91900,92000,92800,94400,96200,96600,93600,93300,97300,99400,99000,98200,93900,94400,95300,96800,98000,97400,94900,95000,99200,99600,99600,99700,95900,96500,97400,98200,99700,99600,96100,96400,100800,101200,100900,101500,96800,97100,97700,98300,100400,100700,96200,97400,101300,101800,101800,101800,97600,97600,97500,97600,99000,98700,94800,95200,98300,98700,97900,97500,92500,92000,91700,93100,94700,94900,90400,90500,94200,94200,93400,93400,89400,89400,89800,91400,92200,92500,88800,88600,92200,93100,92600,92700,88900,88600,88900,89800,90800,89800,87600,87700,91600,91900,91700,92000,88100,88000,88000,87900,90600,89500,87300,87700,91200,91500,91600,92200,88100,88100,88600,88600,90300,89700,86700,87900,90800,91500,91900,92500,89000,88800,89300,90000,91600,91300,88200,89100,92500,93000,94100,95300,90900,90500,91100,91800,93400,93600,92000,93400,97500,98000,98400,100200,95400,95400,95400,96400,97600,96500,94800,95400,99000,99600,100700,102200,97800,97000,97100,97200,99300,97600,96000,97000,100300,100700,101200,104200,99900,98900,100300,99600,101300,101500,102600,103700,105200,105700,105800,107400,100800,99600,100400,101100,102800,103100,103600,103800,105600,105100,105300,103600]
[null,null,"State","Truck Transportation",43484000,44200,44400,44900,45500,46600,47600,47400,47900,47800,47900,47600,47400,45000,44900,45000,45500,46200,46800,46600,46500,46100,45900,46000,45600,43600,43100,43400,43700,45200,45800,45500,46100,45700,45600,45900,45000,42900,42900,43200,44000,45300,46200,46100,46500,46500,46500,46400,45900,43700,43800,43900,45800,46300,46800,47800,47900,47900,48100,48000,47600,45400,45700,46100,47400,48300,48900,49200,49500,49500,49500,49400,49000,47000,47400,47900,48900,49700,50400,50200,50700,50800,50400,50100,49600,46700,46500,46900,47400,48600,48900,48600,49300,49100,49000,48800,48000,45800,45500,45400,45800,46500,47100,46800,46900,46700,46800,46600,45300,42900,42300,42100,42200,42900,43200,42900,42800,42600,42200,41400,40600,38800,38700,38800,40200,40900,41500,42000,42000,41900,42200,42000,41400,39800,39700,40100,40900,41700,42300,42700,42900,42800,42800,42500,42000,40300,40200,40500,41500,42100,42900,43100,43300,43200,43200,43000,42500,40800,40700,41100,41500,42700,43200,43300,43500,43300,43500,43300,42700,41400,41300,41700,42200,43400,43900,44200,44500,44100,43700,43700,43500,41800,41700,42200,43200,44100,44500,44800,44900,44600,44600,44300,43800,42400,42500,42600,43500,43900,44500,44600,44600,44200,44100,43900,43400,42100,42200,42400,43000,43700,44200,44300,44300,43800,43600,43000,44100,43200,42800,43500,43600,43800,44200,44500,45300,45700,46100,46400,46700,46000,45700,46800,47300,48200,48500,49800,49600,48800,48600,48900,47400]
[null,null,"State","Information",50000000,52500,52400,52500,52600,52900,53400,53800,53900,53800,54600,55600,55600,53800,53600,53800,54000,53400,53700,53300,53100,52600,52500,52800,52500,51800,51300,51200,51100,51000,51100,51100,51200,50600,50800,51200,51400,50700,50100,50100,49900,49900,50200,50200,50400,50400,50300,50800,51000,50200,49800,49900,49600,49600,49700,50200,50300,49700,49600,50000,50100,49600,49400,49300,49600,49700,50100,49800,50000,49600,49600,50000,50100,49600,49300,49100,48900,48900,49100,49200,49400,48900,49300,49800,50000,49800,49500,49400,49700,49900,50400,50600,50800,50300,50600,50800,50900,50300,50000,49900,50100,50900,50700,50500,50500,49800,49700,49900,49900,49100,48900,48300,48000,48100,48100,48100,48000,47400,46900,47400,47600,46600,46200,46100,45900,46100,46700,47100,47200,46800,46500,47400,47400,46900,46600,46400,46500,46500,46400,47100,47200,46800,46700,47200,47100,46400,46000,45800,45900,45900,46500,46800,47100,46500,46600,47100,46900,46900,46700,46500,46700,47100,47200,47700,47900,47100,47400,47800,47900,47400,47300,47100,47100,47500,47700,48400,48800,47700,48500,48700,48800,48500,48100,47800,48000,48300,48400,49600,50000,49000,49600,49800,49600,49200,49100,48900,49000,49000,49000,49500,49700,48600,48800,49000,48900,48700,48400,48100,47700,47700,47800,48000,47900,47000,47300,47000,47400,46600,46500,46300,46300,46400,46400,46400,46400,46800,47300,47700,48000,47600,47300,47300,47600,47300,47900,48500,48800,48600,48600,48800,49100]
[null,null,"State","Financial Activities",55000000,143000,142900,143100,144100,144500,146500,146800,146500,145500,145400,145700,146600,145700,145600,146500,146100,147000,148800,149200,148900,147600,146800,147100,147200,146700,147000,147000,147700,148400,150000,150800,151100,149600,149300,149900,150600,149300,149900,150000,150900,152100,153600,153600,153700,152100,151800,151800,152700,151600,151300,151500,152500,153100,154700,155600,155800,153700,153900,153900,155100,153100,152400,152800,153500,154000,155700,156400,156400,155000,154600,154600,155600,154100,153700,153800,155100,156200,157600,158600,158300,157000,156700,156700,157600,156400,156100,155800,156500,156900,158700,158800,158300,156600,157800,157700,158600,157400,157700,157300,158100,159200,160000,160700,160300,157800,157300,157100,157600,156400,155600,155100,155800,156100,156900,156800,156700,154100,153800,153500,153800,152100,151700,151900,152000,152200,153200,153500,153200,151500,151500,151300,151900,150200,149800,149900,150300,150600,151800,152300,152000,151000,150600,150300,150800,150100,149800,150000,150100,150800,152200,152500,152500,150800,150700,150400,150900,149400,149200,149500,149400,150300,151900,152600,152400,150600,150300,150000,150400,147900,147800,148200,148900,149700,151500,152000,152300,150800,150000,150000,150900,149600,149500,149700,150000,151100,152800,153500,153100,151200,151100,151000,151600,150000,149800,150000,150600,151200,153100,154400,154200,152400,152200,152100,152500,151700,151700,152200,152200,152700,154500,155100,154800,152700,152000,152000,150600,149900,150400,149300,150200,149600,151200,152000,151100,149400,150700,150400,151100,152800,152700,152700,153200,153000,155600,156100,155300,152200,152200,153200,153200]
[null,null,"State","Finance and Insurance",55520000,117500,117400,117500,118000,118000,118900,119100,118900,118600,118900,119600,120100,119900,119900,120500,119800,120100,120900,121500,121100,120500,120400,120800,120900,120800,121100,121000,121400,121400,122200,123000,123200,122400,122500,123300,123700,123500,124000,124100,124300,124700,125400,125300,125200,124400,124400,124800,125500,125000,124900,125000,125400,125400,126200,126500,126700,125400,126100,126400,127400,126000,125500,125800,125800,125900,126800,127100,127200,126400,126700,126900,127500,126800,126600,126600,127400,127900,128300.00000000001,129000,128800.00000000001,128400,128699.99999999999,129000,129600,129100,128900,128500,128800.00000000001,128600,129500,129600,129100,128300.00000000001,129900,130300.00000000001,130800.00000000001,130600,130900,130500,131000,131500,131600,132300,132000,130600,130400,130600,130900,130800.00000000001,130400,130100,130600,130400,130300.00000000001,130199.99999999999,130100,128400,128600,128699.99999999999,128800.00000000001,127600,127400,127700,127500,127400,127600,127800,127600,126700,127000,127100,127600,126600,126300,126300,126300,126300,126500,127000,126700,126400,126600,126500,127000,126800,126600,126900,126500,126500,127000,127000,127100,126300,126600,126700,127000,126000,125900,126100,125600,125700,126400,126800,126700,125700,126000,126100,126400,124600,124600,124900,125000,125200,125900,126200,126500,125800,125600,126000,126900,126100,126100,126200,126000,126100,126800,126800,126600,125500,125800,126000,126600,125900,125600,125800,125800,125700,126700,127300,127100,126200,126300,126400,126900,126800,126700,127000,126600,126400,126900,127200,127100,125900,125600,125700,124500,124300,124900,123700,124200,122900,123600,123900,123100,122300,123900,124000,124600,126800,126500,126700,126900,126200,127800,127800,127100,125000,125400,126800,126600]
[null,null,"State","Credit Intermediation and Related Activities including Monetary Authorities-Central Bank",55522000,49300,49100,48900,48900,48900,49200,49500,49500,49200,49200,49700,49900,50100,50100,50400,49800,50100,50500,50900,50800,50700,50400,50600,50800,50900,50900,51100,51100,51100,51600,52200,52400,52200,52200,52900,53200,53100,53300,53500,53700,54000,54500,54700,54700,54400,54100,54200,54400,54100,54000,54000,54200,54300,54600,54600,54600,54200,54300,54500,55100,54300,54000,54100,54200,54200,54500,54800,54700,54700,54500,54900,55200,55200,54900,54800,54800,54900,55100,55200,55100,54800,54900,55100,55100,55600,55400,55100,54800,54800,55100,55000,54400,54000,53900,54000,54100,54200,54400,54300,54400,54500,54600,54600,54700,54100,53900,54200,54500,54800,54500,54400,54300,54200,54200,54000,53800,53100,53200,53200,53300,52800,52700,52800,52600,52500,52400,52400,52400,52000,52000,51900,52200,52000,51700,51600,51300,51200,51100,51300,51100,51000,51100,50900,51000,50800,50600,50700,50500,50500,50600,50500,50600,50300,50400,50500,50600,50300,50200,50100,50100,50200,50400,50400,50300,49700,49600,49600,49700,49900,49700,49700,49700,49900,49900,49900,49900,49500,49300,49300,49600,49100,49000,49000,48800,48900,49000,48600,48500,48000,47800,47800,48000,47700,47600,47500,47600,47600,47900,48000,47900,47600,47500,47600,48000,47800,47700,47700,47600,47500,47700,47600,47600,47200,47100,47300,47100,47100,46900,46300,46100,45700,45700,45800,45600,45000,45400,45400,45600,47000,46800,47000,47000,46900,47300,47300,47200,46600,46500,46800,46600]
[null,null,"State","Depository Credit Intermediation including Monetary Authorities-Central Bank",55522100,0,0,0,0,0,0,0,0,0,0,0,0,0,0,0,0,0,0,0,0,0,0,0,0,0,0,0,0,0,0,0,0,0,0,0,0,42500,42500,42600,42500,42500,42700,42900,42700,42300,42000,41900,42100,42100,41800,41800,41800,41900,42200,42100,42100,41700,41600,41600,42100,41600,41200,41300,41300,41300,41400,41600,41500,41500,41200,41500,41700,41900,41700,41700,41800,41800,41900,42000,41900,41600,41600,41700,41900,42500,42300,42100,42000,42000,42400,42500,42400,42100,42100,42300,42500,42800,42800,42800,42800,42900,43000,43100,43200,42800,42500,42700,43000,43300,43000,42900,42800,42600,42700,42600,42400,41900,41800,41800,41900,41600,41400,41500,41300,41300,41500,41400,41400,41100,41100,41000,41300,41300,41000,41000,40900,40900,41000,41200,41100,41000,41000,41100,41200,41100,40900,41000,40800,40700,40800,40700,40700,40400,40400,40400,40400,40300,40200,40100,40100,40300,40400,40500,40500,40100,40100,40200,40400,40400,40300,40400,40400,40500,40500,40400,40400,40100,39900,40000,40200,39800,39700,39700,39500,39600,39700,39500,39500,39200,39100,39200,39400,39300,39300,39300,39400,39400,39700,39700,39600,39400,39200,39200,39700,39500,39400,39400,39200,39200,39400,39200,39200,39000,38900,39100,39000,38900,38700,38200,38100,37600,37600,37700,37600,37300,37400,37400,37600,38900,38700,38800,38900,38800,39200,39200,39100,38600,38600,38900,38800]
[null,null,"State","Insurance Carriers and Related Activities",55524000,58500,58500,58800,59100,59000,59400,59100,58900,58800,59100,59300,59600,59200,59100,59400,59300,59300,59800,59800,59400,59000,59200,59300,59500,59100,59200,59200,59300,59500,59900,59800,59800,59600,59300,59500,59700,59400,59800,59800,59900,60000,60300,59800,59800,59400,59800,60100,60500,60400,60400,60500,60700,60800,61100,61300,61500,60900,61300,61400,61900,61100,61200,61200,61200,61400,62100,61800,61900,61500,61500,61500,61800,61100,61200,61400,62100,62400,62800,62900,62700,62700,62900,63000,63500,62600,62600,62700,62900,62700,63200,63200,63200,63100,63100,63300,63500,63200,63400,63300,63500,64000,64200,64400.000000000007,64200,63700,64099.999999999993,64300,64599.999999999993,64200,64400.000000000007,64500,65099.999999999993,65099.999999999993,65200,65099.999999999993,65099.999999999993,64599.999999999993,64500,64599.999999999993,64800,64000,64000,64200,64300,64200,64400.000000000007,64500,64400.000000000007,64000,64099.999999999993,64300,64400.000000000007,63700,63700,63900,63800,63900,64099.999999999993,64500,64500,64300,64300,64400.000000000007,64800,64599.999999999993,64700,64900.000000000007,64900.000000000007,64900.000000000007,65400.000000000007,65400.000000000007,65500,65099.999999999993,65400.000000000007,65400.000000000007,65600,64900.000000000007,64900.000000000007,65300,64800,64700,65200,65300,65400.000000000007,65099.999999999993,65300,65400.000000000007,65700,64300,64500,64800,64700,64900.000000000007,65400.000000000007,65600,65800,65500,65600,65900,66500,66200,66200,66300,66200,66300,66700,66800,66800,66300,66600,66800,67200,67100,66900,67100,67000,66900,67500,67900,67800,67300,67500,67500,67600,67500,67600,67800,67500,67200,67700,67900,67800,67200,67400,67800,66900,66700,67200,66700,67300,67400,67900,68100,68000,67600,67900,68100,68200,67300,67500,68200,68400,67500,68500,68300,67700,66600,66700,67000,66700]
[null,null,"State","Real Estate and Rental and Leasing",55530000,25500,25500,25600,26100,26500,27600,27700,27600,26900,26500,26100,26500,25800,25700,26000,26300,26900,27900,27700,27800,27100,26400,26300,26300,25900,25900,26000,26300,27000,27800,27800,27900,27200,26800,26600,26900,25800,25900,25900,26600,27400,28200,28300,28500,27700,27400,27000,27200,26600,26400,26500,27100,27700,28500,29100,29100,28300,27800,27500,27700,27100,26900,27000,27700,28100,28900,29300,29200,28600,27900,27700,28100,27300,27100,27200,27700,28300,29300,29600,29500,28600,28000,27700,28000,27300,27200,27300,27700,28300,29200,29200,29200,28300,27900,27400,27800,26800,26800,26800,27100,27700,28400,28400,28300,27200,26900,26500,26700,25600,25200,25000,25200,25700,26600,26600,26600,25700,25200,24800,25000,24500,24300,24200,24500,24800,25600,25700,25600,24800,24500,24200,24300,23600,23500,23600,24000,24300,25300,25300,25300,24600,24000,23800,23800,23300,23200,23100,23600,24300,25200,25500,25400,24500,24100,23700,23900,23400,23300,23400,23800,24600,25500,25800,25700,24900,24300,23900,24000,23300,23200,23300,23900,24500,25600,25800,25800,25000,24400,24000,24000,23500,23400,23500,24000,25000,26000,26700,26500,25700,25300,25000,25000,24100,24200,24200,24800,25500,26400,27100,27100,26200,25900,25700,25600,24900,25000,25200,25600,26300,27600,27900,27700,26800,26400,26300,26100,25600,25500,25600,26000,26700,27600,28100,28000,27100,26800,26400,26500,26000,26200,26000,26300,26800,27800,28300,28200,27200,26800,26400,26600]
[null,null,"State","Professional and Business Services",60000000,238700,240900,244200,248000,251300,254900,252700,255700,254800,253000,252100,247700,238000,238100,237900,241800,243300,245300,245200,247000,243000,241300,238500,235900,231700,232400,236000,242700,244400,247200,248000,250100,247600,247400,243700,241700,237900,239400,241300,246100,246600,249000,250600,251800,252300,252500,250300,250100,243000,244100,246300,252500,253800,259399.99999999997,261500,265600,261700,263700,260800,260200,252600,254600,257700,265300,264400,268300,271500,274200,273200,270700,270100,270500,260200,263200,264600,273100,273700,278500,278200,280600,279700,280000,278500,276700,268600,270400,272300,279000,281300,287200,286800,289800,287100,287000,286600,287500,277400,279800,278900,283500,285300,288800,289600,292600,289400,286500,281400,278900,262900,258600.00000000003,255600,257899.99999999997,258600.00000000003,260399.99999999997,261500,263100,261500,264900,265500,265800,256000,259500,259800,269200,271000,274800,279000,283200,281600,285600,286000,286200,277200,277600,280400,283900,284800,290600,291300,293800,294000,294000,293700,291100,282800,284300,288200,291600,292900,298200,297200,298700,298800,300300,301500,297600,287600,291300,294800,294700,299600,304600,306600,309100,307500,307600,309000,307700,298000,299200,299000,302300,306200,309800,311200,314000,312000,315400,315200,311600,302600,303400,304200,310400,312800,316300,320600,323500,319600,322500,321600,321800,314400,315700,315400,321300,321000,324100,326700,327900,325700,325800,325200,322400,314200,314800,317900,321700,323700,327400,329600,329800,326300,330900,329400,326500,317800,318700,323700,326500,327900,327200,326900,326400,326800,326900,324700,319700,315900,318600,321200,327100,327500,325600,325100,326900,326700,331400,329200,324700]
[null,null,"State","Professional, Scientific, and Technical Services",60540000,87700,89100,89600,89200,88000,89500,89100,89300,88600,88300,88900,89800,89600,90900,90900,91100,88300,89100,89100,89400,87900,88400,88100,88300,89600,90300,90500,90700,87800,88600,89300,89400,88100,88600,89200,90200,89900,90700,90500,90500,87600,88000,87700,87900,86900,87800,87900,88700,88500,89600,89500,90400,88000,88900,89500,89900,88600,89300,89800,91000,91400,92700,92700,93300,90500,91600,92500,93100,92200,92600,93000,94700,94700,95900,95700,97000,94100,95200,95500,95700,94700,95200,95400,96500,97000,98200,98300,99300,96800,97900,98400,98900,97800,98200,98600,100000,100000,101300,101000,102800,99600,100500,100400,100900,100000,100100,99700,100500,99500,100000,98800,98100,94000,94200,93500,93100,92000,92300,93000,93400,93300,94500,94200,94700,91800,92400,93100,93300,92100,93800,94000,95500,95500,97100,96700,98000,94900,95300,95500,96000,95300,96000,96800,97100,97300,98800,98800,99800,96800,97700,97500,97900,96800,98100,99700,98600,98900,100700,100500,101100,98500,99100,99900,100000,98800,99800,100200,100800,100700,102100,102000,102600,99900,101200,101200,101700,99900,100600,101000,101800,103300,104600,104700,105600,103200,104400,105100,105200,103700,105000,105400,105900,106700,108300,108000,109200,106200,106600,107800,108300,106800,107300,107200,107600,107700,109400,109500,110100,107400,108700,108900,109100,107500,108900,109100,109900,110200,110600,110900,111300,107600,106900,107200,106800,106600,106600,106900,107100,111300,113300,113900,114300,111400,110700,112700,112700,111600,113300,113700,113400]
[null,null,"State","Architectural, Engineering, and Related Services",60541300,0,0,0,0,0,0,0,0,0,0,0,0,0,0,0,0,0,0,0,0,0,0,0,0,0,0,0,0,0,0,0,0,0,0,0,0,0,0,0,0,0,0,0,0,0,0,0,0,0,0,0,0,0,0,0,0,0,0,0,0,17500,17400,17700,18000,18300,18800,19200,19300,19200,19000,18900,18800,18200,18000,18100,18600,18900,19600,19700,19800,19600,19700,19500,19400,18900,18800,19100,19500,19800,20500,20600,20800,20600,20600,20600,20700,20100,20000,20100,20500,20600,21000,21000,21100,20800,20600,20300,20000,18900,18500,18300,18200,18200,18300,18300,18100,17900,17900,17800,17400,16900,16900,16900,17100,17400,17700,18100,18000,17700,17800,17700,17700,17200,17100,17300,17700,17900,18100,17900,18000,17900,18000,17900,17700,17000,16700,16800,17300,17400,17700,17700,17700,17400,17400,17100,17000,16100.000000000002,16000,16100.000000000002,16200,16500,16800,17000,17000,16700,16800,16800,16700,16300,16200,16200,16500,16700,17100,17300,17200,17000,16800,16700,16700,16500,16500,16500,16700,17000,17500,17600,17600,17200,17400,17400,17300,17000,16900,16800,17200,17200,17700,18000,18000,17800,17800,17800,17800,17600,17600,17700,17900,18000,18600,18600,18600,18300,18500,18500,18500,18200,18100,18100,18300,18300,18700,18700,18900,18500,18400,18300,18400,19100,19100,19000,19400,19500,20200,20300,20300,19700,19700,19800,19800]
[null,null,"State","Management of Companies and Enterprises",60550000,0,0,0,0,0,0,0,0,0,0,0,0,0,0,0,0,0,0,0,0,0,0,0,0,0,0,0,0,0,0,0,0,0,0,0,0,40800,40800,40800,40500,40500,41000,41300,41300,41100,41800,41900,41800,43000,42900,42900,42700,43000,43600,43700,43800,43400,43600,43800,43900,43700,43800,43900,43900,44000,44500,44700,44700,44400,44100,44300,44500,43800,43600,43600,44100,44300,45000,45300,45400,45300,45500,45700,46000,46100,46200,46300,46600,46800,47200,47000,46900,46600,46700,46900,47100,46900,47000,46900,47200,47800,48300,49100,49100,49000,48900,49200,49500,48500,48400,48100,48000,48300,48800,49300,49200,49100,49100,49300,49800,48400,48900,49200,49700,50100,50800,51000,51700,51600,51900,52500,53000,52300,52500,52600,53000,53400,54200,54700,54900,54900,55100,55400,55700,55200,55100,55400,55600,56000,57000,57300,57200,56800,57000,57600,57900,57300,57300,57900,57700,58100,59100,59300,59400,59000,59200,59600,59800,58300,58400,58700,58700,59100,60000,60200,60500,60000,59800,60100,60200,60600,60900,61400,61700,62500,63700,64900.000000000007,65700,65500,66000,66700,67300,67100,67300,68100,68100,68200,69100,69500,69300,68800,68600,68700,68500,69000,69000,69100,69000,68900,69600,69500,69400,68800,69000,69200,69900,68700,68500,68600,69000,69000,69800,69200,68800,68200,68600,69000,68800,66000,66100,65900,65800,66200,66900,67100,67200,66200,66400,66400,66500]
[null,null,"State","Administrative and Support and Waste Management and Remediation Services",60560000,119500,120200,123000,126900,131500,133200,131300,134100,133900,132300,130900,125700,116200,114900,114700,118200,122200,122800,122300,123600,121200,118700,115900,113000,107000,107000,110100,116800,121300,122700,122800,125100,123900,123600,119300,116100,107200,107900,110000,115100,118500,120000,121600,122600,124300,122900,120500,119600,111500,111600,113900,119400,122800,126900,128300.00000000001,131900,129699.99999999999,130800.00000000001,127200,125300,117500,118100,121100,128100,129900,132200,134300,136400,136600,134000,132800,131300,121700,123700,125300,132000,135300,138300,137400,139500,139700,139300,137400,134200,125500,126000,127700,133100,137700,142100,141400,144000,142700,142100,141100,140400,130500,131500,131000,133500,137900,140000,140100,142600,140400,137500,132500,128900,114900,110200,108700,111800,116300,117400,118700,120800,120400,123500,123200,122600,114300,116100,116400,124800,129100,131600,134900,138200,137900,139900,139500,137700,129400,128000,131100,132900,136500,141100,141100,142900,143800,142900,141500,138300,130300.00000000001,130400,134000,136200,140100,143500,142400,143600,145200,145200,144200,141100,131400,133300,136400,135900,143000,146400,147400,149700,149700,148600,149200,147100,139000,138700,138300,141000,147200,148600,149800,151800,152100,155000,154100,149600,138700,137900,138100,143100,147100,148200,150600,152600,150400,151500,149500,148600,140600,140100,139300,144000,146600,148400,149400,150300,150100,149900,149300,146300,137500,136400,139300,142600,147400,149100,151200,151300,150000,153000,151100,146700,138900,139600,144200,146200,151300,150500,150500,150800,152000,151700,148800,143800,138600,139200,141400,147000,149900,148000,145300,147000,148900,151700,149100,144800]
[null,null,"State","Employment Services",60561300,59200,59400,60700,61200,63400,63700,61900,64599.999999999993,65300,63700,63400,59500,54300,52700,51900,51100,52700,51900,51200,52700,52500,49100,47200,46500,43400,43400,45500,48500,50600,51100,50700,53300,53900,54000,50700,49700,45000,45200,46600,47600,48600,48800,50800,51600,54400,53400,52300,52200,47700,47800,49500,50500,52100,54900,55500,58800,58200,59000,57000,56500,51500,52500,54500,55600,55800,57200,58800,61000,61700,59900,59700,59600,54000,54800,55700,57000,58400,59900,59700,61900,63300,63500,62300,61400,55000,55100,56600,56900,59000,61800,61000,63800,64099.999999999993,63100,62700,62900,57000,57500,57800,56400,57100,58200,58000,60600,60400,57900,54000,51200,41600,38900,37300,37500,39500,39900,40800,43400,44400,46800,46900,46700,42900,44100,45600,48500,51100,52800,55700,58700,59900,60400,60700,60300,54500,53900,56400,56000,57300,60900,59800,62100,64599.999999999993,63600,63100,63100,57200,58000,61000,59800,61900,64200,63100,64800,67100,67100,66800,66000,59300,60200,62300,60800,63400,65400.000000000007,65400.000000000007,68400,70000,68800,70400,69400,64500,64500,65099.999999999993,64300,67400,67700,67700,70300,72100,75700,75400,73600,64800,64500,65000,64800,66400,66100,67700,70600,70100,71000,70100,72300,64900.000000000007,64400.000000000007,63800,64000,64700,65200,65200,66900,68500,68700,68900,66300,61300,60900,61700,62200,64700,64500,66500,67700,68700,71000,71600,68800,63400,64400,66600,66200,68200,65500,65200,65700,68800,70000,69700,68400,63200,62100,65100,67800,67800,66900,63300,63900,67400,71300,71000,70100]
[null,null,"State","Services to Buildings and Dwellings",60561700,24000,24000,25100,28300,30000,31100,30900,30700,29700,29200,28400,26900,24300,24300,24900,28800,30800,31700,31700,31400,30000,30000,28900,26500,24500,24500,25100,28900,31100,31800,31500,31300,30100,29600,28700,26800,23600,24400,25000,28600,31100,32000,31800,31600,30500,29800,28800,27200,25000,25100,25200,29600,31500,32400,33000,32800,31600,30700,29800,27700,25700,25600,26000,30400,32299.999999999996,33400,33600,33200,32299.999999999996,31400,30800,29000,25700,26600,27000,31500,33400,34800,34500,34200,33200,32299.999999999996,31400,29100,26700,27200,27500,32400,34800,36000,35900,35500,34200,33800,32900,31600,28900,29600,28900,32299.999999999996,35600,36500,36300,36000,34600,34000,32900,32200.000000000004,30000,28700,28600,31300,33600,34300,34400,33600,32700.000000000004,32200.000000000004,31600,31000,27500,28400,26800,31800,33200,34200,33900,33800,32800,32900,32100,31300,29900,29700,29900,32000,33900,35000,35300,35000,34000,33500,32800,30200,29900,29100,29500,32900,34300,35200,34700,34600,33800,33400,32700.000000000004,31200,29300,30300,30700,31500,35700,37000,37300,37200,35800,35700,34900,34300,32299.999999999996,31900,31000,34000,37100,38300,38600,38600,37400,36500,35900,33200,32000,31600,31500,36300,38400,39500,39900,39500,38200,37700,36700,33600,34000,33800,33300,37400,39100,40200,40900,40600,39200,38700,38000,38000,34600,33700,35800,38100,40100,41400,41500,41100,39500,39100,38200,37800,36900,36400,36400,41000,43300,44700,44900,44600,43000,42400,41500,38400,34900,34400,34700,38300,40500,42100,42000,41800,40200,39700,39200,37700]
[null,null,"State","Education and Health Services",65000000,331200,334300,336600,338800,338000,340200,339700,340700,341300,342600,345200,346300,341900,347600,349000,349500,349300,349000,347900,347900,350000,352600,355200,355300,350300,352300,353000,355500,355900,358400,356100,357400,357500,360200,362700,362100,358800,360600,360800,362700,362600,358100,358800,359000,366300,370100,370100,369500,366500,369100,369700,372400,371900,372600,372200,372000,372700,374700,376600,377000,373900,375800,376900,379200,378800,380300,378700,379000,381100,382300,384400,384400,381500,383900,384200,385300,386400,387400,386300,386700,388500,390800,392300,392100,387600,389800,390700,391200,392700,393500,392300,393500,394700,394500,395200,396200,392300,394300,395700,396500,398100,398500,397800,399500,400800,405300,406500,408400,403700,405700,407400,405900,406300,406100,404400,405000,405200,408900,409000,409300,405400,407500,409300,406500,407100,406100,405500,406000,406200,409500,410500,411000,405200,407500,408400,410400,411600,408200,406900,407400,412800,415900,416700,418100,410100,415600,418200,418400,419300,416200,410600,413300,420200,425100,425800,427100,416700,423400,424800,425000,425500,422000,416100,419300,425400,429600,430700,431000,422800,429300,430700,431400,431500,429300,423200,425700,431700,435100,436900,438100,427600,434800,436700,437000,437600,434800,429400,430600,436500,441400,442900,444800,435900,443300,444700,446600,446200,442800,439200,440300,447100,449900,450900,451000,443100,450300,451500,452000,450800,450300,443500,445000,451300,457100,456300,455600,448800,454400,454800,453500,452100,451100,451400,452300,457100,462300,464400,464700,455500,457300,456700,459600,460100,458900,452200,453300,457400,463800,465200,465900]
[null,null,"State","Educational Services",65610000,41500,43800,44100,45100,44100,44600,42600,42500,43800,44700,45900,45700,42000,47000,46800,47300,45600,42700,41000,39800,43200,44800,45500,44700,42800,44900,44500,45900,44700,45100,42800,42800,44100,45000,46200,45200,42700,44900,44400,44700,43900,38400,38300,38300,47300,49400,49000,47500,44500,47300,47100,48500,47000,47000,45200,44900,46700,47700,48800,48100,46700,48200,48400,49300,48200,48100,45900,45700,47800,48400,49700,48700,47400,49300,49200,49700,49600,48700,47000,46400,48800,49700,50800,50000,48100,49900,50300,49900,50100,48700,47300,47400,49500,48000,47900,47900,46300,48000,48400,48400,48400,47400,46300,46400,49100,51700,52000,52500,50700,52500,53400,50900,50300,49100,47800,47500,49700,51100,51600,51400,49200,51500,52200,50300,50100,48500,47500,47300,49000,50800,51200,50900,48300,50800,51000,51000,51600,47100,45200,45300,50300,52900,53400,52900,46700,51900,53200,52200,52400,47700,41000,42400,49900,52900,53200,52700,46500,53000,53300,52600,51600,46900,41000,42300,49900,53100,53400,52600,46800,53000,53200,52800,52100,47300,41500,42600,50300,53100,53300,53100,46800,53500,53800,53200,52200,47600,42000,42400,50400,53400,53900,53200,47000,53400,53800,53800,52600,48300,42300,43000,50900,53700,54100,53500,47300,54200,54400,54200,52300,48600,42200,42900,51600,54000,54300,53900,48100,54500,54600,53700,51900,48500,44200,44400,52500,56100,56400,56000,50900,55100,55700,55300,53500,50400,45600,45500,53400,55700,56100,56000]
[null,null,"State","Colleges, Universities, and Professional Schools",65611300,18400,19600,20000,19900,19700,19400,19300,19400,20300,20200,20300,20600,16000,20200,20500,20200,19800,16700,16400,16000,19400,21000,21300,21200,16600,20900,20500,20500,20200,15400,15200,15300,19500,21300,21600,20600,17900,21800,22100,21600,21500,16100.000000000002,16000,15900,20500,23500,23400,22700,18100,21600,22100,21800,21700,18100,16200,16000,19500,20500,20600,20300,17300,20500,20800,20300,20200,16600,15600,15500,20200,22100,22200,21400,18000,21300,21600,21200,21100,17200,16200,16000,20400,22400,22400,21800,18100,21500,21800,22300,22200,18300,17400,17300,21400,23200,23100,22300,18900,21900,22500,23100,22800,19000,18100,18100,22400,24400,24300,23700,20100,23100,23800,24400,23900,23100,22600,22800,24600,25200,25300,25200,23300,25300,25600,25700,25400,24200,23700,23900,25100,26400,26600,26400,24300,26400,26600,26300,26800,22800,21800,21800,26200,27900,28300,27500,21500,26400,27500,26700,26500,22400,21100,22100,25900,27400,27300,26900,21200,27200,27300,26700,25600,21900,20800,21800,25500,27000,26900,26400,21100,26800,26800,26400,25600,21400,20800,21700,25500,26800,26800,26500,20400,26800,27000,26300,25200,21000,20700,21000,24800,26300,26400,25900,20300,26100,26400,26100,24900,21300,20400,20900,25000,26300,26400,26000,20100,26300,26500,26300,24100,21300,20600,21000,25500,26700,26700,26400,20800,26900,27000,26500,24400,21600,20900,21100,25400,26900,26800,26400,22000,27000,27300,27100,26000,22300,22300,22400,26700,27500,27500,27100]
[null,null,"State","Health Care and Social Assistance",65620000,289700,290500,292500,293700,293900,295600,297100,298200,297500,297900,299300,300600,299900,300600,302200,302200,303700,306300,306900,308100,306800,307800,309700,310600,307500,307400,308500,309600,311200,313300,313300,314600,313400,315200,316500,316900,316100,315700,316400,318000,318700,319700,320500,320700,319000,320700,321100,322000,322000,321800,322600,323900,324900,325600,327000,327100,326000,327000,327800,328900,327200,327600,328500,329900,330600,332200,332800,333300,333300,333900,334700,335700,334100,334600,335000,335600,336800,338700,339300,340300,339700,341100,341500,342100,339500,339900,340400,341300,342600,344800,345000,346100,345200,346500,347300,348300,346000,346300,347300,348100,349700,351100,351500,353100,351700,353600,354500,355900,353000,353200,354000,355000,356000,357000,356600,357500,355500,357800,357400,357900,356200,356000,357100,356200,357000,357600,358000,358700,357200,358700,359300,360100,356900,356700,357400,359400,360000,361100,361700,362100,362500,363000,363300,365200,363400,363700,365000,366200,366900,368500,369600,370900,370300,372200,372600,374400,370200,370400,371500,372400,373900,375100,375100,377000,375500,376500,377300,378400,376000,376300,377500,378600,379400,382000,381700,383100,381400,382000,383600,385000,380800,381300,382900,383800,385400,387200,387400,388200,386100,388000,389000,391600,388900,389900,390900,392800,393600,394500,396900,397300,396200,396200,396800,397500,395800,396100,397100,397800,398500,401700,401300,402100,399700,403100,402000,401700,400700,399900,400200,399800,400200,402600,407200,407900,404600,406200,408000,408700,404600,402200,401000,404300,406600,408500,406600,407800,404000,408100,409100,409900]
[null,null,"State","Ambulatory Health Care Services",65621000,87100,87300,87800,88300,88700,88800,89600,89900,89600,88800,89100,89600,90100,90400,90800,90800,91400,92000,92900,93400,92600,93200,93600,94200,93100,93000,93100,94700,95300,96100,95600,96200,95500,96100,96500,96700,96000,96000,96100,96900,97200,97400,98100,98100,97500,98100,98100,98800,97500,97400,97500,98600,99000,99300,100700,100800,100200,100500,100700,101500,100300,100500,100800,101700,102000,102300,103000,103100,102800,103100,103300,103700,102600,102500,102500,103100,102900,103200,103400,103300,102600,103000,102600,102700,101600,102000,102200,102500,102800,103700,103900,104500,104200,104800,105200,105800,104500,104500,104700,105400,105700,106000,106400,107000,106700,107400,107700,108400,106700,106700,107000,106900,107200,107500,107700,107900,107300,108300,108200,108600,108000,108000,108100,108200,108500,108900,109200,109600,109500,110500,110900,111500,110600,110900,111100,111700,112000,112700,113200,113800,114100,114400,114800,115700,113500,113900,114200,114100,114600,115300,115200,115700,115600,116000,116300,117000,116200,116600,116700,116700,117200,117700,117800,118600,118300,118500,118900,119300,118100,118200,118500,118600,118700,119200,119200,119600,119400,119800,119900,120200,118100,118200,118400,118100,118800,119200,119400,119900,119300,120100,120500,121100,119600,120000,120000,120400,120800,120700,121500,121900,121600,121800,122200,122500,120400,120700,120900,121200,121500,122400,122700,123000,122400,123100,122600,123300,122500,122000,122000,121600,121000,122100,122500,124000,122800,123300,123000,123700,124100,124000,123100,124700,124900,125000,123300,124100,123300,124000,124500,124300]
[null,null,"State","Offices of Physicians",65621100,34200,34200,34500,34700,34900,35100,35500,35800,35600,35800,35900,36100,37000,37100,37200,37500,37900,38300,39000,39500,39300,39700,40200,40500,40200,39900,39800,40600,40700,41000,41400,41700,41400,41600,41700,41700,41400,41300,41400,41500,41800,41900,42300,42300,42100,42300,42500,42800,42300,42200,42200,42800,42900,43000,43800,43800,43700,43700,43700,43900,43500,43500,43400,43800,43900,44100,44400,44500,44300,44500,44500,44700,44000,44000,44000,44200,43900,44000,43800,43700,43300,43500,43200,43100,42700,42500,42400,42600,42600,43000,43000,43200,43300,43800,44100,44400,43800,43700,43800,43900,43900,44000,44100,44300,44100,44200,44300,44800,44000,43900,44000,43700,43700,43800,44000,44200,44000,44500,44500,44800,44700,44600,44700,44400,44500,44800,45000,45200,45300,45700,46000,46300,45900,46000,46200,46100,46100,46300,46400,46700,46700,46800,47100,47400,46700,46700,46700,46600,46600,46800,46800,46900,46900,47100,47300,47600,47300,47400,47400,47400,47500,47600,47600,47900,47900,48100,48200,48500,47800,48000,48200,48200,48300,48600,48300,48500,48600,48700,49100,49000,47800,47800,47800,47700,47900,48000,48000,48300,48200,48400,48500,48900,48600,48700,48700,48500,48700,48700,48900,49100,49300,49200,49400,49700,49100,49200,49200,49200,49200,49500,49500,49600,49700,49600,49600,49400,49200,49200,49000,49100,49100,49300,49300,49800,49700,49800,50100,50200,50500,50600,50300,50300,50500,50800,49900,50200,50000,50100,50400,50600]
[null,null,"State","Outpatient Care Centers",65621400,12500,12600,12700,12800,12900,12900,12800,12800,12800,12500,12600,12800,12700,12700,12800,12500,12300,12200,11900,11700,11500,11400,11300,11100,11100,11200,11100,11000,11100,11300,11300,11400,11300,11400,11500,11500,11400,11400,11400,11500,11500,11600,11700,11600,11400,11500,11500,11500,11500,11500,11500,11600,11700,11700,11800,11800,11500,11600,11700,11800,11800,11900,11800,11800,11900,12000,11900,12000,12000,12000,12100,12100,12200,12300,12300,12500,12300,12400,12500,12400,12400,12500,12500,12500,12600,12600,12600,12600,12600,12700,12800,12900,12900,13000,13100,13200,13000,13100,13100,13300,13400,13400,13500,13700,13700,13800,13800,13900,13800,13800,13900,13900,13800,13800,13700,13600,13500,13600,13500,13400,13300,13200,13200,13300,13300,13300,13300,13400,13500,13500,13500,13500,13600,13600,13600,13700,13800,14000,14100,14100,14300,14300,14300,14400,14400,14400,14400,14500,14600,14600,14600,14700,14600,14600,14600,14700,14500,14500,14400,14400,14500,14500,14500,14600,14600,14800,14700,14700,14600,14600,14700,14700,14700,14800,14800,14700,14700,14900,14900,15000,14900,14800,14900,14900,15000,15100,15300,15400,15400,15600,15600,15900,15200,15300,15300,15500,15700,15800,15900,15900,15900,16000,16100.000000000002,16100.000000000002,16100.000000000002,16100.000000000002,16200,16300,16300,16400,16600,16600,16500,16600,16600,16700,16600,16600,16600,16700,16700,16800,16900,17000,16900,17000,17000,17100,17100,17100,17100,17100,17200,17400,17400,17400,17400,17500,17500,17600]
[null,null,"State","Hospitals",65622000,89000,88800,89200,89400,89500,90400,90500,90800,90400,90700,91200,91400,91400,91600,91900,92100,92400,93700,93800,94200,93900,94100,94800,94900,94000,94200,94500,94200,94500,95500,96500,96500,96100,96500,96800,97000,97500,97200,97400,97300,97500,98500,98600,98600,98000,98400,98600,98600,99200,99000,99200,99100,99300,100000,100100,99900,99500,99600,100000,100100,99800,99700,100000,99600,99900,100900,101500,101700,101800,101500,101800,102000,102300,102400,102700,102800,103300,104800,105400,105700,105700,106200,106900,106900,106600,106600,106700,106700,106600,107500,108000,107800,107700,107800,107800,108000,108100,108200,108700,108400,108800,110100,110200,110400,110200,110400,110600,110700,110500,110300,110500,110000,109800,110600,110000,109900,109000,109300,108900,109100,109400,109200,109600,108800,108800,109400,109700,109600,109000,108700,108700,109000,107700,107500,107400,107600,107600,107900,108400,108300,108400,108600,108500,109400,109700,109700,110100,110000,109800,110300,110500,110600,110400,110300,110100,110500,108200,107800,108000,107300,107400,107700,107700,107800,107300,106900,106900,107400,106600,106400,106700,106800,106800,107400,107400,107700,107400,107400,108100,108200,107700,107800,108000,108100,108000,108600,109200,109500,109200,109400,109500,110200,110300,110200,110500,111000,111200,111300,111200,111300,111400,111100,111000,111100,110600,110400,110100,109900,109800,110600,110600,111100,110800,110900,110500,110300,110000,110000,110000,110100,110200,111000,111200,111400,111000,111100,111400,111400,111900,112100,112300,112600,113100,113600,112200,113000,112600,112800,112700,113100]
[null,null,"State","Nursing and Residential Care Facilities",65623000,63700,64000,64400.000000000007,64400.000000000007,64099.999999999993,64800,65900,66100,65800,65900,66300,66700,66500,66600,67100,66600,66800,67600,67400,67600,67000,66600,67200,67500,67600,67600,67800,67400,67600,68200,67700,68100,67900,68000,68300,68600,68000,67900,68000,68600,68700,68800,69000,69200,68700,68700,68800,69100,68400,68400,68600,68500,68700,69000,69000,69300,68600,68600,68800,69200,68500,68600,68700,68700,68800,69400,68900,68900,68600,68500,68700,68900,69000,69100,69300,69100,69300,69800,69700,70200,69900,69700,70000,70500,70200,70200,70300,70500,70900,71500,71500,72000,71400,71400,71900,72000,71500,71500,71800,71800,72300,72700,72700,73100,72400,73300,73900,74500,74300,74300,74700,75400,75700,76200,76400,76700,76000,76500,76700,77000,76600,76400,76800,76500,76800,77100,77200,77600,76700,77100,77400,77700,77500,77000,77400,77700,77800,78200,78300,78400,77900,78000,78000,78400,78400,77900,78300,78400,78400,79000,79100,79600,78700,78900,79000,79200,78900,78800,79300,79200,79600,80000,79500,80000,78900,79000,79100,79400,79200,79100,79200,79300,79600,80400,80100,80600,79700,79000,79500,80100,79600,79500,79900,80000,80200,80700,80400,80400,79400,79400,79600,80100,79600,79600,79900,80000,80000,80700,80900,81100,80100,79900,80300,80700,80000,79900,80300,79800,79900,80800,80300,80500,79200,79300,79700,79500,80100,78900,79000,79000,78800,79200,80600,79800,79300,80200,81600,81700,80100,78100,77600,77900,78500,79300,78900,78600,78000,78700,78600,79200]
[null,null,"State","Nursing Care Facilities",65623100,38800,38900,39100,38900,38600,39100,40000,40200,40000,39800,40200,40400,40200,40300,40500,40300,40300,40700,40400,40400,40100,39700,40000,40100,40000,39900,40000,39500,39600,39900,39500,39600,39300,39300,39300,39400,39100,38900,39100,39100,39100,39100,39400,39600,39200,39300,39400,39600,39200,39100,39200,39100,39100,39300,39200,39300,38900,38800,38800,39000,37500,37400,37400,37300,37400,37600,37200,37200,37100,36900,36900,37000,36900,36900,37100,36700,36600,36700,36600,36700,36400,36300,36300,36500,36400,36200,36300,36500,36600,36900,36900,36900,36700,36600,36800,36700,36700,36500,36700,36600,36900,37100,36900,37000,36700,37200,37300,37500,37500,37400,37500,37700,37700,38100,38100,38300,37900,38100,38300,38400,38200,37900,38100,37700,37800,37800,37900,38000,37500,37300,37300,37300,37500,37100,37200,37100,37100,37200,37300,37300,36900,37000,37000,37100,37200,36800,36900,36700,36600,36700,36600,36700,36200,36200,36000,36000,35700,35500,35600,35600,35600,35800,35300,35300,34700,35000,34900,35100,34800,34500,34400,34300,34300,34700,34400,34600,33900,33700,33900,34000,33800,33500,33600,33500,33500,33800,33400,33300,32800,32600,32500,32500,32400,32200.000000000004,32400,32299.999999999996,32400,32800,32700.000000000004,32600,32000,32000,31900,32100,31900,31600,31700,31400,31300,31500,31300,31300,30700,30600,30600,31000,31100,30700,30500,30800,30400,30300,30600,30200,29600,29800,29800,29500,30000,29700,29700,29600,29800,30200,29800,29900,29400,29200,29200,29300]
[null,null,"State","Social Assistance",65624000,49900,50400,51100,51600,51600,51600,51100,51400,51700,52500,52700,52900,51900,52000,52400,52700,53100,53000,52800,52900,53300,53900,54100,54000,52800,52600,53100,53300,53800,53500,53500,53800,53900,54600,54900,54600,54600,54600,54900,55200,55300,55000,54800,54800,54800,55500,55600,55500,56900,57000,57300,57700,57900,57300,57200,57100,57700,58300,58300,58100,58600,58800,59000,59900,59900,59600,59400,59600,60100,60800,60900,61100,60200,60600,60500,60600,61300,60900,60800,61100,61500,62200,62000,62000,61100,61100,61200,61600,62300,62100,61600,61800,61900,62500,62400,62500,61900,62100,62100,62500,62900,62300,62200,62600,62400,62500,62300,62300,61500,61900,61800,62700,63300,62700,62500,63000,63200,63700,63600,63200,62200,62400,62600,62700,62900,62200,61900,61900,62000,62400,62300,61900,61100,61300,61500,62400,62600,62300,61800,61600,62100,62000,62000,61700,61800,62200,62400,63700,64099.999999999993,63900,64800,65000,65600,67000,67200,67700,66900,67200,67500,69200,69700,69700,70100,70600,71000,72100,72400,72300,72100,72600,73100,73900,74300,75000,75000,75200,74900,75800,76100,76500,75400,75800,76600,77600,78400,78700,78400,78400,78200,79100,79400,80200,79400,80100,80500,81400,81600,81800,83300,83000,83100,83400,83300,83200,84800,85100,85800,86900,87300,87900,87700,87500,87300,89800,89200,88600,88100,89000,89200,89100,90200,90300,92900,92700,91500,91600,92000,91900,88500,88000,88000,89100,90100,90600,92200,92100,90100,92600,93300,93300]
[null,null,"State","Leisure and Hospitality",70000000,215500,216900,221600,230100,242400,254800,259600.00000000003,261300,248300,235900,228000,226400,219400,220100,223000,233900,246700,257700,263000,262400,247800,236800,227600,224700,221000,220700,222500,231400,245800,256899.99999999997,264200,265000,251900,241700,232000,232100,225600,224000,226600,235800,252200,262600,267500,268200,257500,248300,239500,237900,230300,229400,232600,242700,256200,265900,275000,275600,263400,252900,243400,242600,233800,233900,237700,250300,261500,271900,278000,278800,267700,255200,247700,245600,239000,239600,243400,252600,264400,276500,282100,283100,271000,260600.00000000003,251400,250200,242900,242800,246000,254200,268600,281000,284100,286100,271400,261899.99999999997,253600,251000,242200,241100,244200,252700,268300,277900,281200,282200,268700,259600.00000000003,249200,246100,235100,235600,237900,246300,262000,271900,274000,274300,262200,251500,241500,239600,230800,230700,233600,245400,258100.00000000003,268800,273100,275400,262800,253000,244100,241200,232700,232400,235000,245100,258399.99999999997,270300,275100,276700,264300,253800,244300,241000,234400,235400,240400,250200,263900,276500,280200,280600,269000,256600.00000000003,247800,247600,238800,239600,243200,250400,268600,279800,284500,286600,273800,262500,253600,252600,242500,243800,246800,255800,271800,284500,286300,287500,273800,264400,256300,255200,247300,248500,253100,262800,277900,290900,293500,294400,280700,272800,265300,263400,254300,256399.99999999997,259200,268600,283100,295100,300100,300500,284800,276700,267600,264500,259800,261100.00000000003,265200,271600,286300,302600,304800,304300,286500,280500,270500,267900,261000,259200,264300,270800,287800,311300,316000,313100,292000,284800,279200,280200,266400,266500,267400,272700,291300,312000,318200,312900,291300,285100,275200,276400]
[null,null,"State","Arts, Entertainment, and Recreation",70710000,26200,26300,26600,30100,35600,39300,41500,40300,36100,32000,27800,27900,26400,26100,25600,30000,35600,39000,41900,40200,35500,32000,27400,26400,26300,26100,25700,30600,35900,39900,43100,42100,37000,33500,28500,29500,27300,27400,27500,31300,37400,41500,43500,42200,38000,33800,29300,29600,28400,28400,28300,32299.999999999996,37200,40800,43300,42600,38200,34300,29800,30000,28000,27800,28200,33000,37200,41500,43300,42700,38700,34500,30000,29800,28100,28600,28800,33400,37700,42300,43700,43600,39200,34900,30200,30500,28800,29200,29500,33000,39200,44200,45000,44900,39900,35800,31500,31600,29500,29400,29300,32700.000000000004,39200,43400,44500,44700,38800,35700,30500,30800,28300,28000,28200,31700,38000,42400,43300,43000,38500,33900,29800,29700,27600,27700,28100,33100,37100,40900,43600,43600,38700,34200,30200,30100,28100,28400,28100,32299.999999999996,36500,41500,44500,43800,39300,35200,31100,30900,29000,28800,29800,33800,38100,42700,44900,43600,39800,35100,30800,31400,29300,29200,29100,31500,38800,43100,45200,44300,40100,36000,32100,32600,30000,30100,30000,32900,38900,44100,46500,45000,40200,36300,32700.000000000004,32900,30900,30600,31100,34900,40300,46100,46700,46300,41400,38500,34800,34000,32200.000000000004,32400,32700.000000000004,36500,42000,47700,50100,49000,43400,40100,35200,34500,34000,33600,33900,37300,42600,50000,51000,49800,43100,42900,37200,36900,33500,33500,34600,36300,43100,50800,51700,50400,43100,41800,38200,37200,38500,39400,38100,40500,47000,55400,58400,56200,48600,46100,41400,41200]
[null,null,"State","Accommodation and Food Services",70720000,189300,190600,195000,200000,206800,215500,218100,221000,212200,203900,200200,198500,193000,194000,197400,203900,211100,218700,221100,222200,212300,204800,200200,198300,194700,194600,196800,200800,209900,217000,221100,222900,214900,208200,203500,202600,198300,196600,199100,204500,214800,221100,224000,226000,219500,214500,210200,208300,201900,201000,204300,210400,219000,225100,231700,233000,225200,218600,213600,212600,205800,206100,209500,217300,224300,230400,234700,236100,229000,220700,217700,215800,210900,211000,214600,219200,226700,234200,238400,239500,231800,225700,221200,219700,214100,213600,216500,221200,229400,236800,239100,241200,231500,226100,222100,219400,212700,211700,214900,220000,229100,234500,236700,237500,229900,223900,218700,215300,206800,207600,209700,214600,224000,229500,230700,231300,223700,217600,211700,209900,203200,203000,205500,212300,221000,227900,229500,231800,224100,218800,213900,211100,204600,204000,206900,212800,221900,228800,230600,232900,225000,218600,213200,210100,205400,206600,210600,216400,225800,233800,235300,237000,229200,221500,217000,216200,209500,210400,214100,218900,229800,236700,239300,242300,233700,226500,221500,220000,212500,213700,216800,222900,232900,240400,239800,242500,233600,228100,223600,222300,216400,217900,222000,227900,237600,244800,246800,248100,239300,234300,230500,229400,222100,224000,226500,232100,241100,247400,250000,251500,241400,236600,232400,230000,225800,227500,231300,234300,243700,252600,253800,254500,243400,237600,233300,231000,227500,225700,229700,234500,244700,260500,264300,262700,248900,243000,241000,243000,227900,227100,229300,232200,244300,256600,259800,256700,242700,239000,233800,235200]
[null,null,"State","Accommodation",70721000,26500,26900,27000,28400,31100,34500,36400,37000,32900,31000,29100,28400,27500,27900,28200,29000,31200,34600,37300,37700,33100,29700,27600,27000,26500,26600,26700,27600,30200,33200,35300,36000,32000,30100,27800,27700,26800,26900,27300,27700,30500,33100,35600,36300,32000,30000,28000,27500,26900,27200,27500,28600,30900,33600,37000,37100,33100,30700,28600,28100,27500,27700,28000,29400,31400,34300,37100,37500,33600,30900,29000,28300,27800,27800,28100,29500,31800,35100,38000,38000,34200,31400,29400,28900,28500,28500,28800,29800,32299.999999999996,35300,38000,37900,33800,31700,29900,29500,28300,28600,29000,29900,32400,35300,37600,37400,33100,31000,28900,28300,27200,27200,26900,27700,30500,33500,35800,35500,31500,29500,27500,27200,26100,26200,26700,27600,29600,33100,35300,35400,31700,29800,28000,27600,26500,26500,27000,28000,30200,33800,36000,35600,32000,30000,28100,27600,26800,27000,27400,28000,30200,34500,36100,35500,31900,29500,27700,27500,26700,26900,27300,27800,30700,34500,36300,36100,31800,29900,27800,27700,26900,27000,27200,27800,30900,34600,35500,35900,31600,29800,27800,27700,27000,27000,27400,27900,30600,34100,36500,36000,32299.999999999996,30000,27800,27300,27100,27400,27500,28400,30700,34300,36900,36300,32299.999999999996,30400,28700,28100,27800,27900,28100,28700,31100,35300,37200,36500,32400,29200,27800,27800,26700,27200,27200,27800,31000,37800,39000,38200,34000,30600,29100,28800,27100,27400,27400,28200,31600,36000,38200,36800,31600,29100,27800,27700]
[null,null,"State","Food Services and Drinking Places",70722000,162800,163700,168000,171600,175700,181000,181700,184000,179300,172900,171100,170100,165500,166100,169200,174900,179900,184100,183800,184500,179200,175100,172600,171300,168200,168000,170100,173200,179700,183800,185800,186900,182900,178100,175700,174900,171500,169700,171800,176800,184300,188000,188400,189700,187500,184500,182200,180800,175000,173800,176800,181800,188100,191500,194700,195900,192100,187900,185000,184500,178300,178400,181500,187900,192900,196100,197600,198600,195400,189800,188700,187500,183100,183200,186500,189700,194900,199100,200400,201500,197600,194300,191800,190800,185600,185100,187700,191400,197100,201500,201100,203300,197700,194400,192200,189900,184400,183100,185900,190100,196700,199200,199100,200100,196800,192900,189800,187000,179600,180400,182800,186900,193500,196000,194900,195800,192200,188100,184200,182700,177100,176800,178800,184700,191400,194800,194200,196400,192400,189000,185900,183500,178100,177500,179900,184800,191700,195000,194600,197300,193000,188600,185100,182500,178600,179600,183200,188400,195600,199300,199200,201500,197300,192000,189300,188700,182800,183500,186800,191100,199100,202200,203000,206200,201900,196600,193700,192300,185600,186700,189600,195100,202000,205800,204300,206600,202000,198300,195800,194600,189400,190900,194600,200000,207000,210700,210300,212100,207000,204300,202700,202100,195000,196600,199000,203700,210400,213100,213100,215200,209100,206200,203700,201900,198000,199600,203200,205600,212600,217300,216600,218000,211000,208400,205500,203200,200800,198500,202500,206700,213700,222700,225300,224500,214900,212400,211900,214200,200800,199700,201900,204000,212700,220600,221600,219900,211100,209900,206000,207500]
[null,null,"State","Drinking Places (Alcoholic Beverages)",70722400,18500,18900,19200,19800,20300,20600,20200,20300,20100,20300,20100,20000,19600,19600,19900,20100,20500,20600,20500,20700,20400,20200,20100,20000,19500,19500,19800,19800,20400,20600,20500,20500,20400,20400,20300,20000,19500,19500,19700,20200,20700,21000,21000,21200,21000,20900,20800,20600,20000,20100,20300,20600,21100,21600,21500,21700,21400,21000,20700,20600,20100,20200,20400,20900,21400,21600,22500,22600,21700,21400,21100,20700,20200,20400,20700,21000,21500,21900,22600,22500,21700,21300,21000,20800,20500,20400,20800,21300,21700,22100,22600,22800,21800,21200,21000,20500,20100,20000,20000,20500,21200,21600,22200,22100,22300,20900,20500,20300,19300,19400,19700,19900,20400,20900,21600,21700,21400,20600,20200,20100,19500,19500,19700,20200,20600,21100,20800,20800,20600,20200,19900,19400,18800,18900,19000,19400,19800,20300,20200,20200,19900,19300,19000,18600,18200,18300,18500,18900,19400,19800,19800,19900,19800,19200,18900,18600,18200,18100,18300,18700,19400,19700,19700,19800,19600,19000,18800,18500,18100,18200,18400,18600,19300,19800,19900,20000,19700,19300,19100,18900,18500,18700,18900,19500,20200,20500,20700,20800,20400,20300,20100,19900,19500,19800,19900,20400,20900,21300,21500,21400,21100,21000,20700,20200,19900,20100,20400,20500,21200,21800,22100,21900,21400,21100,20700,20600,20200,19600,19800,20100,20800,21400,21700,21700,21200,20900,20700,20500,19700,19800,20000,20100,21000,21600,21900,21600,21000,20800,20600,20300]
[null,null,"State","Restaurants and Other Eating Places",70722500,138300,139100,143000,145400,148500,153200,154100,155300,151200,145000,143900,142900,140100,140300,143100,148000,152400,156000,156000,155800,151500,148100,145700,144500,141300,141100,143000,145800,151400,155300,157100,157500,153800,149500,147300,146700,142800,141600,143700,147800,154500,157800,157900,158800,156100,154000,152000,150800,146400,145200,148000,152400,157800,161100,163000,163800,160200,156400,154100,153700,149000,149100,152000,157700,162300,165800,166300,166700,163500,158300,157700,157000,153700,153600,156700,159300,163900,167600,168200,168900,164900,162100,160800,159700,156200,155300,157400,160500,165700,169700,169500,170200,165000,162000,160600,159000,154800,153400,156200,159800,165700,168800,168900,169300,164700,161600,159100,157100,152200,152000,154100,158100,163600,166700,165600,165800,162000,157300,154200,152800,149700,148400,150900,155000,161300,165400,165000,166500,162000,157900,155500,153700,150800,149300,151500,155700,161000,165000,166200,166700,161900,157900,155600,153700,151600,151800,155300,159700,165100,170000,169700,170600,165300,161500,159700,159300,155900,155400,158300,162000,168600,172600,173900,175600,169800,166200,163800,162800,158200,158000,160500,164900,171300,175500,174900,176100,170100,167700,165900,165400,161800,162200,165500,169300,175600,180600,180300,180500,175200,172200,171400,171100,166400,166600,169000,172500,178100,182300,182800,182700,176600,173900,172300,171100,168400,169100,171900,174000,179500,184100,184100,183900,177000,175300,172500,170200,168500,167600,171600,176000,181600,189100,191600,190700,181400,179200,178900,180100,168500,167400,169100,171500,177900,185200,185700,186100,177200,176300,173700,174500]
[null,null,"State","Full-service restaurants",70722511,75300,75700,77100,78800,80600,83800,84700,85600,82900,79600,78900,78300,77300,77000,78100,81100,84000,86900,87500,87000,84600,83000,81500,81300,80100,80200,80800,82200,85600,88500,90000,89700,87500,85000,83400,83200,81200,80400,81400,83500,87500,89500,90100,90500,89200,87600,86200,85600,83200,82400,83300,85500,88900,90900,92100,92600,90200,87300,85500,85400,83500,83400,84500,87500,90500,92800,93400,93500,91700,88700,88400,88100,86300,86500,87700,89100,91600,93900,94500,94900,92400,91600,90700,89900,88000,87700,88300,90200,92700,95200,94900,95000,92400,90800,89400,88700,86500,85500,86800,88500,92000,94000,94000,94100,91700,89700,87700,86500,83900,83500,83900,86200,89300,91300,90700,91200,89500,87200,85200,84500,82700,81900,82800,85200,89100,91800,91500,92500,90200,87600,86000,85100,83300,82500,83300,85400,88400,91100,91900,91900,89100,86800,85200,84000,82900,83000,84700,87100,90300,93300,93200,93500,90900,88600,87200,86900,84900,84500,85600,87700,91800,94500,95400,96100,93300,91000,89000,88600,86000,85800,86400,88600,92800,95600,95700,96100,92900,91600,90200,89900,87600,87700,89000,91000,94900,98300,98100,98100,95400,93500,92600,92500,89900,89800,90300,92400,96200,99200,99700,99300,96000,94200,92900,92000,90600,90700,91600,92900,96300,99500,99100,98800,95100,93900,91800,90600,89600,88300,90100,93400,96800,102400,103000,102700,97700,95600,94200,95000,88900,88800,89900,91100,94400,98400,99000,99700,95500,94300,92800,93000]
[null,null,"State","Limited Service Eating Places and Other Eating Places",70722590,63000,63400,65900,66600,67900,69400,69400,69700,68300,65400.000000000007,65000,64599.999999999993,62800,63300,65000,66900,68400,69100,68500,68800,66900,65099.999999999993,64200,63200,61200,60900,62200,63600,65800,66800,67100,67800,66300,64500,63900,63500,61600,61200,62300,64300,67000,68300,67800,68300,66900,66400,65800,65200,63200,62800,64700,66900,68900,70200,70900,71200,70000,69100,68600,68300,65500,65700,67500,70200,71800,73000,72900,73200,71800,69600,69300,68900,67400,67100,69000,70200,72300,73700,73700,74000,72500,70500,70100,69800,68200,67600,69100,70300,73000,74500,74600,75200,72600,71200,71200,70300,68300,67900,69400,71300,73700,74800,74900,75200,73000,71900,71400,70600,68300,68500,70200,71900,74300,75400,74900,74600,72500,70100,69000,68300,67000,66500,68100,69800,72200,73600,73500,74000,71800,70300,69500,68600,67500,66800,68200,70300,72600,73900,74300,74800,72800,71100,70400,69700,68700,68800,70600,72600,74800,76700,76500,77100,74400,72900,72500,72400,71000,70900,72700,74300,76800,78100,78500,79500,76500,75200,74800,74200,72200,72200,74100,76300,78500,79900,79200,80000,77200,76100,75700,75500,74200,74500,76500,78300,80700,82300,82200,82400,79800,78700,78800,78600,76500,76800,78700,80100,81900,83100,83100,83400,80600,79700,79400,79100,77800,78400,80300,81100,83200,84600,85000,85100,81900,81400,80700,79600,78900,79300,81500,82600,84800,86700,88600,88000,83700,83600,84700,85100,79600,78600,79200,80400,83500,86800,86700,86400,81700,82000,80900,81500]
[null,null,"State","Other Services",80000000,124200,125500,126100,126100,126000,127500,126400,125900,126400,126700,126500,127900,129300.00000000001,129600,131100,130300.00000000001,130600,132700,132000,132200,131800,131600,131300,133100,131000,131000,132200,131900,132000,134100,132600,132600,132000,132200,132000,133300,131500,131600,132700,132400,132500,134600,133500,133400,132900,132100,131700,133000,132600,133100,134400,134400,134700,137100,136100,136400,136000,137200,135400,135800,133900,134500,135600,136000,136200,137800,137000,137000,136600,136100,135400,136400,133900,134000,135200,135400,136000,138000,137100,136900,136700,136400,135900,137000,135100,135500,136500,137300,138000,139700,139000,138300,137500,138300,137800,138400,135900,136400,137300,138400,139200,140900,140300,140000,139300,141200,139700,139900,136700,137000,138100,138200,138600,140100,139100,138700,137600,137600,137200,137700,134500,135000,136000,137100,137300,138600,138300,138000,137000,137800,136700,137200,135100,135100,136100,137000,137500,139000,138800,138500,137400,137500,137000,137900,135700,136200,136700,137500,138000,140400,139200,138800,137700,138000,137700,138100,135600,135700,136500,136900,137900,139700,139000,138900,138800,138500,139300,140200,138400,139200,140300,141400,142600,144900,145300,145700,145000,145200,145300,146500,145100,145600,146900,147900,148700,150200,149900,149400,148300,148400,148000,149300,146900,146900,148000,149500,149800,151200,151800,151600,150800,150600,150500,150800,148700,149200,150300,150400,151000,152900,151900,151800,150600,152300,151100,151100,152400,151900,152200,151600,151200,153100,152700,152200,150800,151100,152000,152200,154200,153800,154600,153900,154000,154400,155700,155100,153700,153800,152300,154300]
[null,null,"State","Repair and Maintenance",80811000,22700,22900,23000,22900,22900,22900,22700,22700,22800,22900,23000,23100,23400,23300,23400,23200,23100,23100,23200,23300,22900,22700,22800,23000,22600,22500,22400,22400,22200,22300,22400,22400,22100,22000,22000,22300,21800,21700,21700,21700,21600,21700,21800,21700,21600,21600,21400,21700,21300,21300,21500,21500,21600,21700,21700,21600,21600,21700,21500,21600,21400,21400,21600,21800,21700,21800,22000,21900,21800,21600,21500,21700,21400,21300,21600,21600,21600,22000,22000,21900,21800,21600,21600,21900,21600,21600,21800,22000,22000,22300,22200,22200,22000,21900,21900,21900,21500,21400,21600,21600,21900,22000,21700,21700,21500,21600,21300,21300,20900,20800,20900,20800,20800,20900,20700,20600,20600,20600,20500,20400,20100,20100,20200,20400,20400,20400,20500,20500,20400,20700,20600,20700,20600,20600,20800,21000,21000,21200,21200,21100,21100,21200,21100,21100,20800,20900,20900,20900,20900,21200,21100,21100,20900,21100,21000,21300,20900,20800,20900,21100,21300,21300,21500,21500,21500,21500,21400,21500,21300,21300,21600,21700,21800,21800,21800,21900,21700,21700,21600,21800,21800,21900,22100,22200,22300,22400,22400,22500,22500,22600,22600,22800,22500,22500,22700,22800,22700,22800,23000,23000,22800,22800,22900,23000,22800,22900,23000,23100,23200,23300,23300,23300,23100,23900,23400,23400,23500,22900,23000,23200,23100,22800,23200,22600,22800,23400,23100,23200,24700,24400,25100,24200,24200,24500,24200,24500,23800,24000,23000,23500]
[null,null,"State","Personal and Laundry Services",80812000,24700,25000,25200,25500,25700,25800,25900,25800,25800,25900,25800,25800,25200,25100,25400,25700,26000,26400,26100,26200,26000,25600,25400,25300,25100,25100,25300,25700,26000,26400,26200,26400,26100,26000,25900,25800,25300,25200,25200,25800,26100,26100,26300,26400,26200,26000,25900,25800,25400,25400,25700,26000,26300,26500,26500,26600,26400,26200,26100,26000,25600,25600,25900,26400,26700,26900,26900,27000,26800,26700,26400,26500,26000,26100,26300,26700,27100,27400,27400,27400,27300,27000,26900,26900,26700,26700,26800,27300,27700,27900,27900,27900,27700,27300,27000,26900,26700,26700,26800,27300,27600,27700,27600,27500,27200,27300,27000,27000,26100,26100,26400,26600,26700,26900,26800,26900,26400,26400,26000,26100,25400,25300,25700,26200,26400,26500,26400,26500,26200,26200,26000,26000,25500,25500,25800,26100,26200,26300,26100,26300,26000,26000,25800,25800,25500,25700,25600,26100,26200,26400,26400,26500,26100,26200,26100,26200,25600,25700,25800,26300,26500,26600,26400,26700,26200,26100,26200,26300,25600,25600,25600,26000,26100,26400,26400,26400,26100,25900,25800,26000,25800,25700,25800,26400,26600,26700,26700,26800,26300,26500,26400,26600,26100,26000,26100,26600,26700,26700,27200,27300,26900,27100,27000,27000,26600,26600,27000,27200,27400,27800,27400,27500,27000,27300,26400,26900,27200,27800,28500,27600,27400,26800,27300,27000,27000,26500,27200,27500,27700,27200,27000,26400,27100,27000,27500,27600,28300,28800,28300,28800]
[null,null,"State","Religious, Grantmaking, Civic, Professional, and Similar Organizations",80813000,76800,77600,77900,77700,77400,78800,77800,77400,77800,77900,77700,79000,80700,81200,82300,81400,81500,83200,82700,82700,82900,83300,83100,84800,83300,83400,84500,83800,83800,85400,84000,83800,83800,84200,84100,85200,84400,84700,85800,84900,84800,86800,85400,85300,85100,84500,84400,85500,85900,86400,87200,86900,86800,88900,87900,88200,88000,89300,87800,88200,86900,87500,88100,87800,87800,89100,88100,88100,88000,87800,87500,88200,86500,86600,87300,87100,87300,88600,87700,87600,87600,87800,87400,88200,86800,87200,87900,88000,88300,89500,88900,88200,87800,89100,88900,89600,87700,88300,88900,89500,89700,91200,91000,90800,90600,92300,91400,91600,89700,90100,90800,90800,91100,92300,91600,91200,90600,90600,90700,91200,89000,89600,90100,90500,90500,91700,91400,91000,90400,90900,90100,90500,89000,89000,89500,89900,90300,91500,91500,91100,90300,90300,90100,91000,89400,89600,90200,90500,90900,92800,91700,91200,90700,90700,90600,90600,89100,89200,89800,89500,90100,91800,91100,90700,91100,90900,91700,92400,91500,92300,93100,93700,94700,96700,97100,97400,97200,97600,97900,98700,97500,98000,99000,99300,99800,101100,100800,100100,99500,99300,99000,99900,98300,98400,99200,100100,100400,101700,101600,101300,101100,100700,100600,100800,99300,99700,100300,100100,100400,101800,101200,101000,100500,101100,101300,100800,101700,101200,100700,100800,100700,103500,102200,102600,101000,101200,101700,101500,101800,102200,102500,103300,102700,102900,104000,103000,101600,101000,101000,102000]
[null,null,"State","Government",90000000,399600,408800,412100,418700,417400,413300,381100,378400,397700,410000,417700,412100,402300,417700,421000,425100,424500,416100,387400,384000,411600,424000,426600,424300,408600,421500,426200,428200,426100,413300,383700,380100,404000,426700,432800,426200,404300,424900,426200,428900,425000,420300,383000,379900,399200,420400,422300,420200,403200,420300,422000,422700,422200,414600,384600,381800,406000,420700,426200,421500,410900,424600,423800,427200,426000,414300,385700,381500,414300,423100,425400,427000,410100,419700,424600,427500,426000,418600,387300,383300,413900,421400,424900,425500,410200,416800,422500,427000,427100,422100,388300,384800,414000,423800,426300,428800,416700,422200,427200,429600,432500,422200,392400,387000,423000,432500,441400,436000,418600,431200,432700,434900,435800,421800,392500,385100,408600,426200,431200,431800,415300,425100,427600,435400,437500,421400,390000,384300,411200,428800,433900,426500,412200,426600,428100,430800,428600,411500,386900,380700,408700,419100,422000,422300,395900,411400,419900,427300,428700,408700,378300,378600,406700,422300,429700,422900,394900,420300,419500,422700,416900,404200,378200,375700,408900,422300,423500,422200,405200,418100,418800,424700,417900,405700,380800,384400,410500,422600,431000,422800,403100,420000,418900,426700,417400,404000,380300,377200,405900,418600,419200,420700,403100,419100,418200,427100,415200,403700,383300,387100,408100,420700,433200,423300,400900,416900,413600,423300,416600,399400,381300,376500,404800,419900,421200,416400,400800,421300,417400,423500,418700,400700,381800,379300,406300,419200,424600,421500,398200,412200,414600,418700,410900,401500,381000,373300,398600,416100,419100,416300]
[null,null,"State","Federal Government",90910000,30500,30500,32000,33500,37600,38300,33500,35100,29800,29700,30400,30600,29900,29700,29800,29900,30000,30300,30400,30400,30200,30000,30100,30200,29700,29600,29600,29500,29600,30200,30100,30000,29800,30100,30100,30400,29800,29800,29700,29700,29700,30000,30000,29800,30200,29800,29600,29900,29500,29300,29200,29500,29300,29700,29900,29900,29600,29600,29700,29600,29200,29100,29000,29200,29200,29300,29500,29400,29300,29100,29200,29200,28900,28800,29000,29100,29100,29400,29600,29400,29400,29200,29200,29300,29200,28900,28900,29000,29100,29400,29500,29500,29300,29300,29200,29100,29200,29100,29300,29300,29600,29800,30200,30000,29900,29900,29700,29600,29900,29700,29500,31900,31800,29900,30100,29800,29700,30100,29600,29600,29600,29400,30100,33500,37800,34400,32700.000000000004,30600,29700,29600,29500,29600,29400,29300,29300,29500,29400,29500,29800,29500,29400,29400,29000,29200,28900,28800,28900,29100,29000,29200,29300,29300,29000,29100,28700,29000,28700,28700,28400,28800,28600,28700,28800,28600,28600,28500,28600,28600,28500,28400,28400,28600,28500,28600,28800,28800,28700,28700,28700,29000,28600,28500,28500,28800,28700,29000,29100,28900,28800,28800,28800,29200,28800,28700,28800,28900,28800,29200,29100,29200,29200,29100,29100,29400,29100,28900,29000,28900,29000,29200,29300,28900,29000,29000,29000,29300,29100,28900,28900,29000,29000,29200,29200,29200,29300,29300,29300,29400,28800,28900,28700,29000,28900,29100,29200,29700,29500,29400,29300,29400]
[null,null,"State","State Government",90920000,97200,100500,101900,104100,100700,96200,91700,91800,93500,98400,100800,98200,91900,102100,103400,104700,104300,96700,96200,95700,101300,104200,105300,102400,92600,100100,102600,105000,101800,93300,91400,94600,99000,104600,107700,103400,92600,102200,103800,105800,103500,97400,91800,94600,100300,103500,104600,102500,96800,101600,102400,103500,102800,94900,95200,97200,104100,106100,107000,105000,101700,104000,103900,104400,105000,94200,94100,95100,104300,105300,105900,105900,101000,104700,104700,105600,106000,97600,95800,97800,105000,106600,106600,107100,101300,105900,106600,106600,107300,97400,95100,97100,102800,106300,106900,107300,103400,106500,106400,106700,109200,95700,94800,96200,102000,107600,109300,108100,99900,107000,107400,102800,105200,90900,90500,91600,95800,100400,103900,103700,94400,102100,102300,104200,103500,90700,90500,91600,100700,104000,105000,101600,94800,101700,102700,101900,103500,85400,85200,82300,97500,101500,102200,99900,85100,95500,100700,102300,99900,82500,83800,83900,100000,103100,102300,101300,84600,102200,101800,102900,96500,83100,84200,85000,101400,104500,103700,102800,96400,103900,103000,104400,98500,84200,85100,85700,102300,103800,104900,103900,95600,104400,104200,104400,98200,83300,85000,84200,99000,101200,101700,101700,92700,101600,101600,101600,96600,82400,83900,83900,97300,101900,102800,101400,91800,101300,96400,101800,98100,83600,84700,85100,97100,101300,102700,96900,87300,100500,97800,100900,97100,80400,81500,79600,97300,100400,102400,101000,87200,98000,98500,98400,92300,81000,83200,80300,91400,98900,101100,99300]
[null,null,"State","Local Government",90930000,271900,277800,278200,281100,279100,278800,255900,251500,274400,281900,286500,283300,280500,285900,287800,290500,290200,289100,260800,257899.99999999997,280100,289800,291200,291700,286300,291800,294000,293700,294700,289800,262200,255500,275200,292000,295000,292400,281900,292900,292700,293400,291800,292900,261200,255500,268700,287100,288100,287800,276900,289400,290400,289700,290100,290000,259500,254700,272300,285000,289500,286900,280000,291500,290900,293600,291800,290800,262100.00000000003,257000,280700,288700,290300,291900,280200,286200,290900,292800,290900,291600,261899.99999999997,256100.00000000003,279500,285600,289100,289100,279700,282000,287000,291400,290700,295300,263700,258200,281900,288200,290200,292400,284100,286600,291500,293600,293700,296700,267400,260800,291100,295000,302400,298300,288800,294500,295800,300200,298800,301000,271900,263700,283100,295700,297700,298500,291300,293600,295200,297700,296200,296300,266800,262100.00000000003,280800,295200,299400,295300,288000,295600,296100,299400,295700,296600,271900,268900,281800,288200,290800,293200,281900,287100,290300,295900,299800,297000,265200,265400,277700,290100,298700,292600,281600,289400,289300,291000,291800,292400,265200,262100.00000000003,278900,289300,291200,290800,280300,285800,287400,291700,290900,292900,266900,269900,279500,290100,297400,289900,278900,287100,286200,293500,290500,291700,266200,264100,278100,288600,288700,289800,281600,288800,287800,296600,289800,292100,270300,274000,281600,289700,301300,292500,280000,286700,288200,292600,289500,286600,267300,262500,278700,289600,289500,290200,284400,291900,290700,293600,292600,291100,271100,270500,279700,289500,292900,291100,282200,285300,287400,291300,289700,291400,268600,263300,277700,287800,288700,287600]
[null,null,"State","Local Government Educational Services",90931611,149300,154300,155500,155600,154900,146700,121900,118500,145600,156200,157100,157800,155100,159500,162700,162200,161100,153900,124700,123100,150200,160100,161500,161400,156800,161700,164500,163300,164200,153700,128800.00000000001,124400,144300,161200,162300,162200,153100,162000,163100,162700,161100,156900,127400,123500,141500,158500,159800,160000,151500,161500,163600,161300,162000,157200,127800,124200,143700,157700,159900,159800,153100,161900,162800,161500,162000,156700,126400,122600,149800,159300,161000,160000,153200,159200,163100,160700,160700,156400,128500,125000,144500,156100,156900,157000,151500,154700,158900,160000,161400,157700,127500,124300,146600,159200,161800,160700,155800,158300,163700,161400,163200,158600,131100,126900,149400,162200,164400,162900,158400,163300,165800,165600,166100,160900,131700,126100,149800,163600,166400,164200,159200,164300,166900,165000,166500,159700,133500,130600,148400,163500,165300,164800,160100,164500,166500,166200,164600,159900,134100,131400,149800,157300,161200,160300,154400,159500,162100,160600,162200,153800,127300,125100,146400,158600,161200,159800,154000,160100,161000,158800,161000,153900,129800.00000000001,128400,147500,158400,161400,158400,152600,158800,160000,159200,160300,155200,129300.00000000001,129600,147900,158700,159700,158300,151900,158900,159500,158800,160100,154400,129199.99999999999,128600,148200,158500,159700,158500,153800,157500,160200,159700,159500,154900,132700,131500,150200,158600,160400,159600,154300,160000,161800,160000,160500,149500,131800,128900,150600,161300,162300,162500,157500,163000,163100,161900,163700,154800,134100,130300,150900,161200,162500,163900,155600,null,null,null,null,42900,43700]
[null,null,null,null,null,null,null,null,null,null,null,null,null,null,null,null,null,null,null,null,null,null,null,null,null,null,null,null,null,null,null,null,null,null,null,null,null,null,null,null,null,null,null,null,null,null,null,null,null,null,null,null,null,null,null,null,null,null,null,null,null,null,null,null,null,null,null,null,null,null,null,null,null,null,null,null,null,null,null,null,null,null,null,null,null,null,null,null,null,null,null,null,null,null,null,null,null,null,null,null,null,null,null,null,null,null,null,null,null,null,null,null,null,null,null,null,null,null,null,null,null,null,null,null,null,null,null,null,null,null,null,null,null,null,null,null,null,null,null,null,null,null,null,null,null,null,null,null,null,null,null,null,null,null,null,null,null,null,null,null,null,null,null,null,null,null,null,null,null,null,null,null,null,null,null,null,null,null,null,null,null,null,null,null,null,null,null,null,null,null,null,null,null,null,null,null,null,null,null,null,null,null,null,null,null,null,null,null,null,null,null,null,null,null,null,null,null,null,null,null,null,null,null,127600,131700,128900,136300,137000,140200,128800,128300,130400,127200,null,null,null,null,null,291400,268300]
[null,null,null,null,null,null,null,null,null,null,null,null,null,null,null,null,null,null,null,null,null,null,null,null,null,null,null,null,null,null,null,null,null,null,null,null,null,null,null,null,null,null,null,null,null,null,null,null,null,null,null,null,null,null,null,null,null,null,null,null,null,null,null,null,null,null,null,null,null,null,null,null,null,null,null,null,null,null,null,null,null,null,null,null,null,null,null,null,null,null,null,null,null,null,null,null,null,null,null,null,null,null,null,null,null,null,null,null,null,null,null,null,null,null,null,null,null,null,null,null,null,null,null,null,null,null,null,null,null,null,null,null,null,null,null,null,null,null,null,null,null,null,null,null,null,null,null,null,null,null,null,null,null,null,null,null,null,null,null,null,null,null,null,null,null,null,null,null,null,null,null,null,null,null,null,null,null,null,null,null,null,null,null,null,null,null,null,null,null,null,null,null,null,null,null,null,null,null,null,null,null,null,null,null,null,null,null,null,null,null,null,null,null,null,null,null,null,null,null,null,null,null,null,124400,125400,127400,129600,128500,129000,127900,128100,128900,129600,null,null,null,null,null,155400,131900]
[null,null,null,null,null,null,null,null,null,null,null,null,null,null,null,null,null,null,null,null,null,null,null,null,null,null,null,null,null,null,null,null,null,null,null,null,null,null,null,null,null,null,null,null,null,null,null,null,null,null,null,null,null,null,null,null,null,null,null,null,null,null,null,null,null,null,null,null,null,null,null,null,null,null,null,null,null,null,null,null,null,null,null,null,null,null,null,null,null,null,null,null,null,null,null,null,null,null,null,null,null,null,null,null,null,null,null,null,null,null,null,null,null,null,null,null,null,null,null,null,null,null,null,null,null,null,null,null,null,null,null,null,null,null,null,null,null,null,null,null,null,null,null,null,null,null,null,null,null,null,null,null,null,null,null,null,null,null,null,null,null,null,null,null,null,null,null,null,null,null,null,null,null,null,null,null,null,null,null,null,null,null,null,null,null,null,null,null,null,null,null,null,null,null,null,null,null,null,null,null,null,null,null,null,null,null,null,null,null,null,null,null,null,null,null,null,null,null,null,null,null,null,null,111500,112300,114300,116400,116400,116900,115600,115100,115600,115400,null,null,null,null,null,136000,136400]
[null,null,null,null,null,null,null,null,null,null,null,null,null,null,null,null,null,null,null,null,null,null,null,null,null,null,null,null,null,null,null,null,null,null,null,null,null,null,null,null,null,null,null,null,null,null,null,null,null,null,null,null,null,null,null,null,null,null,null,null,null,null,null,null,null,null,null,null,null,null,null,null,null,null,null,null,null,null,null,null,null,null,null,null,null,null,null,null,null,null,null,null,null,null,null,null,null,null,null,null,null,null,null,null,null,null,null,null,null,null,null,null,null,null,null,null,null,null,null,null,null,null,null,null,null,null,null,null,null,null,null,null,null,null,null,null,null,null,null,null,null,null,null,null,null,null,null,null,null,null,null,null,null,null,null,null,null,null,null,null,null,null,null,null,null,null,null,null,null,null,null,null,null,null,null,null,null,null,null,null,null,null,null,null,null,null,null,null,null,null,null,null,null,null,null,null,null,null,null,null,null,null,null,null,null,null,null,null,null,null,null,null,null,null,null,null,null,null,null,null,null,null,null,30900,31200,32300,33100,33500,33400,32900,32700,32500,32100,null,null,null,null,null,128900,128000]
[null,null,null,null,null,null,null,null,null,null,null,null,null,null,null,null,null,null,null,null,null,null,null,null,null,null,null,null,null,null,null,null,null,null,null,null,null,null,null,null,null,null,null,null,null,null,null,null,null,null,null,null,null,null,null,null,null,null,null,null,null,null,null,null,null,null,null,null,null,null,null,null,null,null,null,null,null,null,null,null,null,null,null,null,null,null,null,null,null,null,null,null,null,null,null,null,null,null,null,null,null,null,null,null,null,null,null,null,null,null,null,null,null,null,null,null,null,null,null,null,null,null,null,null,null,null,null,null,null,null,null,null,null,null,null,null,null,null,null,null,null,null,null,null,null,null,null,null,null,null,null,null,null,null,null,null,null,null,null,null,null,null,null,null,null,null,null,null,null,null,null,null,null,null,null,null,null,null,null,null,null,null,null,null,null,null,null,null,null,null,null,null,null,null,null,null,null,null,null,null,null,null,null,null,null,null,null,null,null,null,null,null,null,null,null,null,null,null,null,null,null,null,null,93500,94200,95100,96500,95000,95600,95000,95400,96400,97500,null,null,null,null,null,115800,116000]
[null,null,null,null,null,null,null,null,null,null,null,null,null,null,null,null,null,null,null,null,null,null,null,null,null,null,null,null,null,null,null,null,null,null,null,null,null,null,null,null,null,null,null,null,null,null,null,null,null,null,null,null,null,null,null,null,null,null,null,null,null,null,null,null,null,null,null,null,null,null,null,null,null,null,null,null,null,null,null,null,null,null,null,null,null,null,null,null,null,null,null,null,null,null,null,null,null,null,null,null,null,null,null,null,null,null,null,null,null,null,null,null,null,null,null,null,null,null,null,null,null,null,null,null,null,null,null,null,null,null,null,null,null,null,null,null,null,null,null,null,null,null,null,null,null,null,null,null,null,null,null,null,null,null,null,null,null,null,null,null,null,null,null,null,null,null,null,null,null,null,null,null,null,null,null,null,null,null,null,null,null,null,null,null,null,null,null,null,null,null,null,null,null,null,null,null,null,null,null,null,null,null,null,null,null,null,null,null,null,null,null,null,null,null,null,null,null,null,null,null,null,null,null,80600,81100,82000,83300,82900,83500,82700,82400,83100,83300,null,null,null,null,null,34000,34200]
[null,null,null,null,null,null,null,null,null,null,null,null,null,null,null,null,null,null,null,null,null,null,null,null,null,null,null,null,null,null,null,null,null,null,null,null,null,null,null,null,null,null,null,null,null,null,null,null,null,null,null,null,null,null,null,null,null,null,null,null,null,null,null,null,null,null,null,null,null,null,null,null,null,null,null,null,null,null,null,null,null,null,null,null,null,null,null,null,null,null,null,null,null,null,null,null,null,null,null,null,null,null,null,null,null,null,null,null,null,null,null,null,null,null,null,null,null,null,null,null,null,null,null,null,null,null,null,null,null,null,null,null,null,null,null,null,null,null,null,null,null,null,null,null,null,null,null,null,null,null,null,null,null,null,null,null,null,null,null,null,null,null,null,null,null,null,null,null,null,null,null,null,null,null,null,null,null,null,null,null,null,null,null,null,null,null,null,null,null,null,null,null,null,null,null,null,null,null,null,null,null,null,null,null,null,null,null,null,null,null,null,null,null,null,null,null,null,null,null,null,null,null,null,7900,8200,8800,9300,9500,9600,9400,9200,9100,8900,null,null,null,null,null,94900,93800]
[null,null,null,null,null,null,null,null,null,null,null,null,null,null,null,null,null,null,null,null,null,null,null,null,null,null,null,null,null,null,null,null,null,null,null,null,null,null,null,null,null,null,null,null,null,null,null,null,null,null,null,null,null,null,null,null,null,null,null,null,null,null,null,null,null,null,null,null,null,null,null,null,null,null,null,null,null,null,null,null,null,null,null,null,null,null,null,null,null,null,null,null,null,null,null,null,null,null,null,null,null,null,null,null,null,null,null,null,null,null,null,null,null,null,null,null,null,null,null,null,null,null,null,null,null,null,null,null,null,null,null,null,null,null,null,null,null,null,null,null,null,null,null,null,null,null,null,null,null,null,null,null,null,null,null,null,null,null,null,null,null,null,null,null,null,null,null,null,null,null,null,null,null,null,null,null,null,null,null,null,null,null,null,null,null,null,null,null,null,null,null,null,null,null,null,null,null,null,null,null,null,null,null,null,null,null,null,null,null,null,null,null,null,null,null,null,null,null,null,null,null,null,null,23000,23000,23500,23800,24000,23800,23500,23500,23400,23200,null,null,null,null,null,81800,81800]
[null,null,null,null,null,null,null,null,null,null,null,null,null,null,null,null,null,null,null,null,null,null,null,null,null,null,null,null,null,null,null,null,null,null,null,null,null,null,null,null,null,null,null,null,null,null,null,null,null,null,null,null,null,null,null,null,null,null,null,null,null,null,null,null,null,null,null,null,null,null,null,null,null,null,null,null,null,null,null,null,null,null,null,null,null,null,null,null,null,null,null,null,null,null,null,null,null,null,null,null,null,null,null,null,null,null,null,null,null,null,null,null,null,null,null,null,null,null,null,null,null,null,null,null,null,null,null,null,null,null,null,null,null,null,null,null,null,null,null,null,null,null,null,null,null,null,null,null,null,null,null,null,null,null,null,null,null,null,null,null,null,null,null,null,null,null,null,null,null,null,null,null,null,null,null,null,null,null,null,null,null,null,null,null,null,null,null,null,null,null,null,null,null,null,null,null,null,null,null,null,null,null,null,null,null,null,null,null,null,null,null,null,null,null,null,null,null,null,null,null,null,null,null,10500,10600,10800,10900,11000,10900,10800,10800,10700,10500,null,null,null,null,null,10300,10300]
[null,null,null,null,null,null,null,null,null,null,null,null,null,null,null,null,null,null,null,null,null,null,null,null,null,null,null,null,null,null,null,null,null,null,null,null,null,null,null,null,null,null,null,null,null,null,null,null,null,null,null,null,null,null,null,null,null,null,null,null,null,null,null,null,null,null,null,null,null,null,null,null,null,null,null,null,null,null,null,null,null,null,null,null,null,null,null,null,null,null,null,null,null,null,null,null,null,null,null,null,null,null,null,null,null,null,null,null,null,null,null,null,null,null,null,null,null,null,null,null,null,null,null,null,null,null,null,null,null,null,null,null,null,null,null,null,null,null,null,null,null,null,null,null,null,null,null,null,null,null,null,null,null,null,null,null,null,null,null,null,null,null,null,null,null,null,null,null,null,null,null,null,null,null,null,null,null,null,null,null,null,null,null,null,null,null,null,null,null,null,null,null,null,null,null,null,null,null,null,null,null,null,null,null,null,null,null,null,null,null,null,null,null,null,null,null,null,null,null,null,null,null,null,12500,12400,12700,12900,13000,12900,12700,12700,12700,12700,null,null,null,null,null,23700,23900]
[null,null,null,null,null,null,null,null,null,null,null,null,null,null,null,null,null,null,null,null,null,null,null,null,null,null,null,null,null,null,null,null,null,null,null,null,null,null,null,null,null,null,null,null,null,null,null,null,null,null,null,null,null,null,null,null,null,null,null,null,null,null,null,null,null,null,null,null,null,null,null,null,null,null,null,null,null,null,null,null,null,null,null,null,null,null,null,null,null,null,null,null,null,null,null,null,null,null,null,null,null,null,null,null,null,null,null,null,null,null,null,null,null,null,null,null,null,null,null,null,null,null,null,null,null,null,null,null,null,null,null,null,null,null,null,null,null,null,null,null,null,null,null,null,null,null,null,null,null,null,null,null,null,null,null,null,null,null,null,null,null,null,null,null,null,null,null,null,null,null,null,null,null,null,null,null,null,null,null,null,null,null,null,null,null,null,null,null,null,null,null,null,null,null,null,null,null,null,null,null,null,null,null,null,null,null,null,null,null,null,null,null,null,null,null,null,null,null,null,null,null,null,null,23600,23600,23800,24100,23800,24100,23900,23800,24300,24800,null,null,null,null,null,10800,10800]
[null,null,null,null,null,null,null,null,null,null,null,null,null,null,null,null,null,null,null,null,null,null,null,null,null,null,null,null,null,null,null,null,null,null,null,null,null,null,null,null,null,null,null,null,null,null,null,null,null,null,null,null,null,null,null,null,null,null,null,null,null,null,null,null,null,null,null,null,null,null,null,null,null,null,null,null,null,null,null,null,null,null,null,null,null,null,null,null,null,null,null,null,null,null,null,null,null,null,null,null,null,null,null,null,null,null,null,null,null,null,null,null,null,null,null,null,null,null,null,null,null,null,null,null,null,null,null,null,null,null,null,null,null,null,null,null,null,null,null,null,null,null,null,null,null,null,null,null,null,null,null,null,null,null,null,null,null,null,null,null,null,null,null,null,null,null,null,null,null,null,null,null,null,null,null,null,null,null,null,null,null,null,null,null,null,null,null,null,null,null,null,null,null,null,null,null,null,null,null,null,null,null,null,null,null,null,null,null,null,null,null,null,null,null,null,null,null,null,null,null,null,null,null,6000,6000,6100,6400,6400,6400,6200,6100,6100,6200,null,null,null,null,null,12900,13100]
[null,null,null,null,null,null,null,null,null,null,null,null,null,null,null,null,null,null,null,null,null,null,null,null,null,null,null,null,null,null,null,null,null,null,null,null,null,null,null,null,null,null,null,null,null,null,null,null,null,null,null,null,null,null,null,null,null,null,null,null,null,null,null,null,null,null,null,null,null,null,null,null,null,null,null,null,null,null,null,null,null,null,null,null,null,null,null,null,null,null,null,null,null,null,null,null,null,null,null,null,null,null,null,null,null,null,null,null,null,null,null,null,null,null,null,null,null,null,null,null,null,null,null,null,null,null,null,null,null,null,null,null,null,null,null,null,null,null,null,null,null,null,null,null,null,null,null,null,null,null,null,null,null,null,null,null,null,null,null,null,null,null,null,null,null,null,null,null,null,null,null,null,null,null,null,null,null,null,null,null,null,null,null,null,null,null,null,null,null,null,null,null,null,null,null,null,null,null,null,null,null,null,null,null,null,null,null,null,null,null,null,null,null,null,null,null,null,null,null,null,null,null,null,14200,14200,14200,14200,14000,14200,14200,14100,14600,15100,null,null,null,null,null,24100,24400]
[null,null,null,null,null,null,null,null,null,null,null,null,null,null,null,null,null,null,null,null,null,null,null,null,null,null,null,null,null,null,null,null,null,null,null,null,null,null,null,null,null,null,null,null,null,null,null,null,null,null,null,null,null,null,null,null,null,null,null,null,null,null,null,null,null,null,null,null,null,null,null,null,null,null,null,null,null,null,null,null,null,null,null,null,null,null,null,null,null,null,null,null,null,null,null,null,null,null,null,null,null,null,null,null,null,null,null,null,null,null,null,null,null,null,null,null,null,null,null,null,null,null,null,null,null,null,null,null,null,null,null,null,null,null,null,null,null,null,null,null,null,null,null,null,null,null,null,null,null,null,null,null,null,null,null,null,null,null,null,null,null,null,null,null,null,null,null,null,null,null,null,null,null,null,null,null,null,null,null,null,null,null,null,null,null,null,null,null,null,null,null,null,null,null,null,null,null,null,null,null,null,null,null,null,null,null,null,null,null,null,null,null,null,null,null,null,null,null,null,null,null,null,null,2800,2900,2900,2900,2900,3000,2900,2900,3100,3100,null,null,null,null,null,6400,6500]
[null,null,null,null,null,null,null,null,null,null,null,null,null,null,null,null,null,null,null,null,null,null,null,null,null,null,null,null,null,null,null,null,null,null,null,null,null,null,null,null,null,null,null,null,null,null,null,null,null,null,null,null,null,null,null,null,null,null,null,null,null,null,null,null,null,null,null,null,null,null,null,null,null,null,null,null,null,null,null,null,null,null,null,null,null,null,null,null,null,null,null,null,null,null,null,null,null,null,null,null,null,null,null,null,null,null,null,null,null,null,null,null,null,null,null,null,null,null,null,null,null,null,null,null,null,null,null,null,null,null,null,null,null,null,null,null,null,null,null,null,null,null,null,null,null,null,null,null,null,null,null,null,null,null,null,null,null,null,null,null,null,null,null,null,null,null,null,null,null,null,null,null,null,null,null,null,null,null,null,null,null,null,null,null,null,null,null,null,null,null,null,null,null,null,null,null,null,null,null,null,null,null,null,null,null,null,null,null,null,null,null,null,null,null,null,null,null,null,null,null,null,null,null,3400,3400,3500,3500,3400,3500,3500,3600,3600,3500,null,null,null,null,null,13800,14000]
[null,null,null,null,null,null,null,null,null,null,null,null,null,null,null,null,null,null,null,null,null,null,null,null,null,null,null,null,null,null,null,null,null,null,null,null,null,null,null,null,null,null,null,null,null,null,null,null,null,null,null,null,null,null,null,null,null,null,null,null,null,null,null,null,null,null,null,null,null,null,null,null,null,null,null,null,null,null,null,null,null,null,null,null,null,null,null,null,null,null,null,null,null,null,null,null,null,null,null,null,null,null,null,null,null,null,null,null,null,null,null,null,null,null,null,null,null,null,null,null,null,null,null,null,null,null,null,null,null,null,null,null,null,null,null,null,null,null,null,null,null,null,null,null,null,null,null,null,null,null,null,null,null,null,null,null,null,null,null,null,null,null,null,null,null,null,null,null,null,null,null,null,null,null,null,null,null,null,null,null,null,null,null,null,null,null,null,null,null,null,null,null,null,null,null,null,null,null,null,null,null,null,null,null,null,null,null,null,null,null,null,null,null,null,null,null,null,null,null,null,null,null,null,1600,1600,1600,1700,1700,1600,1600,1600,1600,1600,null,null,null,null,null,2700,2700]
[null,null,null,null,null,null,null,null,null,null,null,null,null,null,null,null,null,null,null,null,null,null,null,null,null,null,null,null,null,null,null,null,null,null,null,null,null,null,null,null,null,null,null,null,null,null,null,null,null,null,null,null,null,null,null,null,null,null,null,null,null,null,null,null,null,null,null,null,null,null,null,null,null,null,null,null,null,null,null,null,null,null,null,null,null,null,null,null,null,null,null,null,null,null,null,null,null,null,null,null,null,null,null,null,null,null,null,null,null,null,null,null,null,null,null,null,null,null,null,null,null,null,null,null,null,null,null,null,null,null,null,null,null,null,null,null,null,null,null,null,null,null,null,null,null,null,null,null,null,null,null,null,null,null,null,null,null,null,null,null,null,null,null,null,null,null,null,null,null,null,null,null,null,null,null,null,null,null,null,null,null,null,null,null,null,null,null,null,null,null,null,null,null,null,null,null,null,null,null,null,null,null,null,null,null,null,null,null,null,null,null,null,null,null,null,null,null,null,null,null,null,null,null,7100,7100,7100,7200,7200,7200,7200,7200,7200,7200,null,null,null,null,null,3900,3900]
[null,null,null,null,null,null,null,null,null,null,null,null,null,null,null,null,null,null,null,null,null,null,null,null,null,null,null,null,null,null,null,null,null,null,null,null,null,null,null,null,null,null,null,null,null,null,null,null,null,null,null,null,null,null,null,null,null,null,null,null,null,null,null,null,null,null,null,null,null,null,null,null,null,null,null,null,null,null,null,null,null,null,null,null,null,null,null,null,null,null,null,null,null,null,null,null,null,null,null,null,null,null,null,null,null,null,null,null,null,null,null,null,null,null,null,null,null,null,null,null,null,null,null,null,null,null,null,null,null,null,null,null,null,null,null,null,null,null,null,null,null,null,null,null,null,null,null,null,null,null,null,null,null,null,null,null,null,null,null,null,null,null,null,null,null,null,null,null,null,null,null,null,null,null,null,null,null,null,null,null,null,null,null,null,null,null,null,null,null,null,null,null,null,null,null,null,null,null,null,null,null,null,null,null,null,null,null,null,null,null,null,null,null,null,null,null,null,null,null,null,null,null,null,13900,14100,14300,14600,14700,14600,14600,14600,14800,14500,null,null,null,null,null,1500,1500]
[null,null,null,null,null,null,null,null,null,null,null,null,null,null,null,null,null,null,null,null,null,null,null,null,null,null,null,null,null,null,null,null,null,null,null,null,null,null,null,null,null,null,null,null,null,null,null,null,null,null,null,null,null,null,null,null,null,null,null,null,null,null,null,null,null,null,null,null,null,null,null,null,null,null,null,null,null,null,null,null,null,null,null,null,null,null,null,null,null,null,null,null,null,null,null,null,null,null,null,null,null,null,null,null,null,null,null,null,null,null,null,null,null,null,null,null,null,null,null,null,null,null,null,null,null,null,null,null,null,null,null,null,null,null,null,null,null,null,null,null,null,null,null,null,null,null,null,null,null,null,null,null,null,null,null,null,null,null,null,null,null,null,null,null,null,null,null,null,null,null,null,null,null,null,null,null,null,null,null,null,null,null,null,null,null,null,null,null,null,null,null,null,null,null,null,null,null,null,null,null,null,null,null,null,null,null,null,null,null,null,null,null,null,null,null,null,null,null,null,null,null,null,null,15300,15300,15300,15500,15700,15700,15500,15600,15600,15600,null,null,null,null,null,6900,6900]
[null,null,null,null,null,null,null,null,null,null,null,null,null,null,null,null,null,null,null,null,null,null,null,null,null,null,null,null,null,null,null,null,null,null,null,null,null,null,null,null,null,null,null,null,null,null,null,null,null,null,null,null,null,null,null,null,null,null,null,null,null,null,null,null,null,null,null,null,null,null,null,null,null,null,null,null,null,null,null,null,null,null,null,null,null,null,null,null,null,null,null,null,null,null,null,null,null,null,null,null,null,null,null,null,null,null,null,null,null,null,null,null,null,null,null,null,null,null,null,null,null,null,null,null,null,null,null,null,null,null,null,null,null,null,null,null,null,null,null,null,null,null,null,null,null,null,null,null,null,null,null,null,null,null,null,null,null,null,null,null,null,null,null,null,null,null,null,null,null,null,null,null,null,null,null,null,null,null,null,null,null,null,null,null,null,null,null,null,null,null,null,null,null,null,null,null,null,null,null,null,null,null,null,null,null,null,null,null,null,null,null,null,null,null,null,null,null,null,null,null,null,null,null,14200,14200,14200,14200,14400,14400,14300,14300,14400,14400,null,null,null,null,null,13700,13800]
[null,null,null,null,null,null,null,null,null,null,null,null,null,null,null,null,null,null,null,null,null,null,null,null,null,null,null,null,null,null,null,null,null,null,null,null,null,null,null,null,null,null,null,null,null,null,null,null,null,null,null,null,null,null,null,null,null,null,null,null,null,null,null,null,null,null,null,null,null,null,null,null,null,null,null,null,null,null,null,null,null,null,null,null,null,null,null,null,null,null,null,null,null,null,null,null,null,null,null,null,null,null,null,null,null,null,null,null,null,null,null,null,null,null,null,null,null,null,null,null,null,null,null,null,null,null,null,null,null,null,null,null,null,null,null,null,null,null,null,null,null,null,null,null,null,null,null,null,null,null,null,null,null,null,null,null,null,null,null,null,null,null,null,null,null,null,null,null,null,null,null,null,null,null,null,null,null,null,null,null,null,null,null,null,null,null,null,null,null,null,null,null,null,null,null,null,null,null,null,null,null,null,null,null,null,null,null,null,null,null,null,null,null,null,null,null,null,null,null,null,null,null,null,11600,11900,12300,12600,12400,12800,12400,12000,11900,11800,null,null,null,null,null,15500,15400]
[null,null,null,null,null,null,null,null,null,null,null,null,null,null,null,null,null,null,null,null,null,null,null,null,null,null,null,null,null,null,null,null,null,null,null,null,null,null,null,null,null,null,null,null,null,null,null,null,null,null,null,null,null,null,null,null,null,null,null,null,null,null,null,null,null,null,null,null,null,null,null,null,null,null,null,null,null,null,null,null,null,null,null,null,null,null,null,null,null,null,null,null,null,null,null,null,null,null,null,null,null,null,null,null,null,null,null,null,null,null,null,null,null,null,null,null,null,null,null,null,null,null,null,null,null,null,null,null,null,null,null,null,null,null,null,null,null,null,null,null,null,null,null,null,null,null,null,null,null,null,null,null,null,null,null,null,null,null,null,null,null,null,null,null,null,null,null,null,null,null,null,null,null,null,null,null,null,null,null,null,null,null,null,null,null,null,null,null,null,null,null,null,null,null,null,null,null,null,null,null,null,null,null,null,null,null,null,null,null,null,null,null,null,null,null,null,null,null,null,null,null,null,null,7500,7500,7600,7600,7400,7500,7500,7600,7700,7800,null,null,null,null,null,14100,14000]
[null,null,null,null,null,null,null,null,null,null,null,null,null,null,null,null,null,null,null,null,null,null,null,null,null,null,null,null,null,null,null,null,null,null,null,null,null,null,null,null,null,null,null,null,null,null,null,null,null,null,null,null,null,null,null,null,null,null,null,null,null,null,null,null,null,null,null,null,null,null,null,null,null,null,null,null,null,null,null,null,null,null,null,null,null,null,null,null,null,null,null,null,null,null,null,null,null,null,null,null,null,null,null,null,null,null,null,null,null,null,null,null,null,null,null,null,null,null,null,null,null,null,null,null,null,null,null,null,null,null,null,null,null,null,null,null,null,null,null,null,null,null,null,null,null,null,null,null,null,null,null,null,null,null,null,null,null,null,null,null,null,null,null,null,null,null,null,null,null,null,null,null,null,null,null,null,null,null,null,null,null,null,null,null,null,null,null,null,null,null,null,null,null,null,null,null,null,null,null,null,null,null,null,null,null,null,null,null,null,null,null,null,null,null,null,null,null,null,null,null,null,null,null,12900,13100,13100,13200,12100,12100,12300,13000,13300,14200,null,null,null,null,null,12600,12500]
[null,null,null,null,null,null,null,null,null,null,null,null,null,null,null,null,null,null,null,null,null,null,null,null,null,null,null,null,null,null,null,null,null,null,null,null,null,null,null,null,null,null,null,null,null,null,null,null,null,null,null,null,null,null,null,null,null,null,null,null,null,null,null,null,null,null,null,null,null,null,null,null,null,null,null,null,null,null,null,null,null,null,null,null,null,null,null,null,null,null,null,null,null,null,null,null,null,null,null,null,null,null,null,null,null,null,null,null,null,null,null,null,null,null,null,null,null,null,null,null,null,null,null,null,null,null,null,null,null,null,null,null,null,null,null,null,null,null,null,null,null,null,null,null,null,null,null,null,null,null,null,null,null,null,null,null,null,null,null,null,null,null,null,null,null,null,null,null,null,null,null,null,null,null,null,null,null,null,null,null,null,null,null,null,null,null,null,null,null,null,null,null,null,null,null,null,null,null,null,null,null,null,null,null,null,null,null,null,null,null,null,null,null,null,null,null,null,null,null,null,null,null,null,700,700,700,700,700,700,700,700,700,700,null,null,null,null,null,7500,7300]
[null,null,null,null,null,null,null,null,null,null,null,null,null,null,null,null,null,null,null,null,null,null,null,null,null,null,null,null,null,null,null,null,null,null,null,null,null,null,null,null,null,null,null,null,null,null,null,null,null,null,null,null,null,null,null,null,null,null,null,null,null,null,null,null,null,null,null,null,null,null,null,null,null,null,null,null,null,null,null,null,null,null,null,null,null,null,null,null,null,null,null,null,null,null,null,null,null,null,null,null,null,null,null,null,null,null,null,null,null,null,null,null,null,null,null,null,null,null,null,null,null,null,null,null,null,null,null,null,null,null,null,null,null,null,null,null,null,null,null,null,null,null,null,null,null,null,null,null,null,null,null,null,null,null,null,null,null,null,null,null,null,null,null,null,null,null,null,null,null,null,null,null,null,null,null,null,null,null,null,null,null,null,null,null,null,null,null,null,null,null,null,null,null,null,null,null,null,null,null,null,null,null,null,null,null,null,null,null,null,null,null,null,null,null,null,null,null,null,null,null,null,null,null,300,300,300,300,300,300,300,300,300,300,null,null,null,null,null,13100,12000]
[null,null,null,null,null,null,null,null,null,null,null,null,null,null,null,null,null,null,null,null,null,null,null,null,null,null,null,null,null,null,null,null,null,null,null,null,null,null,null,null,null,null,null,null,null,null,null,null,null,null,null,null,null,null,null,null,null,null,null,null,null,null,null,null,null,null,null,null,null,null,null,null,null,null,null,null,null,null,null,null,null,null,null,null,null,null,null,null,null,null,null,null,null,null,null,null,null,null,null,null,null,null,null,null,null,null,null,null,null,null,null,null,null,null,null,null,null,null,null,null,null,null,null,null,null,null,null,null,null,null,null,null,null,null,null,null,null,null,null,null,null,null,null,null,null,null,null,null,null,null,null,null,null,null,null,null,null,null,null,null,null,null,null,null,null,null,null,null,null,null,null,null,null,null,null,null,null,null,null,null,null,null,null,null,null,null,null,null,null,null,null,null,null,null,null,null,null,null,null,null,null,null,null,null,null,null,null,null,null,null,null,null,null,null,null,null,null,null,null,null,null,null,null,11900,12100,12100,12200,11100,11100,11300,12000,12300,13200,null,null,null,null,null,700,600]
[null,null,null,null,null,null,null,null,null,null,null,null,null,null,null,null,null,null,null,null,null,null,null,null,null,null,null,null,null,null,null,null,null,null,null,null,null,null,null,null,null,null,null,null,null,null,null,null,null,null,null,null,null,null,null,null,null,null,null,null,null,null,null,null,null,null,null,null,null,null,null,null,null,null,null,null,null,null,null,null,null,null,null,null,null,null,null,null,null,null,null,null,null,null,null,null,null,null,null,null,null,null,null,null,null,null,null,null,null,null,null,null,null,null,null,null,null,null,null,null,null,null,null,null,null,null,null,null,null,null,null,null,null,null,null,null,null,null,null,null,null,null,null,null,null,null,null,null,null,null,null,null,null,null,null,null,null,null,null,null,null,null,null,null,null,null,null,null,null,null,null,null,null,null,null,null,null,null,null,null,null,null,null,null,null,null,null,null,null,null,null,null,null,null,null,null,null,null,null,null,null,null,null,null,null,null,null,null,null,null,null,null,null,null,null,null,null,null,null,null,null,null,null,86200,87400,88100,87800,87900,88200,88100,88500,88800,88500,null,null,null,null,null,300,300]
[null,null,null,null,null,null,null,null,null,null,null,null,null,null,null,null,null,null,null,null,null,null,null,null,null,null,null,null,null,null,null,null,null,null,null,null,null,null,null,null,null,null,null,null,null,null,null,null,null,null,null,null,null,null,null,null,null,null,null,null,null,null,null,null,null,null,null,null,null,null,null,null,null,null,null,null,null,null,null,null,null,null,null,null,null,null,null,null,null,null,null,null,null,null,null,null,null,null,null,null,null,null,null,null,null,null,null,null,null,null,null,null,null,null,null,null,null,null,null,null,null,null,null,null,null,null,null,null,null,null,null,null,null,null,null,null,null,null,null,null,null,null,null,null,null,null,null,null,null,null,null,null,null,null,null,null,null,null,null,null,null,null,null,null,null,null,null,null,null,null,null,null,null,null,null,null,null,null,null,null,null,null,null,null,null,null,null,null,null,null,null,null,null,null,null,null,null,null,null,null,null,null,null,null,null,null,null,null,null,null,null,null,null,null,null,null,null,null,null,null,null,null,null,73800,74400,75700,76500,77100,76900,76300,76000,76200,75800,null,null,null,null,null,12100,11100]
[null,null,null,null,null,null,null,null,null,null,null,null,null,null,null,null,null,null,null,null,null,null,null,null,null,null,null,null,null,null,null,null,null,null,null,null,null,null,null,null,null,null,null,null,null,null,null,null,null,null,null,null,null,null,null,null,null,null,null,null,null,null,null,null,null,null,null,null,null,null,null,null,null,null,null,null,null,null,null,null,null,null,null,null,null,null,null,null,null,null,null,null,null,null,null,null,null,null,null,null,null,null,null,null,null,null,null,null,null,null,null,null,null,null,null,null,null,null,null,null,null,null,null,null,null,null,null,null,null,null,null,null,null,null,null,null,null,null,null,null,null,null,null,null,null,null,null,null,null,null,null,null,null,null,null,null,null,null,null,null,null,null,null,null,null,null,null,null,null,null,null,null,null,null,null,null,null,null,null,null,null,null,null,null,null,null,null,null,null,null,null,null,null,null,null,null,null,null,null,null,null,null,null,null,null,null,null,null,null,null,null,null,null,null,null,null,null,null,null,null,null,null,null,14100,14600,15300,15800,15900,15800,15500,15300,15200,14800,null,null,null,null,null,87800,87700]
[null,null,null,null,null,null,null,null,null,null,null,null,null,null,null,null,null,null,null,null,null,null,null,null,null,null,null,null,null,null,null,null,null,null,null,null,null,null,null,null,null,null,null,null,null,null,null,null,null,null,null,null,null,null,null,null,null,null,null,null,null,null,null,null,null,null,null,null,null,null,null,null,null,null,null,null,null,null,null,null,null,null,null,null,null,null,null,null,null,null,null,null,null,null,null,null,null,null,null,null,null,null,null,null,null,null,null,null,null,null,null,null,null,null,null,null,null,null,null,null,null,null,null,null,null,null,null,null,null,null,null,null,null,null,null,null,null,null,null,null,null,null,null,null,null,null,null,null,null,null,null,null,null,null,null,null,null,null,null,null,null,null,null,null,null,null,null,null,null,null,null,null,null,null,null,null,null,null,null,null,null,null,null,null,null,null,null,null,null,null,null,null,null,null,null,null,null,null,null,null,null,null,null,null,null,null,null,null,null,null,null,null,null,null,null,null,null,null,null,null,null,null,null,72100,72800,72800,72000,72000,72400,72600,73200,73600,73700,null,null,null,null,null,76600,77000]
[null,null,null,null,null,null,null,null,null,null,null,null,null,null,null,null,null,null,null,null,null,null,null,null,null,null,null,null,null,null,null,null,null,null,null,null,null,null,null,null,null,null,null,null,null,null,null,null,null,null,null,null,null,null,null,null,null,null,null,null,null,null,null,null,null,null,null,null,null,null,null,null,null,null,null,null,null,null,null,null,null,null,null,null,null,null,null,null,null,null,null,null,null,null,null,null,null,null,null,null,null,null,null,null,null,null,null,null,null,null,null,null,null,null,null,null,null,null,null,null,null,null,null,null,null,null,null,null,null,null,null,null,null,null,null,null,null,null,null,null,null,null,null,null,null,null,null,null,null,null,null,null,null,null,null,null,null,null,null,null,null,null,null,null,null,null,null,null,null,null,null,null,null,null,null,null,null,null,null,null,null,null,null,null,null,null,null,null,null,null,null,null,null,null,null,null,null,null,null,null,null,null,null,null,null,null,null,null,null,null,null,null,null,null,null,null,null,null,null,null,null,null,null,59700,59800,60400,60700,61200,61100,60800,60700,61000,61000,null,null,null,null,null,15600,15600]
[null,null,null,null,null,null,null,null,null,null,null,null,null,null,null,null,null,null,null,null,null,null,null,null,null,null,null,null,null,null,null,null,null,null,null,null,null,null,null,null,null,null,null,null,null,null,null,null,null,null,null,null,null,null,null,null,null,null,null,null,null,null,null,null,null,null,null,null,null,null,null,null,null,null,null,null,null,null,null,null,null,null,null,null,null,null,null,null,null,null,null,null,null,null,null,null,null,null,null,null,null,null,null,null,null,null,null,null,null,null,null,null,null,null,null,null,null,null,null,null,null,null,null,null,null,null,null,null,null,null,null,null,null,null,null,null,null,null,null,null,null,null,null,null,null,null,null,null,null,null,null,null,null,null,null,null,null,null,null,null,null,null,null,null,null,null,null,null,null,null,null,null,null,null,null,null,null,null,null,null,null,null,null,null,null,null,null,null,null,null,null,null,null,null,null,null,null,null,null,null,null,null,null,null,null,null,null,null,null,null,null,null,null,null,null,null,null,null,null,null,null,null,null,3500,4000,4600,4900,4900,4900,4700,4600,4500,4100,null,null,null,null,null,72200,72100]
[null,null,null,null,null,null,null,null,null,null,null,null,null,null,null,null,null,null,null,null,null,null,null,null,null,null,null,null,null,null,null,null,null,null,null,null,null,null,null,null,null,null,null,null,null,null,null,null,null,null,null,null,null,null,null,null,null,null,null,null,null,null,null,null,null,null,null,null,null,null,null,null,null,null,null,null,null,null,null,null,null,null,null,null,null,null,null,null,null,null,null,null,null,null,null,null,null,null,null,null,null,null,null,null,null,null,null,null,null,null,null,null,null,null,null,null,null,null,null,null,null,null,null,null,null,null,null,null,null,null,null,null,null,null,null,null,null,null,null,null,null,null,null,null,null,null,null,null,null,null,null,null,null,null,null,null,null,null,null,null,null,null,null,null,null,null,null,null,null,null,null,null,null,null,null,null,null,null,null,null,null,null,null,null,null,null,null,null,null,null,null,null,null,null,null,null,null,null,null,null,null,null,null,null,null,null,null,null,null,null,null,null,null,null,null,null,null,null,null,null,null,null,null,10600,10600,10700,10900,11000,10900,10800,10700,10700,10700,null,null,null,null,null,61000,61400]
[null,null,null,null,null,null,null,null,null,null,null,null,null,null,null,null,null,null,null,null,null,null,null,null,null,null,null,null,null,null,null,null,null,null,null,null,null,null,null,null,null,null,null,null,null,null,null,null,null,null,null,null,null,null,null,null,null,null,null,null,null,null,null,null,null,null,null,null,null,null,null,null,null,null,null,null,null,null,null,null,null,null,null,null,null,null,null,null,null,null,null,null,null,null,null,null,null,null,null,null,null,null,null,null,null,null,null,null,null,null,null,null,null,null,null,null,null,null,null,null,null,null,null,null,null,null,null,null,null,null,null,null,null,null,null,null,null,null,null,null,null,null,null,null,null,null,null,null,null,null,null,null,null,null,null,null,null,null,null,null,null,null,null,null,null,null,null,null,null,null,null,null,null,null,null,null,null,null,null,null,null,null,null,null,null,null,null,null,null,null,null,null,null,null,null,null,null,null,null,null,null,null,null,null,null,null,null,null,null,null,null,null,null,null,null,null,null,null,null,null,null,null,null,16900,16900,17100,17000,17100,16900,17000,17300,17500,17500,null,null,null,null,null,4400,4400]
[null,null,null,null,null,null,null,null,null,null,null,null,null,null,null,null,null,null,null,null,null,null,null,null,null,null,null,null,null,null,null,null,null,null,null,null,null,null,null,null,null,null,null,null,null,null,null,null,null,null,null,null,null,null,null,null,null,null,null,null,null,null,null,null,null,null,null,null,null,null,null,null,null,null,null,null,null,null,null,null,null,null,null,null,null,null,null,null,null,null,null,null,null,null,null,null,null,null,null,null,null,null,null,null,null,null,null,null,null,null,null,null,null,null,null,null,null,null,null,null,null,null,null,null,null,null,null,null,null,null,null,null,null,null,null,null,null,null,null,null,null,null,null,null,null,null,null,null,null,null,null,null,null,null,null,null,null,null,null,null,null,null,null,null,null,null,null,null,null,null,null,null,null,null,null,null,null,null,null,null,null,null,null,null,null,null,null,null,null,null,null,null,null,null,null,null,null,null,null,null,null,null,null,null,null,null,null,null,null,null,null,null,null,null,null,null,null,null,null,null,null,null,null,3000,3000,3000,3000,3100,3000,3100,3100,3000,3000,null,null,null,null,null,11200,11200]
[null,null,null,null,null,null,null,null,null,null,null,null,null,null,null,null,null,null,null,null,null,null,null,null,null,null,null,null,null,null,null,null,null,null,null,null,null,null,null,null,null,null,null,null,null,null,null,null,null,null,null,null,null,null,null,null,null,null,null,null,null,null,null,null,null,null,null,null,null,null,null,null,null,null,null,null,null,null,null,null,null,null,null,null,null,null,null,null,null,null,null,null,null,null,null,null,null,null,null,null,null,null,null,null,null,null,null,null,null,null,null,null,null,null,null,null,null,null,null,null,null,null,null,null,null,null,null,null,null,null,null,null,null,null,null,null,null,null,null,null,null,null,null,null,null,null,null,null,null,null,null,null,null,null,null,null,null,null,null,null,null,null,null,null,null,null,null,null,null,null,null,null,null,null,null,null,null,null,null,null,null,null,null,null,null,null,null,null,null,null,null,null,null,null,null,null,null,null,null,null,null,null,null,null,null,null,null,null,null,null,null,null,null,null,null,null,null,null,null,null,null,null,null,10300,10300,10500,10400,10400,10300,10200,10400,10600,10600,null,null,null,null,null,17300,17300]
[null,null,null,null,null,null,null,null,null,null,null,null,null,null,null,null,null,null,null,null,null,null,null,null,null,null,null,null,null,null,null,null,null,null,null,null,null,null,null,null,null,null,null,null,null,null,null,null,null,null,null,null,null,null,null,null,null,null,null,null,null,null,null,null,null,null,null,null,null,null,null,null,null,null,null,null,null,null,null,null,null,null,null,null,null,null,null,null,null,null,null,null,null,null,null,null,null,null,null,null,null,null,null,null,null,null,null,null,null,null,null,null,null,null,null,null,null,null,null,null,null,null,null,null,null,null,null,null,null,null,null,null,null,null,null,null,null,null,null,null,null,null,null,null,null,null,null,null,null,null,null,null,null,null,null,null,null,null,null,null,null,null,null,null,null,null,null,null,null,null,null,null,null,null,null,null,null,null,null,null,null,null,null,null,null,null,null,null,null,null,null,null,null,null,null,null,null,null,null,null,null,null,null,null,null,null,null,null,null,null,null,null,null,null,null,null,null,null,null,null,null,null,null,3600,3600,3600,3600,3600,3600,3700,3800,3900,3900,null,null,null,null,null,3100,3100]
[null,null,null,null,null,null,null,null,null,null,null,null,null,null,null,null,null,null,null,null,null,null,null,null,null,null,null,null,null,null,null,null,null,null,null,null,null,null,null,null,null,null,null,null,null,null,null,null,null,null,null,null,null,null,null,null,null,null,null,null,null,null,null,null,null,null,null,null,null,null,null,null,null,null,null,null,null,null,null,null,null,null,null,null,null,null,null,null,null,null,null,null,null,null,null,null,null,null,null,null,null,null,null,null,null,null,null,null,null,null,null,null,null,null,null,null,null,null,null,null,null,null,null,null,null,null,null,null,null,null,null,null,null,null,null,null,null,null,null,null,null,null,null,null,null,null,null,null,null,null,null,null,null,null,null,null,null,null,null,null,null,null,null,null,null,null,null,null,null,null,null,null,null,null,null,null,null,null,null,null,null,null,null,null,null,null,null,null,null,null,null,null,null,null,null,null,null,null,null,null,null,null,null,null,null,null,null,null,null,null,null,null,null,null,null,null,null,null,null,null,null,null,null,800,800,900,900,900,900,800,800,800,800,null,null,null,null,null,10300,10500]
[null,null,null,null,null,null,null,null,null,null,null,null,null,null,null,null,null,null,null,null,null,null,null,null,null,null,null,null,null,null,null,null,null,null,null,null,null,null,null,null,null,null,null,null,null,null,null,null,null,null,null,null,null,null,null,null,null,null,null,null,null,null,null,null,null,null,null,null,null,null,null,null,null,null,null,null,null,null,null,null,null,null,null,null,null,null,null,null,null,null,null,null,null,null,null,null,null,null,null,null,null,null,null,null,null,null,null,null,null,null,null,null,null,null,null,null,null,null,null,null,null,null,null,null,null,null,null,null,null,null,null,null,null,null,null,null,null,null,null,null,null,null,null,null,null,null,null,null,null,null,null,null,null,null,null,null,null,null,null,null,null,null,null,null,null,null,null,null,null,null,null,null,null,null,null,null,null,null,null,null,null,null,null,null,null,null,null,null,null,null,null,null,null,null,null,null,null,null,null,null,null,null,null,null,null,null,null,null,null,null,null,null,null,null,null,null,null,null,null,null,null,null,null,3900,3900,3900,4000,4000,4000,3900,3900,3900,3900,null,null,null,null,null,3900,3700]
[null,null,null,null,null,null,null,null,null,null,null,null,null,null,null,null,null,null,null,null,null,null,null,null,null,null,null,null,null,null,null,null,null,null,null,null,null,null,null,null,null,null,null,null,null,null,null,null,null,null,null,null,null,null,null,null,null,null,null,null,null,null,null,null,null,null,null,null,null,null,null,null,null,null,null,null,null,null,null,null,null,null,null,null,null,null,null,null,null,null,null,null,null,null,null,null,null,null,null,null,null,null,null,null,null,null,null,null,null,null,null,null,null,null,null,null,null,null,null,null,null,null,null,null,null,null,null,null,null,null,null,null,null,null,null,null,null,null,null,null,null,null,null,null,null,null,null,null,null,null,null,null,null,null,null,null,null,null,null,null,null,null,null,null,null,null,null,null,null,null,null,null,null,null,null,null,null,null,null,null,null,null,null,null,null,null,null,null,null,null,null,null,null,null,null,null,null,null,null,null,null,null,null,null,null,null,null,null,null,null,null,null,null,null,null,null,null,null,null,null,null,null,null,9100,9100,9100,9300,9400,9300,9500,9500,9500,9400,null,null,null,null,null,800,800]
[null,null,null,null,null,null,null,null,null,null,null,null,null,null,null,null,null,null,null,null,null,null,null,null,null,null,null,null,null,null,null,null,null,null,null,null,null,null,null,null,null,null,null,null,null,null,null,null,null,null,null,null,null,null,null,null,null,null,null,null,null,null,null,null,null,null,null,null,null,null,null,null,null,null,null,null,null,null,null,null,null,null,null,null,null,null,null,null,null,null,null,null,null,null,null,null,null,null,null,null,null,null,null,null,null,null,null,null,null,null,null,null,null,null,null,null,null,null,null,null,null,null,null,null,null,null,null,null,null,null,null,null,null,null,null,null,null,null,null,null,null,null,null,null,null,null,null,null,null,null,null,null,null,null,null,null,null,null,null,null,null,null,null,null,null,null,null,null,null,null,null,null,null,null,null,null,null,null,null,null,null,null,null,null,null,null,null,null,null,null,null,null,null,null,null,null,null,null,null,null,null,null,null,null,null,null,null,null,null,null,null,null,null,null,null,null,null,null,null,null,null,null,null,16400,16300,16300,16300,16200,16300,16300,16400,16400,16500,null,null,null,null,null,3900,3800]
[null,null,null,null,null,null,null,null,null,null,null,null,null,null,null,null,null,null,null,null,null,null,null,null,null,null,null,null,null,null,null,null,null,null,null,null,null,null,null,null,null,null,null,null,null,null,null,null,null,null,null,null,null,null,null,null,null,null,null,null,null,null,null,null,null,null,null,null,null,null,null,null,null,null,null,null,null,null,null,null,null,null,null,null,null,null,null,null,null,null,null,null,null,null,null,null,null,null,null,null,null,null,null,null,null,null,null,null,null,null,null,null,null,null,null,null,null,null,null,null,null,null,null,null,null,null,null,null,null,null,null,null,null,null,null,null,null,null,null,null,null,null,null,null,null,null,null,null,null,null,null,null,null,null,null,null,null,null,null,null,null,null,null,null,null,null,null,null,null,null,null,null,null,null,null,null,null,null,null,null,null,null,null,null,null,null,null,null,null,null,null,null,null,null,null,null,null,null,null,null,null,null,null,null,null,null,null,null,null,null,null,null,null,null,null,null,null,null,null,null,null,null,null,8300,8500,8800,8900,9300,9400,9000,8500,8500,8500,null,null,null,null,null,9500,9700]
[null,null,null,null,null,null,null,null,null,null,null,null,null,null,null,null,null,null,null,null,null,null,null,null,null,null,null,null,null,null,null,null,null,null,null,null,null,null,null,null,null,null,null,null,null,null,null,null,null,null,null,null,null,null,null,null,null,null,null,null,null,null,null,null,null,null,null,null,null,null,null,null,null,null,null,null,null,null,null,null,null,null,null,null,null,null,null,null,null,null,null,null,null,null,null,null,null,null,null,null,null,null,null,null,null,null,null,null,null,null,null,null,null,null,null,null,null,null,null,null,null,null,null,null,null,null,null,null,null,null,null,null,null,null,null,null,null,null,null,null,null,null,null,null,null,null,null,null,null,null,null,null,null,null,null,null,null,null,null,null,null,null,null,null,null,null,null,null,null,null,null,null,null,null,null,null,null,null,null,null,null,null,null,null,null,null,null,null,null,null,null,null,null,null,null,null,null,null,null,null,null,null,null,null,null,null,null,null,null,null,null,null,null,null,null,null,null,null,null,null,null,null,null,4300,4300,4300,4300,4300,4300,4300,4300,4400,4400,null,null,null,null,null,16300,16300]
[null,null,null,null,null,null,null,null,null,null,null,null,null,null,null,null,null,null,null,null,null,null,null,null,null,null,null,null,null,null,null,null,null,null,null,null,null,null,null,null,null,null,null,null,null,null,null,null,null,null,null,null,null,null,null,null,null,null,null,null,null,null,null,null,null,null,null,null,null,null,null,null,null,null,null,null,null,null,null,null,null,null,null,null,null,null,null,null,null,null,null,null,null,null,null,null,null,null,null,null,null,null,null,null,null,null,null,null,null,null,null,null,null,null,null,null,null,null,null,null,null,null,null,null,null,null,null,null,null,null,null,null,null,null,null,null,null,null,null,null,null,null,null,null,null,null,null,null,null,null,null,null,null,null,null,null,null,null,null,null,null,null,null,null,null,null,null,null,null,null,null,null,null,null,null,null,null,null,null,null,null,null,null,null,null,null,null,null,null,null,null,null,null,null,null,null,null,null,null,null,null,null,null,null,null,null,null,null,null,null,null,null,null,null,null,null,null,null,null,null,null,null,null,12400,13000,12400,11300,10800,11300,11800,12500,12600,12700,null,null,null,null,null,8800,9100]
[null,null,null,null,null,null,null,null,null,null,null,null,null,null,null,null,null,null,null,null,null,null,null,null,null,null,null,null,null,null,null,null,null,null,null,null,null,null,null,null,null,null,null,null,null,null,null,null,null,null,null,null,null,null,null,null,null,null,null,null,null,null,null,null,null,null,null,null,null,null,null,null,null,null,null,null,null,null,null,null,null,null,null,null,null,null,null,null,null,null,null,null,null,null,null,null,null,null,null,null,null,null,null,null,null,null,null,null,null,null,null,null,null,null,null,null,null,null,null,null,null,null,null,null,null,null,null,null,null,null,null,null,null,null,null,null,null,null,null,null,null,null,null,null,null,null,null,null,null,null,null,null,null,null,null,null,null,null,null,null,null,null,null,null,null,null,null,null,null,null,null,null,null,null,null,null,null,null,null,null,null,null,null,null,null,null,null,null,null,null,null,null,null,null,null,null,null,null,null,null,null,null,null,null,null,null,null,null,null,null,null,null,null,null,null,null,null,null,null,null,null,null,null,500,500,500,500,500,500,500,600,500,500,null,null,null,null,null,4400,4400]
[null,null,null,null,null,null,null,null,null,null,null,null,null,null,null,null,null,null,null,null,null,null,null,null,null,null,null,null,null,null,null,null,null,null,null,null,null,null,null,null,null,null,null,null,null,null,null,null,null,null,null,null,null,null,null,null,null,null,null,null,null,null,null,null,null,null,null,null,null,null,null,null,null,null,null,null,null,null,null,null,null,null,null,null,null,null,null,null,null,null,null,null,null,null,null,null,null,null,null,null,null,null,null,null,null,null,null,null,null,null,null,null,null,null,null,null,null,null,null,null,null,null,null,null,null,null,null,null,null,null,null,null,null,null,null,null,null,null,null,null,null,null,null,null,null,null,null,null,null,null,null,null,null,null,null,null,null,null,null,null,null,null,null,null,null,null,null,null,null,null,null,null,null,null,null,null,null,null,null,null,null,null,null,null,null,null,null,null,null,null,null,null,null,null,null,null,null,null,null,null,null,null,null,null,null,null,null,null,null,null,null,null,null,null,null,null,null,null,null,null,null,null,null,4600,4600,4500,3400,3500,3300,4000,4500,4700,4700,null,null,null,null,null,11200,10700]
[null,null,null,null,null,null,null,null,null,null,null,null,null,null,null,null,null,null,null,null,null,null,null,null,null,null,null,null,null,null,null,null,null,null,null,null,null,null,null,null,null,null,null,null,null,null,null,null,null,null,null,null,null,null,null,null,null,null,null,null,null,null,null,null,null,null,null,null,null,null,null,null,null,null,null,null,null,null,null,null,null,null,null,null,null,null,null,null,null,null,null,null,null,null,null,null,null,null,null,null,null,null,null,null,null,null,null,null,null,null,null,null,null,null,null,null,null,null,null,null,null,null,null,null,null,null,null,null,null,null,null,null,null,null,null,null,null,null,null,null,null,null,null,null,null,null,null,null,null,null,null,null,null,null,null,null,null,null,null,null,null,null,null,null,null,null,null,null,null,null,null,null,null,null,null,null,null,null,null,null,null,null,null,null,null,null,null,null,null,null,null,null,null,null,null,null,null,null,null,null,null,null,null,null,null,null,null,null,null,null,null,null,null,null,null,null,null,null,null,null,null,null,null,7300,7900,7400,7400,6800,7500,7300,7400,7400,7500,null,null,null,null,null,500,500]
[null,null,null,null,null,null,null,null,null,null,null,null,null,null,null,null,null,null,null,null,null,null,null,null,null,null,null,null,null,null,null,null,null,null,null,null,null,null,null,null,null,null,null,null,null,null,null,null,null,null,null,null,null,null,null,null,null,null,null,null,null,null,null,null,null,null,null,null,null,null,null,null,null,null,null,null,null,null,null,null,null,null,null,null,null,null,null,null,null,null,null,null,null,null,null,null,null,null,null,null,null,null,null,null,null,null,null,null,null,null,null,null,null,null,null,null,null,null,null,null,null,null,null,null,null,null,null,null,null,null,null,null,null,null,null,null,null,null,null,null,null,null,null,null,null,null,null,null,null,null,null,null,null,null,null,null,null,null,null,null,null,null,null,null,null,null,null,null,null,null,null,null,null,null,null,null,null,null,null,null,null,null,null,null,null,null,null,null,null,null,null,null,null,null,null,null,null,null,null,null,null,null,null,null,null,null,null,null,null,null,null,null,null,null,null,null,null,null,null,null,null,null,null,48000,48300,48900,49500,49100,48900,49400,49600,49700,49500,null,null,null,null,null,3200,3300]
[null,null,null,null,null,null,null,null,null,null,null,null,null,null,null,null,null,null,null,null,null,null,null,null,null,null,null,null,null,null,null,null,null,null,null,null,null,null,null,null,null,null,null,null,null,null,null,null,null,null,null,null,null,null,null,null,null,null,null,null,null,null,null,null,null,null,null,null,null,null,null,null,null,null,null,null,null,null,null,null,null,null,null,null,null,null,null,null,null,null,null,null,null,null,null,null,null,null,null,null,null,null,null,null,null,null,null,null,null,null,null,null,null,null,null,null,null,null,null,null,null,null,null,null,null,null,null,null,null,null,null,null,null,null,null,null,null,null,null,null,null,null,null,null,null,null,null,null,null,null,null,null,null,null,null,null,null,null,null,null,null,null,null,null,null,null,null,null,null,null,null,null,null,null,null,null,null,null,null,null,null,null,null,null,null,null,null,null,null,null,null,null,null,null,null,null,null,null,null,null,null,null,null,null,null,null,null,null,null,null,null,null,null,null,null,null,null,null,null,null,null,null,null,42100,42300,42900,43600,43600,43500,43700,43600,43700,43600,null,null,null,null,null,7500,6900]
[null,null,null,null,null,null,null,null,null,null,null,null,null,null,null,null,null,null,null,null,null,null,null,null,null,null,null,null,null,null,null,null,null,null,null,null,null,null,null,null,null,null,null,null,null,null,null,null,null,null,null,null,null,null,null,null,null,null,null,null,null,null,null,null,null,null,null,null,null,null,null,null,null,null,null,null,null,null,null,null,null,null,null,null,null,null,null,null,null,null,null,null,null,null,null,null,null,null,null,null,null,null,null,null,null,null,null,null,null,null,null,null,null,null,null,null,null,null,null,null,null,null,null,null,null,null,null,null,null,null,null,null,null,null,null,null,null,null,null,null,null,null,null,null,null,null,null,null,null,null,null,null,null,null,null,null,null,null,null,null,null,null,null,null,null,null,null,null,null,null,null,null,null,null,null,null,null,null,null,null,null,null,null,null,null,null,null,null,null,null,null,null,null,null,null,null,null,null,null,null,null,null,null,null,null,null,null,null,null,null,null,null,null,null,null,null,null,null,null,null,null,null,null,13900,13900,14300,14800,14900,14800,14800,14600,14600,14500,null,null,null,null,null,50200,49600]
[null,null,null,null,null,null,null,null,null,null,null,null,null,null,null,null,null,null,null,null,null,null,null,null,null,null,null,null,null,null,null,null,null,null,null,null,null,null,null,null,null,null,null,null,null,null,null,null,null,null,null,null,null,null,null,null,null,null,null,null,null,null,null,null,null,null,null,null,null,null,null,null,null,null,null,null,null,null,null,null,null,null,null,null,null,null,null,null,null,null,null,null,null,null,null,null,null,null,null,null,null,null,null,null,null,null,null,null,null,null,null,null,null,null,null,null,null,null,null,null,null,null,null,null,null,null,null,null,null,null,null,null,null,null,null,null,null,null,null,null,null,null,null,null,null,null,null,null,null,null,null,null,null,null,null,null,null,null,null,null,null,null,null,null,null,null,null,null,null,null,null,null,null,null,null,null,null,null,null,null,null,null,null,null,null,null,null,null,null,null,null,null,null,null,null,null,null,null,null,null,null,null,null,null,null,null,null,null,null,null,null,null,null,null,null,null,null,null,null,null,null,null,null,34100,34400,34600,34700,34200,34100,34600,35000,35100,35000,null,null,null,null,null,44200,44200]
[null,null,null,null,null,null,null,null,null,null,null,null,null,null,null,null,null,null,null,null,null,null,null,null,null,null,null,null,null,null,null,null,null,null,null,null,null,null,null,null,null,null,null,null,null,null,null,null,null,null,null,null,null,null,null,null,null,null,null,null,null,null,null,null,null,null,null,null,null,null,null,null,null,null,null,null,null,null,null,null,null,null,null,null,null,null,null,null,null,null,null,null,null,null,null,null,null,null,null,null,null,null,null,null,null,null,null,null,null,null,null,null,null,null,null,null,null,null,null,null,null,null,null,null,null,null,null,null,null,null,null,null,null,null,null,null,null,null,null,null,null,null,null,null,null,null,null,null,null,null,null,null,null,null,null,null,null,null,null,null,null,null,null,null,null,null,null,null,null,null,null,null,null,null,null,null,null,null,null,null,null,null,null,null,null,null,null,null,null,null,null,null,null,null,null,null,null,null,null,null,null,null,null,null,null,null,null,null,null,null,null,null,null,null,null,null,null,null,null,null,null,null,null,28200,28400,28600,28800,28700,28700,28900,29000,29100,29100,null,null,null,null,null,15100,15300]
[null,null,null,null,null,null,null,null,null,null,null,null,null,null,null,null,null,null,null,null,null,null,null,null,null,null,null,null,null,null,null,null,null,null,null,null,null,null,null,null,null,null,null,null,null,null,null,null,null,null,null,null,null,null,null,null,null,null,null,null,null,null,null,null,null,null,null,null,null,null,null,null,null,null,null,null,null,null,null,null,null,null,null,null,null,null,null,null,null,null,null,null,null,null,null,null,null,null,null,null,null,null,null,null,null,null,null,null,null,null,null,null,null,null,null,null,null,null,null,null,null,null,null,null,null,null,null,null,null,null,null,null,null,null,null,null,null,null,null,null,null,null,null,null,null,null,null,null,null,null,null,null,null,null,null,null,null,null,null,null,null,null,null,null,null,null,null,null,null,null,null,null,null,null,null,null,null,null,null,null,null,null,null,null,null,null,null,null,null,null,null,null,null,null,null,null,null,null,null,null,null,null,null,null,null,null,null,null,null,null,null,null,null,null,null,null,null,null,null,null,null,null,null,2800,2900,3100,3300,3300,3300,3300,3200,3200,3100,null,null,null,null,null,35100,34300]
[null,null,null,null,null,null,null,null,null,null,null,null,null,null,null,null,null,null,null,null,null,null,null,null,null,null,null,null,null,null,null,null,null,null,null,null,null,null,null,null,null,null,null,null,null,null,null,null,null,null,null,null,null,null,null,null,null,null,null,null,null,null,null,null,null,null,null,null,null,null,null,null,null,null,null,null,null,null,null,null,null,null,null,null,null,null,null,null,null,null,null,null,null,null,null,null,null,null,null,null,null,null,null,null,null,null,null,null,null,null,null,null,null,null,null,null,null,null,null,null,null,null,null,null,null,null,null,null,null,null,null,null,null,null,null,null,null,null,null,null,null,null,null,null,null,null,null,null,null,null,null,null,null,null,null,null,null,null,null,null,null,null,null,null,null,null,null,null,null,null,null,null,null,null,null,null,null,null,null,null,null,null,null,null,null,null,null,null,null,null,null,null,null,null,null,null,null,null,null,null,null,null,null,null,null,null,null,null,null,null,null,null,null,null,null,null,null,null,null,null,null,null,null,11100,11000,11200,11500,11600,11500,11500,11400,11400,11400,null,null,null,null,null,29100,28900]
[null,null,null,null,null,null,null,null,null,null,null,null,null,null,null,null,null,null,null,null,null,null,null,null,null,null,null,null,null,null,null,null,null,null,null,null,null,null,null,null,null,null,null,null,null,null,null,null,null,null,null,null,null,null,null,null,null,null,null,null,null,null,null,null,null,null,null,null,null,null,null,null,null,null,null,null,null,null,null,null,null,null,null,null,null,null,null,null,null,null,null,null,null,null,null,null,null,null,null,null,null,null,null,null,null,null,null,null,null,null,null,null,null,null,null,null,null,null,null,null,null,null,null,null,null,null,null,null,null,null,null,null,null,null,null,null,null,null,null,null,null,null,null,null,null,null,null,null,null,null,null,null,null,null,null,null,null,null,null,null,null,null,null,null,null,null,null,null,null,null,null,null,null,null,null,null,null,null,null,null,null,null,null,null,null,null,null,null,null,null,null,null,null,null,null,null,null,null,null,null,null,null,null,null,null,null,null,null,null,null,null,null,null,null,null,null,null,null,null,null,null,null,null,8900,9000,9200,9200,9000,9000,9000,9100,9300,9200,null,null,null,null,null,3500,3600]
[null,null,null,null,null,null,null,null,null,null,null,null,null,null,null,null,null,null,null,null,null,null,null,null,null,null,null,null,null,null,null,null,null,null,null,null,null,null,null,null,null,null,null,null,null,null,null,null,null,null,null,null,null,null,null,null,null,null,null,null,null,null,null,null,null,null,null,null,null,null,null,null,null,null,null,null,null,null,null,null,null,null,null,null,null,null,null,null,null,null,null,null,null,null,null,null,null,null,null,null,null,null,null,null,null,null,null,null,null,null,null,null,null,null,null,null,null,null,null,null,null,null,null,null,null,null,null,null,null,null,null,null,null,null,null,null,null,null,null,null,null,null,null,null,null,null,null,null,null,null,null,null,null,null,null,null,null,null,null,null,null,null,null,null,null,null,null,null,null,null,null,null,null,null,null,null,null,null,null,null,null,null,null,null,null,null,null,null,null,null,null,null,null,null,null,null,null,null,null,null,null,null,null,null,null,null,null,null,null,null,null,null,null,null,null,null,null,null,null,null,null,null,null,1800,1800,1900,1900,1900,1900,1900,1900,1900,1800,null,null,null,null,null,11600,11700]
[null,null,null,null,null,null,null,null,null,null,null,null,null,null,null,null,null,null,null,null,null,null,null,null,null,null,null,null,null,null,null,null,null,null,null,null,null,null,null,null,null,null,null,null,null,null,null,null,null,null,null,null,null,null,null,null,null,null,null,null,null,null,null,null,null,null,null,null,null,null,null,null,null,null,null,null,null,null,null,null,null,null,null,null,null,null,null,null,null,null,null,null,null,null,null,null,null,null,null,null,null,null,null,null,null,null,null,null,null,null,null,null,null,null,null,null,null,null,null,null,null,null,null,null,null,null,null,null,null,null,null,null,null,null,null,null,null,null,null,null,null,null,null,null,null,null,null,null,null,null,null,null,null,null,null,null,null,null,null,null,null,null,null,null,null,null,null,null,null,null,null,null,null,null,null,null,null,null,null,null,null,null,null,null,null,null,null,null,null,null,null,null,null,null,null,null,null,null,null,null,null,null,null,null,null,null,null,null,null,null,null,null,null,null,null,null,null,null,null,null,null,null,null,5400,5500,5600,5600,5500,5500,5400,5500,5700,5700,null,null,null,null,null,8900,8900]
[null,null,null,null,null,null,null,null,null,null,null,null,null,null,null,null,null,null,null,null,null,null,null,null,null,null,null,null,null,null,null,null,null,null,null,null,null,null,null,null,null,null,null,null,null,null,null,null,null,null,null,null,null,null,null,null,null,null,null,null,null,null,null,null,null,null,null,null,null,null,null,null,null,null,null,null,null,null,null,null,null,null,null,null,null,null,null,null,null,null,null,null,null,null,null,null,null,null,null,null,null,null,null,null,null,null,null,null,null,null,null,null,null,null,null,null,null,null,null,null,null,null,null,null,null,null,null,null,null,null,null,null,null,null,null,null,null,null,null,null,null,null,null,null,null,null,null,null,null,null,null,null,null,null,null,null,null,null,null,null,null,null,null,null,null,null,null,null,null,null,null,null,null,null,null,null,null,null,null,null,null,null,null,null,null,null,null,null,null,null,null,null,null,null,null,null,null,null,null,null,null,null,null,null,null,null,null,null,null,null,null,null,null,null,null,null,null,null,null,null,null,null,null,1700,1700,1700,1700,1600,1600,1700,1700,1700,1700,null,null,null,null,null,1800,1800]
[null,null,null,null,null,null,null,null,null,null,null,null,null,null,null,null,null,null,null,null,null,null,null,null,null,null,null,null,null,null,null,null,null,null,null,null,null,null,null,null,null,null,null,null,null,null,null,null,null,null,null,null,null,null,null,null,null,null,null,null,null,null,null,null,null,null,null,null,null,null,null,null,null,null,null,null,null,null,null,null,null,null,null,null,null,null,null,null,null,null,null,null,null,null,null,null,null,null,null,null,null,null,null,null,null,null,null,null,null,null,null,null,null,null,null,null,null,null,null,null,null,null,null,null,null,null,null,null,null,null,null,null,null,null,null,null,null,null,null,null,null,null,null,null,null,null,null,null,null,null,null,null,null,null,null,null,null,null,null,null,null,null,null,null,null,null,null,null,null,null,null,null,null,null,null,null,null,null,null,null,null,null,null,null,null,null,null,null,null,null,null,null,null,null,null,null,null,null,null,null,null,null,null,null,null,null,null,null,null,null,null,null,null,null,null,null,null,null,null,null,null,null,null,800,800,800,900,900,800,800,800,800,900,null,null,null,null,null,5400,5400]
[null,null,null,null,null,null,null,null,null,null,null,null,null,null,null,null,null,null,null,null,null,null,null,null,null,null,null,null,null,null,null,null,null,null,null,null,null,null,null,null,null,null,null,null,null,null,null,null,null,null,null,null,null,null,null,null,null,null,null,null,null,null,null,null,null,null,null,null,null,null,null,null,null,null,null,null,null,null,null,null,null,null,null,null,null,null,null,null,null,null,null,null,null,null,null,null,null,null,null,null,null,null,null,null,null,null,null,null,null,null,null,null,null,null,null,null,null,null,null,null,null,null,null,null,null,null,null,null,null,null,null,null,null,null,null,null,null,null,null,null,null,null,null,null,null,null,null,null,null,null,null,null,null,null,null,null,null,null,null,null,null,null,null,null,null,null,null,null,null,null,null,null,null,null,null,null,null,null,null,null,null,null,null,null,null,null,null,null,null,null,null,null,null,null,null,null,null,null,null,null,null,null,null,null,null,null,null,null,null,null,null,null,null,null,null,null,null,null,null,null,null,null,null,1800,1800,1800,1800,1900,1800,1800,1800,1800,1800,null,null,null,null,null,1700,1700]
[null,null,null,null,null,null,null,null,null,null,null,null,null,null,null,null,null,null,null,null,null,null,null,null,null,null,null,null,null,null,null,null,null,null,null,null,null,null,null,null,null,null,null,null,null,null,null,null,null,null,null,null,null,null,null,null,null,null,null,null,null,null,null,null,null,null,null,null,null,null,null,null,null,null,null,null,null,null,null,null,null,null,null,null,null,null,null,null,null,null,null,null,null,null,null,null,null,null,null,null,null,null,null,null,null,null,null,null,null,null,null,null,null,null,null,null,null,null,null,null,null,null,null,null,null,null,null,null,null,null,null,null,null,null,null,null,null,null,null,null,null,null,null,null,null,null,null,null,null,null,null,null,null,null,null,null,null,null,null,null,null,null,null,null,null,null,null,null,null,null,null,null,null,null,null,null,null,null,null,null,null,null,null,null,null,null,null,null,null,null,null,null,null,null,null,null,null,null,null,null,null,null,null,null,null,null,null,null,null,null,null,null,null,null,null,null,null,null,null,null,null,null,null,2800,2900,2900,3000,3000,3100,3200,3200,3200,3100,null,null,null,null,null,900,900]
[null,null,null,null,null,null,null,null,null,null,null,null,null,null,null,null,null,null,null,null,null,null,null,null,null,null,null,null,null,null,null,null,null,null,null,null,null,null,null,null,null,null,null,null,null,null,null,null,null,null,null,null,null,null,null,null,null,null,null,null,null,null,null,null,null,null,null,null,null,null,null,null,null,null,null,null,null,null,null,null,null,null,null,null,null,null,null,null,null,null,null,null,null,null,null,null,null,null,null,null,null,null,null,null,null,null,null,null,null,null,null,null,null,null,null,null,null,null,null,null,null,null,null,null,null,null,null,null,null,null,null,null,null,null,null,null,null,null,null,null,null,null,null,null,null,null,null,null,null,null,null,null,null,null,null,null,null,null,null,null,null,null,null,null,null,null,null,null,null,null,null,null,null,null,null,null,null,null,null,null,null,null,null,null,null,null,null,null,null,null,null,null,null,null,null,null,null,null,null,null,null,null,null,null,null,null,null,null,null,null,null,null,null,null,null,null,null,null,null,null,null,null,null,7400,7400,7400,7300,7400,7400,7600,7600,7600,7600,null,null,null,null,null,1900,1900]
[null,null,null,null,null,null,null,null,null,null,null,null,null,null,null,null,null,null,null,null,null,null,null,null,null,null,null,null,null,null,null,null,null,null,null,null,null,null,null,null,null,null,null,null,null,null,null,null,null,null,null,null,null,null,null,null,null,null,null,null,null,null,null,null,null,null,null,null,null,null,null,null,null,null,null,null,null,null,null,null,null,null,null,null,null,null,null,null,null,null,null,null,null,null,null,null,null,null,null,null,null,null,null,null,null,null,null,null,null,null,null,null,null,null,null,null,null,null,null,null,null,null,null,null,null,null,null,null,null,null,null,null,null,null,null,null,null,null,null,null,null,null,null,null,null,null,null,null,null,null,null,null,null,null,null,null,null,null,null,null,null,null,null,null,null,null,null,null,null,null,null,null,null,null,null,null,null,null,null,null,null,null,null,null,null,null,null,null,null,null,null,null,null,null,null,null,null,null,null,null,null,null,null,null,null,null,null,null,null,null,null,null,null,null,null,null,null,null,null,null,null,null,null,6400,6400,6500,6500,6600,6700,6600,6700,6700,6700,null,null,null,null,null,3100,3000]
[null,null,null,null,null,null,null,null,null,null,null,null,null,null,null,null,null,null,null,null,null,null,null,null,null,null,null,null,null,null,null,null,null,null,null,null,null,null,null,null,null,null,null,null,null,null,null,null,null,null,null,null,null,null,null,null,null,null,null,null,null,null,null,null,null,null,null,null,null,null,null,null,null,null,null,null,null,null,null,null,null,null,null,null,null,null,null,null,null,null,null,null,null,null,null,null,null,null,null,null,null,null,null,null,null,null,null,null,null,null,null,null,null,null,null,null,null,null,null,null,null,null,null,null,null,null,null,null,null,null,null,null,null,null,null,null,null,null,null,null,null,null,null,null,null,null,null,null,null,null,null,null,null,null,null,null,null,null,null,null,null,null,null,null,null,null,null,null,null,null,null,null,null,null,null,null,null,null,null,null,null,null,null,null,null,null,null,null,null,null,null,null,null,null,null,null,null,null,null,null,null,null,null,null,null,null,null,null,null,null,null,null,null,null,null,null,null,null,null,null,null,null,null,3900,4000,4000,4100,4000,4100,4000,4000,3900,3900,null,null,null,null,null,7400,7400]
[null,null,null,null,null,null,null,null,null,null,null,null,null,null,null,null,null,null,null,null,null,null,null,null,null,null,null,null,null,null,null,null,null,null,null,null,null,null,null,null,null,null,null,null,null,null,null,null,null,null,null,null,null,null,null,null,null,null,null,null,null,null,null,null,null,null,null,null,null,null,null,null,null,null,null,null,null,null,null,null,null,null,null,null,null,null,null,null,null,null,null,null,null,null,null,null,null,null,null,null,null,null,null,null,null,null,null,null,null,null,null,null,null,null,null,null,null,null,null,null,null,null,null,null,null,null,null,null,null,null,null,null,null,null,null,null,null,null,null,null,null,null,null,null,null,null,null,null,null,null,null,null,null,null,null,null,null,null,null,null,null,null,null,null,null,null,null,null,null,null,null,null,null,null,null,null,null,null,null,null,null,null,null,null,null,null,null,null,null,null,null,null,null,null,null,null,null,null,null,null,null,null,null,null,null,null,null,null,null,null,null,null,null,null,null,null,null,null,null,null,null,null,null,2600,2500,2500,2500,2500,2500,2500,2500,2500,2600,null,null,null,null,null,6500,6500]
[null,null,null,null,null,null,null,null,null,null,null,null,null,null,null,null,null,null,null,null,null,null,null,null,null,null,null,null,null,null,null,null,null,null,null,null,null,null,null,null,null,null,null,null,null,null,null,null,null,null,null,null,null,null,null,null,null,null,null,null,null,null,null,null,null,null,null,null,null,null,null,null,null,null,null,null,null,null,null,null,null,null,null,null,null,null,null,null,null,null,null,null,null,null,null,null,null,null,null,null,null,null,null,null,null,null,null,null,null,null,null,null,null,null,null,null,null,null,null,null,null,null,null,null,null,null,null,null,null,null,null,null,null,null,null,null,null,null,null,null,null,null,null,null,null,null,null,null,null,null,null,null,null,null,null,null,null,null,null,null,null,null,null,null,null,null,null,null,null,null,null,null,null,null,null,null,null,null,null,null,null,null,null,null,null,null,null,null,null,null,null,null,null,null,null,null,null,null,null,null,null,null,null,null,null,null,null,null,null,null,null,null,null,null,null,null,null,null,null,null,null,null,null,5900,6000,6000,5900,5500,5400,5700,6000,6000,5900,null,null,null,null,null,4300,4300]
[null,null,null,null,null,null,null,null,null,null,null,null,null,null,null,null,null,null,null,null,null,null,null,null,null,null,null,null,null,null,null,null,null,null,null,null,null,null,null,null,null,null,null,null,null,null,null,null,null,null,null,null,null,null,null,null,null,null,null,null,null,null,null,null,null,null,null,null,null,null,null,null,null,null,null,null,null,null,null,null,null,null,null,null,null,null,null,null,null,null,null,null,null,null,null,null,null,null,null,null,null,null,null,null,null,null,null,null,null,null,null,null,null,null,null,null,null,null,null,null,null,null,null,null,null,null,null,null,null,null,null,null,null,null,null,null,null,null,null,null,null,null,null,null,null,null,null,null,null,null,null,null,null,null,null,null,null,null,null,null,null,null,null,null,null,null,null,null,null,null,null,null,null,null,null,null,null,null,null,null,null,null,null,null,null,null,null,null,null,null,null,null,null,null,null,null,null,null,null,null,null,null,null,null,null,null,null,null,null,null,null,null,null,null,null,null,null,null,null,null,null,null,null,200,200,200,200,200,200,200,200,200,200,null,null,null,null,null,2600,2500]
[null,null,null,null,null,null,null,null,null,null,null,null,null,null,null,null,null,null,null,null,null,null,null,null,null,null,null,null,null,null,null,null,null,null,null,null,null,null,null,null,null,null,null,null,null,null,null,null,null,null,null,null,null,null,null,null,null,null,null,null,null,null,null,null,null,null,null,null,null,null,null,null,null,null,null,null,null,null,null,null,null,null,null,null,null,null,null,null,null,null,null,null,null,null,null,null,null,null,null,null,null,null,null,null,null,null,null,null,null,null,null,null,null,null,null,null,null,null,null,null,null,null,null,null,null,null,null,null,null,null,null,null,null,null,null,null,null,null,null,null,null,null,null,null,null,null,null,null,null,null,null,null,null,null,null,null,null,null,null,null,null,null,null,null,null,null,null,null,null,null,null,null,null,null,null,null,null,null,null,null,null,null,null,null,null,null,null,null,null,null,null,null,null,null,null,null,null,null,null,null,null,null,null,null,null,null,null,null,null,null,null,null,null,null,null,null,null,null,null,null,null,null,null,600,600,600,600,600,600,600,600,600,600,null,null,null,null,null,6000,5400]
[null,null,null,null,null,null,null,null,null,null,null,null,null,null,null,null,null,null,null,null,null,null,null,null,null,null,null,null,null,null,null,null,null,null,null,null,null,null,null,null,null,null,null,null,null,null,null,null,null,null,null,null,null,null,null,null,null,null,null,null,null,null,null,null,null,null,null,null,null,null,null,null,null,null,null,null,null,null,null,null,null,null,null,null,null,null,null,null,null,null,null,null,null,null,null,null,null,null,null,null,null,null,null,null,null,null,null,null,null,null,null,null,null,null,null,null,null,null,null,null,null,null,null,null,null,null,null,null,null,null,null,null,null,null,null,null,null,null,null,null,null,null,null,null,null,null,null,null,null,null,null,null,null,null,null,null,null,null,null,null,null,null,null,null,null,null,null,null,null,null,null,null,null,null,null,null,null,null,null,null,null,null,null,null,null,null,null,null,null,null,null,null,null,null,null,null,null,null,null,null,null,null,null,null,null,null,null,null,null,null,null,null,null,null,null,null,null,null,null,null,null,null,null,5100,5200,5200,5100,4700,4600,4900,5200,5200,5100,null,null,null,null,null,200,200]
[null,null,null,null,null,null,null,null,null,null,null,null,null,null,null,null,null,null,null,null,null,null,null,null,null,null,null,null,null,null,null,null,null,null,null,null,null,null,null,null,null,null,null,null,null,null,null,null,null,null,null,null,null,null,null,null,null,null,null,null,null,null,null,null,null,null,null,null,null,null,null,null,null,null,null,null,null,null,null,null,null,null,null,null,null,null,null,null,null,null,null,null,null,null,null,null,null,null,null,null,null,null,null,null,null,null,null,null,null,null,null,null,null,null,null,null,null,null,null,null,null,null,null,null,null,null,null,null,null,null,null,null,null,null,null,null,null,null,null,null,null,null,null,null,null,null,null,null,null,null,null,null,null,null,null,null,null,null,null,null,null,null,null,null,null,null,null,null,null,null,null,null,null,null,null,null,null,null,null,null,null,null,null,null,null,null,null,null,null,null,null,null,null,null,null,null,null,null,null,null,null,null,null,null,null,null,null,null,null,null,null,null,null,null,null,null,null,null,null,null,null,null,null,176400,178500,180300,183100,181900,182100,181600,182600,183000,183100,null,null,null,null,null,600,600]
[null,null,null,null,null,null,null,null,null,null,null,null,null,null,null,null,null,null,null,null,null,null,null,null,null,null,null,null,null,null,null,null,null,null,null,null,null,null,null,null,null,null,null,null,null,null,null,null,null,null,null,null,null,null,null,null,null,null,null,null,null,null,null,null,null,null,null,null,null,null,null,null,null,null,null,null,null,null,null,null,null,null,null,null,null,null,null,null,null,null,null,null,null,null,null,null,null,null,null,null,null,null,null,null,null,null,null,null,null,null,null,null,null,null,null,null,null,null,null,null,null,null,null,null,null,null,null,null,null,null,null,null,null,null,null,null,null,null,null,null,null,null,null,null,null,null,null,null,null,null,null,null,null,null,null,null,null,null,null,null,null,null,null,null,null,null,null,null,null,null,null,null,null,null,null,null,null,null,null,null,null,null,null,null,null,null,null,null,null,null,null,null,null,null,null,null,null,null,null,null,null,null,null,null,null,null,null,null,null,null,null,null,null,null,null,null,null,null,null,null,null,null,null,155100,156500,158400,161400,162000,162300,160700,160800,160800,161200,null,null,null,null,null,5200,4600]
[null,null,null,null,null,null,null,null,null,null,null,null,null,null,null,null,null,null,null,null,null,null,null,null,null,null,null,null,null,null,null,null,null,null,null,null,null,null,null,null,null,null,null,null,null,null,null,null,null,null,null,null,null,null,null,null,null,null,null,null,null,null,null,null,null,null,null,null,null,null,null,null,null,null,null,null,null,null,null,null,null,null,null,null,null,null,null,null,null,null,null,null,null,null,null,null,null,null,null,null,null,null,null,null,null,null,null,null,null,null,null,null,null,null,null,null,null,null,null,null,null,null,null,null,null,null,null,null,null,null,null,null,null,null,null,null,null,null,null,null,null,null,null,null,null,null,null,null,null,null,null,null,null,null,null,null,null,null,null,null,null,null,null,null,null,null,null,null,null,null,null,null,null,null,null,null,null,null,null,null,null,null,null,null,null,null,null,null,null,null,null,null,null,null,null,null,null,null,null,null,null,null,null,null,null,null,null,null,null,null,null,null,null,null,null,null,null,null,null,null,null,null,null,38400,39100,39800,41200,41600,41500,40900,40400,40100,39800,null,null,null,null,null,185800,184100]
[null,null,null,null,null,null,null,null,null,null,null,null,null,null,null,null,null,null,null,null,null,null,null,null,null,null,null,null,null,null,null,null,null,null,null,null,null,null,null,null,null,null,null,null,null,null,null,null,null,null,null,null,null,null,null,null,null,null,null,null,null,null,null,null,null,null,null,null,null,null,null,null,null,null,null,null,null,null,null,null,null,null,null,null,null,null,null,null,null,null,null,null,null,null,null,null,null,null,null,null,null,null,null,null,null,null,null,null,null,null,null,null,null,null,null,null,null,null,null,null,null,null,null,null,null,null,null,null,null,null,null,null,null,null,null,null,null,null,null,null,null,null,null,null,null,null,null,null,null,null,null,null,null,null,null,null,null,null,null,null,null,null,null,null,null,null,null,null,null,null,null,null,null,null,null,null,null,null,null,null,null,null,null,null,null,null,null,null,null,null,null,null,null,null,null,null,null,null,null,null,null,null,null,null,null,null,null,null,null,null,null,null,null,null,null,null,null,null,null,null,null,null,null,138000,139400,140500,141900,140300,140600,140700,142200,142900,143300,null,null,null,null,null,163600,163700]
[null,null,null,null,null,null,null,null,null,null,null,null,null,null,null,null,null,null,null,null,null,null,null,null,null,null,null,null,null,null,null,null,null,null,null,null,null,null,null,null,null,null,null,null,null,null,null,null,null,null,null,null,null,null,null,null,null,null,null,null,null,null,null,null,null,null,null,null,null,null,null,null,null,null,null,null,null,null,null,null,null,null,null,null,null,null,null,null,null,null,null,null,null,null,null,null,null,null,null,null,null,null,null,null,null,null,null,null,null,null,null,null,null,null,null,null,null,null,null,null,null,null,null,null,null,null,null,null,null,null,null,null,null,null,null,null,null,null,null,null,null,null,null,null,null,null,null,null,null,null,null,null,null,null,null,null,null,null,null,null,null,null,null,null,null,null,null,null,null,null,null,null,null,null,null,null,null,null,null,null,null,null,null,null,null,null,null,null,null,null,null,null,null,null,null,null,null,null,null,null,null,null,null,null,null,null,null,null,null,null,null,null,null,null,null,null,null,null,null,null,null,null,null,116700,117400,118600,120200,120400,120800,119800,120400,120700,121400,null,null,null,null,null,40800,41100]
[null,null,null,null,null,null,null,null,null,null,null,null,null,null,null,null,null,null,null,null,null,null,null,null,null,null,null,null,null,null,null,null,null,null,null,null,null,null,null,null,null,null,null,null,null,null,null,null,null,null,null,null,null,null,null,null,null,null,null,null,null,null,null,null,null,null,null,null,null,null,null,null,null,null,null,null,null,null,null,null,null,null,null,null,null,null,null,null,null,null,null,null,null,null,null,null,null,null,null,null,null,null,null,null,null,null,null,null,null,null,null,null,null,null,null,null,null,null,null,null,null,null,null,null,null,null,null,null,null,null,null,null,null,null,null,null,null,null,null,null,null,null,null,null,null,null,null,null,null,null,null,null,null,null,null,null,null,null,null,null,null,null,null,null,null,null,null,null,null,null,null,null,null,null,null,null,null,null,null,null,null,null,null,null,null,null,null,null,null,null,null,null,null,null,null,null,null,null,null,null,null,null,null,null,null,null,null,null,null,null,null,null,null,null,null,null,null,null,null,null,null,null,null,7500,8100,8400,9100,9100,9100,9000,8800,8500,8200,null,null,null,null,null,145000,143000]
[null,null,null,null,null,null,null,null,null,null,null,null,null,null,null,null,null,null,null,null,null,null,null,null,null,null,null,null,null,null,null,null,null,null,null,null,null,null,null,null,null,null,null,null,null,null,null,null,null,null,null,null,null,null,null,null,null,null,null,null,null,null,null,null,null,null,null,null,null,null,null,null,null,null,null,null,null,null,null,null,null,null,null,null,null,null,null,null,null,null,null,null,null,null,null,null,null,null,null,null,null,null,null,null,null,null,null,null,null,null,null,null,null,null,null,null,null,null,null,null,null,null,null,null,null,null,null,null,null,null,null,null,null,null,null,null,null,null,null,null,null,null,null,null,null,null,null,null,null,null,null,null,null,null,null,null,null,null,null,null,null,null,null,null,null,null,null,null,null,null,null,null,null,null,null,null,null,null,null,null,null,null,null,null,null,null,null,null,null,null,null,null,null,null,null,null,null,null,null,null,null,null,null,null,null,null,null,null,null,null,null,null,null,null,null,null,null,null,null,null,null,null,null,30900,31000,31400,32100,32500,32400,31900,31600,31600,31600,null,null,null,null,null,122800,122600]
[null,null,null,null,null,null,null,null,null,null,null,null,null,null,null,null,null,null,null,null,null,null,null,null,null,null,null,null,null,null,null,null,null,null,null,null,null,null,null,null,null,null,null,null,null,null,null,null,null,null,null,null,null,null,null,null,null,null,null,null,null,null,null,null,null,null,null,null,null,null,null,null,null,null,null,null,null,null,null,null,null,null,null,null,null,null,null,null,null,null,null,null,null,null,null,null,null,null,null,null,null,null,null,null,null,null,null,null,null,null,null,null,null,null,null,null,null,null,null,null,null,null,null,null,null,null,null,null,null,null,null,null,null,null,null,null,null,null,null,null,null,null,null,null,null,null,null,null,null,null,null,null,null,null,null,null,null,null,null,null,null,null,null,null,null,null,null,null,null,null,null,null,null,null,null,null,null,null,null,null,null,null,null,null,null,null,null,null,null,null,null,null,null,null,null,null,null,null,null,null,null,null,null,null,null,null,null,null,null,null,null,null,null,null,null,null,null,null,null,null,null,null,null,12400,12400,12600,12900,13100,13100,12800,12700,12600,12600,null,null,null,null,null,8800,8800]
[null,null,null,null,null,null,null,null,null,null,null,null,null,null,null,null,null,null,null,null,null,null,null,null,null,null,null,null,null,null,null,null,null,null,null,null,null,null,null,null,null,null,null,null,null,null,null,null,null,null,null,null,null,null,null,null,null,null,null,null,null,null,null,null,null,null,null,null,null,null,null,null,null,null,null,null,null,null,null,null,null,null,null,null,null,null,null,null,null,null,null,null,null,null,null,null,null,null,null,null,null,null,null,null,null,null,null,null,null,null,null,null,null,null,null,null,null,null,null,null,null,null,null,null,null,null,null,null,null,null,null,null,null,null,null,null,null,null,null,null,null,null,null,null,null,null,null,null,null,null,null,null,null,null,null,null,null,null,null,null,null,null,null,null,null,null,null,null,null,null,null,null,null,null,null,null,null,null,null,null,null,null,null,null,null,null,null,null,null,null,null,null,null,null,null,null,null,null,null,null,null,null,null,null,null,null,null,null,null,null,null,null,null,null,null,null,null,null,null,null,null,null,null,18500,18600,18800,19200,19400,19300,19100,18900,19000,19000,null,null,null,null,null,32000,32300]
[null,null,null,null,null,null,null,null,null,null,null,null,null,null,null,null,null,null,null,null,null,null,null,null,null,null,null,null,null,null,null,null,null,null,null,null,null,null,null,null,null,null,null,null,null,null,null,null,null,null,null,null,null,null,null,null,null,null,null,null,null,null,null,null,null,null,null,null,null,null,null,null,null,null,null,null,null,null,null,null,null,null,null,null,null,null,null,null,null,null,null,null,null,null,null,null,null,null,null,null,null,null,null,null,null,null,null,null,null,null,null,null,null,null,null,null,null,null,null,null,null,null,null,null,null,null,null,null,null,null,null,null,null,null,null,null,null,null,null,null,null,null,null,null,null,null,null,null,null,null,null,null,null,null,null,null,null,null,null,null,null,null,null,null,null,null,null,null,null,null,null,null,null,null,null,null,null,null,null,null,null,null,null,null,null,null,null,null,null,null,null,null,null,null,null,null,null,null,null,null,null,null,null,null,null,null,null,null,null,null,null,null,null,null,null,null,null,null,null,null,null,null,null,33200,33300,33800,34000,34000,33900,33500,34000,34200,34500,null,null,null,null,null,13000,13100]
[null,null,null,null,null,null,null,null,null,null,null,null,null,null,null,null,null,null,null,null,null,null,null,null,null,null,null,null,null,null,null,null,null,null,null,null,null,null,null,null,null,null,null,null,null,null,null,null,null,null,null,null,null,null,null,null,null,null,null,null,null,null,null,null,null,null,null,null,null,null,null,null,null,null,null,null,null,null,null,null,null,null,null,null,null,null,null,null,null,null,null,null,null,null,null,null,null,null,null,null,null,null,null,null,null,null,null,null,null,null,null,null,null,null,null,null,null,null,null,null,null,null,null,null,null,null,null,null,null,null,null,null,null,null,null,null,null,null,null,null,null,null,null,null,null,null,null,null,null,null,null,null,null,null,null,null,null,null,null,null,null,null,null,null,null,null,null,null,null,null,null,null,null,null,null,null,null,null,null,null,null,null,null,null,null,null,null,null,null,null,null,null,null,null,null,null,null,null,null,null,null,null,null,null,null,null,null,null,null,null,null,null,null,null,null,null,null,null,null,null,null,null,null,8100,8100,8200,8300,8300,8300,8200,8200,8200,8300,null,null,null,null,null,19000,19200]
[null,null,null,null,null,null,null,null,null,null,null,null,null,null,null,null,null,null,null,null,null,null,null,null,null,null,null,null,null,null,null,null,null,null,null,null,null,null,null,null,null,null,null,null,null,null,null,null,null,null,null,null,null,null,null,null,null,null,null,null,null,null,null,null,null,null,null,null,null,null,null,null,null,null,null,null,null,null,null,null,null,null,null,null,null,null,null,null,null,null,null,null,null,null,null,null,null,null,null,null,null,null,null,null,null,null,null,null,null,null,null,null,null,null,null,null,null,null,null,null,null,null,null,null,null,null,null,null,null,null,null,null,null,null,null,null,null,null,null,null,null,null,null,null,null,null,null,null,null,null,null,null,null,null,null,null,null,null,null,null,null,null,null,null,null,null,null,null,null,null,null,null,null,null,null,null,null,null,null,null,null,null,null,null,null,null,null,null,null,null,null,null,null,null,null,null,null,null,null,null,null,null,null,null,null,null,null,null,null,null,null,null,null,null,null,null,null,null,null,null,null,null,null,16800,16900,17100,17200,17200,17100,16700,17100,17300,17500,null,null,null,null,null,34000,33800]
[null,null,null,null,null,null,null,null,null,null,null,null,null,null,null,null,null,null,null,null,null,null,null,null,null,null,null,null,null,null,null,null,null,null,null,null,null,null,null,null,null,null,null,null,null,null,null,null,null,null,null,null,null,null,null,null,null,null,null,null,null,null,null,null,null,null,null,null,null,null,null,null,null,null,null,null,null,null,null,null,null,null,null,null,null,null,null,null,null,null,null,null,null,null,null,null,null,null,null,null,null,null,null,null,null,null,null,null,null,null,null,null,null,null,null,null,null,null,null,null,null,null,null,null,null,null,null,null,null,null,null,null,null,null,null,null,null,null,null,null,null,null,null,null,null,null,null,null,null,null,null,null,null,null,null,null,null,null,null,null,null,null,null,null,null,null,null,null,null,null,null,null,null,null,null,null,null,null,null,null,null,null,null,null,null,null,null,null,null,null,null,null,null,null,null,null,null,null,null,null,null,null,null,null,null,null,null,null,null,null,null,null,null,null,null,null,null,null,null,null,null,null,null,8300,8300,8500,8500,8500,8500,8600,8700,8700,8700,null,null,null,null,null,8500,8500]
[null,null,null,null,null,null,null,null,null,null,null,null,null,null,null,null,null,null,null,null,null,null,null,null,null,null,null,null,null,null,null,null,null,null,null,null,null,null,null,null,null,null,null,null,null,null,null,null,null,null,null,null,null,null,null,null,null,null,null,null,null,null,null,null,null,null,null,null,null,null,null,null,null,null,null,null,null,null,null,null,null,null,null,null,null,null,null,null,null,null,null,null,null,null,null,null,null,null,null,null,null,null,null,null,null,null,null,null,null,null,null,null,null,null,null,null,null,null,null,null,null,null,null,null,null,null,null,null,null,null,null,null,null,null,null,null,null,null,null,null,null,null,null,null,null,null,null,null,null,null,null,null,null,null,null,null,null,null,null,null,null,null,null,null,null,null,null,null,null,null,null,null,null,null,null,null,null,null,null,null,null,null,null,null,null,null,null,null,null,null,null,null,null,null,null,null,null,null,null,null,null,null,null,null,null,null,null,null,null,null,null,null,null,null,null,null,null,null,null,null,null,null,null,1600,1600,1600,1600,1600,1600,1600,1600,1600,1600,null,null,null,null,null,16800,16800]
[null,null,null,null,null,null,null,null,null,null,null,null,null,null,null,null,null,null,null,null,null,null,null,null,null,null,null,null,null,null,null,null,null,null,null,null,null,null,null,null,null,null,null,null,null,null,null,null,null,null,null,null,null,null,null,null,null,null,null,null,null,null,null,null,null,null,null,null,null,null,null,null,null,null,null,null,null,null,null,null,null,null,null,null,null,null,null,null,null,null,null,null,null,null,null,null,null,null,null,null,null,null,null,null,null,null,null,null,null,null,null,null,null,null,null,null,null,null,null,null,null,null,null,null,null,null,null,null,null,null,null,null,null,null,null,null,null,null,null,null,null,null,null,null,null,null,null,null,null,null,null,null,null,null,null,null,null,null,null,null,null,null,null,null,null,null,null,null,null,null,null,null,null,null,null,null,null,null,null,null,null,null,null,null,null,null,null,null,null,null,null,null,null,null,null,null,null,null,null,null,null,null,null,null,null,null,null,null,null,null,null,null,null,null,null,null,null,null,null,null,null,null,null,12000,12100,12100,12200,12100,12000,12100,12100,12100,12200,null,null,null,null,null,8700,8500]
[null,null,null,null,null,null,null,null,null,null,null,null,null,null,null,null,null,null,null,null,null,null,null,null,null,null,null,null,null,null,null,null,null,null,null,null,null,null,null,null,null,null,null,null,null,null,null,null,null,null,null,null,null,null,null,null,null,null,null,null,null,null,null,null,null,null,null,null,null,null,null,null,null,null,null,null,null,null,null,null,null,null,null,null,null,null,null,null,null,null,null,null,null,null,null,null,null,null,null,null,null,null,null,null,null,null,null,null,null,null,null,null,null,null,null,null,null,null,null,null,null,null,null,null,null,null,null,null,null,null,null,null,null,null,null,null,null,null,null,null,null,null,null,null,null,null,null,null,null,null,null,null,null,null,null,null,null,null,null,null,null,null,null,null,null,null,null,null,null,null,null,null,null,null,null,null,null,null,null,null,null,null,null,null,null,null,null,null,null,null,null,null,null,null,null,null,null,null,null,null,null,null,null,null,null,null,null,null,null,null,null,null,null,null,null,null,null,null,null,null,null,null,null,19100,19300,19300,19500,19500,19600,19400,19500,19500,19300,null,null,null,null,null,1600,1600]
[null,null,null,null,null,null,null,null,null,null,null,null,null,null,null,null,null,null,null,null,null,null,null,null,null,null,null,null,null,null,null,null,null,null,null,null,null,null,null,null,null,null,null,null,null,null,null,null,null,null,null,null,null,null,null,null,null,null,null,null,null,null,null,null,null,null,null,null,null,null,null,null,null,null,null,null,null,null,null,null,null,null,null,null,null,null,null,null,null,null,null,null,null,null,null,null,null,null,null,null,null,null,null,null,null,null,null,null,null,null,null,null,null,null,null,null,null,null,null,null,null,null,null,null,null,null,null,null,null,null,null,null,null,null,null,null,null,null,null,null,null,null,null,null,null,null,null,null,null,null,null,null,null,null,null,null,null,null,null,null,null,null,null,null,null,null,null,null,null,null,null,null,null,null,null,null,null,null,null,null,null,null,null,null,null,null,null,null,null,null,null,null,null,null,null,null,null,null,null,null,null,null,null,null,null,null,null,null,null,null,null,null,null,null,null,null,null,null,null,null,null,null,null,26600,26600,26600,26600,26700,26700,26900,27000,27100,27000,null,null,null,null,null,12100,12200]
[null,null,null,null,null,null,null,null,null,null,null,null,null,null,null,null,null,null,null,null,null,null,null,null,null,null,null,null,null,null,null,null,null,null,null,null,null,null,null,null,null,null,null,null,null,null,null,null,null,null,null,null,null,null,null,null,null,null,null,null,null,null,null,null,null,null,null,null,null,null,null,null,null,null,null,null,null,null,null,null,null,null,null,null,null,null,null,null,null,null,null,null,null,null,null,null,null,null,null,null,null,null,null,null,null,null,null,null,null,null,null,null,null,null,null,null,null,null,null,null,null,null,null,null,null,null,null,null,null,null,null,null,null,null,null,null,null,null,null,null,null,null,null,null,null,null,null,null,null,null,null,null,null,null,null,null,null,null,null,null,null,null,null,null,null,null,null,null,null,null,null,null,null,null,null,null,null,null,null,null,null,null,null,null,null,null,null,null,null,null,null,null,null,null,null,null,null,null,null,null,null,null,null,null,null,null,null,null,null,null,null,null,null,null,null,null,null,null,null,null,null,null,null,24300,24300,24400,24500,24600,24700,24600,24600,24700,24700,null,null,null,null,null,19300,19300]
[null,null,null,null,null,null,null,null,null,null,null,null,null,null,null,null,null,null,null,null,null,null,null,null,null,null,null,null,null,null,null,null,null,null,null,null,null,null,null,null,null,null,null,null,null,null,null,null,null,null,null,null,null,null,null,null,null,null,null,null,null,null,null,null,null,null,null,null,null,null,null,null,null,null,null,null,null,null,null,null,null,null,null,null,null,null,null,null,null,null,null,null,null,null,null,null,null,null,null,null,null,null,null,null,null,null,null,null,null,null,null,null,null,null,null,null,null,null,null,null,null,null,null,null,null,null,null,null,null,null,null,null,null,null,null,null,null,null,null,null,null,null,null,null,null,null,null,null,null,null,null,null,null,null,null,null,null,null,null,null,null,null,null,null,null,null,null,null,null,null,null,null,null,null,null,null,null,null,null,null,null,null,null,null,null,null,null,null,null,null,null,null,null,null,null,null,null,null,null,null,null,null,null,null,null,null,null,null,null,null,null,null,null,null,null,null,null,null,null,null,null,null,null,15400,15700,16400,17600,17800,18300,17500,17400,17400,17900,null,null,null,null,null,28100,28100]
[null,null,null,null,null,null,null,null,null,null,null,null,null,null,null,null,null,null,null,null,null,null,null,null,null,null,null,null,null,null,null,null,null,null,null,null,null,null,null,null,null,null,null,null,null,null,null,null,null,null,null,null,null,null,null,null,null,null,null,null,null,null,null,null,null,null,null,null,null,null,null,null,null,null,null,null,null,null,null,null,null,null,null,null,null,null,null,null,null,null,null,null,null,null,null,null,null,null,null,null,null,null,null,null,null,null,null,null,null,null,null,null,null,null,null,null,null,null,null,null,null,null,null,null,null,null,null,null,null,null,null,null,null,null,null,null,null,null,null,null,null,null,null,null,null,null,null,null,null,null,null,null,null,null,null,null,null,null,null,null,null,null,null,null,null,null,null,null,null,null,null,null,null,null,null,null,null,null,null,null,null,null,null,null,null,null,null,null,null,null,null,null,null,null,null,null,null,null,null,null,null,null,null,null,null,null,null,null,null,null,null,null,null,null,null,null,null,null,null,null,null,null,null,8800,8800,8800,8700,8700,8700,8800,8800,8800,8900,null,null,null,null,null,25400,25300]
[null,null,null,null,null,null,null,null,null,null,null,null,null,null,null,null,null,null,null,null,null,null,null,null,null,null,null,null,null,null,null,null,null,null,null,null,null,null,null,null,null,null,null,null,null,null,null,null,null,null,null,null,null,null,null,null,null,null,null,null,null,null,null,null,null,null,null,null,null,null,null,null,null,null,null,null,null,null,null,null,null,null,null,null,null,null,null,null,null,null,null,null,null,null,null,null,null,null,null,null,null,null,null,null,null,null,null,null,null,null,null,null,null,null,null,null,null,null,null,null,null,null,null,null,null,null,null,null,null,null,null,null,null,null,null,null,null,null,null,null,null,null,null,null,null,null,null,null,null,null,null,null,null,null,null,null,null,null,null,null,null,null,null,null,null,null,null,null,null,null,null,null,null,null,null,null,null,null,null,null,null,null,null,null,null,null,null,null,null,null,null,null,null,null,null,null,null,null,null,null,null,null,null,null,null,null,null,null,null,null,null,null,null,null,null,null,null,null,null,null,null,null,null,21300,22000,21900,21700,19900,19800,20900,21800,22200,21900,null,null,null,null,null,18700,18600]
[null,null,null,null,null,null,null,null,null,null,null,null,null,null,null,null,null,null,null,null,null,null,null,null,null,null,null,null,null,null,null,null,null,null,null,null,null,null,null,null,null,null,null,null,null,null,null,null,null,null,null,null,null,null,null,null,null,null,null,null,null,null,null,null,null,null,null,null,null,null,null,null,null,null,null,null,null,null,null,null,null,null,null,null,null,null,null,null,null,null,null,null,null,null,null,null,null,null,null,null,null,null,null,null,null,null,null,null,null,null,null,null,null,null,null,null,null,null,null,null,null,null,null,null,null,null,null,null,null,null,null,null,null,null,null,null,null,null,null,null,null,null,null,null,null,null,null,null,null,null,null,null,null,null,null,null,null,null,null,null,null,null,null,null,null,null,null,null,null,null,null,null,null,null,null,null,null,null,null,null,null,null,null,null,null,null,null,null,null,null,null,null,null,null,null,null,null,null,null,null,null,null,null,null,null,null,null,null,null,null,null,null,null,null,null,null,null,null,null,null,null,null,null,1400,1400,1400,1400,1400,1400,1400,1400,1400,1400,null,null,null,null,null,9000,9000]
[null,null,null,null,null,null,null,null,null,null,null,null,null,null,null,null,null,null,null,null,null,null,null,null,null,null,null,null,null,null,null,null,null,null,null,null,null,null,null,null,null,null,null,null,null,null,null,null,null,null,null,null,null,null,null,null,null,null,null,null,null,null,null,null,null,null,null,null,null,null,null,null,null,null,null,null,null,null,null,null,null,null,null,null,null,null,null,null,null,null,null,null,null,null,null,null,null,null,null,null,null,null,null,null,null,null,null,null,null,null,null,null,null,null,null,null,null,null,null,null,null,null,null,null,null,null,null,null,null,null,null,null,null,null,null,null,null,null,null,null,null,null,null,null,null,null,null,null,null,null,null,null,null,null,null,null,null,null,null,null,null,null,null,null,null,null,null,null,null,null,null,null,null,null,null,null,null,null,null,null,null,null,null,null,null,null,null,null,null,null,null,null,null,null,null,null,null,null,null,null,null,null,null,null,null,null,null,null,null,null,null,null,null,null,null,null,null,null,null,null,null,null,null,1900,2300,2200,1800,1800,1700,2200,2300,2300,2300,null,null,null,null,null,22200,20400]
[null,null,null,null,null,null,null,null,null,null,null,null,null,null,null,null,null,null,null,null,null,null,null,null,null,null,null,null,null,null,null,null,null,null,null,null,null,null,null,null,null,null,null,null,null,null,null,null,null,null,null,null,null,null,null,null,null,null,null,null,null,null,null,null,null,null,null,null,null,null,null,null,null,null,null,null,null,null,null,null,null,null,null,null,null,null,null,null,null,null,null,null,null,null,null,null,null,null,null,null,null,null,null,null,null,null,null,null,null,null,null,null,null,null,null,null,null,null,null,null,null,null,null,null,null,null,null,null,null,null,null,null,null,null,null,null,null,null,null,null,null,null,null,null,null,null,null,null,null,null,null,null,null,null,null,null,null,null,null,null,null,null,null,null,null,null,null,null,null,null,null,null,null,null,null,null,null,null,null,null,null,null,null,null,null,null,null,null,null,null,null,null,null,null,null,null,null,null,null,null,null,null,null,null,null,null,null,null,null,null,null,null,null,null,null,null,null,null,null,null,null,null,null,18000,18300,18300,18500,16700,16700,17300,18100,18500,18200,null,null,null,null,null,1400,1400]
[null,null,null,null,null,null,null,null,null,null,null,null,null,null,null,null,null,null,null,null,null,null,null,null,null,null,null,null,null,null,null,null,null,null,null,null,null,null,null,null,null,null,null,null,null,null,null,null,null,null,null,null,null,null,null,null,null,null,null,null,null,null,null,null,null,null,null,null,null,null,null,null,null,null,null,null,null,null,null,null,null,null,null,null,null,null,null,null,null,null,null,null,null,null,null,null,null,null,null,null,null,null,null,null,null,null,null,null,null,null,null,null,null,null,null,null,null,null,null,null,null,null,null,null,null,null,null,null,null,null,null,null,null,null,null,null,null,null,null,null,null,null,null,null,null,null,null,null,null,null,null,null,null,null,null,null,null,null,null,null,null,null,null,null,null,null,null,null,null,null,null,null,null,null,null,null,null,null,null,null,null,null,null,null,null,null,null,null,null,null,null,null,null,null,null,null,null,null,null,null,null,null,null,null,null,null,null,null,null,null,null,null,null,null,null,null,null,null,null,null,null,null,null,68200,69200,70000,70300,70500,69600,68500,68600,68800,68800,null,null,null,null,null,1700,1700]
[null,null,null,null,null,null,null,null,null,null,null,null,null,null,null,null,null,null,null,null,null,null,null,null,null,null,null,null,null,null,null,null,null,null,null,null,null,null,null,null,null,null,null,null,null,null,null,null,null,null,null,null,null,null,null,null,null,null,null,null,null,null,null,null,null,null,null,null,null,null,null,null,null,null,null,null,null,null,null,null,null,null,null,null,null,null,null,null,null,null,null,null,null,null,null,null,null,null,null,null,null,null,null,null,null,null,null,null,null,null,null,null,null,null,null,null,null,null,null,null,null,null,null,null,null,null,null,null,null,null,null,null,null,null,null,null,null,null,null,null,null,null,null,null,null,null,null,null,null,null,null,null,null,null,null,null,null,null,null,null,null,null,null,null,null,null,null,null,null,null,null,null,null,null,null,null,null,null,null,null,null,null,null,null,null,null,null,null,null,null,null,null,null,null,null,null,null,null,null,null,null,null,null,null,null,null,null,null,null,null,null,null,null,null,null,null,null,null,null,null,null,null,null,59400,60100,61100,61500,61700,61200,60500,60100,60400,60400,null,null,null,null,null,19100,17300]
[null,null,null,null,null,null,null,null,null,null,null,null,null,null,null,null,null,null,null,null,null,null,null,null,null,null,null,null,null,null,null,null,null,null,null,null,null,null,null,null,null,null,null,null,null,null,null,null,null,null,null,null,null,null,null,null,null,null,null,null,null,null,null,null,null,null,null,null,null,null,null,null,null,null,null,null,null,null,null,null,null,null,null,null,null,null,null,null,null,null,null,null,null,null,null,null,null,null,null,null,null,null,null,null,null,null,null,null,null,null,null,null,null,null,null,null,null,null,null,null,null,null,null,null,null,null,null,null,null,null,null,null,null,null,null,null,null,null,null,null,null,null,null,null,null,null,null,null,null,null,null,null,null,null,null,null,null,null,null,null,null,null,null,null,null,null,null,null,null,null,null,null,null,null,null,null,null,null,null,null,null,null,null,null,null,null,null,null,null,null,null,null,null,null,null,null,null,null,null,null,null,null,null,null,null,null,null,null,null,null,null,null,null,null,null,null,null,null,null,null,null,null,null,13200,13400,13800,14100,14200,14300,14000,13900,13900,13900,null,null,null,null,null,71800,71600]
[null,null,null,null,null,null,null,null,null,null,null,null,null,null,null,null,null,null,null,null,null,null,null,null,null,null,null,null,null,null,null,null,null,null,null,null,null,null,null,null,null,null,null,null,null,null,null,null,null,null,null,null,null,null,null,null,null,null,null,null,null,null,null,null,null,null,null,null,null,null,null,null,null,null,null,null,null,null,null,null,null,null,null,null,null,null,null,null,null,null,null,null,null,null,null,null,null,null,null,null,null,null,null,null,null,null,null,null,null,null,null,null,null,null,null,null,null,null,null,null,null,null,null,null,null,null,null,null,null,null,null,null,null,null,null,null,null,null,null,null,null,null,null,null,null,null,null,null,null,null,null,null,null,null,null,null,null,null,null,null,null,null,null,null,null,null,null,null,null,null,null,null,null,null,null,null,null,null,null,null,null,null,null,null,null,null,null,null,null,null,null,null,null,null,null,null,null,null,null,null,null,null,null,null,null,null,null,null,null,null,null,null,null,null,null,null,null,null,null,null,null,null,null,55000,55800,56200,56200,56300,55300,54500,54700,54900,54900,null,null,null,null,null,63200,63300]
[null,null,null,null,null,null,null,null,null,null,null,null,null,null,null,null,null,null,null,null,null,null,null,null,null,null,null,null,null,null,null,null,null,null,null,null,null,null,null,null,null,null,null,null,null,null,null,null,null,null,null,null,null,null,null,null,null,null,null,null,null,null,null,null,null,null,null,null,null,null,null,null,null,null,null,null,null,null,null,null,null,null,null,null,null,null,null,null,null,null,null,null,null,null,null,null,null,null,null,null,null,null,null,null,null,null,null,null,null,null,null,null,null,null,null,null,null,null,null,null,null,null,null,null,null,null,null,null,null,null,null,null,null,null,null,null,null,null,null,null,null,null,null,null,null,null,null,null,null,null,null,null,null,null,null,null,null,null,null,null,null,null,null,null,null,null,null,null,null,null,null,null,null,null,null,null,null,null,null,null,null,null,null,null,null,null,null,null,null,null,null,null,null,null,null,null,null,null,null,null,null,null,null,null,null,null,null,null,null,null,null,null,null,null,null,null,null,null,null,null,null,null,null,46200,46700,47300,47400,47500,46900,46500,46200,46500,46500,null,null,null,null,null,14900,15000]
[null,null,null,null,null,null,null,null,null,null,null,null,null,null,null,null,null,null,null,null,null,null,null,null,null,null,null,null,null,null,null,null,null,null,null,null,null,null,null,null,null,null,null,null,null,null,null,null,null,null,null,null,null,null,null,null,null,null,null,null,null,null,null,null,null,null,null,null,null,null,null,null,null,null,null,null,null,null,null,null,null,null,null,null,null,null,null,null,null,null,null,null,null,null,null,null,null,null,null,null,null,null,null,null,null,null,null,null,null,null,null,null,null,null,null,null,null,null,null,null,null,null,null,null,null,null,null,null,null,null,null,null,null,null,null,null,null,null,null,null,null,null,null,null,null,null,null,null,null,null,null,null,null,null,null,null,null,null,null,null,null,null,null,null,null,null,null,null,null,null,null,null,null,null,null,null,null,null,null,null,null,null,null,null,null,null,null,null,null,null,null,null,null,null,null,null,null,null,null,null,null,null,null,null,null,null,null,null,null,null,null,null,null,null,null,null,null,null,null,null,null,null,null,2800,3000,3300,3400,3400,3500,3400,3300,3300,3100,null,null,null,null,null,56900,56600]
[null,null,null,null,null,null,null,null,null,null,null,null,null,null,null,null,null,null,null,null,null,null,null,null,null,null,null,null,null,null,null,null,null,null,null,null,null,null,null,null,null,null,null,null,null,null,null,null,null,null,null,null,null,null,null,null,null,null,null,null,null,null,null,null,null,null,null,null,null,null,null,null,null,null,null,null,null,null,null,null,null,null,null,null,null,null,null,null,null,null,null,null,null,null,null,null,null,null,null,null,null,null,null,null,null,null,null,null,null,null,null,null,null,null,null,null,null,null,null,null,null,null,null,null,null,null,null,null,null,null,null,null,null,null,null,null,null,null,null,null,null,null,null,null,null,null,null,null,null,null,null,null,null,null,null,null,null,null,null,null,null,null,null,null,null,null,null,null,null,null,null,null,null,null,null,null,null,null,null,null,null,null,null,null,null,null,null,null,null,null,null,null,null,null,null,null,null,null,null,null,null,null,null,null,null,null,null,null,null,null,null,null,null,null,null,null,null,null,null,null,null,null,null,10400,10400,10500,10700,10800,10800,10600,10600,10600,10800,null,null,null,null,null,48300,48300]
[null,null,null,null,null,null,null,null,null,null,null,null,null,null,null,null,null,null,null,null,null,null,null,null,null,null,null,null,null,null,null,null,null,null,null,null,null,null,null,null,null,null,null,null,null,null,null,null,null,null,null,null,null,null,null,null,null,null,null,null,null,null,null,null,null,null,null,null,null,null,null,null,null,null,null,null,null,null,null,null,null,null,null,null,null,null,null,null,null,null,null,null,null,null,null,null,null,null,null,null,null,null,null,null,null,null,null,null,null,null,null,null,null,null,null,null,null,null,null,null,null,null,null,null,null,null,null,null,null,null,null,null,null,null,null,null,null,null,null,null,null,null,null,null,null,null,null,null,null,null,null,null,null,null,null,null,null,null,null,null,null,null,null,null,null,null,null,null,null,null,null,null,null,null,null,null,null,null,null,null,null,null,null,null,null,null,null,null,null,null,null,null,null,null,null,null,null,null,null,null,null,null,null,null,null,null,null,null,null,null,null,null,null,null,null,null,null,null,null,null,null,null,null,6000,6100,6100,6200,6300,6300,6200,6200,6100,6200,null,null,null,null,null,3900,3900]
[null,null,null,null,null,null,null,null,null,null,null,null,null,null,null,null,null,null,null,null,null,null,null,null,null,null,null,null,null,null,null,null,null,null,null,null,null,null,null,null,null,null,null,null,null,null,null,null,null,null,null,null,null,null,null,null,null,null,null,null,null,null,null,null,null,null,null,null,null,null,null,null,null,null,null,null,null,null,null,null,null,null,null,null,null,null,null,null,null,null,null,null,null,null,null,null,null,null,null,null,null,null,null,null,null,null,null,null,null,null,null,null,null,null,null,null,null,null,null,null,null,null,null,null,null,null,null,null,null,null,null,null,null,null,null,null,null,null,null,null,null,null,null,null,null,null,null,null,null,null,null,null,null,null,null,null,null,null,null,null,null,null,null,null,null,null,null,null,null,null,null,null,null,null,null,null,null,null,null,null,null,null,null,null,null,null,null,null,null,null,null,null,null,null,null,null,null,null,null,null,null,null,null,null,null,null,null,null,null,null,null,null,null,null,null,null,null,null,null,null,null,null,null,16100,16400,16600,16600,16500,16100,15700,15600,15900,16000,null,null,null,null,null,11000,11100]
[null,null,null,null,null,null,null,null,null,null,null,null,null,null,null,null,null,null,null,null,null,null,null,null,null,null,null,null,null,null,null,null,null,null,null,null,null,null,null,null,null,null,null,null,null,null,null,null,null,null,null,null,null,null,null,null,null,null,null,null,null,null,null,null,null,null,null,null,null,null,null,null,null,null,null,null,null,null,null,null,null,null,null,null,null,null,null,null,null,null,null,null,null,null,null,null,null,null,null,null,null,null,null,null,null,null,null,null,null,null,null,null,null,null,null,null,null,null,null,null,null,null,null,null,null,null,null,null,null,null,null,null,null,null,null,null,null,null,null,null,null,null,null,null,null,null,null,null,null,null,null,null,null,null,null,null,null,null,null,null,null,null,null,null,null,null,null,null,null,null,null,null,null,null,null,null,null,null,null,null,null,null,null,null,null,null,null,null,null,null,null,null,null,null,null,null,null,null,null,null,null,null,null,null,null,null,null,null,null,null,null,null,null,null,null,null,null,null,null,null,null,null,null,5200,5300,5400,5300,5300,5200,5000,5100,5100,5100,null,null,null,null,null,6000,6000]
[null,null,null,null,null,null,null,null,null,null,null,null,null,null,null,null,null,null,null,null,null,null,null,null,null,null,null,null,null,null,null,null,null,null,null,null,null,null,null,null,null,null,null,null,null,null,null,null,null,null,null,null,null,null,null,null,null,null,null,null,null,null,null,null,null,null,null,null,null,null,null,null,null,null,null,null,null,null,null,null,null,null,null,null,null,null,null,null,null,null,null,null,null,null,null,null,null,null,null,null,null,null,null,null,null,null,null,null,null,null,null,null,null,null,null,null,null,null,null,null,null,null,null,null,null,null,null,null,null,null,null,null,null,null,null,null,null,null,null,null,null,null,null,null,null,null,null,null,null,null,null,null,null,null,null,null,null,null,null,null,null,null,null,null,null,null,null,null,null,null,null,null,null,null,null,null,null,null,null,null,null,null,null,null,null,null,null,null,null,null,null,null,null,null,null,null,null,null,null,null,null,null,null,null,null,null,null,null,null,null,null,null,null,null,null,null,null,null,null,null,null,null,null,8000,8100,8200,8300,8200,7900,7700,7500,7700,7700,null,null,null,null,null,16700,16700]
[null,null,null,null,null,null,null,null,null,null,null,null,null,null,null,null,null,null,null,null,null,null,null,null,null,null,null,null,null,null,null,null,null,null,null,null,null,null,null,null,null,null,null,null,null,null,null,null,null,null,null,null,null,null,null,null,null,null,null,null,null,null,null,null,null,null,null,null,null,null,null,null,null,null,null,null,null,null,null,null,null,null,null,null,null,null,null,null,null,null,null,null,null,null,null,null,null,null,null,null,null,null,null,null,null,null,null,null,null,null,null,null,null,null,null,null,null,null,null,null,null,null,null,null,null,null,null,null,null,null,null,null,null,null,null,null,null,null,null,null,null,null,null,null,null,null,null,null,null,null,null,null,null,null,null,null,null,null,null,null,null,null,null,null,null,null,null,null,null,null,null,null,null,null,null,null,null,null,null,null,null,null,null,null,null,null,null,null,null,null,null,null,null,null,null,null,null,null,null,null,null,null,null,null,null,null,null,null,null,null,null,null,null,null,null,null,null,null,null,null,null,null,null,2900,3000,3000,3000,3000,3000,3000,3000,3100,3200,null,null,null,null,null,5700,5700]
[null,null,null,null,null,null,null,null,null,null,null,null,null,null,null,null,null,null,null,null,null,null,null,null,null,null,null,null,null,null,null,null,null,null,null,null,null,null,null,null,null,null,null,null,null,null,null,null,null,null,null,null,null,null,null,null,null,null,null,null,null,null,null,null,null,null,null,null,null,null,null,null,null,null,null,null,null,null,null,null,null,null,null,null,null,null,null,null,null,null,null,null,null,null,null,null,null,null,null,null,null,null,null,null,null,null,null,null,null,null,null,null,null,null,null,null,null,null,null,null,null,null,null,null,null,null,null,null,null,null,null,null,null,null,null,null,null,null,null,null,null,null,null,null,null,null,null,null,null,null,null,null,null,null,null,null,null,null,null,null,null,null,null,null,null,null,null,null,null,null,null,null,null,null,null,null,null,null,null,null,null,null,null,null,null,null,null,null,null,null,null,null,null,null,null,null,null,null,null,null,null,null,null,null,null,null,null,null,null,null,null,null,null,null,null,null,null,null,null,null,null,null,null,1600,1600,1600,1600,1600,1600,1600,1600,1600,1700,null,null,null,null,null,7800,7900]
[null,null,null,null,null,null,null,null,null,null,null,null,null,null,null,null,null,null,null,null,null,null,null,null,null,null,null,null,null,null,null,null,null,null,null,null,null,null,null,null,null,null,null,null,null,null,null,null,null,null,null,null,null,null,null,null,null,null,null,null,null,null,null,null,null,null,null,null,null,null,null,null,null,null,null,null,null,null,null,null,null,null,null,null,null,null,null,null,null,null,null,null,null,null,null,null,null,null,null,null,null,null,null,null,null,null,null,null,null,null,null,null,null,null,null,null,null,null,null,null,null,null,null,null,null,null,null,null,null,null,null,null,null,null,null,null,null,null,null,null,null,null,null,null,null,null,null,null,null,null,null,null,null,null,null,null,null,null,null,null,null,null,null,null,null,null,null,null,null,null,null,null,null,null,null,null,null,null,null,null,null,null,null,null,null,null,null,null,null,null,null,null,null,null,null,null,null,null,null,null,null,null,null,null,null,null,null,null,null,null,null,null,null,null,null,null,null,null,null,null,null,null,null,1900,1900,1900,1900,1900,1900,1900,1900,1900,1900,null,null,null,null,null,3200,3100]
[null,null,null,null,null,null,null,null,null,null,null,null,null,null,null,null,null,null,null,null,null,null,null,null,null,null,null,null,null,null,null,null,null,null,null,null,null,null,null,null,null,null,null,null,null,null,null,null,null,null,null,null,null,null,null,null,null,null,null,null,null,null,null,null,null,null,null,null,null,null,null,null,null,null,null,null,null,null,null,null,null,null,null,null,null,null,null,null,null,null,null,null,null,null,null,null,null,null,null,null,null,null,null,null,null,null,null,null,null,null,null,null,null,null,null,null,null,null,null,null,null,null,null,null,null,null,null,null,null,null,null,null,null,null,null,null,null,null,null,null,null,null,null,null,null,null,null,null,null,null,null,null,null,null,null,null,null,null,null,null,null,null,null,null,null,null,null,null,null,null,null,null,null,null,null,null,null,null,null,null,null,null,null,null,null,null,null,null,null,null,null,null,null,null,null,null,null,null,null,null,null,null,null,null,null,null,null,null,null,null,null,null,null,null,null,null,null,null,null,null,null,null,null,5900,6000,6000,6100,6200,6000,6000,5900,5900,5800,null,null,null,null,null,1400,1400]
[null,null,null,null,null,null,null,null,null,null,null,null,null,null,null,null,null,null,null,null,null,null,null,null,null,null,null,null,null,null,null,null,null,null,null,null,null,null,null,null,null,null,null,null,null,null,null,null,null,null,null,null,null,null,null,null,null,null,null,null,null,null,null,null,null,null,null,null,null,null,null,null,null,null,null,null,null,null,null,null,null,null,null,null,null,null,null,null,null,null,null,null,null,null,null,null,null,null,null,null,null,null,null,null,null,null,null,null,null,null,null,null,null,null,null,null,null,null,null,null,null,null,null,null,null,null,null,null,null,null,null,null,null,null,null,null,null,null,null,null,null,null,null,null,null,null,null,null,null,null,null,null,null,null,null,null,null,null,null,null,null,null,null,null,null,null,null,null,null,null,null,null,null,null,null,null,null,null,null,null,null,null,null,null,null,null,null,null,null,null,null,null,null,null,null,null,null,null,null,null,null,null,null,null,null,null,null,null,null,null,null,null,null,null,null,null,null,null,null,null,null,null,null,11100,10900,10900,10800,10800,10800,11000,11000,11100,11100,null,null,null,null,null,2000,2000]
[null,null,null,null,null,null,null,null,null,null,null,null,null,null,null,null,null,null,null,null,null,null,null,null,null,null,null,null,null,null,null,null,null,null,null,null,null,null,null,null,null,null,null,null,null,null,null,null,null,null,null,null,null,null,null,null,null,null,null,null,null,null,null,null,null,null,null,null,null,null,null,null,null,null,null,null,null,null,null,null,null,null,null,null,null,null,null,null,null,null,null,null,null,null,null,null,null,null,null,null,null,null,null,null,null,null,null,null,null,null,null,null,null,null,null,null,null,null,null,null,null,null,null,null,null,null,null,null,null,null,null,null,null,null,null,null,null,null,null,null,null,null,null,null,null,null,null,null,null,null,null,null,null,null,null,null,null,null,null,null,null,null,null,null,null,null,null,null,null,null,null,null,null,null,null,null,null,null,null,null,null,null,null,null,null,null,null,null,null,null,null,null,null,null,null,null,null,null,null,null,null,null,null,null,null,null,null,null,null,null,null,null,null,null,null,null,null,null,null,null,null,null,null,10000,10000,10000,10000,10100,10100,10100,10100,10100,10200,null,null,null,null,null,6100,6100]
[null,null,null,null,null,null,null,null,null,null,null,null,null,null,null,null,null,null,null,null,null,null,null,null,null,null,null,null,null,null,null,null,null,null,null,null,null,null,null,null,null,null,null,null,null,null,null,null,null,null,null,null,null,null,null,null,null,null,null,null,null,null,null,null,null,null,null,null,null,null,null,null,null,null,null,null,null,null,null,null,null,null,null,null,null,null,null,null,null,null,null,null,null,null,null,null,null,null,null,null,null,null,null,null,null,null,null,null,null,null,null,null,null,null,null,null,null,null,null,null,null,null,null,null,null,null,null,null,null,null,null,null,null,null,null,null,null,null,null,null,null,null,null,null,null,null,null,null,null,null,null,null,null,null,null,null,null,null,null,null,null,null,null,null,null,null,null,null,null,null,null,null,null,null,null,null,null,null,null,null,null,null,null,null,null,null,null,null,null,null,null,null,null,null,null,null,null,null,null,null,null,null,null,null,null,null,null,null,null,null,null,null,null,null,null,null,null,null,null,null,null,null,null,6300,6500,6900,7000,7100,7100,6900,6800,6700,6600,null,null,null,null,null,11000,10900]
[null,null,null,null,null,null,null,null,null,null,null,null,null,null,null,null,null,null,null,null,null,null,null,null,null,null,null,null,null,null,null,null,null,null,null,null,null,null,null,null,null,null,null,null,null,null,null,null,null,null,null,null,null,null,null,null,null,null,null,null,null,null,null,null,null,null,null,null,null,null,null,null,null,null,null,null,null,null,null,null,null,null,null,null,null,null,null,null,null,null,null,null,null,null,null,null,null,null,null,null,null,null,null,null,null,null,null,null,null,null,null,null,null,null,null,null,null,null,null,null,null,null,null,null,null,null,null,null,null,null,null,null,null,null,null,null,null,null,null,null,null,null,null,null,null,null,null,null,null,null,null,null,null,null,null,null,null,null,null,null,null,null,null,null,null,null,null,null,null,null,null,null,null,null,null,null,null,null,null,null,null,null,null,null,null,null,null,null,null,null,null,null,null,null,null,null,null,null,null,null,null,null,null,null,null,null,null,null,null,null,null,null,null,null,null,null,null,null,null,null,null,null,null,3300,3400,3400,3400,3400,3400,3400,3400,3400,3400,null,null,null,null,null,10200,10200]
[null,null,null,null,null,null,null,null,null,null,null,null,null,null,null,null,null,null,null,null,null,null,null,null,null,null,null,null,null,null,null,null,null,null,null,null,null,null,null,null,null,null,null,null,null,null,null,null,null,null,null,null,null,null,null,null,null,null,null,null,null,null,null,null,null,null,null,null,null,null,null,null,null,null,null,null,null,null,null,null,null,null,null,null,null,null,null,null,null,null,null,null,null,null,null,null,null,null,null,null,null,null,null,null,null,null,null,null,null,null,null,null,null,null,null,null,null,null,null,null,null,null,null,null,null,null,null,null,null,null,null,null,null,null,null,null,null,null,null,null,null,null,null,null,null,null,null,null,null,null,null,null,null,null,null,null,null,null,null,null,null,null,null,null,null,null,null,null,null,null,null,null,null,null,null,null,null,null,null,null,null,null,null,null,null,null,null,null,null,null,null,null,null,null,null,null,null,null,null,null,null,null,null,null,null,null,null,null,null,null,null,null,null,null,null,null,null,null,null,null,null,null,null,8800,9100,8900,8800,8800,8400,8000,8500,8400,8400,null,null,null,null,null,7600,7700]
[null,null,null,null,null,null,null,null,null,null,null,null,null,null,null,null,null,null,null,null,null,null,null,null,null,null,null,null,null,null,null,null,null,null,null,null,null,null,null,null,null,null,null,null,null,null,null,null,null,null,null,null,null,null,null,null,null,null,null,null,null,null,null,null,null,null,null,null,null,null,null,null,null,null,null,null,null,null,null,null,null,null,null,null,null,null,null,null,null,null,null,null,null,null,null,null,null,null,null,null,null,null,null,null,null,null,null,null,null,null,null,null,null,null,null,null,null,null,null,null,null,null,null,null,null,null,null,null,null,null,null,null,null,null,null,null,null,null,null,null,null,null,null,null,null,null,null,null,null,null,null,null,null,null,null,null,null,null,null,null,null,null,null,null,null,null,null,null,null,null,null,null,null,null,null,null,null,null,null,null,null,null,null,null,null,null,null,null,null,null,null,null,null,null,null,null,null,null,null,null,null,null,null,null,null,null,null,null,null,null,null,null,null,null,null,null,null,null,null,null,null,null,null,300,300,300,300,300,300,300,300,300,300,null,null,null,null,null,3500,3500]
[null,null,null,null,null,null,null,null,null,null,null,null,null,null,null,null,null,null,null,null,null,null,null,null,null,null,null,null,null,null,null,null,null,null,null,null,null,null,null,null,null,null,null,null,null,null,null,null,null,null,null,null,null,null,null,null,null,null,null,null,null,null,null,null,null,null,null,null,null,null,null,null,null,null,null,null,null,null,null,null,null,null,null,null,null,null,null,null,null,null,null,null,null,null,null,null,null,null,null,null,null,null,null,null,null,null,null,null,null,null,null,null,null,null,null,null,null,null,null,null,null,null,null,null,null,null,null,null,null,null,null,null,null,null,null,null,null,null,null,null,null,null,null,null,null,null,null,null,null,null,null,null,null,null,null,null,null,null,null,null,null,null,null,null,null,null,null,null,null,null,null,null,null,null,null,null,null,null,null,null,null,null,null,null,null,null,null,null,null,null,null,null,null,null,null,null,null,null,null,null,null,null,null,null,null,null,null,null,null,null,null,null,null,null,null,null,null,null,null,null,null,null,null,400,400,400,300,300,300,300,400,400,400,null,null,null,null,null,8600,8300]
[null,null,null,null,null,null,null,null,null,null,null,null,null,null,null,null,null,null,null,null,null,null,null,null,null,null,null,null,null,null,null,null,null,null,null,null,null,null,null,null,null,null,null,null,null,null,null,null,null,null,null,null,null,null,null,null,null,null,null,null,null,null,null,null,null,null,null,null,null,null,null,null,null,null,null,null,null,null,null,null,null,null,null,null,null,null,null,null,null,null,null,null,null,null,null,null,null,null,null,null,null,null,null,null,null,null,null,null,null,null,null,null,null,null,null,null,null,null,null,null,null,null,null,null,null,null,null,null,null,null,null,null,null,null,null,null,null,null,null,null,null,null,null,null,null,null,null,null,null,null,null,null,null,null,null,null,null,null,null,null,null,null,null,null,null,null,null,null,null,null,null,null,null,null,null,null,null,null,null,null,null,null,null,null,null,null,null,null,null,null,null,null,null,null,null,null,null,null,null,null,null,null,null,null,null,null,null,null,null,null,null,null,null,null,null,null,null,null,null,null,null,null,null,8100,8400,8200,8200,8200,7800,7400,7800,7700,7700,null,null,null,null,null,300,300]
[null,null,null,null,null,null,null,null,null,null,null,null,null,null,null,null,null,null,null,null,null,null,null,null,null,null,null,null,null,null,null,null,null,null,null,null,null,null,null,null,null,null,null,null,null,null,null,null,null,null,null,null,null,null,null,null,null,null,null,null,null,null,null,null,null,null,null,null,null,null,null,null,null,null,null,null,null,null,null,null,null,null,null,null,null,null,null,null,null,null,null,null,null,null,null,null,null,null,null,null,null,null,null,null,null,null,null,null,null,null,null,null,null,null,null,null,null,null,null,null,null,null,null,null,null,null,null,null,null,null,null,null,null,null,null,null,null,null,null,null,null,null,null,null,null,null,null,null,null,null,null,null,null,null,null,null,null,null,null,null,null,null,null,null,null,null,null,null,null,null,null,null,null,null,null,null,null,null,null,null,null,null,null,null,null,null,null,null,null,null,null,null,null,null,null,null,null,null,null,null,null,null,null,null,null,null,null,null,null,null,null,null,null,null,null,null,null,null,null,null,null,null,null,78500,80500,81000,80500,79800,79200,80600,81200,81700,81300,null,null,null,null,null,300,300]
[null,null,null,null,null,null,null,null,null,null,null,null,null,null,null,null,null,null,null,null,null,null,null,null,null,null,null,null,null,null,null,null,null,null,null,null,null,null,null,null,null,null,null,null,null,null,null,null,null,null,null,null,null,null,null,null,null,null,null,null,null,null,null,null,null,null,null,null,null,null,null,null,null,null,null,null,null,null,null,null,null,null,null,null,null,null,null,null,null,null,null,null,null,null,null,null,null,null,null,null,null,null,null,null,null,null,null,null,null,null,null,null,null,null,null,null,null,null,null,null,null,null,null,null,null,null,null,null,null,null,null,null,null,null,null,null,null,null,null,null,null,null,null,null,null,null,null,null,null,null,null,null,null,null,null,null,null,null,null,null,null,null,null,null,null,null,null,null,null,null,null,null,null,null,null,null,null,null,null,null,null,null,null,null,null,null,null,null,null,null,null,null,null,null,null,null,null,null,null,null,null,null,null,null,null,null,null,null,null,null,null,null,null,null,null,null,null,null,null,null,null,null,null,68300,69100,69800,70100,70300,69900,69500,69500,69700,69500,null,null,null,null,null,8000,7700]
[null,null,null,null,null,null,null,null,null,null,null,null,null,null,null,null,null,null,null,null,null,null,null,null,null,null,null,null,null,null,null,null,null,null,null,null,null,null,null,null,null,null,null,null,null,null,null,null,null,null,null,null,null,null,null,null,null,null,null,null,null,null,null,null,null,null,null,null,null,null,null,null,null,null,null,null,null,null,null,null,null,null,null,null,null,null,null,null,null,null,null,null,null,null,null,null,null,null,null,null,null,null,null,null,null,null,null,null,null,null,null,null,null,null,null,null,null,null,null,null,null,null,null,null,null,null,null,null,null,null,null,null,null,null,null,null,null,null,null,null,null,null,null,null,null,null,null,null,null,null,null,null,null,null,null,null,null,null,null,null,null,null,null,null,null,null,null,null,null,null,null,null,null,null,null,null,null,null,null,null,null,null,null,null,null,null,null,null,null,null,null,null,null,null,null,null,null,null,null,null,null,null,null,null,null,null,null,null,null,null,null,null,null,null,null,null,null,null,null,null,null,null,null,11100,11300,11500,11700,11800,11700,11600,11500,11500,11400,null,null,null,null,null,79600,78800]
[null,null,null,null,null,null,null,null,null,null,null,null,null,null,null,null,null,null,null,null,null,null,null,null,null,null,null,null,null,null,null,null,null,null,null,null,null,null,null,null,null,null,null,null,null,null,null,null,null,null,null,null,null,null,null,null,null,null,null,null,null,null,null,null,null,null,null,null,null,null,null,null,null,null,null,null,null,null,null,null,null,null,null,null,null,null,null,null,null,null,null,null,null,null,null,null,null,null,null,null,null,null,null,null,null,null,null,null,null,null,null,null,null,null,null,null,null,null,null,null,null,null,null,null,null,null,null,null,null,null,null,null,null,null,null,null,null,null,null,null,null,null,null,null,null,null,null,null,null,null,null,null,null,null,null,null,null,null,null,null,null,null,null,null,null,null,null,null,null,null,null,null,null,null,null,null,null,null,null,null,null,null,null,null,null,null,null,null,null,null,null,null,null,null,null,null,null,null,null,null,null,null,null,null,null,null,null,null,null,null,null,null,null,null,null,null,null,null,null,null,null,null,null,67400,69200,69500,68800,68000,67500,69000,69700,70200,69900,null,null,null,null,null,70300,70300]
[null,null,null,null,null,null,null,null,null,null,null,null,null,null,null,null,null,null,null,null,null,null,null,null,null,null,null,null,null,null,null,null,null,null,null,null,null,null,null,null,null,null,null,null,null,null,null,null,null,null,null,null,null,null,null,null,null,null,null,null,null,null,null,null,null,null,null,null,null,null,null,null,null,null,null,null,null,null,null,null,null,null,null,null,null,null,null,null,null,null,null,null,null,null,null,null,null,null,null,null,null,null,null,null,null,null,null,null,null,null,null,null,null,null,null,null,null,null,null,null,null,null,null,null,null,null,null,null,null,null,null,null,null,null,null,null,null,null,null,null,null,null,null,null,null,null,null,null,null,null,null,null,null,null,null,null,null,null,null,null,null,null,null,null,null,null,null,null,null,null,null,null,null,null,null,null,null,null,null,null,null,null,null,null,null,null,null,null,null,null,null,null,null,null,null,null,null,null,null,null,null,null,null,null,null,null,null,null,null,null,null,null,null,null,null,null,null,null,null,null,null,null,null,57200,57800,58300,58400,58500,58200,57900,58000,58200,58100,null,null,null,null,null,11800,11800]
[null,null,null,null,null,null,null,null,null,null,null,null,null,null,null,null,null,null,null,null,null,null,null,null,null,null,null,null,null,null,null,null,null,null,null,null,null,null,null,null,null,null,null,null,null,null,null,null,null,null,null,null,null,null,null,null,null,null,null,null,null,null,null,null,null,null,null,null,null,null,null,null,null,null,null,null,null,null,null,null,null,null,null,null,null,null,null,null,null,null,null,null,null,null,null,null,null,null,null,null,null,null,null,null,null,null,null,null,null,null,null,null,null,null,null,null,null,null,null,null,null,null,null,null,null,null,null,null,null,null,null,null,null,null,null,null,null,null,null,null,null,null,null,null,null,null,null,null,null,null,null,null,null,null,null,null,null,null,null,null,null,null,null,null,null,null,null,null,null,null,null,null,null,null,null,null,null,null,null,null,null,null,null,null,null,null,null,null,null,null,null,null,null,null,null,null,null,null,null,null,null,null,null,null,null,null,null,null,null,null,null,null,null,null,null,null,null,null,null,null,null,null,null,2600,2800,2900,3100,3100,3100,3000,3000,2900,2800,null,null,null,null,null,67800,67000]
[null,null,null,null,null,null,null,null,null,null,null,null,null,null,null,null,null,null,null,null,null,null,null,null,null,null,null,null,null,null,null,null,null,null,null,null,null,null,null,null,null,null,null,null,null,null,null,null,null,null,null,null,null,null,null,null,null,null,null,null,null,null,null,null,null,null,null,null,null,null,null,null,null,null,null,null,null,null,null,null,null,null,null,null,null,null,null,null,null,null,null,null,null,null,null,null,null,null,null,null,null,null,null,null,null,null,null,null,null,null,null,null,null,null,null,null,null,null,null,null,null,null,null,null,null,null,null,null,null,null,null,null,null,null,null,null,null,null,null,null,null,null,null,null,null,null,null,null,null,null,null,null,null,null,null,null,null,null,null,null,null,null,null,null,null,null,null,null,null,null,null,null,null,null,null,null,null,null,null,null,null,null,null,null,null,null,null,null,null,null,null,null,null,null,null,null,null,null,null,null,null,null,null,null,null,null,null,null,null,null,null,null,null,null,null,null,null,null,null,null,null,null,null,8500,8500,8600,8600,8700,8600,8600,8500,8600,8600,null,null,null,null,null,58500,58500]
[null,null,null,null,null,null,null,null,null,null,null,null,null,null,null,null,null,null,null,null,null,null,null,null,null,null,null,null,null,null,null,null,null,null,null,null,null,null,null,null,null,null,null,null,null,null,null,null,null,null,null,null,null,null,null,null,null,null,null,null,null,null,null,null,null,null,null,null,null,null,null,null,null,null,null,null,null,null,null,null,null,null,null,null,null,null,null,null,null,null,null,null,null,null,null,null,null,null,null,null,null,null,null,null,null,null,null,null,null,null,null,null,null,null,null,null,null,null,null,null,null,null,null,null,null,null,null,null,null,null,null,null,null,null,null,null,null,null,null,null,null,null,null,null,null,null,null,null,null,null,null,null,null,null,null,null,null,null,null,null,null,null,null,null,null,null,null,null,null,null,null,null,null,null,null,null,null,null,null,null,null,null,null,null,null,null,null,null,null,null,null,null,null,null,null,null,null,null,null,null,null,null,null,null,null,null,null,null,null,null,null,null,null,null,null,null,null,null,null,null,null,null,null,16000,16000,16400,16300,16300,16200,16000,16100,16400,16600,null,null,null,null,null,3100,3100]
[null,null,null,null,null,null,null,null,null,null,null,null,null,null,null,null,null,null,null,null,null,null,null,null,null,null,null,null,null,null,null,null,null,null,null,null,null,null,null,null,null,null,null,null,null,null,null,null,null,null,null,null,null,null,null,null,null,null,null,null,null,null,null,null,null,null,null,null,null,null,null,null,null,null,null,null,null,null,null,null,null,null,null,null,null,null,null,null,null,null,null,null,null,null,null,null,null,null,null,null,null,null,null,null,null,null,null,null,null,null,null,null,null,null,null,null,null,null,null,null,null,null,null,null,null,null,null,null,null,null,null,null,null,null,null,null,null,null,null,null,null,null,null,null,null,null,null,null,null,null,null,null,null,null,null,null,null,null,null,null,null,null,null,null,null,null,null,null,null,null,null,null,null,null,null,null,null,null,null,null,null,null,null,null,null,null,null,null,null,null,null,null,null,null,null,null,null,null,null,null,null,null,null,null,null,null,null,null,null,null,null,null,null,null,null,null,null,null,null,null,null,null,null,3900,3900,4000,4000,4000,4000,4000,4000,4000,4000,null,null,null,null,null,8700,8700]
[null,null,null,null,null,null,null,null,null,null,null,null,null,null,null,null,null,null,null,null,null,null,null,null,null,null,null,null,null,null,null,null,null,null,null,null,null,null,null,null,null,null,null,null,null,null,null,null,null,null,null,null,null,null,null,null,null,null,null,null,null,null,null,null,null,null,null,null,null,null,null,null,null,null,null,null,null,null,null,null,null,null,null,null,null,null,null,null,null,null,null,null,null,null,null,null,null,null,null,null,null,null,null,null,null,null,null,null,null,null,null,null,null,null,null,null,null,null,null,null,null,null,null,null,null,null,null,null,null,null,null,null,null,null,null,null,null,null,null,null,null,null,null,null,null,null,null,null,null,null,null,null,null,null,null,null,null,null,null,null,null,null,null,null,null,null,null,null,null,null,null,null,null,null,null,null,null,null,null,null,null,null,null,null,null,null,null,null,null,null,null,null,null,null,null,null,null,null,null,null,null,null,null,null,null,null,null,null,null,null,null,null,null,null,null,null,null,null,null,null,null,null,null,8700,8700,8900,8800,8700,8700,8500,8600,8900,8900,null,null,null,null,null,16000,16000]
[null,null,null,null,null,null,null,null,null,null,null,null,null,null,null,null,null,null,null,null,null,null,null,null,null,null,null,null,null,null,null,null,null,null,null,null,null,null,null,null,null,null,null,null,null,null,null,null,null,null,null,null,null,null,null,null,null,null,null,null,null,null,null,null,null,null,null,null,null,null,null,null,null,null,null,null,null,null,null,null,null,null,null,null,null,null,null,null,null,null,null,null,null,null,null,null,null,null,null,null,null,null,null,null,null,null,null,null,null,null,null,null,null,null,null,null,null,null,null,null,null,null,null,null,null,null,null,null,null,null,null,null,null,null,null,null,null,null,null,null,null,null,null,null,null,null,null,null,null,null,null,null,null,null,null,null,null,null,null,null,null,null,null,null,null,null,null,null,null,null,null,null,null,null,null,null,null,null,null,null,null,null,null,null,null,null,null,null,null,null,null,null,null,null,null,null,null,null,null,null,null,null,null,null,null,null,null,null,null,null,null,null,null,null,null,null,null,null,null,null,null,null,null,3400,3400,3500,3500,3600,3500,3500,3500,3500,3700,null,null,null,null,null,3800,3800]
[null,null,null,null,null,null,null,null,null,null,null,null,null,null,null,null,null,null,null,null,null,null,null,null,null,null,null,null,null,null,null,null,null,null,null,null,null,null,null,null,null,null,null,null,null,null,null,null,null,null,null,null,null,null,null,null,null,null,null,null,null,null,null,null,null,null,null,null,null,null,null,null,null,null,null,null,null,null,null,null,null,null,null,null,null,null,null,null,null,null,null,null,null,null,null,null,null,null,null,null,null,null,null,null,null,null,null,null,null,null,null,null,null,null,null,null,null,null,null,null,null,null,null,null,null,null,null,null,null,null,null,null,null,null,null,null,null,null,null,null,null,null,null,null,null,null,null,null,null,null,null,null,null,null,null,null,null,null,null,null,null,null,null,null,null,null,null,null,null,null,null,null,null,null,null,null,null,null,null,null,null,null,null,null,null,null,null,null,null,null,null,null,null,null,null,null,null,null,null,null,null,null,null,null,null,null,null,null,null,null,null,null,null,null,null,null,null,null,null,null,null,null,null,1100,1100,1100,1100,1100,1100,1100,1100,1100,1000,null,null,null,null,null,8600,8600]
[null,null,null,null,null,null,null,null,null,null,null,null,null,null,null,null,null,null,null,null,null,null,null,null,null,null,null,null,null,null,null,null,null,null,null,null,null,null,null,null,null,null,null,null,null,null,null,null,null,null,null,null,null,null,null,null,null,null,null,null,null,null,null,null,null,null,null,null,null,null,null,null,null,null,null,null,null,null,null,null,null,null,null,null,null,null,null,null,null,null,null,null,null,null,null,null,null,null,null,null,null,null,null,null,null,null,null,null,null,null,null,null,null,null,null,null,null,null,null,null,null,null,null,null,null,null,null,null,null,null,null,null,null,null,null,null,null,null,null,null,null,null,null,null,null,null,null,null,null,null,null,null,null,null,null,null,null,null,null,null,null,null,null,null,null,null,null,null,null,null,null,null,null,null,null,null,null,null,null,null,null,null,null,null,null,null,null,null,null,null,null,null,null,null,null,null,null,null,null,null,null,null,null,null,null,null,null,null,null,null,null,null,null,null,null,null,null,null,null,null,null,null,null,4500,4500,4500,4500,4500,4400,4400,4400,4400,4400,null,null,null,null,null,3600,3600]
[null,null,null,null,null,null,null,null,null,null,null,null,null,null,null,null,null,null,null,null,null,null,null,null,null,null,null,null,null,null,null,null,null,null,null,null,null,null,null,null,null,null,null,null,null,null,null,null,null,null,null,null,null,null,null,null,null,null,null,null,null,null,null,null,null,null,null,null,null,null,null,null,null,null,null,null,null,null,null,null,null,null,null,null,null,null,null,null,null,null,null,null,null,null,null,null,null,null,null,null,null,null,null,null,null,null,null,null,null,null,null,null,null,null,null,null,null,null,null,null,null,null,null,null,null,null,null,null,null,null,null,null,null,null,null,null,null,null,null,null,null,null,null,null,null,null,null,null,null,null,null,null,null,null,null,null,null,null,null,null,null,null,null,null,null,null,null,null,null,null,null,null,null,null,null,null,null,null,null,null,null,null,null,null,null,null,null,null,null,null,null,null,null,null,null,null,null,null,null,null,null,null,null,null,null,null,null,null,null,null,null,null,null,null,null,null,null,null,null,null,null,null,null,5700,5900,5800,5800,5900,5900,5800,5900,5800,5700,null,null,null,null,null,1000,1000]
[null,null,null,null,null,null,null,null,null,null,null,null,null,null,null,null,null,null,null,null,null,null,null,null,null,null,null,null,null,null,null,null,null,null,null,null,null,null,null,null,null,null,null,null,null,null,null,null,null,null,null,null,null,null,null,null,null,null,null,null,null,null,null,null,null,null,null,null,null,null,null,null,null,null,null,null,null,null,null,null,null,null,null,null,null,null,null,null,null,null,null,null,null,null,null,null,null,null,null,null,null,null,null,null,null,null,null,null,null,null,null,null,null,null,null,null,null,null,null,null,null,null,null,null,null,null,null,null,null,null,null,null,null,null,null,null,null,null,null,null,null,null,null,null,null,null,null,null,null,null,null,null,null,null,null,null,null,null,null,null,null,null,null,null,null,null,null,null,null,null,null,null,null,null,null,null,null,null,null,null,null,null,null,null,null,null,null,null,null,null,null,null,null,null,null,null,null,null,null,null,null,null,null,null,null,null,null,null,null,null,null,null,null,null,null,null,null,null,null,null,null,null,null,17600,17500,17500,17600,17800,17800,17900,17900,18000,17900,null,null,null,null,null,4600,4700]
[null,null,null,null,null,null,null,null,null,null,null,null,null,null,null,null,null,null,null,null,null,null,null,null,null,null,null,null,null,null,null,null,null,null,null,null,null,null,null,null,null,null,null,null,null,null,null,null,null,null,null,null,null,null,null,null,null,null,null,null,null,null,null,null,null,null,null,null,null,null,null,null,null,null,null,null,null,null,null,null,null,null,null,null,null,null,null,null,null,null,null,null,null,null,null,null,null,null,null,null,null,null,null,null,null,null,null,null,null,null,null,null,null,null,null,null,null,null,null,null,null,null,null,null,null,null,null,null,null,null,null,null,null,null,null,null,null,null,null,null,null,null,null,null,null,null,null,null,null,null,null,null,null,null,null,null,null,null,null,null,null,null,null,null,null,null,null,null,null,null,null,null,null,null,null,null,null,null,null,null,null,null,null,null,null,null,null,null,null,null,null,null,null,null,null,null,null,null,null,null,null,null,null,null,null,null,null,null,null,null,null,null,null,null,null,null,null,null,null,null,null,null,null,16000,16000,15900,16000,16200,16300,16300,16300,16400,16400,null,null,null,null,null,5800,5900]
[null,null,null,null,null,null,null,null,null,null,null,null,null,null,null,null,null,null,null,null,null,null,null,null,null,null,null,null,null,null,null,null,null,null,null,null,null,null,null,null,null,null,null,null,null,null,null,null,null,null,null,null,null,null,null,null,null,null,null,null,null,null,null,null,null,null,null,null,null,null,null,null,null,null,null,null,null,null,null,null,null,null,null,null,null,null,null,null,null,null,null,null,null,null,null,null,null,null,null,null,null,null,null,null,null,null,null,null,null,null,null,null,null,null,null,null,null,null,null,null,null,null,null,null,null,null,null,null,null,null,null,null,null,null,null,null,null,null,null,null,null,null,null,null,null,null,null,null,null,null,null,null,null,null,null,null,null,null,null,null,null,null,null,null,null,null,null,null,null,null,null,null,null,null,null,null,null,null,null,null,null,null,null,null,null,null,null,null,null,null,null,null,null,null,null,null,null,null,null,null,null,null,null,null,null,null,null,null,null,null,null,null,null,null,null,null,null,null,null,null,null,null,null,7800,8200,8400,8400,8300,8300,8200,8000,7800,7800,null,null,null,null,null,17600,17500]
[null,null,null,null,null,null,null,null,null,null,null,null,null,null,null,null,null,null,null,null,null,null,null,null,null,null,null,null,null,null,null,null,null,null,null,null,null,null,null,null,null,null,null,null,null,null,null,null,null,null,null,null,null,null,null,null,null,null,null,null,null,null,null,null,null,null,null,null,null,null,null,null,null,null,null,null,null,null,null,null,null,null,null,null,null,null,null,null,null,null,null,null,null,null,null,null,null,null,null,null,null,null,null,null,null,null,null,null,null,null,null,null,null,null,null,null,null,null,null,null,null,null,null,null,null,null,null,null,null,null,null,null,null,null,null,null,null,null,null,null,null,null,null,null,null,null,null,null,null,null,null,null,null,null,null,null,null,null,null,null,null,null,null,null,null,null,null,null,null,null,null,null,null,null,null,null,null,null,null,null,null,null,null,null,null,null,null,null,null,null,null,null,null,null,null,null,null,null,null,null,null,null,null,null,null,null,null,null,null,null,null,null,null,null,null,null,null,null,null,null,null,null,null,4500,4600,4600,4700,4600,4500,4500,4600,4700,4700,null,null,null,null,null,15900,15900]
[null,null,null,null,null,null,null,null,null,null,null,null,null,null,null,null,null,null,null,null,null,null,null,null,null,null,null,null,null,null,null,null,null,null,null,null,null,null,null,null,null,null,null,null,null,null,null,null,null,null,null,null,null,null,null,null,null,null,null,null,null,null,null,null,null,null,null,null,null,null,null,null,null,null,null,null,null,null,null,null,null,null,null,null,null,null,null,null,null,null,null,null,null,null,null,null,null,null,null,null,null,null,null,null,null,null,null,null,null,null,null,null,null,null,null,null,null,null,null,null,null,null,null,null,null,null,null,null,null,null,null,null,null,null,null,null,null,null,null,null,null,null,null,null,null,null,null,null,null,null,null,null,null,null,null,null,null,null,null,null,null,null,null,null,null,null,null,null,null,null,null,null,null,null,null,null,null,null,null,null,null,null,null,null,null,null,null,null,null,null,null,null,null,null,null,null,null,null,null,null,null,null,null,null,null,null,null,null,null,null,null,null,null,null,null,null,null,null,null,null,null,null,null,10200,11400,11200,10400,9500,9300,11100,11700,12000,11800,null,null,null,null,null,8600,8600]
[null,null,null,null,null,null,null,null,null,null,null,null,null,null,null,null,null,null,null,null,null,null,null,null,null,null,null,null,null,null,null,null,null,null,null,null,null,null,null,null,null,null,null,null,null,null,null,null,null,null,null,null,null,null,null,null,null,null,null,null,null,null,null,null,null,null,null,null,null,null,null,null,null,null,null,null,null,null,null,null,null,null,null,null,null,null,null,null,null,null,null,null,null,null,null,null,null,null,null,null,null,null,null,null,null,null,null,null,null,null,null,null,null,null,null,null,null,null,null,null,null,null,null,null,null,null,null,null,null,null,null,null,null,null,null,null,null,null,null,null,null,null,null,null,null,null,null,null,null,null,null,null,null,null,null,null,null,null,null,null,null,null,null,null,null,null,null,null,null,null,null,null,null,null,null,null,null,null,null,null,null,null,null,null,null,null,null,null,null,null,null,null,null,null,null,null,null,null,null,null,null,null,null,null,null,null,null,null,null,null,null,null,null,null,null,null,null,null,null,null,null,null,null,500,500,500,500,500,500,500,500,500,500,null,null,null,null,null,4900,4800]
[null,null,null,null,null,null,null,null,null,null,null,null,null,null,null,null,null,null,null,null,null,null,null,null,null,null,null,null,null,null,null,null,null,null,null,null,null,null,null,null,null,null,null,null,null,null,null,null,null,null,null,null,null,null,null,null,null,null,null,null,null,null,null,null,null,null,null,null,null,null,null,null,null,null,null,null,null,null,null,null,null,null,null,null,null,null,null,null,null,null,null,null,null,null,null,null,null,null,null,null,null,null,null,null,null,null,null,null,null,null,null,null,null,null,null,null,null,null,null,null,null,null,null,null,null,null,null,null,null,null,null,null,null,null,null,null,null,null,null,null,null,null,null,null,null,null,null,null,null,null,null,null,null,null,null,null,null,null,null,null,null,null,null,null,null,null,null,null,null,null,null,null,null,null,null,null,null,null,null,null,null,null,null,null,null,null,null,null,null,null,null,null,null,null,null,null,null,null,null,null,null,null,null,null,null,null,null,null,null,null,null,null,null,null,null,null,null,null,null,null,null,null,null,1900,3000,2600,1600,1600,1500,2900,3100,3200,3000,null,null,null,null,null,9300,8500]
[null,null,null,null,null,null,null,null,null,null,null,null,null,null,null,null,null,null,null,null,null,null,null,null,null,null,null,null,null,null,null,null,null,null,null,null,null,null,null,null,null,null,null,null,null,null,null,null,null,null,null,null,null,null,null,null,null,null,null,null,null,null,null,null,null,null,null,null,null,null,null,null,null,null,null,null,null,null,null,null,null,null,null,null,null,null,null,null,null,null,null,null,null,null,null,null,null,null,null,null,null,null,null,null,null,null,null,null,null,null,null,null,null,null,null,null,null,null,null,null,null,null,null,null,null,null,null,null,null,null,null,null,null,null,null,null,null,null,null,null,null,null,null,null,null,null,null,null,null,null,null,null,null,null,null,null,null,null,null,null,null,null,null,null,null,null,null,null,null,null,null,null,null,null,null,null,null,null,null,null,null,null,null,null,null,null,null,null,null,null,null,null,null,null,null,null,null,null,null,null,null,null,null,null,null,null,null,null,null,null,null,null,null,null,null,null,null,null,null,null,null,null,null,7800,7900,8100,8300,7400,7300,7700,8100,8300,8300,null,null,null,null,null,500,500]
[null,null,null,null,null,null,null,null,null,null,null,null,null,null,null,null,null,null,null,null,null,null,null,null,null,null,null,null,null,null,null,null,null,null,null,null,null,null,null,null,null,null,null,null,null,null,null,null,null,null,null,null,null,null,null,null,null,null,null,null,null,null,null,null,null,null,null,null,null,null,null,null,null,null,null,null,null,null,null,null,null,null,null,null,null,null,null,null,null,null,null,null,null,null,null,null,null,null,null,null,null,null,null,null,null,null,null,null,null,null,null,null,null,null,null,null,null,null,null,null,null,null,null,null,null,null,null,null,null,null,null,null,null,null,null,null,null,null,null,null,null,null,null,null,null,null,null,null,null,null,null,null,null,null,null,null,null,null,null,null,null,null,null,null,null,null,null,null,null,null,null,null,null,null,null,null,null,null,null,null,null,null,null,null,null,null,null,null,null,null,null,null,null,null,null,null,null,null,null,null,null,null,null,null,null,null,null,null,null,null,null,null,null,null,null,null,null,null,null,null,null,null,null,402500,405100,406500,408100,407500,406100,410600,412100,414400,412700,null,null,null,null,null,1400,1400]
[null,null,null,null,null,null,null,null,null,null,null,null,null,null,null,null,null,null,null,null,null,null,null,null,null,null,null,null,null,null,null,null,null,null,null,null,null,null,null,null,null,null,null,null,null,null,null,null,null,null,null,null,null,null,null,null,null,null,null,null,null,null,null,null,null,null,null,null,null,null,null,null,null,null,null,null,null,null,null,null,null,null,null,null,null,null,null,null,null,null,null,null,null,null,null,null,null,null,null,null,null,null,null,null,null,null,null,null,null,null,null,null,null,null,null,null,null,null,null,null,null,null,null,null,null,null,null,null,null,null,null,null,null,null,null,null,null,null,null,null,null,null,null,null,null,null,null,null,null,null,null,null,null,null,null,null,null,null,null,null,null,null,null,null,null,null,null,null,null,null,null,null,null,null,null,null,null,null,null,null,null,null,null,null,null,null,null,null,null,null,null,null,null,null,null,null,null,null,null,null,null,null,null,null,null,null,null,null,null,null,null,null,null,null,null,null,null,null,null,null,null,null,null,313300,315700,319800,325100,326500,327500,323600,323400,324200,323300,null,null,null,null,null,7400,6600]
[null,null,null,null,null,null,null,null,null,null,null,null,null,null,null,null,null,null,null,null,null,null,null,null,null,null,null,null,null,null,null,null,null,null,null,null,null,null,null,null,null,null,null,null,null,null,null,null,null,null,null,null,null,null,null,null,null,null,null,null,null,null,null,null,null,null,null,null,null,null,null,null,null,null,null,null,null,null,null,null,null,null,null,null,null,null,null,null,null,null,null,null,null,null,null,null,null,null,null,null,null,null,null,null,null,null,null,null,null,null,null,null,null,null,null,null,null,null,null,null,null,null,null,null,null,null,null,null,null,null,null,null,null,null,null,null,null,null,null,null,null,null,null,null,null,null,null,null,null,null,null,null,null,null,null,null,null,null,null,null,null,null,null,null,null,null,null,null,null,null,null,null,null,null,null,null,null,null,null,null,null,null,null,null,null,null,null,null,null,null,null,null,null,null,null,null,null,null,null,null,null,null,null,null,null,null,null,null,null,null,null,null,null,null,null,null,null,null,null,null,null,null,null,51200,52200,53400,55100,55900,55800,54900,54700,54200,53900,null,null,null,null,null,407200,406000]
[null,null,null,null,null,null,null,null,null,null,null,null,null,null,null,null,null,null,null,null,null,null,null,null,null,null,null,null,null,null,null,null,null,null,null,null,null,null,null,null,null,null,null,null,null,null,null,null,null,null,null,null,null,null,null,null,null,null,null,null,null,null,null,null,null,null,null,null,null,null,null,null,null,null,null,null,null,null,null,null,null,null,null,null,null,null,null,null,null,null,null,null,null,null,null,null,null,null,null,null,null,null,null,null,null,null,null,null,null,null,null,null,null,null,null,null,null,null,null,null,null,null,null,null,null,null,null,null,null,null,null,null,null,null,null,null,null,null,null,null,null,null,null,null,null,null,null,null,null,null,null,null,null,null,null,null,null,null,null,null,null,null,null,null,null,null,null,null,null,null,null,null,null,null,null,null,null,null,null,null,null,null,null,null,null,null,null,null,null,null,null,null,null,null,null,null,null,null,null,null,null,null,null,null,null,null,null,null,null,null,null,null,null,null,null,null,null,null,null,null,null,null,null,351300,352900,353100,353000,351600,350300,355700,357400,360200,358800,null,null,null,null,null,325300,326100]
[null,null,null,null,null,null,null,null,null,null,null,null,null,null,null,null,null,null,null,null,null,null,null,null,null,null,null,null,null,null,null,null,null,null,null,null,null,null,null,null,null,null,null,null,null,null,null,null,null,null,null,null,null,null,null,null,null,null,null,null,null,null,null,null,null,null,null,null,null,null,null,null,null,null,null,null,null,null,null,null,null,null,null,null,null,null,null,null,null,null,null,null,null,null,null,null,null,null,null,null,null,null,null,null,null,null,null,null,null,null,null,null,null,null,null,null,null,null,null,null,null,null,null,null,null,null,null,null,null,null,null,null,null,null,null,null,null,null,null,null,null,null,null,null,null,null,null,null,null,null,null,null,null,null,null,null,null,null,null,null,null,null,null,null,null,null,null,null,null,null,null,null,null,null,null,null,null,null,null,null,null,null,null,null,null,null,null,null,null,null,null,null,null,null,null,null,null,null,null,null,null,null,null,null,null,null,null,null,null,null,null,null,null,null,null,null,null,null,null,null,null,null,null,262100,263500,266400,270000,270600,271700,268700,268700,270000,269400,null,null,null,null,null,56000,56400]
[null,null,null,null,null,null,null,null,null,null,null,null,null,null,null,null,null,null,null,null,null,null,null,null,null,null,null,null,null,null,null,null,null,null,null,null,null,null,null,null,null,null,null,null,null,null,null,null,null,null,null,null,null,null,null,null,null,null,null,null,null,null,null,null,null,null,null,null,null,null,null,null,null,null,null,null,null,null,null,null,null,null,null,null,null,null,null,null,null,null,null,null,null,null,null,null,null,null,null,null,null,null,null,null,null,null,null,null,null,null,null,null,null,null,null,null,null,null,null,null,null,null,null,null,null,null,null,null,null,null,null,null,null,null,null,null,null,null,null,null,null,null,null,null,null,null,null,null,null,null,null,null,null,null,null,null,null,null,null,null,null,null,null,null,null,null,null,null,null,null,null,null,null,null,null,null,null,null,null,null,null,null,null,null,null,null,null,null,null,null,null,null,null,null,null,null,null,null,null,null,null,null,null,null,null,null,null,null,null,null,null,null,null,null,null,null,null,null,null,null,null,null,null,16700,17600,18500,19400,19700,19700,19200,19200,18900,18300,null,null,null,null,null,351200,349600]
[null,null,null,null,null,null,null,null,null,null,null,null,null,null,null,null,null,null,null,null,null,null,null,null,null,null,null,null,null,null,null,null,null,null,null,null,null,null,null,null,null,null,null,null,null,null,null,null,null,null,null,null,null,null,null,null,null,null,null,null,null,null,null,null,null,null,null,null,null,null,null,null,null,null,null,null,null,null,null,null,null,null,null,null,null,null,null,null,null,null,null,null,null,null,null,null,null,null,null,null,null,null,null,null,null,null,null,null,null,null,null,null,null,null,null,null,null,null,null,null,null,null,null,null,null,null,null,null,null,null,null,null,null,null,null,null,null,null,null,null,null,null,null,null,null,null,null,null,null,null,null,null,null,null,null,null,null,null,null,null,null,null,null,null,null,null,null,null,null,null,null,null,null,null,null,null,null,null,null,null,null,null,null,null,null,null,null,null,null,null,null,null,null,null,null,null,null,null,null,null,null,null,null,null,null,null,null,null,null,null,null,null,null,null,null,null,null,null,null,null,null,null,null,34500,34600,34900,35700,36200,36100,35700,35500,35300,35600,null,null,null,null,null,269300,269700]
[null,null,null,null,null,null,null,null,null,null,null,null,null,null,null,null,null,null,null,null,null,null,null,null,null,null,null,null,null,null,null,null,null,null,null,null,null,null,null,null,null,null,null,null,null,null,null,null,null,null,null,null,null,null,null,null,null,null,null,null,null,null,null,null,null,null,null,null,null,null,null,null,null,null,null,null,null,null,null,null,null,null,null,null,null,null,null,null,null,null,null,null,null,null,null,null,null,null,null,null,null,null,null,null,null,null,null,null,null,null,null,null,null,null,null,null,null,null,null,null,null,null,null,null,null,null,null,null,null,null,null,null,null,null,null,null,null,null,null,null,null,null,null,null,null,null,null,null,null,null,null,null,null,null,null,null,null,null,null,null,null,null,null,null,null,null,null,null,null,null,null,null,null,null,null,null,null,null,null,null,null,null,null,null,null,null,null,null,null,null,null,null,null,null,null,null,null,null,null,null,null,null,null,null,null,null,null,null,null,null,null,null,null,null,null,null,null,null,null,null,null,null,null,63100,63100,63800,64400,64700,64700,64300,64800,67100,67100,null,null,null,null,null,19800,20000]
[null,null,null,null,null,null,null,null,null,null,null,null,null,null,null,null,null,null,null,null,null,null,null,null,null,null,null,null,null,null,null,null,null,null,null,null,null,null,null,null,null,null,null,null,null,null,null,null,null,null,null,null,null,null,null,null,null,null,null,null,null,null,null,null,null,null,null,null,null,null,null,null,null,null,null,null,null,null,null,null,null,null,null,null,null,null,null,null,null,null,null,null,null,null,null,null,null,null,null,null,null,null,null,null,null,null,null,null,null,null,null,null,null,null,null,null,null,null,null,null,null,null,null,null,null,null,null,null,null,null,null,null,null,null,null,null,null,null,null,null,null,null,null,null,null,null,null,null,null,null,null,null,null,null,null,null,null,null,null,null,null,null,null,null,null,null,null,null,null,null,null,null,null,null,null,null,null,null,null,null,null,null,null,null,null,null,null,null,null,null,null,null,null,null,null,null,null,null,null,null,null,null,null,null,null,null,null,null,null,null,null,null,null,null,null,null,null,null,null,null,null,null,null,14700,14800,15000,15100,15200,15100,14800,14800,14900,14900,null,null,null,null,null,36200,36400]
[null,null,null,null,null,null,null,null,null,null,null,null,null,null,null,null,null,null,null,null,null,null,null,null,null,null,null,null,null,null,null,null,null,null,null,null,null,null,null,null,null,null,null,null,null,null,null,null,null,null,null,null,null,null,null,null,null,null,null,null,null,null,null,null,null,null,null,null,null,null,null,null,null,null,null,null,null,null,null,null,null,null,null,null,null,null,null,null,null,null,null,null,null,null,null,null,null,null,null,null,null,null,null,null,null,null,null,null,null,null,null,null,null,null,null,null,null,null,null,null,null,null,null,null,null,null,null,null,null,null,null,null,null,null,null,null,null,null,null,null,null,null,null,null,null,null,null,null,null,null,null,null,null,null,null,null,null,null,null,null,null,null,null,null,null,null,null,null,null,null,null,null,null,null,null,null,null,null,null,null,null,null,null,null,null,null,null,null,null,null,null,null,null,null,null,null,null,null,null,null,null,null,null,null,null,null,null,null,null,null,null,null,null,null,null,null,null,null,null,null,null,null,null,38900,38800,39100,39600,39900,39900,39600,40200,42400,42200,null,null,null,null,null,65800,66700]
[null,null,null,null,null,null,null,null,null,null,null,null,null,null,null,null,null,null,null,null,null,null,null,null,null,null,null,null,null,null,null,null,null,null,null,null,null,null,null,null,null,null,null,null,null,null,null,null,null,null,null,null,null,null,null,null,null,null,null,null,null,null,null,null,null,null,null,null,null,null,null,null,null,null,null,null,null,null,null,null,null,null,null,null,null,null,null,null,null,null,null,null,null,null,null,null,null,null,null,null,null,null,null,null,null,null,null,null,null,null,null,null,null,null,null,null,null,null,null,null,null,null,null,null,null,null,null,null,null,null,null,null,null,null,null,null,null,null,null,null,null,null,null,null,null,null,null,null,null,null,null,null,null,null,null,null,null,null,null,null,null,null,null,null,null,null,null,null,null,null,null,null,null,null,null,null,null,null,null,null,null,null,null,null,null,null,null,null,null,null,null,null,null,null,null,null,null,null,null,null,null,null,null,null,null,null,null,null,null,null,null,null,null,null,null,null,null,null,null,null,null,null,null,6000,6000,6000,6100,6100,6200,6200,6100,6500,6500,null,null,null,null,null,15600,15700]
[null,null,null,null,null,null,null,null,null,null,null,null,null,null,null,null,null,null,null,null,null,null,null,null,null,null,null,null,null,null,null,null,null,null,null,null,null,null,null,null,null,null,null,null,null,null,null,null,null,null,null,null,null,null,null,null,null,null,null,null,null,null,null,null,null,null,null,null,null,null,null,null,null,null,null,null,null,null,null,null,null,null,null,null,null,null,null,null,null,null,null,null,null,null,null,null,null,null,null,null,null,null,null,null,null,null,null,null,null,null,null,null,null,null,null,null,null,null,null,null,null,null,null,null,null,null,null,null,null,null,null,null,null,null,null,null,null,null,null,null,null,null,null,null,null,null,null,null,null,null,null,null,null,null,null,null,null,null,null,null,null,null,null,null,null,null,null,null,null,null,null,null,null,null,null,null,null,null,null,null,null,null,null,null,null,null,null,null,null,null,null,null,null,null,null,null,null,null,null,null,null,null,null,null,null,null,null,null,null,null,null,null,null,null,null,null,null,null,null,null,null,null,null,9500,9500,9700,9700,9600,9700,9900,9800,9800,10000,null,null,null,null,null,40200,41000]
[null,null,null,null,null,null,null,null,null,null,null,null,null,null,null,null,null,null,null,null,null,null,null,null,null,null,null,null,null,null,null,null,null,null,null,null,null,null,null,null,null,null,null,null,null,null,null,null,null,null,null,null,null,null,null,null,null,null,null,null,null,null,null,null,null,null,null,null,null,null,null,null,null,null,null,null,null,null,null,null,null,null,null,null,null,null,null,null,null,null,null,null,null,null,null,null,null,null,null,null,null,null,null,null,null,null,null,null,null,null,null,null,null,null,null,null,null,null,null,null,null,null,null,null,null,null,null,null,null,null,null,null,null,null,null,null,null,null,null,null,null,null,null,null,null,null,null,null,null,null,null,null,null,null,null,null,null,null,null,null,null,null,null,null,null,null,null,null,null,null,null,null,null,null,null,null,null,null,null,null,null,null,null,null,null,null,null,null,null,null,null,null,null,null,null,null,null,null,null,null,null,null,null,null,null,null,null,null,null,null,null,null,null,null,null,null,null,null,null,null,null,null,null,16800,16900,16800,16800,16900,16800,16700,16700,16800,16900,null,null,null,null,null,5500,5600]
[null,null,null,null,null,null,null,null,null,null,null,null,null,null,null,null,null,null,null,null,null,null,null,null,null,null,null,null,null,null,null,null,null,null,null,null,null,null,null,null,null,null,null,null,null,null,null,null,null,null,null,null,null,null,null,null,null,null,null,null,null,null,null,null,null,null,null,null,null,null,null,null,null,null,null,null,null,null,null,null,null,null,null,null,null,null,null,null,null,null,null,null,null,null,null,null,null,null,null,null,null,null,null,null,null,null,null,null,null,null,null,null,null,null,null,null,null,null,null,null,null,null,null,null,null,null,null,null,null,null,null,null,null,null,null,null,null,null,null,null,null,null,null,null,null,null,null,null,null,null,null,null,null,null,null,null,null,null,null,null,null,null,null,null,null,null,null,null,null,null,null,null,null,null,null,null,null,null,null,null,null,null,null,null,null,null,null,null,null,null,null,null,null,null,null,null,null,null,null,null,null,null,null,null,null,null,null,null,null,null,null,null,null,null,null,null,null,null,null,null,null,null,null,23200,23400,23400,23700,23800,23800,23400,23500,23500,23600,null,null,null,null,null,10000,10000]
[null,null,null,null,null,null,null,null,null,null,null,null,null,null,null,null,null,null,null,null,null,null,null,null,null,null,null,null,null,null,null,null,null,null,null,null,null,null,null,null,null,null,null,null,null,null,null,null,null,null,null,null,null,null,null,null,null,null,null,null,null,null,null,null,null,null,null,null,null,null,null,null,null,null,null,null,null,null,null,null,null,null,null,null,null,null,null,null,null,null,null,null,null,null,null,null,null,null,null,null,null,null,null,null,null,null,null,null,null,null,null,null,null,null,null,null,null,null,null,null,null,null,null,null,null,null,null,null,null,null,null,null,null,null,null,null,null,null,null,null,null,null,null,null,null,null,null,null,null,null,null,null,null,null,null,null,null,null,null,null,null,null,null,null,null,null,null,null,null,null,null,null,null,null,null,null,null,null,null,null,null,null,null,null,null,null,null,null,null,null,null,null,null,null,null,null,null,null,null,null,null,null,null,null,null,null,null,null,null,null,null,null,null,null,null,null,null,null,null,null,null,null,null,18200,18300,18300,18400,18400,18300,18200,18300,18400,18400,null,null,null,null,null,16900,17100]
[null,null,null,null,null,null,null,null,null,null,null,null,null,null,null,null,null,null,null,null,null,null,null,null,null,null,null,null,null,null,null,null,null,null,null,null,null,null,null,null,null,null,null,null,null,null,null,null,null,null,null,null,null,null,null,null,null,null,null,null,null,null,null,null,null,null,null,null,null,null,null,null,null,null,null,null,null,null,null,null,null,null,null,null,null,null,null,null,null,null,null,null,null,null,null,null,null,null,null,null,null,null,null,null,null,null,null,null,null,null,null,null,null,null,null,null,null,null,null,null,null,null,null,null,null,null,null,null,null,null,null,null,null,null,null,null,null,null,null,null,null,null,null,null,null,null,null,null,null,null,null,null,null,null,null,null,null,null,null,null,null,null,null,null,null,null,null,null,null,null,null,null,null,null,null,null,null,null,null,null,null,null,null,null,null,null,null,null,null,null,null,null,null,null,null,null,null,null,null,null,null,null,null,null,null,null,null,null,null,null,null,null,null,null,null,null,null,null,null,null,null,null,null,51600,51500,51700,52300,52400,52300,52700,52800,52300,51400,null,null,null,null,null,24000,23800]
[null,null,null,null,null,null,null,null,null,null,null,null,null,null,null,null,null,null,null,null,null,null,null,null,null,null,null,null,null,null,null,null,null,null,null,null,null,null,null,null,null,null,null,null,null,null,null,null,null,null,null,null,null,null,null,null,null,null,null,null,null,null,null,null,null,null,null,null,null,null,null,null,null,null,null,null,null,null,null,null,null,null,null,null,null,null,null,null,null,null,null,null,null,null,null,null,null,null,null,null,null,null,null,null,null,null,null,null,null,null,null,null,null,null,null,null,null,null,null,null,null,null,null,null,null,null,null,null,null,null,null,null,null,null,null,null,null,null,null,null,null,null,null,null,null,null,null,null,null,null,null,null,null,null,null,null,null,null,null,null,null,null,null,null,null,null,null,null,null,null,null,null,null,null,null,null,null,null,null,null,null,null,null,null,null,null,null,null,null,null,null,null,null,null,null,null,null,null,null,null,null,null,null,null,null,null,null,null,null,null,null,null,null,null,null,null,null,null,null,null,null,null,null,23400,23500,23400,23900,24200,24200,24200,24200,24000,24200,null,null,null,null,null,18700,18600]
[null,null,null,null,null,null,null,null,null,null,null,null,null,null,null,null,null,null,null,null,null,null,null,null,null,null,null,null,null,null,null,null,null,null,null,null,null,null,null,null,null,null,null,null,null,null,null,null,null,null,null,null,null,null,null,null,null,null,null,null,null,null,null,null,null,null,null,null,null,null,null,null,null,null,null,null,null,null,null,null,null,null,null,null,null,null,null,null,null,null,null,null,null,null,null,null,null,null,null,null,null,null,null,null,null,null,null,null,null,null,null,null,null,null,null,null,null,null,null,null,null,null,null,null,null,null,null,null,null,null,null,null,null,null,null,null,null,null,null,null,null,null,null,null,null,null,null,null,null,null,null,null,null,null,null,null,null,null,null,null,null,null,null,null,null,null,null,null,null,null,null,null,null,null,null,null,null,null,null,null,null,null,null,null,null,null,null,null,null,null,null,null,null,null,null,null,null,null,null,null,null,null,null,null,null,null,null,null,null,null,null,null,null,null,null,null,null,null,null,null,null,null,null,48400,49000,49000,49400,49400,49900,50100,49700,49900,49900,null,null,null,null,null,52200,53100]
[null,null,null,null,null,null,null,null,null,null,null,null,null,null,null,null,null,null,null,null,null,null,null,null,null,null,null,null,null,null,null,null,null,null,null,null,null,null,null,null,null,null,null,null,null,null,null,null,null,null,null,null,null,null,null,null,null,null,null,null,null,null,null,null,null,null,null,null,null,null,null,null,null,null,null,null,null,null,null,null,null,null,null,null,null,null,null,null,null,null,null,null,null,null,null,null,null,null,null,null,null,null,null,null,null,null,null,null,null,null,null,null,null,null,null,null,null,null,null,null,null,null,null,null,null,null,null,null,null,null,null,null,null,null,null,null,null,null,null,null,null,null,null,null,null,null,null,null,null,null,null,null,null,null,null,null,null,null,null,null,null,null,null,null,null,null,null,null,null,null,null,null,null,null,null,null,null,null,null,null,null,null,null,null,null,null,null,null,null,null,null,null,null,null,null,null,null,null,null,null,null,null,null,null,null,null,null,null,null,null,null,null,null,null,null,null,null,null,null,null,null,null,null,42900,43500,43500,43900,43900,44600,44700,44400,44500,44400,null,null,null,null,null,24500,25300]
[null,null,null,null,null,null,null,null,null,null,null,null,null,null,null,null,null,null,null,null,null,null,null,null,null,null,null,null,null,null,null,null,null,null,null,null,null,null,null,null,null,null,null,null,null,null,null,null,null,null,null,null,null,null,null,null,null,null,null,null,null,null,null,null,null,null,null,null,null,null,null,null,null,null,null,null,null,null,null,null,null,null,null,null,null,null,null,null,null,null,null,null,null,null,null,null,null,null,null,null,null,null,null,null,null,null,null,null,null,null,null,null,null,null,null,null,null,null,null,null,null,null,null,null,null,null,null,null,null,null,null,null,null,null,null,null,null,null,null,null,null,null,null,null,null,null,null,null,null,null,null,null,null,null,null,null,null,null,null,null,null,null,null,null,null,null,null,null,null,null,null,null,null,null,null,null,null,null,null,null,null,null,null,null,null,null,null,null,null,null,null,null,null,null,null,null,null,null,null,null,null,null,null,null,null,null,null,null,null,null,null,null,null,null,null,null,null,null,null,null,null,null,null,38700,39200,41300,42700,42700,43500,41000,40500,39700,39900,null,null,null,null,null,47900,47400]
[null,null,null,null,null,null,null,null,null,null,null,null,null,null,null,null,null,null,null,null,null,null,null,null,null,null,null,null,null,null,null,null,null,null,null,null,null,null,null,null,null,null,null,null,null,null,null,null,null,null,null,null,null,null,null,null,null,null,null,null,null,null,null,null,null,null,null,null,null,null,null,null,null,null,null,null,null,null,null,null,null,null,null,null,null,null,null,null,null,null,null,null,null,null,null,null,null,null,null,null,null,null,null,null,null,null,null,null,null,null,null,null,null,null,null,null,null,null,null,null,null,null,null,null,null,null,null,null,null,null,null,null,null,null,null,null,null,null,null,null,null,null,null,null,null,null,null,null,null,null,null,null,null,null,null,null,null,null,null,null,null,null,null,null,null,null,null,null,null,null,null,null,null,null,null,null,null,null,null,null,null,null,null,null,null,null,null,null,null,null,null,null,null,null,null,null,null,null,null,null,null,null,null,null,null,null,null,null,null,null,null,null,null,null,null,null,null,null,null,null,null,null,null,32300,32800,33800,34900,35000,35700,33900,33300,32700,33300,null,null,null,null,null,42800,42300]
[null,null,null,null,null,null,null,null,null,null,null,null,null,null,null,null,null,null,null,null,null,null,null,null,null,null,null,null,null,null,null,null,null,null,null,null,null,null,null,null,null,null,null,null,null,null,null,null,null,null,null,null,null,null,null,null,null,null,null,null,null,null,null,null,null,null,null,null,null,null,null,null,null,null,null,null,null,null,null,null,null,null,null,null,null,null,null,null,null,null,null,null,null,null,null,null,null,null,null,null,null,null,null,null,null,null,null,null,null,null,null,null,null,null,null,null,null,null,null,null,null,null,null,null,null,null,null,null,null,null,null,null,null,null,null,null,null,null,null,null,null,null,null,null,null,null,null,null,null,null,null,null,null,null,null,null,null,null,null,null,null,null,null,null,null,null,null,null,null,null,null,null,null,null,null,null,null,null,null,null,null,null,null,null,null,null,null,null,null,null,null,null,null,null,null,null,null,null,null,null,null,null,null,null,null,null,null,null,null,null,null,null,null,null,null,null,null,null,null,null,null,null,null,28000,28800,29500,30700,30800,31000,30000,29300,29100,29800,null,null,null,null,null,41300,40300]
[null,null,null,null,null,null,null,null,null,null,null,null,null,null,null,null,null,null,null,null,null,null,null,null,null,null,null,null,null,null,null,null,null,null,null,null,null,null,null,null,null,null,null,null,null,null,null,null,null,null,null,null,null,null,null,null,null,null,null,null,null,null,null,null,null,null,null,null,null,null,null,null,null,null,null,null,null,null,null,null,null,null,null,null,null,null,null,null,null,null,null,null,null,null,null,null,null,null,null,null,null,null,null,null,null,null,null,null,null,null,null,null,null,null,null,null,null,null,null,null,null,null,null,null,null,null,null,null,null,null,null,null,null,null,null,null,null,null,null,null,null,null,null,null,null,null,null,null,null,null,null,null,null,null,null,null,null,null,null,null,null,null,null,null,null,null,null,null,null,null,null,null,null,null,null,null,null,null,null,null,null,null,null,null,null,null,null,null,null,null,null,null,null,null,null,null,null,null,null,null,null,null,null,null,null,null,null,null,null,null,null,null,null,null,null,null,null,null,null,null,null,null,null,20300,20400,20400,20700,20700,20700,20500,20700,20700,20600,null,null,null,null,null,33800,33100]
[null,null,null,null,null,null,null,null,null,null,null,null,null,null,null,null,null,null,null,null,null,null,null,null,null,null,null,null,null,null,null,null,null,null,null,null,null,null,null,null,null,null,null,null,null,null,null,null,null,null,null,null,null,null,null,null,null,null,null,null,null,null,null,null,null,null,null,null,null,null,null,null,null,null,null,null,null,null,null,null,null,null,null,null,null,null,null,null,null,null,null,null,null,null,null,null,null,null,null,null,null,null,null,null,null,null,null,null,null,null,null,null,null,null,null,null,null,null,null,null,null,null,null,null,null,null,null,null,null,null,null,null,null,null,null,null,null,null,null,null,null,null,null,null,null,null,null,null,null,null,null,null,null,null,null,null,null,null,null,null,null,null,null,null,null,null,null,null,null,null,null,null,null,null,null,null,null,null,null,null,null,null,null,null,null,null,null,null,null,null,null,null,null,null,null,null,null,null,null,null,null,null,null,null,null,null,null,null,null,null,null,null,null,null,null,null,null,null,null,null,null,null,null,89200,89400,86700,83000,81000,78600,87000,88700,90200,89400,null,null,null,null,null,29100,28900]
[null,null,null,null,null,null,null,null,null,null,null,null,null,null,null,null,null,null,null,null,null,null,null,null,null,null,null,null,null,null,null,null,null,null,null,null,null,null,null,null,null,null,null,null,null,null,null,null,null,null,null,null,null,null,null,null,null,null,null,null,null,null,null,null,null,null,null,null,null,null,null,null,null,null,null,null,null,null,null,null,null,null,null,null,null,null,null,null,null,null,null,null,null,null,null,null,null,null,null,null,null,null,null,null,null,null,null,null,null,null,null,null,null,null,null,null,null,null,null,null,null,null,null,null,null,null,null,null,null,null,null,null,null,null,null,null,null,null,null,null,null,null,null,null,null,null,null,null,null,null,null,null,null,null,null,null,null,null,null,null,null,null,null,null,null,null,null,null,null,null,null,null,null,null,null,null,null,null,null,null,null,null,null,null,null,null,null,null,null,null,null,null,null,null,null,null,null,null,null,null,null,null,null,null,null,null,null,null,null,null,null,null,null,null,null,null,null,null,null,null,null,null,null,5300,5300,5300,5300,5300,5300,5300,5400,5400,5400,null,null,null,null,null,21200,21300]
[null,null,null,null,null,null,null,null,null,null,null,null,null,null,null,null,null,null,null,null,null,null,null,null,null,null,null,null,null,null,null,null,null,null,null,null,null,null,null,null,null,null,null,null,null,null,null,null,null,null,null,null,null,null,null,null,null,null,null,null,null,null,null,null,null,null,null,null,null,null,null,null,null,null,null,null,null,null,null,null,null,null,null,null,null,null,null,null,null,null,null,null,null,null,null,null,null,null,null,null,null,null,null,null,null,null,null,null,null,null,null,null,null,null,null,null,null,null,null,null,null,null,null,null,null,null,null,null,null,null,null,null,null,null,null,null,null,null,null,null,null,null,null,null,null,null,null,null,null,null,null,null,null,null,null,null,null,null,null,null,null,null,null,null,null,null,null,null,null,null,null,null,null,null,null,null,null,null,null,null,null,null,null,null,null,null,null,null,null,null,null,null,null,null,null,null,null,null,null,null,null,null,null,null,null,null,null,null,null,null,null,null,null,null,null,null,null,null,null,null,null,null,null,51400,50800,48600,44800,45400,43000,50400,50500,51800,51200,null,null,null,null,null,81900,79900]
[null,null,null,null,null,null,null,null,null,null,null,null,null,null,null,null,null,null,null,null,null,null,null,null,null,null,null,null,null,null,null,null,null,null,null,null,null,null,null,null,null,null,null,null,null,null,null,null,null,null,null,null,null,null,null,null,null,null,null,null,null,null,null,null,null,null,null,null,null,null,null,null,null,null,null,null,null,null,null,null,null,null,null,null,null,null,null,null,null,null,null,null,null,null,null,null,null,null,null,null,null,null,null,null,null,null,null,null,null,null,null,null,null,null,null,null,null,null,null,null,null,null,null,null,null,null,null,null,null,null,null,null,null,null,null,null,null,null,null,null,null,null,null,null,null,null,null,null,null,null,null,null,null,null,null,null,null,null,null,null,null,null,null,null,null,null,null,null,null,null,null,null,null,null,null,null,null,null,null,null,null,null,null,null,null,null,null,null,null,null,null,null,null,null,null,null,null,null,null,null,null,null,null,null,null,null,null,null,null,null,null,null,null,null,null,null,null,null,null,null,null,null,null,32500,33300,32800,32900,30300,30300,31300,32800,33000,32800,null,null,null,null,null,5500,5500]
[null,null,null,null,null,null,null,null,null,null,null,null,null,null,null,null,null,null,null,null,null,null,null,null,null,null,null,null,null,null,null,null,null,null,null,null,null,null,null,null,null,null,null,null,null,null,null,null,null,null,null,null,null,null,null,null,null,null,null,null,null,null,null,null,null,null,null,null,null,null,null,null,null,null,null,null,null,null,null,null,null,null,null,null,null,null,null,null,null,null,null,null,null,null,null,null,null,null,null,null,null,null,null,null,null,null,null,null,null,null,null,null,null,null,null,null,null,null,null,null,null,null,null,null,null,null,null,null,null,null,null,null,null,null,null,null,null,null,null,null,null,null,null,null,null,null,null,null,null,null,null,null,null,null,null,null,null,null,null,null,null,null,null,null,null,null,null,null,null,null,null,null,null,null,null,null,null,null,null,null,null,null,null,null,null,null,null,null,null,null,null,null,null,null,null,null,null,null,null,null,null,null,null,null,null,null,null,null,null,null,null,null,null,null,null,null,null,null,null,null,null,null,null,867100,874500,877100,882600,880000,878800,875800,879400,879000,877200,null,null,null,null,null,43100,43700]
[null,null,null,null,null,null,null,null,null,null,null,null,null,null,null,null,null,null,null,null,null,null,null,null,null,null,null,null,null,null,null,null,null,null,null,null,null,null,null,null,null,null,null,null,null,null,null,null,null,null,null,null,null,null,null,null,null,null,null,null,null,null,null,null,null,null,null,null,null,null,null,null,null,null,null,null,null,null,null,null,null,null,null,null,null,null,null,null,null,null,null,null,null,null,null,null,null,null,null,null,null,null,null,null,null,null,null,null,null,null,null,null,null,null,null,null,null,null,null,null,null,null,null,null,null,null,null,null,null,null,null,null,null,null,null,null,null,null,null,null,null,null,null,null,null,null,null,null,null,null,null,null,null,null,null,null,null,null,null,null,null,null,null,null,null,null,null,null,null,null,null,null,null,null,null,null,null,null,null,null,null,null,null,null,null,null,null,null,null,null,null,null,null,null,null,null,null,null,null,null,null,null,null,null,null,null,null,null,null,null,null,null,null,null,null,null,null,null,null,null,null,null,null,778300,785100,789000,797400,799000,796600,789800,791100,789100,788700,null,null,null,null,null,33300,30700]
[null,null,null,null,null,null,null,null,null,null,null,null,null,null,null,null,null,null,null,null,null,null,null,null,null,null,null,null,null,null,null,null,null,null,null,null,null,null,null,null,null,null,null,null,null,null,null,null,null,null,null,null,null,null,null,null,null,null,null,null,null,null,null,null,null,null,null,null,null,null,null,null,null,null,null,null,null,null,null,null,null,null,null,null,null,null,null,null,null,null,null,null,null,null,null,null,null,null,null,null,null,null,null,null,null,null,null,null,null,null,null,null,null,null,null,null,null,null,null,null,null,null,null,null,null,null,null,null,null,null,null,null,null,null,null,null,null,null,null,null,null,null,null,null,null,null,null,null,null,null,null,null,null,null,null,null,null,null,null,null,null,null,null,null,null,null,null,null,null,null,null,null,null,null,null,null,null,null,null,null,null,null,null,null,null,null,null,null,null,null,null,null,null,null,null,null,null,null,null,null,null,null,null,null,null,null,null,null,null,null,null,null,null,null,null,null,null,null,null,null,null,null,null,149500,151400,153000,156700,157500,157800,156000,155700,154900,152700,null,null,null,null,null,889500,885400]
[null,null,null,null,null,null,null,null,null,null,null,null,null,null,null,null,null,null,null,null,null,null,null,null,null,null,null,null,null,null,null,null,null,null,null,null,null,null,null,null,null,null,null,null,null,null,null,null,null,null,null,null,null,null,null,null,null,null,null,null,null,null,null,null,null,null,null,null,null,null,null,null,null,null,null,null,null,null,null,null,null,null,null,null,null,null,null,null,null,null,null,null,null,null,null,null,null,null,null,null,null,null,null,null,null,null,null,null,null,null,null,null,null,null,null,null,null,null,null,null,null,null,null,null,null,null,null,null,null,null,null,null,null,null,null,null,null,null,null,null,null,null,null,null,null,null,null,null,null,null,null,null,null,null,null,null,null,null,null,null,null,null,null,null,null,null,null,null,null,null,null,null,null,null,null,null,null,null,null,null,null,null,null,null,null,null,null,null,null,null,null,null,null,null,null,null,null,null,null,null,null,null,null,null,null,null,null,null,null,null,null,null,null,null,null,null,null,null,null,null,null,null,null,717600,723100,724100,725900,722500,721000,719800,723700,724100,724500,null,null,null,null,null,805200,804900]
[null,null,null,null,null,null,null,null,null,null,null,null,null,null,null,null,null,null,null,null,null,null,null,null,null,null,null,null,null,null,null,null,null,null,null,null,null,null,null,null,null,null,null,null,null,null,null,null,null,null,null,null,null,null,null,null,null,null,null,null,null,null,null,null,null,null,null,null,null,null,null,null,null,null,null,null,null,null,null,null,null,null,null,null,null,null,null,null,null,null,null,null,null,null,null,null,null,null,null,null,null,null,null,null,null,null,null,null,null,null,null,null,null,null,null,null,null,null,null,null,null,null,null,null,null,null,null,null,null,null,null,null,null,null,null,null,null,null,null,null,null,null,null,null,null,null,null,null,null,null,null,null,null,null,null,null,null,null,null,null,null,null,null,null,null,null,null,null,null,null,null,null,null,null,null,null,null,null,null,null,null,null,null,null,null,null,null,null,null,null,null,null,null,null,null,null,null,null,null,null,null,null,null,null,null,null,null,null,null,null,null,null,null,null,null,null,null,null,null,null,null,null,null,628800,633700,636000,640700,641500,638800,633800,635400,634200,636000,null,null,null,null,null,154200,155500]
[null,null,null,null,null,null,null,null,null,null,null,null,null,null,null,null,null,null,null,null,null,null,null,null,null,null,null,null,null,null,null,null,null,null,null,null,null,null,null,null,null,null,null,null,null,null,null,null,null,null,null,null,null,null,null,null,null,null,null,null,null,null,null,null,null,null,null,null,null,null,null,null,null,null,null,null,null,null,null,null,null,null,null,null,null,null,null,null,null,null,null,null,null,null,null,null,null,null,null,null,null,null,null,null,null,null,null,null,null,null,null,null,null,null,null,null,null,null,null,null,null,null,null,null,null,null,null,null,null,null,null,null,null,null,null,null,null,null,null,null,null,null,null,null,null,null,null,null,null,null,null,null,null,null,null,null,null,null,null,null,null,null,null,null,null,null,null,null,null,null,null,null,null,null,null,null,null,null,null,null,null,null,null,null,null,null,null,null,null,null,null,null,null,null,null,null,null,null,null,null,null,null,null,null,null,null,null,null,null,null,null,null,null,null,null,null,null,null,null,null,null,null,null,400,400,500,500,500,500,500,500,500,400,null,null,null,null,null,735300,729900]
[null,null,null,null,null,null,null,null,null,null,null,null,null,null,null,null,null,null,null,null,null,null,null,null,null,null,null,null,null,null,null,null,null,null,null,null,null,null,null,null,null,null,null,null,null,null,null,null,null,null,null,null,null,null,null,null,null,null,null,null,null,null,null,null,null,null,null,null,null,null,null,null,null,null,null,null,null,null,null,null,null,null,null,null,null,null,null,null,null,null,null,null,null,null,null,null,null,null,null,null,null,null,null,null,null,null,null,null,null,null,null,null,null,null,null,null,null,null,null,null,null,null,null,null,null,null,null,null,null,null,null,null,null,null,null,null,null,null,null,null,null,null,null,null,null,null,null,null,null,null,null,null,null,null,null,null,null,null,null,null,null,null,null,null,null,null,null,null,null,null,null,null,null,null,null,null,null,null,null,null,null,null,null,null,null,null,null,null,null,null,null,null,null,null,null,null,null,null,null,null,null,null,null,null,null,null,null,null,null,null,null,null,null,null,null,null,null,null,null,null,null,null,null,29100,31000,32600,34300,34800,34600,33700,33800,33100,30700,null,null,null,null,null,651000,649400]
[null,null,null,null,null,null,null,null,null,null,null,null,null,null,null,null,null,null,null,null,null,null,null,null,null,null,null,null,null,null,null,null,null,null,null,null,null,null,null,null,null,null,null,null,null,null,null,null,null,null,null,null,null,null,null,null,null,null,null,null,null,null,null,null,null,null,null,null,null,null,null,null,null,null,null,null,null,null,null,null,null,null,null,null,null,null,null,null,null,null,null,null,null,null,null,null,null,null,null,null,null,null,null,null,null,null,null,null,null,null,null,null,null,null,null,null,null,null,null,null,null,null,null,null,null,null,null,null,null,null,null,null,null,null,null,null,null,null,null,null,null,null,null,null,null,null,null,null,null,null,null,null,null,null,null,null,null,null,null,null,null,null,null,null,null,null,null,null,null,null,null,null,null,null,null,null,null,null,null,null,null,null,null,null,null,null,null,null,null,null,null,null,null,null,null,null,null,null,null,null,null,null,null,null,null,null,null,null,null,null,null,null,null,null,null,null,null,null,null,null,null,null,null,28700,30600,32100,33800,34300,34100,33200,33300,32600,30300,null,null,null,null,null,400,400]
[null,null,null,null,null,null,null,null,null,null,null,null,null,null,null,null,null,null,null,null,null,null,null,null,null,null,null,null,null,null,null,null,null,null,null,null,null,null,null,null,null,null,null,null,null,null,null,null,null,null,null,null,null,null,null,null,null,null,null,null,null,null,null,null,null,null,null,null,null,null,null,null,null,null,null,null,null,null,null,null,null,null,null,null,null,null,null,null,null,null,null,null,null,null,null,null,null,null,null,null,null,null,null,null,null,null,null,null,null,null,null,null,null,null,null,null,null,null,null,null,null,null,null,null,null,null,null,null,null,null,null,null,null,null,null,null,null,null,null,null,null,null,null,null,null,null,null,null,null,null,null,null,null,null,null,null,null,null,null,null,null,null,null,null,null,null,null,null,null,null,null,null,null,null,null,null,null,null,null,null,null,null,null,null,null,null,null,null,null,null,null,null,null,null,null,null,null,null,null,null,null,null,null,null,null,null,null,null,null,null,null,null,null,null,null,null,null,null,null,null,null,null,null,120400,120400,120400,122400,122700,123200,122300,121900,121800,122000,null,null,null,null,null,35000,35600]
[null,null,null,null,null,null,null,null,null,null,null,null,null,null,null,null,null,null,null,null,null,null,null,null,null,null,null,null,null,null,null,null,null,null,null,null,null,null,null,null,null,null,null,null,null,null,null,null,null,null,null,null,null,null,null,null,null,null,null,null,null,null,null,null,null,null,null,null,null,null,null,null,null,null,null,null,null,null,null,null,null,null,null,null,null,null,null,null,null,null,null,null,null,null,null,null,null,null,null,null,null,null,null,null,null,null,null,null,null,null,null,null,null,null,null,null,null,null,null,null,null,null,null,null,null,null,null,null,null,null,null,null,null,null,null,null,null,null,null,null,null,null,null,null,null,null,null,null,null,null,null,null,null,null,null,null,null,null,null,null,null,null,null,null,null,null,null,null,null,null,null,null,null,null,null,null,null,null,null,null,null,null,null,null,null,null,null,null,null,null,null,null,null,null,null,null,null,null,null,null,null,null,null,null,null,null,null,null,null,null,null,null,null,null,null,null,null,null,null,null,null,null,null,81500,81500,81500,82900,83000,83300,82800,82300,82200,82700,null,null,null,null,null,34600,35200]
[null,null,null,null,null,null,null,null,null,null,null,null,null,null,null,null,null,null,null,null,null,null,null,null,null,null,null,null,null,null,null,null,null,null,null,null,null,null,null,null,null,null,null,null,null,null,null,null,null,null,null,null,null,null,null,null,null,null,null,null,null,null,null,null,null,null,null,null,null,null,null,null,null,null,null,null,null,null,null,null,null,null,null,null,null,null,null,null,null,null,null,null,null,null,null,null,null,null,null,null,null,null,null,null,null,null,null,null,null,null,null,null,null,null,null,null,null,null,null,null,null,null,null,null,null,null,null,null,null,null,null,null,null,null,null,null,null,null,null,null,null,null,null,null,null,null,null,null,null,null,null,null,null,null,null,null,null,null,null,null,null,null,null,null,null,null,null,null,null,null,null,null,null,null,null,null,null,null,null,null,null,null,null,null,null,null,null,null,null,null,null,null,null,null,null,null,null,null,null,null,null,null,null,null,null,null,null,null,null,null,null,null,null,null,null,null,null,null,null,null,null,null,null,22500,22500,22400,22800,22800,22900,22600,22500,22600,22700,null,null,null,null,null,119200,119900]
[null,null,null,null,null,null,null,null,null,null,null,null,null,null,null,null,null,null,null,null,null,null,null,null,null,null,null,null,null,null,null,null,null,null,null,null,null,null,null,null,null,null,null,null,null,null,null,null,null,null,null,null,null,null,null,null,null,null,null,null,null,null,null,null,null,null,null,null,null,null,null,null,null,null,null,null,null,null,null,null,null,null,null,null,null,null,null,null,null,null,null,null,null,null,null,null,null,null,null,null,null,null,null,null,null,null,null,null,null,null,null,null,null,null,null,null,null,null,null,null,null,null,null,null,null,null,null,null,null,null,null,null,null,null,null,null,null,null,null,null,null,null,null,null,null,null,null,null,null,null,null,null,null,null,null,null,null,null,null,null,null,null,null,null,null,null,null,null,null,null,null,null,null,null,null,null,null,null,null,null,null,null,null,null,null,null,null,null,null,null,null,null,null,null,null,null,null,null,null,null,null,null,null,null,null,null,null,null,null,null,null,null,null,null,null,null,null,null,null,null,null,null,null,19100,19000,19000,19200,19100,19200,19100,19000,19000,19100,null,null,null,null,null,79500,80000]
[null,null,null,null,null,null,null,null,null,null,null,null,null,null,null,null,null,null,null,null,null,null,null,null,null,null,null,null,null,null,null,null,null,null,null,null,null,null,null,null,null,null,null,null,null,null,null,null,null,null,null,null,null,null,null,null,null,null,null,null,null,null,null,null,null,null,null,null,null,null,null,null,null,null,null,null,null,null,null,null,null,null,null,null,null,null,null,null,null,null,null,null,null,null,null,null,null,null,null,null,null,null,null,null,null,null,null,null,null,null,null,null,null,null,null,null,null,null,null,null,null,null,null,null,null,null,null,null,null,null,null,null,null,null,null,null,null,null,null,null,null,null,null,null,null,null,null,null,null,null,null,null,null,null,null,null,null,null,null,null,null,null,null,null,null,null,null,null,null,null,null,null,null,null,null,null,null,null,null,null,null,null,null,null,null,null,null,null,null,null,null,null,null,null,null,null,null,null,null,null,null,null,null,null,null,null,null,null,null,null,null,null,null,null,null,null,null,null,null,null,null,null,null,11400,11700,11700,11800,12000,11800,11700,11800,11800,11700,null,null,null,null,null,23600,23800]
[null,null,null,null,null,null,null,null,null,null,null,null,null,null,null,null,null,null,null,null,null,null,null,null,null,null,null,null,null,null,null,null,null,null,null,null,null,null,null,null,null,null,null,null,null,null,null,null,null,null,null,null,null,null,null,null,null,null,null,null,null,null,null,null,null,null,null,null,null,null,null,null,null,null,null,null,null,null,null,null,null,null,null,null,null,null,null,null,null,null,null,null,null,null,null,null,null,null,null,null,null,null,null,null,null,null,null,null,null,null,null,null,null,null,null,null,null,null,null,null,null,null,null,null,null,null,null,null,null,null,null,null,null,null,null,null,null,null,null,null,null,null,null,null,null,null,null,null,null,null,null,null,null,null,null,null,null,null,null,null,null,null,null,null,null,null,null,null,null,null,null,null,null,null,null,null,null,null,null,null,null,null,null,null,null,null,null,null,null,null,null,null,null,null,null,null,null,null,null,null,null,null,null,null,null,null,null,null,null,null,null,null,null,null,null,null,null,null,null,null,null,null,null,4500,4500,4500,4500,4500,4500,4500,4500,4500,4500,null,null,null,null,null,20200,20100]
[null,null,null,null,null,null,null,null,null,null,null,null,null,null,null,null,null,null,null,null,null,null,null,null,null,null,null,null,null,null,null,null,null,null,null,null,null,null,null,null,null,null,null,null,null,null,null,null,null,null,null,null,null,null,null,null,null,null,null,null,null,null,null,null,null,null,null,null,null,null,null,null,null,null,null,null,null,null,null,null,null,null,null,null,null,null,null,null,null,null,null,null,null,null,null,null,null,null,null,null,null,null,null,null,null,null,null,null,null,null,null,null,null,null,null,null,null,null,null,null,null,null,null,null,null,null,null,null,null,null,null,null,null,null,null,null,null,null,null,null,null,null,null,null,null,null,null,null,null,null,null,null,null,null,null,null,null,null,null,null,null,null,null,null,null,null,null,null,null,null,null,null,null,null,null,null,null,null,null,null,null,null,null,null,null,null,null,null,null,null,null,null,null,null,null,null,null,null,null,null,null,null,null,null,null,null,null,null,null,null,null,null,null,null,null,null,null,null,null,null,null,null,null,38900,38900,38900,39500,39700,39900,39500,39600,39600,39300,null,null,null,null,null,11800,11800]
[null,null,null,null,null,null,null,null,null,null,null,null,null,null,null,null,null,null,null,null,null,null,null,null,null,null,null,null,null,null,null,null,null,null,null,null,null,null,null,null,null,null,null,null,null,null,null,null,null,null,null,null,null,null,null,null,null,null,null,null,null,null,null,null,null,null,null,null,null,null,null,null,null,null,null,null,null,null,null,null,null,null,null,null,null,null,null,null,null,null,null,null,null,null,null,null,null,null,null,null,null,null,null,null,null,null,null,null,null,null,null,null,null,null,null,null,null,null,null,null,null,null,null,null,null,null,null,null,null,null,null,null,null,null,null,null,null,null,null,null,null,null,null,null,null,null,null,null,null,null,null,null,null,null,null,null,null,null,null,null,null,null,null,null,null,null,null,null,null,null,null,null,null,null,null,null,null,null,null,null,null,null,null,null,null,null,null,null,null,null,null,null,null,null,null,null,null,null,null,null,null,null,null,null,null,null,null,null,null,null,null,null,null,null,null,null,null,null,null,null,null,null,null,143500,144100,144500,145100,144600,144900,142900,143300,145300,145600,null,null,null,null,null,39700,39900]
[null,null,null,null,null,null,null,null,null,null,null,null,null,null,null,null,null,null,null,null,null,null,null,null,null,null,null,null,null,null,null,null,null,null,null,null,null,null,null,null,null,null,null,null,null,null,null,null,null,null,null,null,null,null,null,null,null,null,null,null,null,null,null,null,null,null,null,null,null,null,null,null,null,null,null,null,null,null,null,null,null,null,null,null,null,null,null,null,null,null,null,null,null,null,null,null,null,null,null,null,null,null,null,null,null,null,null,null,null,null,null,null,null,null,null,null,null,null,null,null,null,null,null,null,null,null,null,null,null,null,null,null,null,null,null,null,null,null,null,null,null,null,null,null,null,null,null,null,null,null,null,null,null,null,null,null,null,null,null,null,null,null,null,null,null,null,null,null,null,null,null,null,null,null,null,null,null,null,null,null,null,null,null,null,null,null,null,null,null,null,null,null,null,null,null,null,null,null,null,null,null,null,null,null,null,null,null,null,null,null,null,null,null,null,null,null,null,null,null,null,null,null,null,37700,37700,37700,37500,38000,38000,37500,37500,37300,37400,null,null,null,null,null,147500,148500]
[null,null,null,null,null,null,null,null,null,null,null,null,null,null,null,null,null,null,null,null,null,null,null,null,null,null,null,null,null,null,null,null,null,null,null,null,null,null,null,null,null,null,null,null,null,null,null,null,null,null,null,null,null,null,null,null,null,null,null,null,null,null,null,null,null,null,null,null,null,null,null,null,null,null,null,null,null,null,null,null,null,null,null,null,null,null,null,null,null,null,null,null,null,null,null,null,null,null,null,null,null,null,null,null,null,null,null,null,null,null,null,null,null,null,null,null,null,null,null,null,null,null,null,null,null,null,null,null,null,null,null,null,null,null,null,null,null,null,null,null,null,null,null,null,null,null,null,null,null,null,null,null,null,null,null,null,null,null,null,null,null,null,null,null,null,null,null,null,null,null,null,null,null,null,null,null,null,null,null,null,null,null,null,null,null,null,null,null,null,null,null,null,null,null,null,null,null,null,null,null,null,null,null,null,null,null,null,null,null,null,null,null,null,null,null,null,null,null,null,null,null,null,null,23400,23500,23600,23900,24000,23900,23700,23700,23800,23900,null,null,null,null,null,37900,38500]
[null,null,null,null,null,null,null,null,null,null,null,null,null,null,null,null,null,null,null,null,null,null,null,null,null,null,null,null,null,null,null,null,null,null,null,null,null,null,null,null,null,null,null,null,null,null,null,null,null,null,null,null,null,null,null,null,null,null,null,null,null,null,null,null,null,null,null,null,null,null,null,null,null,null,null,null,null,null,null,null,null,null,null,null,null,null,null,null,null,null,null,null,null,null,null,null,null,null,null,null,null,null,null,null,null,null,null,null,null,null,null,null,null,null,null,null,null,null,null,null,null,null,null,null,null,null,null,null,null,null,null,null,null,null,null,null,null,null,null,null,null,null,null,null,null,null,null,null,null,null,null,null,null,null,null,null,null,null,null,null,null,null,null,null,null,null,null,null,null,null,null,null,null,null,null,null,null,null,null,null,null,null,null,null,null,null,null,null,null,null,null,null,null,null,null,null,null,null,null,null,null,null,null,null,null,null,null,null,null,null,null,null,null,null,null,null,null,null,null,null,null,null,null,79400,80100,80100,81000,80600,80600,78500,78600,80700,80400,null,null,null,null,null,26300,26400]
[null,null,null,null,null,null,null,null,null,null,null,null,null,null,null,null,null,null,null,null,null,null,null,null,null,null,null,null,null,null,null,null,null,null,null,null,null,null,null,null,null,null,null,null,null,null,null,null,null,null,null,null,null,null,null,null,null,null,null,null,null,null,null,null,null,null,null,null,null,null,null,null,null,null,null,null,null,null,null,null,null,null,null,null,null,null,null,null,null,null,null,null,null,null,null,null,null,null,null,null,null,null,null,null,null,null,null,null,null,null,null,null,null,null,null,null,null,null,null,null,null,null,null,null,null,null,null,null,null,null,null,null,null,null,null,null,null,null,null,null,null,null,null,null,null,null,null,null,null,null,null,null,null,null,null,null,null,null,null,null,null,null,null,null,null,null,null,null,null,null,null,null,null,null,null,null,null,null,null,null,null,null,null,null,null,null,null,null,null,null,null,null,null,null,null,null,null,null,null,null,null,null,null,null,null,null,null,null,null,null,null,null,null,null,null,null,null,null,null,null,null,null,null,16900,16900,17000,17100,17200,17500,17300,17100,18000,17900,null,null,null,null,null,79200,79600]
[null,null,null,null,null,null,null,null,null,null,null,null,null,null,null,null,null,null,null,null,null,null,null,null,null,null,null,null,null,null,null,null,null,null,null,null,null,null,null,null,null,null,null,null,null,null,null,null,null,null,null,null,null,null,null,null,null,null,null,null,null,null,null,null,null,null,null,null,null,null,null,null,null,null,null,null,null,null,null,null,null,null,null,null,null,null,null,null,null,null,null,null,null,null,null,null,null,null,null,null,null,null,null,null,null,null,null,null,null,null,null,null,null,null,null,null,null,null,null,null,null,null,null,null,null,null,null,null,null,null,null,null,null,null,null,null,null,null,null,null,null,null,null,null,null,null,null,null,null,null,null,null,null,null,null,null,null,null,null,null,null,null,null,null,null,null,null,null,null,null,null,null,null,null,null,null,null,null,null,null,null,null,null,null,null,null,null,null,null,null,null,null,null,null,null,null,null,null,null,null,null,null,null,null,null,null,null,null,null,null,null,null,null,null,null,null,null,null,null,null,null,null,null,7800,7800,7800,7800,7800,7900,7900,7800,8500,8600,null,null,null,null,null,15300,15200]
[null,null,null,null,null,null,null,null,null,null,null,null,null,null,null,null,null,null,null,null,null,null,null,null,null,null,null,null,null,null,null,null,null,null,null,null,null,null,null,null,null,null,null,null,null,null,null,null,null,null,null,null,null,null,null,null,null,null,null,null,null,null,null,null,null,null,null,null,null,null,null,null,null,null,null,null,null,null,null,null,null,null,null,null,null,null,null,null,null,null,null,null,null,null,null,null,null,null,null,null,null,null,null,null,null,null,null,null,null,null,null,null,null,null,null,null,null,null,null,null,null,null,null,null,null,null,null,null,null,null,null,null,null,null,null,null,null,null,null,null,null,null,null,null,null,null,null,null,null,null,null,null,null,null,null,null,null,null,null,null,null,null,null,null,null,null,null,null,null,null,null,null,null,null,null,null,null,null,null,null,null,null,null,null,null,null,null,null,null,null,null,null,null,null,null,null,null,null,null,null,null,null,null,null,null,null,null,null,null,null,null,null,null,null,null,null,null,null,null,null,null,null,null,26400,26300,26700,26600,26000,26300,26900,27200,27300,27800,null,null,null,null,null,6400,6400]
[null,null,null,null,null,null,null,null,null,null,null,null,null,null,null,null,null,null,null,null,null,null,null,null,null,null,null,null,null,null,null,null,null,null,null,null,null,null,null,null,null,null,null,null,null,null,null,null,null,null,null,null,null,null,null,null,null,null,null,null,null,null,null,null,null,null,null,null,null,null,null,null,null,null,null,null,null,null,null,null,null,null,null,null,null,null,null,null,null,null,null,null,null,null,null,null,null,null,null,null,null,null,null,null,null,null,null,null,null,null,null,null,null,null,null,null,null,null,null,null,null,null,null,null,null,null,null,null,null,null,null,null,null,null,null,null,null,null,null,null,null,null,null,null,null,null,null,null,null,null,null,null,null,null,null,null,null,null,null,null,null,null,null,null,null,null,null,null,null,null,null,null,null,null,null,null,null,null,null,null,null,null,null,null,null,null,null,null,null,null,null,null,null,null,null,null,null,null,null,null,null,null,null,null,null,null,null,null,null,null,null,null,null,null,null,null,null,null,null,null,null,null,null,13100,13000,13000,13100,13000,13000,12900,13100,13100,13200,null,null,null,null,null,30400,30400]
[null,null,null,null,null,null,null,null,null,null,null,null,null,null,null,null,null,null,null,null,null,null,null,null,null,null,null,null,null,null,null,null,null,null,null,null,null,null,null,null,null,null,null,null,null,null,null,null,null,null,null,null,null,null,null,null,null,null,null,null,null,null,null,null,null,null,null,null,null,null,null,null,null,null,null,null,null,null,null,null,null,null,null,null,null,null,null,null,null,null,null,null,null,null,null,null,null,null,null,null,null,null,null,null,null,null,null,null,null,null,null,null,null,null,null,null,null,null,null,null,null,null,null,null,null,null,null,null,null,null,null,null,null,null,null,null,null,null,null,null,null,null,null,null,null,null,null,null,null,null,null,null,null,null,null,null,null,null,null,null,null,null,null,null,null,null,null,null,null,null,null,null,null,null,null,null,null,null,null,null,null,null,null,null,null,null,null,null,null,null,null,null,null,null,null,null,null,null,null,null,null,null,null,null,null,null,null,null,null,null,null,null,null,null,null,null,null,null,null,null,null,null,null,49900,50500,49400,50100,50200,49700,48900,49600,49700,49700,null,null,null,null,null,13400,13300]
[null,null,null,null,null,null,null,null,null,null,null,null,null,null,null,null,null,null,null,null,null,null,null,null,null,null,null,null,null,null,null,null,null,null,null,null,null,null,null,null,null,null,null,null,null,null,null,null,null,null,null,null,null,null,null,null,null,null,null,null,null,null,null,null,null,null,null,null,null,null,null,null,null,null,null,null,null,null,null,null,null,null,null,null,null,null,null,null,null,null,null,null,null,null,null,null,null,null,null,null,null,null,null,null,null,null,null,null,null,null,null,null,null,null,null,null,null,null,null,null,null,null,null,null,null,null,null,null,null,null,null,null,null,null,null,null,null,null,null,null,null,null,null,null,null,null,null,null,null,null,null,null,null,null,null,null,null,null,null,null,null,null,null,null,null,null,null,null,null,null,null,null,null,null,null,null,null,null,null,null,null,null,null,null,null,null,null,null,null,null,null,null,null,null,null,null,null,null,null,null,null,null,null,null,null,null,null,null,null,null,null,null,null,null,null,null,null,null,null,null,null,null,null,39500,40100,39000,39500,39600,38700,38500,38900,39100,39500,null,null,null,null,null,50700,51300]
[null,null,null,null,null,null,null,null,null,null,null,null,null,null,null,null,null,null,null,null,null,null,null,null,null,null,null,null,null,null,null,null,null,null,null,null,null,null,null,null,null,null,null,null,null,null,null,null,null,null,null,null,null,null,null,null,null,null,null,null,null,null,null,null,null,null,null,null,null,null,null,null,null,null,null,null,null,null,null,null,null,null,null,null,null,null,null,null,null,null,null,null,null,null,null,null,null,null,null,null,null,null,null,null,null,null,null,null,null,null,null,null,null,null,null,null,null,null,null,null,null,null,null,null,null,null,null,null,null,null,null,null,null,null,null,null,null,null,null,null,null,null,null,null,null,null,null,null,null,null,null,null,null,null,null,null,null,null,null,null,null,null,null,null,null,null,null,null,null,null,null,null,null,null,null,null,null,null,null,null,null,null,null,null,null,null,null,null,null,null,null,null,null,null,null,null,null,null,null,null,null,null,null,null,null,null,null,null,null,null,null,null,null,null,null,null,null,null,null,null,null,null,null,19000,19200,19200,19400,19400,19300,19300,19300,19400,19400,null,null,null,null,null,40600,40600]
[null,null,null,null,null,null,null,null,null,null,null,null,null,null,null,null,null,null,null,null,null,null,null,null,null,null,null,null,null,null,null,null,null,null,null,null,null,null,null,null,null,null,null,null,null,null,null,null,null,null,null,null,null,null,null,null,null,null,null,null,null,null,null,null,null,null,null,null,null,null,null,null,null,null,null,null,null,null,null,null,null,null,null,null,null,null,null,null,null,null,null,null,null,null,null,null,null,null,null,null,null,null,null,null,null,null,null,null,null,null,null,null,null,null,null,null,null,null,null,null,null,null,null,null,null,null,null,null,null,null,null,null,null,null,null,null,null,null,null,null,null,null,null,null,null,null,null,null,null,null,null,null,null,null,null,null,null,null,null,null,null,null,null,null,null,null,null,null,null,null,null,null,null,null,null,null,null,null,null,null,null,null,null,null,null,null,null,null,null,null,null,null,null,null,null,null,null,null,null,null,null,null,null,null,null,null,null,null,null,null,null,null,null,null,null,null,null,null,null,null,null,null,null,126500,128100,128100,128800,128500,129300,128500,126900,124900,124500,null,null,null,null,null,19300,19300]
[null,null,null,null,null,null,null,null,null,null,null,null,null,null,null,null,null,null,null,null,null,null,null,null,null,null,null,null,null,null,null,null,null,null,null,null,null,null,null,null,null,null,null,null,null,null,null,null,null,null,null,null,null,null,null,null,null,null,null,null,null,null,null,null,null,null,null,null,null,null,null,null,null,null,null,null,null,null,null,null,null,null,null,null,null,null,null,null,null,null,null,null,null,null,null,null,null,null,null,null,null,null,null,null,null,null,null,null,null,null,null,null,null,null,null,null,null,null,null,null,null,null,null,null,null,null,null,null,null,null,null,null,null,null,null,null,null,null,null,null,null,null,null,null,null,null,null,null,null,null,null,null,null,null,null,null,null,null,null,null,null,null,null,null,null,null,null,null,null,null,null,null,null,null,null,null,null,null,null,null,null,null,null,null,null,null,null,null,null,null,null,null,null,null,null,null,null,null,null,null,null,null,null,null,null,null,null,null,null,null,null,null,null,null,null,null,null,null,null,null,null,null,null,42800,43000,41900,42500,42300,42200,41800,41500,40900,40600,null,null,null,null,null,126200,126000]
[null,null,null,null,null,null,null,null,null,null,null,null,null,null,null,null,null,null,null,null,null,null,null,null,null,null,null,null,null,null,null,null,null,null,null,null,null,null,null,null,null,null,null,null,null,null,null,null,null,null,null,null,null,null,null,null,null,null,null,null,null,null,null,null,null,null,null,null,null,null,null,null,null,null,null,null,null,null,null,null,null,null,null,null,null,null,null,null,null,null,null,null,null,null,null,null,null,null,null,null,null,null,null,null,null,null,null,null,null,null,null,null,null,null,null,null,null,null,null,null,null,null,null,null,null,null,null,null,null,null,null,null,null,null,null,null,null,null,null,null,null,null,null,null,null,null,null,null,null,null,null,null,null,null,null,null,null,null,null,null,null,null,null,null,null,null,null,null,null,null,null,null,null,null,null,null,null,null,null,null,null,null,null,null,null,null,null,null,null,null,null,null,null,null,null,null,null,null,null,null,null,null,null,null,null,null,null,null,null,null,null,null,null,null,null,null,null,null,null,null,null,null,null,26800,26800,26600,26700,26400,26300,26200,26100,26300,26400,null,null,null,null,null,41100,40700]
[null,null,null,null,null,null,null,null,null,null,null,null,null,null,null,null,null,null,null,null,null,null,null,null,null,null,null,null,null,null,null,null,null,null,null,null,null,null,null,null,null,null,null,null,null,null,null,null,null,null,null,null,null,null,null,null,null,null,null,null,null,null,null,null,null,null,null,null,null,null,null,null,null,null,null,null,null,null,null,null,null,null,null,null,null,null,null,null,null,null,null,null,null,null,null,null,null,null,null,null,null,null,null,null,null,null,null,null,null,null,null,null,null,null,null,null,null,null,null,null,null,null,null,null,null,null,null,null,null,null,null,null,null,null,null,null,null,null,null,null,null,null,null,null,null,null,null,null,null,null,null,null,null,null,null,null,null,null,null,null,null,null,null,null,null,null,null,null,null,null,null,null,null,null,null,null,null,null,null,null,null,null,null,null,null,null,null,null,null,null,null,null,null,null,null,null,null,null,null,null,null,null,null,null,null,null,null,null,null,null,null,null,null,null,null,null,null,null,null,null,null,null,null,56900,58300,59600,59600,59800,60800,60500,59300,57700,57500,null,null,null,null,null,26400,26500]
[null,null,null,null,null,null,null,null,null,null,null,null,null,null,null,null,null,null,null,null,null,null,null,null,null,null,null,null,null,null,null,null,null,null,null,null,null,null,null,null,null,null,null,null,null,null,null,null,null,null,null,null,null,null,null,null,null,null,null,null,null,null,null,null,null,null,null,null,null,null,null,null,null,null,null,null,null,null,null,null,null,null,null,null,null,null,null,null,null,null,null,null,null,null,null,null,null,null,null,null,null,null,null,null,null,null,null,null,null,null,null,null,null,null,null,null,null,null,null,null,null,null,null,null,null,null,null,null,null,null,null,null,null,null,null,null,null,null,null,null,null,null,null,null,null,null,null,null,null,null,null,null,null,null,null,null,null,null,null,null,null,null,null,null,null,null,null,null,null,null,null,null,null,null,null,null,null,null,null,null,null,null,null,null,null,null,null,null,null,null,null,null,null,null,null,null,null,null,null,null,null,null,null,null,null,null,null,null,null,null,null,null,null,null,null,null,null,null,null,null,null,null,null,30000,29900,30600,30400,30400,31000,31900,32300,31700,31300,null,null,null,null,null,58700,58800]
[null,null,null,null,null,null,null,null,null,null,null,null,null,null,null,null,null,null,null,null,null,null,null,null,null,null,null,null,null,null,null,null,null,null,null,null,null,null,null,null,null,null,null,null,null,null,null,null,null,null,null,null,null,null,null,null,null,null,null,null,null,null,null,null,null,null,null,null,null,null,null,null,null,null,null,null,null,null,null,null,null,null,null,null,null,null,null,null,null,null,null,null,null,null,null,null,null,null,null,null,null,null,null,null,null,null,null,null,null,null,null,null,null,null,null,null,null,null,null,null,null,null,null,null,null,null,null,null,null,null,null,null,null,null,null,null,null,null,null,null,null,null,null,null,null,null,null,null,null,null,null,null,null,null,null,null,null,null,null,null,null,null,null,null,null,null,null,null,null,null,null,null,null,null,null,null,null,null,null,null,null,null,null,null,null,null,null,null,null,null,null,null,null,null,null,null,null,null,null,null,null,null,null,null,null,null,null,null,null,null,null,null,null,null,null,null,null,null,null,null,null,null,null,172500,171900,172200,169000,168800,170000,173400,175600,176300,177400,null,null,null,null,null,28900,28400]
[null,null,null,null,null,null,null,null,null,null,null,null,null,null,null,null,null,null,null,null,null,null,null,null,null,null,null,null,null,null,null,null,null,null,null,null,null,null,null,null,null,null,null,null,null,null,null,null,null,null,null,null,null,null,null,null,null,null,null,null,null,null,null,null,null,null,null,null,null,null,null,null,null,null,null,null,null,null,null,null,null,null,null,null,null,null,null,null,null,null,null,null,null,null,null,null,null,null,null,null,null,null,null,null,null,null,null,null,null,null,null,null,null,null,null,null,null,null,null,null,null,null,null,null,null,null,null,null,null,null,null,null,null,null,null,null,null,null,null,null,null,null,null,null,null,null,null,null,null,null,null,null,null,null,null,null,null,null,null,null,null,null,null,null,null,null,null,null,null,null,null,null,null,null,null,null,null,null,null,null,null,null,null,null,null,null,null,null,null,null,null,null,null,null,null,null,null,null,null,null,null,null,null,null,null,null,null,null,null,null,null,null,null,null,null,null,null,null,null,null,null,null,null,30700,30500,29400,26600,24500,24900,29400,30700,30900,30600,null,null,null,null,null,176800,172900]
[null,null,null,null,null,null,null,null,null,null,null,null,null,null,null,null,null,null,null,null,null,null,null,null,null,null,null,null,null,null,null,null,null,null,null,null,null,null,null,null,null,null,null,null,null,null,null,null,null,null,null,null,null,null,null,null,null,null,null,null,null,null,null,null,null,null,null,null,null,null,null,null,null,null,null,null,null,null,null,null,null,null,null,null,null,null,null,null,null,null,null,null,null,null,null,null,null,null,null,null,null,null,null,null,null,null,null,null,null,null,null,null,null,null,null,null,null,null,null,null,null,null,null,null,null,null,null,null,null,null,null,null,null,null,null,null,null,null,null,null,null,null,null,null,null,null,null,null,null,null,null,null,null,null,null,null,null,null,null,null,null,null,null,null,null,null,null,null,null,null,null,null,null,null,null,null,null,null,null,null,null,null,null,null,null,null,null,null,null,null,null,null,null,null,null,null,null,null,null,null,null,null,null,null,null,null,null,null,null,null,null,null,null,null,null,null,null,null,null,null,null,null,null,141800,141400,142800,142400,144300,145100,144000,144900,145400,146800,null,null,null,null,null,27600,25500]
[null,null,null,null,null,null,null,null,null,null,null,null,null,null,null,null,null,null,null,null,null,null,null,null,null,null,null,null,null,null,null,null,null,null,null,null,null,null,null,null,null,null,null,null,null,null,null,null,null,null,null,null,null,null,null,null,null,null,null,null,null,null,null,null,null,null,null,null,null,null,null,null,null,null,null,null,null,null,null,null,null,null,null,null,null,null,null,null,null,null,null,null,null,null,null,null,null,null,null,null,null,null,null,null,null,null,null,null,null,null,null,null,null,null,null,null,null,null,null,null,null,null,null,null,null,null,null,null,null,null,null,null,null,null,null,null,null,null,null,null,null,null,null,null,null,null,null,null,null,null,null,null,null,null,null,null,null,null,null,null,null,null,null,null,null,null,null,null,null,null,null,null,null,null,null,null,null,null,null,null,null,null,null,null,null,null,null,null,null,null,null,null,null,null,null,null,null,null,null,null,null,null,null,null,null,null,null,null,null,null,null,null,null,null,null,null,null,null,null,null,null,null,null,38500,38600,38700,38900,38900,39100,38900,39100,39100,39300,null,null,null,null,null,149200,147400]
[null,null,null,null,null,null,null,null,null,null,null,null,null,null,null,null,null,null,null,null,null,null,null,null,null,null,null,null,null,null,null,null,null,null,null,null,null,null,null,null,null,null,null,null,null,null,null,null,null,null,null,null,null,null,null,null,null,null,null,null,null,null,null,null,null,null,null,null,null,null,null,null,null,null,null,null,null,null,null,null,null,null,null,null,null,null,null,null,null,null,null,null,null,null,null,null,null,null,null,null,null,null,null,null,null,null,null,null,null,null,null,null,null,null,null,null,null,null,null,null,null,null,null,null,null,null,null,null,null,null,null,null,null,null,null,null,null,null,null,null,null,null,null,null,null,null,null,null,null,null,null,null,null,null,null,null,null,null,null,null,null,null,null,null,null,null,null,null,null,null,null,null,null,null,null,null,null,null,null,null,null,null,null,null,null,null,null,null,null,null,null,null,null,null,null,null,null,null,null,null,null,null,null,null,null,null,null,null,null,null,null,null,null,null,null,null,null,null,null,null,null,null,null,40800,40800,40900,41100,41100,41300,41300,41300,41300,41300,null,null,null,null,null,39800,39700]
[null,null,null,null,null,null,null,null,null,null,null,null,null,null,null,null,null,null,null,null,null,null,null,null,null,null,null,null,null,null,null,null,null,null,null,null,null,null,null,null,null,null,null,null,null,null,null,null,null,null,null,null,null,null,null,null,null,null,null,null,null,null,null,null,null,null,null,null,null,null,null,null,null,null,null,null,null,null,null,null,null,null,null,null,null,null,null,null,null,null,null,null,null,null,null,null,null,null,null,null,null,null,null,null,null,null,null,null,null,null,null,null,null,null,null,null,null,null,null,null,null,null,null,null,null,null,null,null,null,null,null,null,null,null,null,null,null,null,null,null,null,null,null,null,null,null,null,null,null,null,null,null,null,null,null,null,null,null,null,null,null,null,null,null,null,null,null,null,null,null,null,null,null,null,null,null,null,null,null,null,null,null,null,null,null,null,null,null,null,null,null,null,null,null,null,null,null,null,null,null,null,null,null,null,null,null,null,null,null,null,null,null,null,null,null,null,null,null,null,null,null,null,null,75900,78700,81300,86100,88000,84000,79300,79000,77100,77900,null,null,null,null,null,41600,40800]
[null,null,null,null,null,null,null,null,null,null,null,null,null,null,null,null,null,null,null,null,null,null,null,null,null,null,null,null,null,null,null,null,null,null,null,null,null,null,null,null,null,null,null,null,null,null,null,null,null,null,null,null,null,null,null,null,null,null,null,null,null,null,null,null,null,null,null,null,null,null,null,null,null,null,null,null,null,null,null,null,null,null,null,null,null,null,null,null,null,null,null,null,null,null,null,null,null,null,null,null,null,null,null,null,null,null,null,null,null,null,null,null,null,null,null,null,null,null,null,null,null,null,null,null,null,null,null,null,null,null,null,null,null,null,null,null,null,null,null,null,null,null,null,null,null,null,null,null,null,null,null,null,null,null,null,null,null,null,null,null,null,null,null,null,null,null,null,null,null,null,null,null,null,null,null,null,null,null,null,null,null,null,null,null,null,null,null,null,null,null,null,null,null,null,null,null,null,null,null,null,null,null,null,null,null,null,null,null,null,null,null,null,null,null,null,null,null,null,null,null,null,null,null,62700,63900,66200,69500,70500,68200,66500,67500,67300,68100,null,null,null,null,null,87700,89600]
[null,null,null,null,null,null,null,null,null,null,null,null,null,null,null,null,null,null,null,null,null,null,null,null,null,null,null,null,null,null,null,null,null,null,null,null,null,null,null,null,null,null,null,null,null,null,null,null,null,null,null,null,null,null,null,null,null,null,null,null,null,null,null,null,null,null,null,null,null,null,null,null,null,null,null,null,null,null,null,null,null,null,null,null,null,null,null,null,null,null,null,null,null,null,null,null,null,null,null,null,null,null,null,null,null,null,null,null,null,null,null,null,null,null,null,null,null,null,null,null,null,null,null,null,null,null,null,null,null,null,null,null,null,null,null,null,null,null,null,null,null,null,null,null,null,null,null,null,null,null,null,null,null,null,null,null,null,null,null,null,null,null,null,null,null,null,null,null,null,null,null,null,null,null,null,null,null,null,null,null,null,null,null,null,null,null,null,null,null,null,null,null,null,null,null,null,null,null,null,null,null,null,null,null,null,null,null,null,null,null,null,null,null,null,null,null,null,null,null,null,null,null,null,57400,58500,60600,61900,63400,60900,59500,60700,60700,61700,null,null,null,null,null,69600,70100]
[null,null,null,null,null,null,null,null,null,null,null,null,null,null,null,null,null,null,null,null,null,null,null,null,null,null,null,null,null,null,null,null,null,null,null,null,null,null,null,null,null,null,null,null,null,null,null,null,null,null,null,null,null,null,null,null,null,null,null,null,null,null,null,null,null,null,null,null,null,null,null,null,null,null,null,null,null,null,null,null,null,null,null,null,null,null,null,null,null,null,null,null,null,null,null,null,null,null,null,null,null,null,null,null,null,null,null,null,null,null,null,null,null,null,null,null,null,null,null,null,null,null,null,null,null,null,null,null,null,null,null,null,null,null,null,null,null,null,null,null,null,null,null,null,null,null,null,null,null,null,null,null,null,null,null,null,null,null,null,null,null,null,null,null,null,null,null,null,null,null,null,null,null,null,null,null,null,null,null,null,null,null,null,null,null,null,null,null,null,null,null,null,null,null,null,null,null,null,null,null,null,null,null,null,null,null,null,null,null,null,null,null,null,null,null,null,null,null,null,null,null,null,null,49800,50600,51800,52900,53000,52200,50400,50500,50700,50800,null,null,null,null,null,64100,64400]
[null,null,null,null,null,null,null,null,null,null,null,null,null,null,null,null,null,null,null,null,null,null,null,null,null,null,null,null,null,null,null,null,null,null,null,null,null,null,null,null,null,null,null,null,null,null,null,null,null,null,null,null,null,null,null,null,null,null,null,null,null,null,null,null,null,null,null,null,null,null,null,null,null,null,null,null,null,null,null,null,null,null,null,null,null,null,null,null,null,null,null,null,null,null,null,null,null,null,null,null,null,null,null,null,null,null,null,null,null,null,null,null,null,null,null,null,null,null,null,null,null,null,null,null,null,null,null,null,null,null,null,null,null,null,null,null,null,null,null,null,null,null,null,null,null,null,null,null,null,null,null,null,null,null,null,null,null,null,null,null,null,null,null,null,null,null,null,null,null,null,null,null,null,null,null,null,null,null,null,null,null,null,null,null,null,null,null,null,null,null,null,null,null,null,null,null,null,null,null,null,null,null,null,null,null,null,null,null,null,null,null,null,null,null,null,null,null,null,null,null,null,null,null,25900,26400,27100,27900,27800,27500,26600,26500,26400,26500,null,null,null,null,null,53000,53100]
[null,null,null,null,null,null,null,null,null,null,null,null,null,null,null,null,null,null,null,null,null,null,null,null,null,null,null,null,null,null,null,null,null,null,null,null,null,null,null,null,null,null,null,null,null,null,null,null,null,null,null,null,null,null,null,null,null,null,null,null,null,null,null,null,null,null,null,null,null,null,null,null,null,null,null,null,null,null,null,null,null,null,null,null,null,null,null,null,null,null,null,null,null,null,null,null,null,null,null,null,null,null,null,null,null,null,null,null,null,null,null,null,null,null,null,null,null,null,null,null,null,null,null,null,null,null,null,null,null,null,null,null,null,null,null,null,null,null,null,null,null,null,null,null,null,null,null,null,null,null,null,null,null,null,null,null,null,null,null,null,null,null,null,null,null,null,null,null,null,null,null,null,null,null,null,null,null,null,null,null,null,null,null,null,null,null,null,null,null,null,null,null,null,null,null,null,null,null,null,null,null,null,null,null,null,null,null,null,null,null,null,null,null,null,null,null,null,null,null,null,null,null,null,23900,24200,24700,25000,25200,24700,23800,24000,24300,24300,null,null,null,null,null,27600,27600]
[null,null,null,null,null,null,null,null,null,null,null,null,null,null,null,null,null,null,null,null,null,null,null,null,null,null,null,null,null,null,null,null,null,null,null,null,null,null,null,null,null,null,null,null,null,null,null,null,null,null,null,null,null,null,null,null,null,null,null,null,null,null,null,null,null,null,null,null,null,null,null,null,null,null,null,null,null,null,null,null,null,null,null,null,null,null,null,null,null,null,null,null,null,null,null,null,null,null,null,null,null,null,null,null,null,null,null,null,null,null,null,null,null,null,null,null,null,null,null,null,null,null,null,null,null,null,null,null,null,null,null,null,null,null,null,null,null,null,null,null,null,null,null,null,null,null,null,null,null,null,null,null,null,null,null,null,null,null,null,null,null,null,null,null,null,null,null,null,null,null,null,null,null,null,null,null,null,null,null,null,null,null,null,null,null,null,null,null,null,null,null,null,null,null,null,null,null,null,null,null,null,null,null,null,null,null,null,null,null,null,null,null,null,null,null,null,null,null,null,null,null,null,null,47400,47400,47500,48500,48400,47900,47900,47900,47800,47700,null,null,null,null,null,25400,25500]
[null,null,null,null,null,null,null,null,null,null,null,null,null,null,null,null,null,null,null,null,null,null,null,null,null,null,null,null,null,null,null,null,null,null,null,null,null,null,null,null,null,null,null,null,null,null,null,null,null,null,null,null,null,null,null,null,null,null,null,null,null,null,null,null,null,null,null,null,null,null,null,null,null,null,null,null,null,null,null,null,null,null,null,null,null,null,null,null,null,null,null,null,null,null,null,null,null,null,null,null,null,null,null,null,null,null,null,null,null,null,null,null,null,null,null,null,null,null,null,null,null,null,null,null,null,null,null,null,null,null,null,null,null,null,null,null,null,null,null,null,null,null,null,null,null,null,null,null,null,null,null,null,null,null,null,null,null,null,null,null,null,null,null,null,null,null,null,null,null,null,null,null,null,null,null,null,null,null,null,null,null,null,null,null,null,null,null,null,null,null,null,null,null,null,null,null,null,null,null,null,null,null,null,null,null,null,null,null,null,null,null,null,null,null,null,null,null,null,null,null,null,null,null,88800,89400,88100,85200,81000,82200,86000,88300,89900,88500,null,null,null,null,null,48700,47800]
[null,null,null,null,null,null,null,null,null,null,null,null,null,null,null,null,null,null,null,null,null,null,null,null,null,null,null,null,null,null,null,null,null,null,null,null,null,null,null,null,null,null,null,null,null,null,null,null,null,null,null,null,null,null,null,null,null,null,null,null,null,null,null,null,null,null,null,null,null,null,null,null,null,null,null,null,null,null,null,null,null,null,null,null,null,null,null,null,null,null,null,null,null,null,null,null,null,null,null,null,null,null,null,null,null,null,null,null,null,null,null,null,null,null,null,null,null,null,null,null,null,null,null,null,null,null,null,null,null,null,null,null,null,null,null,null,null,null,null,null,null,null,null,null,null,null,null,null,null,null,null,null,null,null,null,null,null,null,null,null,null,null,null,null,null,null,null,null,null,null,null,null,null,null,null,null,null,null,null,null,null,null,null,null,null,null,null,null,null,null,null,null,null,null,null,null,null,null,null,null,null,null,null,null,null,null,null,null,null,null,null,null,null,null,null,null,null,null,null,null,null,null,null,10400,10400,10300,10400,10400,10300,10300,10400,10500,10500,null,null,null,null,null,84300,80500]
[null,null,null,null,null,null,null,null,null,null,null,null,null,null,null,null,null,null,null,null,null,null,null,null,null,null,null,null,null,null,null,null,null,null,null,null,null,null,null,null,null,null,null,null,null,null,null,null,null,null,null,null,null,null,null,null,null,null,null,null,null,null,null,null,null,null,null,null,null,null,null,null,null,null,null,null,null,null,null,null,null,null,null,null,null,null,null,null,null,null,null,null,null,null,null,null,null,null,null,null,null,null,null,null,null,null,null,null,null,null,null,null,null,null,null,null,null,null,null,null,null,null,null,null,null,null,null,null,null,null,null,null,null,null,null,null,null,null,null,null,null,null,null,null,null,null,null,null,null,null,null,null,null,null,null,null,null,null,null,null,null,null,null,null,null,null,null,null,null,null,null,null,null,null,null,null,null,null,null,null,null,null,null,null,null,null,null,null,null,null,null,null,null,null,null,null,null,null,null,null,null,null,null,null,null,null,null,null,null,null,null,null,null,null,null,null,null,null,null,null,null,null,null,11500,11500,11400,8700,8800,9800,11100,11500,11700,11600,null,null,null,null,null,10300,10300]
[null,null,null,null,null,null,null,null,null,null,null,null,null,null,null,null,null,null,null,null,null,null,null,null,null,null,null,null,null,null,null,null,null,null,null,null,null,null,null,null,null,null,null,null,null,null,null,null,null,null,null,null,null,null,null,null,null,null,null,null,null,null,null,null,null,null,null,null,null,null,null,null,null,null,null,null,null,null,null,null,null,null,null,null,null,null,null,null,null,null,null,null,null,null,null,null,null,null,null,null,null,null,null,null,null,null,null,null,null,null,null,null,null,null,null,null,null,null,null,null,null,null,null,null,null,null,null,null,null,null,null,null,null,null,null,null,null,null,null,null,null,null,null,null,null,null,null,null,null,null,null,null,null,null,null,null,null,null,null,null,null,null,null,null,null,null,null,null,null,null,null,null,null,null,null,null,null,null,null,null,null,null,null,null,null,null,null,null,null,null,null,null,null,null,null,null,null,null,null,null,null,null,null,null,null,null,null,null,null,null,null,null,null,null,null,null,null,null,null,null,null,null,null,66900,67500,66400,66100,61800,62100,64600,66400,67700,66400,null,null,null,null,null,8100,8800]
[null,null,null,null,null,null,null,null,null,null,null,null,null,null,null,null,null,null,null,null,null,null,null,null,null,null,null,null,null,null,null,null,null,null,null,null,null,null,null,null,null,null,null,null,null,null,null,null,null,null,null,null,null,null,null,null,null,null,null,null,null,null,null,null,null,null,null,null,null,null,null,null,null,null,null,null,null,null,null,null,null,null,null,null,null,null,null,null,null,null,null,null,null,null,null,null,null,null,null,null,null,null,null,null,null,null,null,null,null,null,null,null,null,null,null,null,null,null,null,null,null,null,null,null,null,null,null,null,null,null,null,null,null,null,null,null,null,null,null,null,null,null,null,null,null,null,null,null,null,null,null,null,null,null,null,null,null,null,null,null,null,null,null,null,null,null,null,null,null,null,null,null,null,null,null,null,null,null,null,null,null,null,null,null,null,null,null,null,null,null,null,null,null,null,null,null,null,null,null,null,null,null,null,null,null,null,null,null,null,null,null,null,null,null,null,null,null,null,null,null,null,null,null,97600,98400,98900,98400,98300,97800,98800,99600,100000,99800,null,null,null,null,null,65900,61400]
[null,null,null,null,null,null,null,null,null,null,null,null,null,null,null,null,null,null,null,null,null,null,null,null,null,null,null,null,null,null,null,null,null,null,null,null,null,null,null,null,null,null,null,null,null,null,null,null,null,null,null,null,null,null,null,null,null,null,null,null,null,null,null,null,null,null,null,null,null,null,null,null,null,null,null,null,null,null,null,null,null,null,null,null,null,null,null,null,null,null,null,null,null,null,null,null,null,null,null,null,null,null,null,null,null,null,null,null,null,null,null,null,null,null,null,null,null,null,null,null,null,null,null,null,null,null,null,null,null,null,null,null,null,null,null,null,null,null,null,null,null,null,null,null,null,null,null,null,null,null,null,null,null,null,null,null,null,null,null,null,null,null,null,null,null,null,null,null,null,null,null,null,null,null,null,null,null,null,null,null,null,null,null,null,null,null,null,null,null,null,null,null,null,null,null,null,null,null,null,null,null,null,null,null,null,null,null,null,null,null,null,null,null,null,null,null,null,null,null,null,null,null,null,85200,85800,86600,87500,87800,87300,86900,87200,87600,87600,null,null,null,null,null,98900,98300]
[null,null,null,null,null,null,null,null,null,null,null,null,null,null,null,null,null,null,null,null,null,null,null,null,null,null,null,null,null,null,null,null,null,null,null,null,null,null,null,null,null,null,null,null,null,null,null,null,null,null,null,null,null,null,null,null,null,null,null,null,null,null,null,null,null,null,null,null,null,null,null,null,null,null,null,null,null,null,null,null,null,null,null,null,null,null,null,null,null,null,null,null,null,null,null,null,null,null,null,null,null,null,null,null,null,null,null,null,null,null,null,null,null,null,null,null,null,null,null,null,null,null,null,null,null,null,null,null,null,null,null,null,null,null,null,null,null,null,null,null,null,null,null,null,null,null,null,null,null,null,null,null,null,null,null,null,null,null,null,null,null,null,null,null,null,null,null,null,null,null,null,null,null,null,null,null,null,null,null,null,null,null,null,null,null,null,null,null,null,null,null,null,null,null,null,null,null,null,null,null,null,null,null,null,null,null,null,null,null,null,null,null,null,null,null,null,null,null,null,null,null,null,null,27800,28000,28300,28700,29000,28700,28400,28400,28400,28400,null,null,null,null,null,87900,87900]
[null,null,null,null,null,null,null,null,null,null,null,null,null,null,null,null,null,null,null,null,null,null,null,null,null,null,null,null,null,null,null,null,null,null,null,null,null,null,null,null,null,null,null,null,null,null,null,null,null,null,null,null,null,null,null,null,null,null,null,null,null,null,null,null,null,null,null,null,null,null,null,null,null,null,null,null,null,null,null,null,null,null,null,null,null,null,null,null,null,null,null,null,null,null,null,null,null,null,null,null,null,null,null,null,null,null,null,null,null,null,null,null,null,null,null,null,null,null,null,null,null,null,null,null,null,null,null,null,null,null,null,null,null,null,null,null,null,null,null,null,null,null,null,null,null,null,null,null,null,null,null,null,null,null,null,null,null,null,null,null,null,null,null,null,null,null,null,null,null,null,null,null,null,null,null,null,null,null,null,null,null,null,null,null,null,null,null,null,null,null,null,null,null,null,null,null,null,null,null,null,null,null,null,null,null,null,null,null,null,null,null,null,null,null,null,null,null,null,null,null,null,null,null,69800,70400,70600,69700,69300,69100,70400,71200,71600,71400,null,null,null,null,null,29400,29500]
[null,null,null,null,null,null,null,null,null,null,null,null,null,null,null,null,null,null,null,null,null,null,null,null,null,null,null,null,null,null,null,null,null,null,null,null,null,null,null,null,null,null,null,null,null,null,null,null,null,null,null,null,null,null,null,null,null,null,null,null,null,null,null,null,null,null,null,null,null,null,null,null,null,null,null,null,null,null,null,null,null,null,null,null,null,null,null,null,null,null,null,null,null,null,null,null,null,null,null,null,null,null,null,null,null,null,null,null,null,null,null,null,null,null,null,null,null,null,null,null,null,null,null,null,null,null,null,null,null,null,null,null,null,null,null,null,null,null,null,null,null,null,null,null,null,null,null,null,null,null,null,null,null,null,null,null,null,null,null,null,null,null,null,null,null,null,null,null,null,null,null,null,null,null,null,null,null,null,null,null,null,null,null,null,null,null,null,null,null,null,null,null,null,null,null,null,null,null,null,null,null,null,null,null,null,null,null,null,null,null,null,null,null,null,null,null,null,null,null,null,null,null,null,57400,57800,58300,58800,58800,58600,58500,58800,59200,59200,null,null,null,null,null,69500,68800]
[null,null,null,null,null,null,null,null,null,null,null,null,null,null,null,null,null,null,null,null,null,null,null,null,null,null,null,null,null,null,null,null,null,null,null,null,null,null,null,null,null,null,null,null,null,null,null,null,null,null,null,null,null,null,null,null,null,null,null,null,null,null,null,null,null,null,null,null,null,null,null,null,null,null,null,null,null,null,null,null,null,null,null,null,null,null,null,null,null,null,null,null,null,null,null,null,null,null,null,null,null,null,null,null,null,null,null,null,null,null,null,null,null,null,null,null,null,null,null,null,null,null,null,null,null,null,null,null,null,null,null,null,null,null,null,null,null,null,null,null,null,null,null,null,null,null,null,null,null,null,null,null,null,null,null,null,null,null,null,null,null,null,null,null,null,null,null,null,null,null,null,null,null,null,null,null,null,null,null,null,null,null,null,null,null,null,null,null,null,null,null,null,null,null,null,null,null,null,null,null,null,null,null,null,null,null,null,null,null,null,null,null,null,null,null,null,null,null,null,null,null,null,null,4900,5100,5300,5500,5600,5600,5500,5500,5500,5400,null,null,null,null,null,58500,58400]
[null,null,null,null,null,null,null,null,null,null,null,null,null,null,null,null,null,null,null,null,null,null,null,null,null,null,null,null,null,null,null,null,null,null,null,null,null,null,null,null,null,null,null,null,null,null,null,null,null,null,null,null,null,null,null,null,null,null,null,null,null,null,null,null,null,null,null,null,null,null,null,null,null,null,null,null,null,null,null,null,null,null,null,null,null,null,null,null,null,null,null,null,null,null,null,null,null,null,null,null,null,null,null,null,null,null,null,null,null,null,null,null,null,null,null,null,null,null,null,null,null,null,null,null,null,null,null,null,null,null,null,null,null,null,null,null,null,null,null,null,null,null,null,null,null,null,null,null,null,null,null,null,null,null,null,null,null,null,null,null,null,null,null,null,null,null,null,null,null,null,null,null,null,null,null,null,null,null,null,null,null,null,null,null,null,null,null,null,null,null,null,null,null,null,null,null,null,null,null,null,null,null,null,null,null,null,null,null,null,null,null,null,null,null,null,null,null,null,null,null,null,null,null,22900,22900,23000,23200,23400,23100,22900,22900,22900,23000,null,null,null,null,null,5800,5800]
[null,null,null,null,null,null,null,null,null,null,null,null,null,null,null,null,null,null,null,null,null,null,null,null,null,null,null,null,null,null,null,null,null,null,null,null,null,null,null,null,null,null,null,null,null,null,null,null,null,null,null,null,null,null,null,null,null,null,null,null,null,null,null,null,null,null,null,null,null,null,null,null,null,null,null,null,null,null,null,null,null,null,null,null,null,null,null,null,null,null,null,null,null,null,null,null,null,null,null,null,null,null,null,null,null,null,null,null,null,null,null,null,null,null,null,null,null,null,null,null,null,null,null,null,null,null,null,null,null,null,null,null,null,null,null,null,null,null,null,null,null,null,null,null,null,null,null,null,null,null,null,null,null,null,null,null,null,null,null,null,null,null,null,null,null,null,null,null,null,null,null,null,null,null,null,null,null,null,null,null,null,null,null,null,null,null,null,null,null,null,null,null,null,null,null,null,null,null,null,null,null,null,null,null,null,null,null,null,null,null,null,null,null,null,null,null,null,null,null,null,null,null,null,12100,12100,12200,12200,12200,12100,12000,12000,12000,12100,null,null,null,null,null,23600,23700]
[null,null,null,null,null,null,null,null,null,null,null,null,null,null,null,null,null,null,null,null,null,null,null,null,null,null,null,null,null,null,null,null,null,null,null,null,null,null,null,null,null,null,null,null,null,null,null,null,null,null,null,null,null,null,null,null,null,null,null,null,null,null,null,null,null,null,null,null,null,null,null,null,null,null,null,null,null,null,null,null,null,null,null,null,null,null,null,null,null,null,null,null,null,null,null,null,null,null,null,null,null,null,null,null,null,null,null,null,null,null,null,null,null,null,null,null,null,null,null,null,null,null,null,null,null,null,null,null,null,null,null,null,null,null,null,null,null,null,null,null,null,null,null,null,null,null,null,null,null,null,null,null,null,null,null,null,null,null,null,null,null,null,null,null,null,null,null,null,null,null,null,null,null,null,null,null,null,null,null,null,null,null,null,null,null,null,null,null,null,null,null,null,null,null,null,null,null,null,null,null,null,null,null,null,null,null,null,null,null,null,null,null,null,null,null,null,null,null,null,null,null,null,null,10800,10800,10800,11000,11200,11000,10900,10900,10900,10900,null,null,null,null,null,12500,12600]
[null,null,null,null,null,null,null,null,null,null,null,null,null,null,null,null,null,null,null,null,null,null,null,null,null,null,null,null,null,null,null,null,null,null,null,null,null,null,null,null,null,null,null,null,null,null,null,null,null,null,null,null,null,null,null,null,null,null,null,null,null,null,null,null,null,null,null,null,null,null,null,null,null,null,null,null,null,null,null,null,null,null,null,null,null,null,null,null,null,null,null,null,null,null,null,null,null,null,null,null,null,null,null,null,null,null,null,null,null,null,null,null,null,null,null,null,null,null,null,null,null,null,null,null,null,null,null,null,null,null,null,null,null,null,null,null,null,null,null,null,null,null,null,null,null,null,null,null,null,null,null,null,null,null,null,null,null,null,null,null,null,null,null,null,null,null,null,null,null,null,null,null,null,null,null,null,null,null,null,null,null,null,null,null,null,null,null,null,null,null,null,null,null,null,null,null,null,null,null,null,null,null,null,null,null,null,null,null,null,null,null,null,null,null,null,null,null,null,null,null,null,null,null,15200,15400,15600,15600,15500,15700,15600,15900,16300,16400,null,null,null,null,null,11100,11100]
[null,null,null,null,null,null,null,null,null,null,null,null,null,null,null,null,null,null,null,null,null,null,null,null,null,null,null,null,null,null,null,null,null,null,null,null,null,null,null,null,null,null,null,null,null,null,null,null,null,null,null,null,null,null,null,null,null,null,null,null,null,null,null,null,null,null,null,null,null,null,null,null,null,null,null,null,null,null,null,null,null,null,null,null,null,null,null,null,null,null,null,null,null,null,null,null,null,null,null,null,null,null,null,null,null,null,null,null,null,null,null,null,null,null,null,null,null,null,null,null,null,null,null,null,null,null,null,null,null,null,null,null,null,null,null,null,null,null,null,null,null,null,null,null,null,null,null,null,null,null,null,null,null,null,null,null,null,null,null,null,null,null,null,null,null,null,null,null,null,null,null,null,null,null,null,null,null,null,null,null,null,null,null,null,null,null,null,null,null,null,null,null,null,null,null,null,null,null,null,null,null,null,null,null,null,null,null,null,null,null,null,null,null,null,null,null,null,null,null,null,null,null,null,3000,3100,3100,3100,3100,3100,3100,3100,3100,3100,null,null,null,null,null,15300,15200]
[null,null,null,null,null,null,null,null,null,null,null,null,null,null,null,null,null,null,null,null,null,null,null,null,null,null,null,null,null,null,null,null,null,null,null,null,null,null,null,null,null,null,null,null,null,null,null,null,null,null,null,null,null,null,null,null,null,null,null,null,null,null,null,null,null,null,null,null,null,null,null,null,null,null,null,null,null,null,null,null,null,null,null,null,null,null,null,null,null,null,null,null,null,null,null,null,null,null,null,null,null,null,null,null,null,null,null,null,null,null,null,null,null,null,null,null,null,null,null,null,null,null,null,null,null,null,null,null,null,null,null,null,null,null,null,null,null,null,null,null,null,null,null,null,null,null,null,null,null,null,null,null,null,null,null,null,null,null,null,null,null,null,null,null,null,null,null,null,null,null,null,null,null,null,null,null,null,null,null,null,null,null,null,null,null,null,null,null,null,null,null,null,null,null,null,null,null,null,null,null,null,null,null,null,null,null,null,null,null,null,null,null,null,null,null,null,null,null,null,null,null,null,null,8800,8900,9000,9000,9000,9100,9000,9300,9600,9600,null,null,null,null,null,2700,2700]
[null,null,null,null,null,null,null,null,null,null,null,null,null,null,null,null,null,null,null,null,null,null,null,null,null,null,null,null,null,null,null,null,null,null,null,null,null,null,null,null,null,null,null,null,null,null,null,null,null,null,null,null,null,null,null,null,null,null,null,null,null,null,null,null,null,null,null,null,null,null,null,null,null,null,null,null,null,null,null,null,null,null,null,null,null,null,null,null,null,null,null,null,null,null,null,null,null,null,null,null,null,null,null,null,null,null,null,null,null,null,null,null,null,null,null,null,null,null,null,null,null,null,null,null,null,null,null,null,null,null,null,null,null,null,null,null,null,null,null,null,null,null,null,null,null,null,null,null,null,null,null,null,null,null,null,null,null,null,null,null,null,null,null,null,null,null,null,null,null,null,null,null,null,null,null,null,null,null,null,null,null,null,null,null,null,null,null,null,null,null,null,null,null,null,null,null,null,null,null,null,null,null,null,null,null,null,null,null,null,null,null,null,null,null,null,null,null,null,null,null,null,null,null,3400,3400,3500,3500,3400,3500,3500,3500,3600,3700,null,null,null,null,null,8900,9000]
[null,null,null,null,null,null,null,null,null,null,null,null,null,null,null,null,null,null,null,null,null,null,null,null,null,null,null,null,null,null,null,null,null,null,null,null,null,null,null,null,null,null,null,null,null,null,null,null,null,null,null,null,null,null,null,null,null,null,null,null,null,null,null,null,null,null,null,null,null,null,null,null,null,null,null,null,null,null,null,null,null,null,null,null,null,null,null,null,null,null,null,null,null,null,null,null,null,null,null,null,null,null,null,null,null,null,null,null,null,null,null,null,null,null,null,null,null,null,null,null,null,null,null,null,null,null,null,null,null,null,null,null,null,null,null,null,null,null,null,null,null,null,null,null,null,null,null,null,null,null,null,null,null,null,null,null,null,null,null,null,null,null,null,null,null,null,null,null,null,null,null,null,null,null,null,null,null,null,null,null,null,null,null,null,null,null,null,null,null,null,null,null,null,null,null,null,null,null,null,null,null,null,null,null,null,null,null,null,null,null,null,null,null,null,null,null,null,null,null,null,null,null,null,1500,1500,1500,1500,1500,1500,1500,1500,1500,1500,null,null,null,null,null,3700,3500]
[null,null,null,null,null,null,null,null,null,null,null,null,null,null,null,null,null,null,null,null,null,null,null,null,null,null,null,null,null,null,null,null,null,null,null,null,null,null,null,null,null,null,null,null,null,null,null,null,null,null,null,null,null,null,null,null,null,null,null,null,null,null,null,null,null,null,null,null,null,null,null,null,null,null,null,null,null,null,null,null,null,null,null,null,null,null,null,null,null,null,null,null,null,null,null,null,null,null,null,null,null,null,null,null,null,null,null,null,null,null,null,null,null,null,null,null,null,null,null,null,null,null,null,null,null,null,null,null,null,null,null,null,null,null,null,null,null,null,null,null,null,null,null,null,null,null,null,null,null,null,null,null,null,null,null,null,null,null,null,null,null,null,null,null,null,null,null,null,null,null,null,null,null,null,null,null,null,null,null,null,null,null,null,null,null,null,null,null,null,null,null,null,null,null,null,null,null,null,null,null,null,null,null,null,null,null,null,null,null,null,null,null,null,null,null,null,null,null,null,null,null,null,null,4200,4200,4200,4200,4200,4200,4200,4300,4200,4200,null,null,null,null,null,1500,1500]
[null,null,null,null,null,null,null,null,null,null,null,null,null,null,null,null,null,null,null,null,null,null,null,null,null,null,null,null,null,null,null,null,null,null,null,null,null,null,null,null,null,null,null,null,null,null,null,null,null,null,null,null,null,null,null,null,null,null,null,null,null,null,null,null,null,null,null,null,null,null,null,null,null,null,null,null,null,null,null,null,null,null,null,null,null,null,null,null,null,null,null,null,null,null,null,null,null,null,null,null,null,null,null,null,null,null,null,null,null,null,null,null,null,null,null,null,null,null,null,null,null,null,null,null,null,null,null,null,null,null,null,null,null,null,null,null,null,null,null,null,null,null,null,null,null,null,null,null,null,null,null,null,null,null,null,null,null,null,null,null,null,null,null,null,null,null,null,null,null,null,null,null,null,null,null,null,null,null,null,null,null,null,null,null,null,null,null,null,null,null,null,null,null,null,null,null,null,null,null,null,null,null,null,null,null,null,null,null,null,null,null,null,null,null,null,null,null,null,null,null,null,null,null,12800,12700,12900,13100,13300,13000,12800,12900,13000,12900,null,null,null,null,null,4500,4500]
[null,null,null,null,null,null,null,null,null,null,null,null,null,null,null,null,null,null,null,null,null,null,null,null,null,null,null,null,null,null,null,null,null,null,null,null,null,null,null,null,null,null,null,null,null,null,null,null,null,null,null,null,null,null,null,null,null,null,null,null,null,null,null,null,null,null,null,null,null,null,null,null,null,null,null,null,null,null,null,null,null,null,null,null,null,null,null,null,null,null,null,null,null,null,null,null,null,null,null,null,null,null,null,null,null,null,null,null,null,null,null,null,null,null,null,null,null,null,null,null,null,null,null,null,null,null,null,null,null,null,null,null,null,null,null,null,null,null,null,null,null,null,null,null,null,null,null,null,null,null,null,null,null,null,null,null,null,null,null,null,null,null,null,null,null,null,null,null,null,null,null,null,null,null,null,null,null,null,null,null,null,null,null,null,null,null,null,null,null,null,null,null,null,null,null,null,null,null,null,null,null,null,null,null,null,null,null,null,null,null,null,null,null,null,null,null,null,null,null,null,null,null,null,11300,11300,11300,11400,11400,11300,11600,11600,11700,11700,null,null,null,null,null,12400,12600]
[null,null,null,null,null,null,null,null,null,null,null,null,null,null,null,null,null,null,null,null,null,null,null,null,null,null,null,null,null,null,null,null,null,null,null,null,null,null,null,null,null,null,null,null,null,null,null,null,null,null,null,null,null,null,null,null,null,null,null,null,null,null,null,null,null,null,null,null,null,null,null,null,null,null,null,null,null,null,null,null,null,null,null,null,null,null,null,null,null,null,null,null,null,null,null,null,null,null,null,null,null,null,null,null,null,null,null,null,null,null,null,null,null,null,null,null,null,null,null,null,null,null,null,null,null,null,null,null,null,null,null,null,null,null,null,null,null,null,null,null,null,null,null,null,null,null,null,null,null,null,null,null,null,null,null,null,null,null,null,null,null,null,null,null,null,null,null,null,null,null,null,null,null,null,null,null,null,null,null,null,null,null,null,null,null,null,null,null,null,null,null,null,null,null,null,null,null,null,null,null,null,null,null,null,null,null,null,null,null,null,null,null,null,null,null,null,null,null,null,null,null,null,null,10600,10600,10600,10700,10800,10800,10700,10800,10800,10800,null,null,null,null,null,11700,11600]
[null,null,null,null,null,null,null,null,null,null,null,null,null,null,null,null,null,null,null,null,null,null,null,null,null,null,null,null,null,null,null,null,null,null,null,null,null,null,null,null,null,null,null,null,null,null,null,null,null,null,null,null,null,null,null,null,null,null,null,null,null,null,null,null,null,null,null,null,null,null,null,null,null,null,null,null,null,null,null,null,null,null,null,null,null,null,null,null,null,null,null,null,null,null,null,null,null,null,null,null,null,null,null,null,null,null,null,null,null,null,null,null,null,null,null,null,null,null,null,null,null,null,null,null,null,null,null,null,null,null,null,null,null,null,null,null,null,null,null,null,null,null,null,null,null,null,null,null,null,null,null,null,null,null,null,null,null,null,null,null,null,null,null,null,null,null,null,null,null,null,null,null,null,null,null,null,null,null,null,null,null,null,null,null,null,null,null,null,null,null,null,null,null,null,null,null,null,null,null,null,null,null,null,null,null,null,null,null,null,null,null,null,null,null,null,null,null,null,null,null,null,null,null,7000,7300,7400,7400,7300,7400,7400,7200,7100,7000,null,null,null,null,null,10900,10900]
[null,null,null,null,null,null,null,null,null,null,null,null,null,null,null,null,null,null,null,null,null,null,null,null,null,null,null,null,null,null,null,null,null,null,null,null,null,null,null,null,null,null,null,null,null,null,null,null,null,null,null,null,null,null,null,null,null,null,null,null,null,null,null,null,null,null,null,null,null,null,null,null,null,null,null,null,null,null,null,null,null,null,null,null,null,null,null,null,null,null,null,null,null,null,null,null,null,null,null,null,null,null,null,null,null,null,null,null,null,null,null,null,null,null,null,null,null,null,null,null,null,null,null,null,null,null,null,null,null,null,null,null,null,null,null,null,null,null,null,null,null,null,null,null,null,null,null,null,null,null,null,null,null,null,null,null,null,null,null,null,null,null,null,null,null,null,null,null,null,null,null,null,null,null,null,null,null,null,null,null,null,null,null,null,null,null,null,null,null,null,null,null,null,null,null,null,null,null,null,null,null,null,null,null,null,null,null,null,null,null,null,null,null,null,null,null,null,null,null,null,null,null,null,5400,5400,5400,5600,5600,5500,5400,5400,5400,5500,null,null,null,null,null,7500,7400]
[null,null,null,null,null,null,null,null,null,null,null,null,null,null,null,null,null,null,null,null,null,null,null,null,null,null,null,null,null,null,null,null,null,null,null,null,null,null,null,null,null,null,null,null,null,null,null,null,null,null,null,null,null,null,null,null,null,null,null,null,null,null,null,null,null,null,null,null,null,null,null,null,null,null,null,null,null,null,null,null,null,null,null,null,null,null,null,null,null,null,null,null,null,null,null,null,null,null,null,null,null,null,null,null,null,null,null,null,null,null,null,null,null,null,null,null,null,null,null,null,null,null,null,null,null,null,null,null,null,null,null,null,null,null,null,null,null,null,null,null,null,null,null,null,null,null,null,null,null,null,null,null,null,null,null,null,null,null,null,null,null,null,null,null,null,null,null,null,null,null,null,null,null,null,null,null,null,null,null,null,null,null,null,null,null,null,null,null,null,null,null,null,null,null,null,null,null,null,null,null,null,null,null,null,null,null,null,null,null,null,null,null,null,null,null,null,null,null,null,null,null,null,null,12400,12600,12300,10900,10500,10500,11900,12400,12400,12200,null,null,null,null,null,5600,5600]
[null,null,null,null,null,null,null,null,null,null,null,null,null,null,null,null,null,null,null,null,null,null,null,null,null,null,null,null,null,null,null,null,null,null,null,null,null,null,null,null,null,null,null,null,null,null,null,null,null,null,null,null,null,null,null,null,null,null,null,null,null,null,null,null,null,null,null,null,null,null,null,null,null,null,null,null,null,null,null,null,null,null,null,null,null,null,null,null,null,null,null,null,null,null,null,null,null,null,null,null,null,null,null,null,null,null,null,null,null,null,null,null,null,null,null,null,null,null,null,null,null,null,null,null,null,null,null,null,null,null,null,null,null,null,null,null,null,null,null,null,null,null,null,null,null,null,null,null,null,null,null,null,null,null,null,null,null,null,null,null,null,null,null,null,null,null,null,null,null,null,null,null,null,null,null,null,null,null,null,null,null,null,null,null,null,null,null,null,null,null,null,null,null,null,null,null,null,null,null,null,null,null,null,null,null,null,null,null,null,null,null,null,null,null,null,null,null,null,null,null,null,null,null,400,400,400,400,400,400,400,400,400,400,null,null,null,null,null,11000,10400]
[null,null,null,null,null,null,null,null,null,null,null,null,null,null,null,null,null,null,null,null,null,null,null,null,null,null,null,null,null,null,null,null,null,null,null,null,null,null,null,null,null,null,null,null,null,null,null,null,null,null,null,null,null,null,null,null,null,null,null,null,null,null,null,null,null,null,null,null,null,null,null,null,null,null,null,null,null,null,null,null,null,null,null,null,null,null,null,null,null,null,null,null,null,null,null,null,null,null,null,null,null,null,null,null,null,null,null,null,null,null,null,null,null,null,null,null,null,null,null,null,null,null,null,null,null,null,null,null,null,null,null,null,null,null,null,null,null,null,null,null,null,null,null,null,null,null,null,null,null,null,null,null,null,null,null,null,null,null,null,null,null,null,null,null,null,null,null,null,null,null,null,null,null,null,null,null,null,null,null,null,null,null,null,null,null,null,null,null,null,null,null,null,null,null,null,null,null,null,null,null,null,null,null,null,null,null,null,null,null,null,null,null,null,null,null,null,null,null,null,null,null,null,null,5000,5100,4900,3400,3700,3600,4900,5100,5100,4900,null,null,null,null,null,400,400]
[null,null,null,null,null,null,null,null,null,null,null,null,null,null,null,null,null,null,null,null,null,null,null,null,null,null,null,null,null,null,null,null,null,null,null,null,null,null,null,null,null,null,null,null,null,null,null,null,null,null,null,null,null,null,null,null,null,null,null,null,null,null,null,null,null,null,null,null,null,null,null,null,null,null,null,null,null,null,null,null,null,null,null,null,null,null,null,null,null,null,null,null,null,null,null,null,null,null,null,null,null,null,null,null,null,null,null,null,null,null,null,null,null,null,null,null,null,null,null,null,null,null,null,null,null,null,null,null,null,null,null,null,null,null,null,null,null,null,null,null,null,null,null,null,null,null,null,null,null,null,null,null,null,null,null,null,null,null,null,null,null,null,null,null,null,null,null,null,null,null,null,null,null,null,null,null,null,null,null,null,null,null,null,null,null,null,null,null,null,null,null,null,null,null,null,null,null,null,null,null,null,null,null,null,null,null,null,null,null,null,null,null,null,null,null,null,null,null,null,null,null,null,null,7000,7100,7000,7100,6400,6500,6600,6900,6900,6900,null,null,null,null,null,3300,3500]
[null,null,null,null,null,null,null,null,null,null,null,null,null,null,null,null,null,null,null,null,null,null,null,null,null,null,null,null,null,null,null,null,null,null,null,null,null,null,null,null,null,null,null,null,null,null,null,null,null,null,null,null,null,null,null,null,null,null,null,null,null,null,null,null,null,null,null,null,null,null,null,null,null,null,null,null,null,null,null,null,null,null,null,null,null,null,null,null,null,null,null,null,null,null,null,null,null,null,null,null,null,null,null,null,null,null,null,null,null,null,null,null,null,null,null,null,null,null,null,null,null,null,null,null,null,null,null,null,null,null,null,null,null,null,null,null,null,null,null,null,null,null,null,null,null,null,null,null,null,null,null,null,null,null,null,null,null,null,null,null,null,null,null,null,null,null,null,null,null,null,null,null,null,null,null,null,null,null,null,null,null,null,null,null,null,null,null,null,null,null,null,null,null,null,null,null,null,null,null,null,null,null,null,null,null,null,null,null,null,null,null,null,null,null,null,null,null,null,null,null,null,null,null,77000,77100,77900,79000,79000,79100,78300,78500,78500,78600,null,null,null,null,null,7300,6500]
[null,null,null,null,null,null,null,null,null,null,null,null,null,null,null,null,null,null,null,null,null,null,null,null,null,null,null,null,null,null,null,null,null,null,null,null,null,null,null,null,null,null,null,null,null,null,null,null,null,null,null,null,null,null,null,null,null,null,null,null,null,null,null,null,null,null,null,null,null,null,null,null,null,null,null,null,null,null,null,null,null,null,null,null,null,null,null,null,null,null,null,null,null,null,null,null,null,null,null,null,null,null,null,null,null,null,null,null,null,null,null,null,null,null,null,null,null,null,null,null,null,null,null,null,null,null,null,null,null,null,null,null,null,null,null,null,null,null,null,null,null,null,null,null,null,null,null,null,null,null,null,null,null,null,null,null,null,null,null,null,null,null,null,null,null,null,null,null,null,null,null,null,null,null,null,null,null,null,null,null,null,null,null,null,null,null,null,null,null,null,null,null,null,null,null,null,null,null,null,null,null,null,null,null,null,null,null,null,null,null,null,null,null,null,null,null,null,null,null,null,null,null,null,67700,67800,68600,69700,69600,69900,69000,69200,69100,69200,null,null,null,null,null,80200,80000]
[null,null,null,null,null,null,null,null,null,null,null,null,null,null,null,null,null,null,null,null,null,null,null,null,null,null,null,null,null,null,null,null,null,null,null,null,null,null,null,null,null,null,null,null,null,null,null,null,null,null,null,null,null,null,null,null,null,null,null,null,null,null,null,null,null,null,null,null,null,null,null,null,null,null,null,null,null,null,null,null,null,null,null,null,null,null,null,null,null,null,null,null,null,null,null,null,null,null,null,null,null,null,null,null,null,null,null,null,null,null,null,null,null,null,null,null,null,null,null,null,null,null,null,null,null,null,null,null,null,null,null,null,null,null,null,null,null,null,null,null,null,null,null,null,null,null,null,null,null,null,null,null,null,null,null,null,null,null,null,null,null,null,null,null,null,null,null,null,null,null,null,null,null,null,null,null,null,null,null,null,null,null,null,null,null,null,null,null,null,null,null,null,null,null,null,null,null,null,null,null,null,null,null,null,null,null,null,null,null,null,null,null,null,null,null,null,null,null,null,null,null,null,null,20700,20900,21000,21200,21300,21300,21100,21100,21100,21100,null,null,null,null,null,70800,70600]
[null,null,null,null,null,null,null,null,null,null,null,null,null,null,null,null,null,null,null,null,null,null,null,null,null,null,null,null,null,null,null,null,null,null,null,null,null,null,null,null,null,null,null,null,null,null,null,null,null,null,null,null,null,null,null,null,null,null,null,null,null,null,null,null,null,null,null,null,null,null,null,null,null,null,null,null,null,null,null,null,null,null,null,null,null,null,null,null,null,null,null,null,null,null,null,null,null,null,null,null,null,null,null,null,null,null,null,null,null,null,null,null,null,null,null,null,null,null,null,null,null,null,null,null,null,null,null,null,null,null,null,null,null,null,null,null,null,null,null,null,null,null,null,null,null,null,null,null,null,null,null,null,null,null,null,null,null,null,null,null,null,null,null,null,null,null,null,null,null,null,null,null,null,null,null,null,null,null,null,null,null,null,null,null,null,null,null,null,null,null,null,null,null,null,null,null,null,null,null,null,null,null,null,null,null,null,null,null,null,null,null,null,null,null,null,null,null,null,null,null,null,null,null,56300,56200,56900,57800,57700,57800,57200,57400,57400,57500,null,null,null,null,null,21700,21700]
[null,null,null,null,null,null,null,null,null,null,null,null,null,null,null,null,null,null,null,null,null,null,null,null,null,null,null,null,null,null,null,null,null,null,null,null,null,null,null,null,null,null,null,null,null,null,null,null,null,null,null,null,null,null,null,null,null,null,null,null,null,null,null,null,null,null,null,null,null,null,null,null,null,null,null,null,null,null,null,null,null,null,null,null,null,null,null,null,null,null,null,null,null,null,null,null,null,null,null,null,null,null,null,null,null,null,null,null,null,null,null,null,null,null,null,null,null,null,null,null,null,null,null,null,null,null,null,null,null,null,null,null,null,null,null,null,null,null,null,null,null,null,null,null,null,null,null,null,null,null,null,null,null,null,null,null,null,null,null,null,null,null,null,null,null,null,null,null,null,null,null,null,null,null,null,null,null,null,null,null,null,null,null,null,null,null,null,null,null,null,null,null,null,null,null,null,null,null,null,null,null,null,null,null,null,null,null,null,null,null,null,null,null,null,null,null,null,null,null,null,null,null,null,47000,46900,47600,48500,48300,48600,47900,48100,48000,48100,null,null,null,null,null,58500,58300]
[null,null,null,null,null,null,null,null,null,null,null,null,null,null,null,null,null,null,null,null,null,null,null,null,null,null,null,null,null,null,null,null,null,null,null,null,null,null,null,null,null,null,null,null,null,null,null,null,null,null,null,null,null,null,null,null,null,null,null,null,null,null,null,null,null,null,null,null,null,null,null,null,null,null,null,null,null,null,null,null,null,null,null,null,null,null,null,null,null,null,null,null,null,null,null,null,null,null,null,null,null,null,null,null,null,null,null,null,null,null,null,null,null,null,null,null,null,null,null,null,null,null,null,null,null,null,null,null,null,null,null,null,null,null,null,null,null,null,null,null,null,null,null,null,null,null,null,null,null,null,null,null,null,null,null,null,null,null,null,null,null,null,null,null,null,null,null,null,null,null,null,null,null,null,null,null,null,null,null,null,null,null,null,null,null,null,null,null,null,null,null,null,null,null,null,null,null,null,null,null,null,null,null,null,null,null,null,null,null,null,null,null,null,null,null,null,null,null,null,null,null,null,null,2500,2800,3000,3200,3300,3300,3200,3300,3100,2900,null,null,null,null,null,49100,48900]
[null,null,null,null,null,null,null,null,null,null,null,null,null,null,null,null,null,null,null,null,null,null,null,null,null,null,null,null,null,null,null,null,null,null,null,null,null,null,null,null,null,null,null,null,null,null,null,null,null,null,null,null,null,null,null,null,null,null,null,null,null,null,null,null,null,null,null,null,null,null,null,null,null,null,null,null,null,null,null,null,null,null,null,null,null,null,null,null,null,null,null,null,null,null,null,null,null,null,null,null,null,null,null,null,null,null,null,null,null,null,null,null,null,null,null,null,null,null,null,null,null,null,null,null,null,null,null,null,null,null,null,null,null,null,null,null,null,null,null,null,null,null,null,null,null,null,null,null,null,null,null,null,null,null,null,null,null,null,null,null,null,null,null,null,null,null,null,null,null,null,null,null,null,null,null,null,null,null,null,null,null,null,null,null,null,null,null,null,null,null,null,null,null,null,null,null,null,null,null,null,null,null,null,null,null,null,null,null,null,null,null,null,null,null,null,null,null,null,null,null,null,null,null,18200,18100,18000,18000,18000,18000,17900,17800,18000,18200,null,null,null,null,null,3500,3600]
[null,null,null,null,null,null,null,null,null,null,null,null,null,null,null,null,null,null,null,null,null,null,null,null,null,null,null,null,null,null,null,null,null,null,null,null,null,null,null,null,null,null,null,null,null,null,null,null,null,null,null,null,null,null,null,null,null,null,null,null,null,null,null,null,null,null,null,null,null,null,null,null,null,null,null,null,null,null,null,null,null,null,null,null,null,null,null,null,null,null,null,null,null,null,null,null,null,null,null,null,null,null,null,null,null,null,null,null,null,null,null,null,null,null,null,null,null,null,null,null,null,null,null,null,null,null,null,null,null,null,null,null,null,null,null,null,null,null,null,null,null,null,null,null,null,null,null,null,null,null,null,null,null,null,null,null,null,null,null,null,null,null,null,null,null,null,null,null,null,null,null,null,null,null,null,null,null,null,null,null,null,null,null,null,null,null,null,null,null,null,null,null,null,null,null,null,null,null,null,null,null,null,null,null,null,null,null,null,null,null,null,null,null,null,null,null,null,null,null,null,null,null,null,14600,14600,14600,14700,14600,14700,14400,14500,14700,14800,null,null,null,null,null,18200,18100]
[null,null,null,null,null,null,null,null,null,null,null,null,null,null,null,null,null,null,null,null,null,null,null,null,null,null,null,null,null,null,null,null,null,null,null,null,null,null,null,null,null,null,null,null,null,null,null,null,null,null,null,null,null,null,null,null,null,null,null,null,null,null,null,null,null,null,null,null,null,null,null,null,null,null,null,null,null,null,null,null,null,null,null,null,null,null,null,null,null,null,null,null,null,null,null,null,null,null,null,null,null,null,null,null,null,null,null,null,null,null,null,null,null,null,null,null,null,null,null,null,null,null,null,null,null,null,null,null,null,null,null,null,null,null,null,null,null,null,null,null,null,null,null,null,null,null,null,null,null,null,null,null,null,null,null,null,null,null,null,null,null,null,null,null,null,null,null,null,null,null,null,null,null,null,null,null,null,null,null,null,null,null,null,null,null,null,null,null,null,null,null,null,null,null,null,null,null,null,null,null,null,null,null,null,null,null,null,null,null,null,null,null,null,null,null,null,null,null,null,null,null,null,null,3600,3600,3700,3700,3700,3800,3700,3800,3800,3800,null,null,null,null,null,15100,15000]
[null,null,null,null,null,null,null,null,null,null,null,null,null,null,null,null,null,null,null,null,null,null,null,null,null,null,null,null,null,null,null,null,null,null,null,null,null,null,null,null,null,null,null,null,null,null,null,null,null,null,null,null,null,null,null,null,null,null,null,null,null,null,null,null,null,null,null,null,null,null,null,null,null,null,null,null,null,null,null,null,null,null,null,null,null,null,null,null,null,null,null,null,null,null,null,null,null,null,null,null,null,null,null,null,null,null,null,null,null,null,null,null,null,null,null,null,null,null,null,null,null,null,null,null,null,null,null,null,null,null,null,null,null,null,null,null,null,null,null,null,null,null,null,null,null,null,null,null,null,null,null,null,null,null,null,null,null,null,null,null,null,null,null,null,null,null,null,null,null,null,null,null,null,null,null,null,null,null,null,null,null,null,null,null,null,null,null,null,null,null,null,null,null,null,null,null,null,null,null,null,null,null,null,null,null,null,null,null,null,null,null,null,null,null,null,null,null,null,null,null,null,null,null,8700,8700,8600,8600,8600,8500,8300,8300,8500,8600,null,null,null,null,null,3700,3600]
[null,null,null,null,null,null,null,null,null,null,null,null,null,null,null,null,null,null,null,null,null,null,null,null,null,null,null,null,null,null,null,null,null,null,null,null,null,null,null,null,null,null,null,null,null,null,null,null,null,null,null,null,null,null,null,null,null,null,null,null,null,null,null,null,null,null,null,null,null,null,null,null,null,null,null,null,null,null,null,null,null,null,null,null,null,null,null,null,null,null,null,null,null,null,null,null,null,null,null,null,null,null,null,null,null,null,null,null,null,null,null,null,null,null,null,null,null,null,null,null,null,null,null,null,null,null,null,null,null,null,null,null,null,null,null,null,null,null,null,null,null,null,null,null,null,null,null,null,null,null,null,null,null,null,null,null,null,null,null,null,null,null,null,null,null,null,null,null,null,null,null,null,null,null,null,null,null,null,null,null,null,null,null,null,null,null,null,null,null,null,null,null,null,null,null,null,null,null,null,null,null,null,null,null,null,null,null,null,null,null,null,null,null,null,null,null,null,null,null,null,null,null,null,2300,2300,2300,2400,2300,2400,2400,2400,2400,2400,null,null,null,null,null,9000,9000]
[null,null,null,null,null,null,null,null,null,null,null,null,null,null,null,null,null,null,null,null,null,null,null,null,null,null,null,null,null,null,null,null,null,null,null,null,null,null,null,null,null,null,null,null,null,null,null,null,null,null,null,null,null,null,null,null,null,null,null,null,null,null,null,null,null,null,null,null,null,null,null,null,null,null,null,null,null,null,null,null,null,null,null,null,null,null,null,null,null,null,null,null,null,null,null,null,null,null,null,null,null,null,null,null,null,null,null,null,null,null,null,null,null,null,null,null,null,null,null,null,null,null,null,null,null,null,null,null,null,null,null,null,null,null,null,null,null,null,null,null,null,null,null,null,null,null,null,null,null,null,null,null,null,null,null,null,null,null,null,null,null,null,null,null,null,null,null,null,null,null,null,null,null,null,null,null,null,null,null,null,null,null,null,null,null,null,null,null,null,null,null,null,null,null,null,null,null,null,null,null,null,null,null,null,null,null,null,null,null,null,null,null,null,null,null,null,null,null,null,null,null,null,null,500,500,500,500,500,500,500,500,500,500,null,null,null,null,null,2400,2400]
[null,null,null,null,null,null,null,null,null,null,null,null,null,null,null,null,null,null,null,null,null,null,null,null,null,null,null,null,null,null,null,null,null,null,null,null,null,null,null,null,null,null,null,null,null,null,null,null,null,null,null,null,null,null,null,null,null,null,null,null,null,null,null,null,null,null,null,null,null,null,null,null,null,null,null,null,null,null,null,null,null,null,null,null,null,null,null,null,null,null,null,null,null,null,null,null,null,null,null,null,null,null,null,null,null,null,null,null,null,null,null,null,null,null,null,null,null,null,null,null,null,null,null,null,null,null,null,null,null,null,null,null,null,null,null,null,null,null,null,null,null,null,null,null,null,null,null,null,null,null,null,null,null,null,null,null,null,null,null,null,null,null,null,null,null,null,null,null,null,null,null,null,null,null,null,null,null,null,null,null,null,null,null,null,null,null,null,null,null,null,null,null,null,null,null,null,null,null,null,null,null,null,null,null,null,null,null,null,null,null,null,null,null,null,null,null,null,null,null,null,null,null,null,2300,2200,2200,2300,2300,2300,2200,2300,2300,2400,null,null,null,null,null,500,500]
[null,null,null,null,null,null,null,null,null,null,null,null,null,null,null,null,null,null,null,null,null,null,null,null,null,null,null,null,null,null,null,null,null,null,null,null,null,null,null,null,null,null,null,null,null,null,null,null,null,null,null,null,null,null,null,null,null,null,null,null,null,null,null,null,null,null,null,null,null,null,null,null,null,null,null,null,null,null,null,null,null,null,null,null,null,null,null,null,null,null,null,null,null,null,null,null,null,null,null,null,null,null,null,null,null,null,null,null,null,null,null,null,null,null,null,null,null,null,null,null,null,null,null,null,null,null,null,null,null,null,null,null,null,null,null,null,null,null,null,null,null,null,null,null,null,null,null,null,null,null,null,null,null,null,null,null,null,null,null,null,null,null,null,null,null,null,null,null,null,null,null,null,null,null,null,null,null,null,null,null,null,null,null,null,null,null,null,null,null,null,null,null,null,null,null,null,null,null,null,null,null,null,null,null,null,null,null,null,null,null,null,null,null,null,null,null,null,null,null,null,null,null,null,6700,6600,6700,6900,6800,6900,6800,6800,6700,6700,null,null,null,null,null,2400,2400]
[null,null,null,null,null,null,null,null,null,null,null,null,null,null,null,null,null,null,null,null,null,null,null,null,null,null,null,null,null,null,null,null,null,null,null,null,null,null,null,null,null,null,null,null,null,null,null,null,null,null,null,null,null,null,null,null,null,null,null,null,null,null,null,null,null,null,null,null,null,null,null,null,null,null,null,null,null,null,null,null,null,null,null,null,null,null,null,null,null,null,null,null,null,null,null,null,null,null,null,null,null,null,null,null,null,null,null,null,null,null,null,null,null,null,null,null,null,null,null,null,null,null,null,null,null,null,null,null,null,null,null,null,null,null,null,null,null,null,null,null,null,null,null,null,null,null,null,null,null,null,null,null,null,null,null,null,null,null,null,null,null,null,null,null,null,null,null,null,null,null,null,null,null,null,null,null,null,null,null,null,null,null,null,null,null,null,null,null,null,null,null,null,null,null,null,null,null,null,null,null,null,null,null,null,null,null,null,null,null,null,null,null,null,null,null,null,null,null,null,null,null,null,null,11500,11400,11600,11500,11500,11600,11600,11700,11800,11800,null,null,null,null,null,7200,7400]
[null,null,null,null,null,null,null,null,null,null,null,null,null,null,null,null,null,null,null,null,null,null,null,null,null,null,null,null,null,null,null,null,null,null,null,null,null,null,null,null,null,null,null,null,null,null,null,null,null,null,null,null,null,null,null,null,null,null,null,null,null,null,null,null,null,null,null,null,null,null,null,null,null,null,null,null,null,null,null,null,null,null,null,null,null,null,null,null,null,null,null,null,null,null,null,null,null,null,null,null,null,null,null,null,null,null,null,null,null,null,null,null,null,null,null,null,null,null,null,null,null,null,null,null,null,null,null,null,null,null,null,null,null,null,null,null,null,null,null,null,null,null,null,null,null,null,null,null,null,null,null,null,null,null,null,null,null,null,null,null,null,null,null,null,null,null,null,null,null,null,null,null,null,null,null,null,null,null,null,null,null,null,null,null,null,null,null,null,null,null,null,null,null,null,null,null,null,null,null,null,null,null,null,null,null,null,null,null,null,null,null,null,null,null,null,null,null,null,null,null,null,null,null,10800,10800,10800,10800,10900,10900,10800,10900,10900,10900,null,null,null,null,null,11800,11500]
[null,null,null,null,null,null,null,null,null,null,null,null,null,null,null,null,null,null,null,null,null,null,null,null,null,null,null,null,null,null,null,null,null,null,null,null,null,null,null,null,null,null,null,null,null,null,null,null,null,null,null,null,null,null,null,null,null,null,null,null,null,null,null,null,null,null,null,null,null,null,null,null,null,null,null,null,null,null,null,null,null,null,null,null,null,null,null,null,null,null,null,null,null,null,null,null,null,null,null,null,null,null,null,null,null,null,null,null,null,null,null,null,null,null,null,null,null,null,null,null,null,null,null,null,null,null,null,null,null,null,null,null,null,null,null,null,null,null,null,null,null,null,null,null,null,null,null,null,null,null,null,null,null,null,null,null,null,null,null,null,null,null,null,null,null,null,null,null,null,null,null,null,null,null,null,null,null,null,null,null,null,null,null,null,null,null,null,null,null,null,null,null,null,null,null,null,null,null,null,null,null,null,null,null,null,null,null,null,null,null,null,null,null,null,null,null,null,null,null,null,null,null,null,7600,7800,8200,8700,8700,8700,8500,8400,8100,8000,null,null,null,null,null,11000,10900]
[null,null,null,null,null,null,null,null,null,null,null,null,null,null,null,null,null,null,null,null,null,null,null,null,null,null,null,null,null,null,null,null,null,null,null,null,null,null,null,null,null,null,null,null,null,null,null,null,null,null,null,null,null,null,null,null,null,null,null,null,null,null,null,null,null,null,null,null,null,null,null,null,null,null,null,null,null,null,null,null,null,null,null,null,null,null,null,null,null,null,null,null,null,null,null,null,null,null,null,null,null,null,null,null,null,null,null,null,null,null,null,null,null,null,null,null,null,null,null,null,null,null,null,null,null,null,null,null,null,null,null,null,null,null,null,null,null,null,null,null,null,null,null,null,null,null,null,null,null,null,null,null,null,null,null,null,null,null,null,null,null,null,null,null,null,null,null,null,null,null,null,null,null,null,null,null,null,null,null,null,null,null,null,null,null,null,null,null,null,null,null,null,null,null,null,null,null,null,null,null,null,null,null,null,null,null,null,null,null,null,null,null,null,null,null,null,null,null,null,null,null,null,null,3800,3800,3800,3900,3900,3900,3900,3900,3900,3900,null,null,null,null,null,8300,8300]
[null,null,null,null,null,null,null,null,null,null,null,null,null,null,null,null,null,null,null,null,null,null,null,null,null,null,null,null,null,null,null,null,null,null,null,null,null,null,null,null,null,null,null,null,null,null,null,null,null,null,null,null,null,null,null,null,null,null,null,null,null,null,null,null,null,null,null,null,null,null,null,null,null,null,null,null,null,null,null,null,null,null,null,null,null,null,null,null,null,null,null,null,null,null,null,null,null,null,null,null,null,null,null,null,null,null,null,null,null,null,null,null,null,null,null,null,null,null,null,null,null,null,null,null,null,null,null,null,null,null,null,null,null,null,null,null,null,null,null,null,null,null,null,null,null,null,null,null,null,null,null,null,null,null,null,null,null,null,null,null,null,null,null,null,null,null,null,null,null,null,null,null,null,null,null,null,null,null,null,null,null,null,null,null,null,null,null,null,null,null,null,null,null,null,null,null,null,null,null,null,null,null,null,null,null,null,null,null,null,null,null,null,null,null,null,null,null,null,null,null,null,null,null,9300,9300,9300,9300,9400,9200,9300,9300,9400,9400,null,null,null,null,null,3800,3800]
[null,null,null,null,null,null,null,null,null,null,null,null,null,null,null,null,null,null,null,null,null,null,null,null,null,null,null,null,null,null,null,null,null,null,null,null,null,null,null,null,null,null,null,null,null,null,null,null,null,null,null,null,null,null,null,null,null,null,null,null,null,null,null,null,null,null,null,null,null,null,null,null,null,null,null,null,null,null,null,null,null,null,null,null,null,null,null,null,null,null,null,null,null,null,null,null,null,null,null,null,null,null,null,null,null,null,null,null,null,null,null,null,null,null,null,null,null,null,null,null,null,null,null,null,null,null,null,null,null,null,null,null,null,null,null,null,null,null,null,null,null,null,null,null,null,null,null,null,null,null,null,null,null,null,null,null,null,null,null,null,null,null,null,null,null,null,null,null,null,null,null,null,null,null,null,null,null,null,null,null,null,null,null,null,null,null,null,null,null,null,null,null,null,null,null,null,null,null,null,null,null,null,null,null,null,null,null,null,null,null,null,null,null,null,null,null,null,null,null,null,null,null,null,400,400,400,400,400,400,400,400,400,400,null,null,null,null,null,9400,9400]
[null,null,null,null,null,null,null,null,null,null,null,null,null,null,null,null,null,null,null,null,null,null,null,null,null,null,null,null,null,null,null,null,null,null,null,null,null,null,null,null,null,null,null,null,null,null,null,null,null,null,null,null,null,null,null,null,null,null,null,null,null,null,null,null,null,null,null,null,null,null,null,null,null,null,null,null,null,null,null,null,null,null,null,null,null,null,null,null,null,null,null,null,null,null,null,null,null,null,null,null,null,null,null,null,null,null,null,null,null,null,null,null,null,null,null,null,null,null,null,null,null,null,null,null,null,null,null,null,null,null,null,null,null,null,null,null,null,null,null,null,null,null,null,null,null,null,null,null,null,null,null,null,null,null,null,null,null,null,null,null,null,null,null,null,null,null,null,null,null,null,null,null,null,null,null,null,null,null,null,null,null,null,null,null,null,null,null,null,null,null,null,null,null,null,null,null,null,null,null,null,null,null,null,null,null,null,null,null,null,null,null,null,null,null,null,null,null,null,null,null,null,null,null,1700,1700,1700,1700,1700,1700,1700,1700,1700,1700,null,null,null,null,null,400,400]
[null,null,null,null,null,null,null,null,null,null,null,null,null,null,null,null,null,null,null,null,null,null,null,null,null,null,null,null,null,null,null,null,null,null,null,null,null,null,null,null,null,null,null,null,null,null,null,null,null,null,null,null,null,null,null,null,null,null,null,null,null,null,null,null,null,null,null,null,null,null,null,null,null,null,null,null,null,null,null,null,null,null,null,null,null,null,null,null,null,null,null,null,null,null,null,null,null,null,null,null,null,null,null,null,null,null,null,null,null,null,null,null,null,null,null,null,null,null,null,null,null,null,null,null,null,null,null,null,null,null,null,null,null,null,null,null,null,null,null,null,null,null,null,null,null,null,null,null,null,null,null,null,null,null,null,null,null,null,null,null,null,null,null,null,null,null,null,null,null,null,null,null,null,null,null,null,null,null,null,null,null,null,null,null,null,null,null,null,null,null,null,null,null,null,null,null,null,null,null,null,null,null,null,null,null,null,null,null,null,null,null,null,null,null,null,null,null,null,null,null,null,null,null,7200,7200,7200,7200,7300,7100,7200,7200,7300,7300,null,null,null,null,null,1700,1700]
[null,null,null,null,null,null,null,null,null,null,null,null,null,null,null,null,null,null,null,null,null,null,null,null,null,null,null,null,null,null,null,null,null,null,null,null,null,null,null,null,null,null,null,null,null,null,null,null,null,null,null,null,null,null,null,null,null,null,null,null,null,null,null,null,null,null,null,null,null,null,null,null,null,null,null,null,null,null,null,null,null,null,null,null,null,null,null,null,null,null,null,null,null,null,null,null,null,null,null,null,null,null,null,null,null,null,null,null,null,null,null,null,null,null,null,null,null,null,null,null,null,null,null,null,null,null,null,null,null,null,null,null,null,null,null,null,null,null,null,null,null,null,null,null,null,null,null,null,null,null,null,null,null,null,null,null,null,null,null,null,null,null,null,null,null,null,null,null,null,null,null,null,null,null,null,null,null,null,null,null,null,null,null,null,null,null,null,null,null,null,null,null,null,null,null,null,null,null,null,null,null,null,null,null,null,null,null,null,null,null,null,null,null,null,null,null,null,null,null,null,null,null,null,62100,62800,63900,65700,65600,65400,64600,64400,64200,63900,null,null,null,null,null,7300,7300]
[null,null,null,null,null,null,null,null,null,null,null,null,null,null,null,null,null,null,null,null,null,null,null,null,null,null,null,null,null,null,null,null,null,null,null,null,null,null,null,null,null,null,null,null,null,null,null,null,null,null,null,null,null,null,null,null,null,null,null,null,null,null,null,null,null,null,null,null,null,null,null,null,null,null,null,null,null,null,null,null,null,null,null,null,null,null,null,null,null,null,null,null,null,null,null,null,null,null,null,null,null,null,null,null,null,null,null,null,null,null,null,null,null,null,null,null,null,null,null,null,null,null,null,null,null,null,null,null,null,null,null,null,null,null,null,null,null,null,null,null,null,null,null,null,null,null,null,null,null,null,null,null,null,null,null,null,null,null,null,null,null,null,null,null,null,null,null,null,null,null,null,null,null,null,null,null,null,null,null,null,null,null,null,null,null,null,null,null,null,null,null,null,null,null,null,null,null,null,null,null,null,null,null,null,null,null,null,null,null,null,null,null,null,null,null,null,null,null,null,null,null,null,null,56000,56800,57800,59600,60100,60100,58800,58400,57800,57600,null,null,null,null,null,66400,65200]
[null,null,null,null,null,null,null,null,null,null,null,null,null,null,null,null,null,null,null,null,null,null,null,null,null,null,null,null,null,null,null,null,null,null,null,null,null,null,null,null,null,null,null,null,null,null,null,null,null,null,null,null,null,null,null,null,null,null,null,null,null,null,null,null,null,null,null,null,null,null,null,null,null,null,null,null,null,null,null,null,null,null,null,null,null,null,null,null,null,null,null,null,null,null,null,null,null,null,null,null,null,null,null,null,null,null,null,null,null,null,null,null,null,null,null,null,null,null,null,null,null,null,null,null,null,null,null,null,null,null,null,null,null,null,null,null,null,null,null,null,null,null,null,null,null,null,null,null,null,null,null,null,null,null,null,null,null,null,null,null,null,null,null,null,null,null,null,null,null,null,null,null,null,null,null,null,null,null,null,null,null,null,null,null,null,null,null,null,null,null,null,null,null,null,null,null,null,null,null,null,null,null,null,null,null,null,null,null,null,null,null,null,null,null,null,null,null,null,null,null,null,null,null,23400,23800,24000,24800,25200,25200,24600,24600,24500,24500,null,null,null,null,null,60200,59900]
[null,null,null,null,null,null,null,null,null,null,null,null,null,null,null,null,null,null,null,null,null,null,null,null,null,null,null,null,null,null,null,null,null,null,null,null,null,null,null,null,null,null,null,null,null,null,null,null,null,null,null,null,null,null,null,null,null,null,null,null,null,null,null,null,null,null,null,null,null,null,null,null,null,null,null,null,null,null,null,null,null,null,null,null,null,null,null,null,null,null,null,null,null,null,null,null,null,null,null,null,null,null,null,null,null,null,null,null,null,null,null,null,null,null,null,null,null,null,null,null,null,null,null,null,null,null,null,null,null,null,null,null,null,null,null,null,null,null,null,null,null,null,null,null,null,null,null,null,null,null,null,null,null,null,null,null,null,null,null,null,null,null,null,null,null,null,null,null,null,null,null,null,null,null,null,null,null,null,null,null,null,null,null,null,null,null,null,null,null,null,null,null,null,null,null,null,null,null,null,null,null,null,null,null,null,null,null,null,null,null,null,null,null,null,null,null,null,null,null,null,null,null,null,38700,39000,39900,40900,40400,40200,40000,39800,39700,39400,null,null,null,null,null,24900,25000]
[null,null,null,null,null,null,null,null,null,null,null,null,null,null,null,null,null,null,null,null,null,null,null,null,null,null,null,null,null,null,null,null,null,null,null,null,null,null,null,null,null,null,null,null,null,null,null,null,null,null,null,null,null,null,null,null,null,null,null,null,null,null,null,null,null,null,null,null,null,null,null,null,null,null,null,null,null,null,null,null,null,null,null,null,null,null,null,null,null,null,null,null,null,null,null,null,null,null,null,null,null,null,null,null,null,null,null,null,null,null,null,null,null,null,null,null,null,null,null,null,null,null,null,null,null,null,null,null,null,null,null,null,null,null,null,null,null,null,null,null,null,null,null,null,null,null,null,null,null,null,null,null,null,null,null,null,null,null,null,null,null,null,null,null,null,null,null,null,null,null,null,null,null,null,null,null,null,null,null,null,null,null,null,null,null,null,null,null,null,null,null,null,null,null,null,null,null,null,null,null,null,null,null,null,null,null,null,null,null,null,null,null,null,null,null,null,null,null,null,null,null,null,null,32600,33000,33800,34800,34900,34900,34200,33800,33300,33100,null,null,null,null,null,41500,40200]
[null,null,null,null,null,null,null,null,null,null,null,null,null,null,null,null,null,null,null,null,null,null,null,null,null,null,null,null,null,null,null,null,null,null,null,null,null,null,null,null,null,null,null,null,null,null,null,null,null,null,null,null,null,null,null,null,null,null,null,null,null,null,null,null,null,null,null,null,null,null,null,null,null,null,null,null,null,null,null,null,null,null,null,null,null,null,null,null,null,null,null,null,null,null,null,null,null,null,null,null,null,null,null,null,null,null,null,null,null,null,null,null,null,null,null,null,null,null,null,null,null,null,null,null,null,null,null,null,null,null,null,null,null,null,null,null,null,null,null,null,null,null,null,null,null,null,null,null,null,null,null,null,null,null,null,null,null,null,null,null,null,null,null,null,null,null,null,null,null,null,null,null,null,null,null,null,null,null,null,null,null,null,null,null,null,null,null,null,null,null,null,null,null,null,null,null,null,null,null,null,null,null,null,null,null,null,null,null,null,null,null,null,null,null,null,null,null,null,null,null,null,null,null,2100,2300,2300,2400,2500,2500,2500,2500,2400,2400,null,null,null,null,null,35300,34900]
[null,null,null,null,null,null,null,null,null,null,null,null,null,null,null,null,null,null,null,null,null,null,null,null,null,null,null,null,null,null,null,null,null,null,null,null,null,null,null,null,null,null,null,null,null,null,null,null,null,null,null,null,null,null,null,null,null,null,null,null,null,null,null,null,null,null,null,null,null,null,null,null,null,null,null,null,null,null,null,null,null,null,null,null,null,null,null,null,null,null,null,null,null,null,null,null,null,null,null,null,null,null,null,null,null,null,null,null,null,null,null,null,null,null,null,null,null,null,null,null,null,null,null,null,null,null,null,null,null,null,null,null,null,null,null,null,null,null,null,null,null,null,null,null,null,null,null,null,null,null,null,null,null,null,null,null,null,null,null,null,null,null,null,null,null,null,null,null,null,null,null,null,null,null,null,null,null,null,null,null,null,null,null,null,null,null,null,null,null,null,null,null,null,null,null,null,null,null,null,null,null,null,null,null,null,null,null,null,null,null,null,null,null,null,null,null,null,null,null,null,null,null,null,21300,21500,21700,22400,22700,22700,22100,22100,22100,22100,null,null,null,null,null,2500,2500]
[null,null,null,null,null,null,null,null,null,null,null,null,null,null,null,null,null,null,null,null,null,null,null,null,null,null,null,null,null,null,null,null,null,null,null,null,null,null,null,null,null,null,null,null,null,null,null,null,null,null,null,null,null,null,null,null,null,null,null,null,null,null,null,null,null,null,null,null,null,null,null,null,null,null,null,null,null,null,null,null,null,null,null,null,null,null,null,null,null,null,null,null,null,null,null,null,null,null,null,null,null,null,null,null,null,null,null,null,null,null,null,null,null,null,null,null,null,null,null,null,null,null,null,null,null,null,null,null,null,null,null,null,null,null,null,null,null,null,null,null,null,null,null,null,null,null,null,null,null,null,null,null,null,null,null,null,null,null,null,null,null,null,null,null,null,null,null,null,null,null,null,null,null,null,null,null,null,null,null,null,null,null,null,null,null,null,null,null,null,null,null,null,null,null,null,null,null,null,null,null,null,null,null,null,null,null,null,null,null,null,null,null,null,null,null,null,null,null,null,null,null,null,null,13100,13300,13500,14000,14200,14200,13800,13800,13800,13700,null,null,null,null,null,22400,22500]
[null,null,null,null,null,null,null,null,null,null,null,null,null,null,null,null,null,null,null,null,null,null,null,null,null,null,null,null,null,null,null,null,null,null,null,null,null,null,null,null,null,null,null,null,null,null,null,null,null,null,null,null,null,null,null,null,null,null,null,null,null,null,null,null,null,null,null,null,null,null,null,null,null,null,null,null,null,null,null,null,null,null,null,null,null,null,null,null,null,null,null,null,null,null,null,null,null,null,null,null,null,null,null,null,null,null,null,null,null,null,null,null,null,null,null,null,null,null,null,null,null,null,null,null,null,null,null,null,null,null,null,null,null,null,null,null,null,null,null,null,null,null,null,null,null,null,null,null,null,null,null,null,null,null,null,null,null,null,null,null,null,null,null,null,null,null,null,null,null,null,null,null,null,null,null,null,null,null,null,null,null,null,null,null,null,null,null,null,null,null,null,null,null,null,null,null,null,null,null,null,null,null,null,null,null,null,null,null,null,null,null,null,null,null,null,null,null,null,null,null,null,null,null,8200,8300,8400,8800,8800,8700,8400,8300,8100,8100,null,null,null,null,null,14000,14100]
[null,null,null,null,null,null,null,null,null,null,null,null,null,null,null,null,null,null,null,null,null,null,null,null,null,null,null,null,null,null,null,null,null,null,null,null,null,null,null,null,null,null,null,null,null,null,null,null,null,null,null,null,null,null,null,null,null,null,null,null,null,null,null,null,null,null,null,null,null,null,null,null,null,null,null,null,null,null,null,null,null,null,null,null,null,null,null,null,null,null,null,null,null,null,null,null,null,null,null,null,null,null,null,null,null,null,null,null,null,null,null,null,null,null,null,null,null,null,null,null,null,null,null,null,null,null,null,null,null,null,null,null,null,null,null,null,null,null,null,null,null,null,null,null,null,null,null,null,null,null,null,null,null,null,null,null,null,null,null,null,null,null,null,null,null,null,null,null,null,null,null,null,null,null,null,null,null,null,null,null,null,null,null,null,null,null,null,null,null,null,null,null,null,null,null,null,null,null,null,null,null,null,null,null,null,null,null,null,null,null,null,null,null,null,null,null,null,null,null,null,null,null,null,8200,8200,8200,8400,8500,8500,8300,8300,8300,8400,null,null,null,null,null,9300,9200]
[null,null,null,null,null,null,null,null,null,null,null,null,null,null,null,null,null,null,null,null,null,null,null,null,null,null,null,null,null,null,null,null,null,null,null,null,null,null,null,null,null,null,null,null,null,null,null,null,null,null,null,null,null,null,null,null,null,null,null,null,null,null,null,null,null,null,null,null,null,null,null,null,null,null,null,null,null,null,null,null,null,null,null,null,null,null,null,null,null,null,null,null,null,null,null,null,null,null,null,null,null,null,null,null,null,null,null,null,null,null,null,null,null,null,null,null,null,null,null,null,null,null,null,null,null,null,null,null,null,null,null,null,null,null,null,null,null,null,null,null,null,null,null,null,null,null,null,null,null,null,null,null,null,null,null,null,null,null,null,null,null,null,null,null,null,null,null,null,null,null,null,null,null,null,null,null,null,null,null,null,null,null,null,null,null,null,null,null,null,null,null,null,null,null,null,null,null,null,null,null,null,null,null,null,null,null,null,null,null,null,null,null,null,null,null,null,null,null,null,null,null,null,null,10100,10100,10200,10300,10400,10400,10300,10400,10600,10500,null,null,null,null,null,8400,8400]
[null,null,null,null,null,null,null,null,null,null,null,null,null,null,null,null,null,null,null,null,null,null,null,null,null,null,null,null,null,null,null,null,null,null,null,null,null,null,null,null,null,null,null,null,null,null,null,null,null,null,null,null,null,null,null,null,null,null,null,null,null,null,null,null,null,null,null,null,null,null,null,null,null,null,null,null,null,null,null,null,null,null,null,null,null,null,null,null,null,null,null,null,null,null,null,null,null,null,null,null,null,null,null,null,null,null,null,null,null,null,null,null,null,null,null,null,null,null,null,null,null,null,null,null,null,null,null,null,null,null,null,null,null,null,null,null,null,null,null,null,null,null,null,null,null,null,null,null,null,null,null,null,null,null,null,null,null,null,null,null,null,null,null,null,null,null,null,null,null,null,null,null,null,null,null,null,null,null,null,null,null,null,null,null,null,null,null,null,null,null,null,null,null,null,null,null,null,null,null,null,null,null,null,null,null,null,null,null,null,null,null,null,null,null,null,null,null,null,null,null,null,null,null,2700,2700,2700,2800,2800,2800,2700,2800,2800,2800,null,null,null,null,null,10600,10600]
[null,null,null,null,null,null,null,null,null,null,null,null,null,null,null,null,null,null,null,null,null,null,null,null,null,null,null,null,null,null,null,null,null,null,null,null,null,null,null,null,null,null,null,null,null,null,null,null,null,null,null,null,null,null,null,null,null,null,null,null,null,null,null,null,null,null,null,null,null,null,null,null,null,null,null,null,null,null,null,null,null,null,null,null,null,null,null,null,null,null,null,null,null,null,null,null,null,null,null,null,null,null,null,null,null,null,null,null,null,null,null,null,null,null,null,null,null,null,null,null,null,null,null,null,null,null,null,null,null,null,null,null,null,null,null,null,null,null,null,null,null,null,null,null,null,null,null,null,null,null,null,null,null,null,null,null,null,null,null,null,null,null,null,null,null,null,null,null,null,null,null,null,null,null,null,null,null,null,null,null,null,null,null,null,null,null,null,null,null,null,null,null,null,null,null,null,null,null,null,null,null,null,null,null,null,null,null,null,null,null,null,null,null,null,null,null,null,null,null,null,null,null,null,6000,6000,6100,6100,6200,6200,6100,6100,6300,6200,null,null,null,null,null,2900,2900]
[null,null,null,null,null,null,null,null,null,null,null,null,null,null,null,null,null,null,null,null,null,null,null,null,null,null,null,null,null,null,null,null,null,null,null,null,null,null,null,null,null,null,null,null,null,null,null,null,null,null,null,null,null,null,null,null,null,null,null,null,null,null,null,null,null,null,null,null,null,null,null,null,null,null,null,null,null,null,null,null,null,null,null,null,null,null,null,null,null,null,null,null,null,null,null,null,null,null,null,null,null,null,null,null,null,null,null,null,null,null,null,null,null,null,null,null,null,null,null,null,null,null,null,null,null,null,null,null,null,null,null,null,null,null,null,null,null,null,null,null,null,null,null,null,null,null,null,null,null,null,null,null,null,null,null,null,null,null,null,null,null,null,null,null,null,null,null,null,null,null,null,null,null,null,null,null,null,null,null,null,null,null,null,null,null,null,null,null,null,null,null,null,null,null,null,null,null,null,null,null,null,null,null,null,null,null,null,null,null,null,null,null,null,null,null,null,null,null,null,null,null,null,null,1400,1400,1400,1400,1400,1400,1500,1500,1500,1500,null,null,null,null,null,6300,6300]
[null,null,null,null,null,null,null,null,null,null,null,null,null,null,null,null,null,null,null,null,null,null,null,null,null,null,null,null,null,null,null,null,null,null,null,null,null,null,null,null,null,null,null,null,null,null,null,null,null,null,null,null,null,null,null,null,null,null,null,null,null,null,null,null,null,null,null,null,null,null,null,null,null,null,null,null,null,null,null,null,null,null,null,null,null,null,null,null,null,null,null,null,null,null,null,null,null,null,null,null,null,null,null,null,null,null,null,null,null,null,null,null,null,null,null,null,null,null,null,null,null,null,null,null,null,null,null,null,null,null,null,null,null,null,null,null,null,null,null,null,null,null,null,null,null,null,null,null,null,null,null,null,null,null,null,null,null,null,null,null,null,null,null,null,null,null,null,null,null,null,null,null,null,null,null,null,null,null,null,null,null,null,null,null,null,null,null,null,null,null,null,null,null,null,null,null,null,null,null,null,null,null,null,null,null,null,null,null,null,null,null,null,null,null,null,null,null,null,null,null,null,null,null,300,300,300,300,300,300,300,300,300,300,null,null,null,null,null,1400,1400]
[null,null,null,null,null,null,null,null,null,null,null,null,null,null,null,null,null,null,null,null,null,null,null,null,null,null,null,null,null,null,null,null,null,null,null,null,null,null,null,null,null,null,null,null,null,null,null,null,null,null,null,null,null,null,null,null,null,null,null,null,null,null,null,null,null,null,null,null,null,null,null,null,null,null,null,null,null,null,null,null,null,null,null,null,null,null,null,null,null,null,null,null,null,null,null,null,null,null,null,null,null,null,null,null,null,null,null,null,null,null,null,null,null,null,null,null,null,null,null,null,null,null,null,null,null,null,null,null,null,null,null,null,null,null,null,null,null,null,null,null,null,null,null,null,null,null,null,null,null,null,null,null,null,null,null,null,null,null,null,null,null,null,null,null,null,null,null,null,null,null,null,null,null,null,null,null,null,null,null,null,null,null,null,null,null,null,null,null,null,null,null,null,null,null,null,null,null,null,null,null,null,null,null,null,null,null,null,null,null,null,null,null,null,null,null,null,null,null,null,null,null,null,null,3000,3000,3000,3100,3100,3100,3100,3100,3100,3100,null,null,null,null,null,200,200]
[null,null,null,null,null,null,null,null,null,null,null,null,null,null,null,null,null,null,null,null,null,null,null,null,null,null,null,null,null,null,null,null,null,null,null,null,null,null,null,null,null,null,null,null,null,null,null,null,null,null,null,null,null,null,null,null,null,null,null,null,null,null,null,null,null,null,null,null,null,null,null,null,null,null,null,null,null,null,null,null,null,null,null,null,null,null,null,null,null,null,null,null,null,null,null,null,null,null,null,null,null,null,null,null,null,null,null,null,null,null,null,null,null,null,null,null,null,null,null,null,null,null,null,null,null,null,null,null,null,null,null,null,null,null,null,null,null,null,null,null,null,null,null,null,null,null,null,null,null,null,null,null,null,null,null,null,null,null,null,null,null,null,null,null,null,null,null,null,null,null,null,null,null,null,null,null,null,null,null,null,null,null,null,null,null,null,null,null,null,null,null,null,null,null,null,null,null,null,null,null,null,null,null,null,null,null,null,null,null,null,null,null,null,null,null,null,null,null,null,null,null,null,null,3900,4000,4100,4200,4300,4300,4200,4200,4000,4000,null,null,null,null,null,3000,3000]
[null,null,null,null,null,null,null,null,null,null,null,null,null,null,null,null,null,null,null,null,null,null,null,null,null,null,null,null,null,null,null,null,null,null,null,null,null,null,null,null,null,null,null,null,null,null,null,null,null,null,null,null,null,null,null,null,null,null,null,null,null,null,null,null,null,null,null,null,null,null,null,null,null,null,null,null,null,null,null,null,null,null,null,null,null,null,null,null,null,null,null,null,null,null,null,null,null,null,null,null,null,null,null,null,null,null,null,null,null,null,null,null,null,null,null,null,null,null,null,null,null,null,null,null,null,null,null,null,null,null,null,null,null,null,null,null,null,null,null,null,null,null,null,null,null,null,null,null,null,null,null,null,null,null,null,null,null,null,null,null,null,null,null,null,null,null,null,null,null,null,null,null,null,null,null,null,null,null,null,null,null,null,null,null,null,null,null,null,null,null,null,null,null,null,null,null,null,null,null,null,null,null,null,null,null,null,null,null,null,null,null,null,null,null,null,null,null,null,null,null,null,null,null,7700,7800,7600,7600,7500,7600,7600,7700,7800,7700,null,null,null,null,null,4700,4700]
[null,null,null,null,null,null,null,null,null,null,null,null,null,null,null,null,null,null,null,null,null,null,null,null,null,null,null,null,null,null,null,null,null,null,null,null,null,null,null,null,null,null,null,null,null,null,null,null,null,null,null,null,null,null,null,null,null,null,null,null,null,null,null,null,null,null,null,null,null,null,null,null,null,null,null,null,null,null,null,null,null,null,null,null,null,null,null,null,null,null,null,null,null,null,null,null,null,null,null,null,null,null,null,null,null,null,null,null,null,null,null,null,null,null,null,null,null,null,null,null,null,null,null,null,null,null,null,null,null,null,null,null,null,null,null,null,null,null,null,null,null,null,null,null,null,null,null,null,null,null,null,null,null,null,null,null,null,null,null,null,null,null,null,null,null,null,null,null,null,null,null,null,null,null,null,null,null,null,null,null,null,null,null,null,null,null,null,null,null,null,null,null,null,null,null,null,null,null,null,null,null,null,null,null,null,null,null,null,null,null,null,null,null,null,null,null,null,null,null,null,null,null,null,6600,6600,6600,6700,6700,6700,6700,6700,6700,6700,null,null,null,null,null,7900,7600]
[null,null,null,null,null,null,null,null,null,null,null,null,null,null,null,null,null,null,null,null,null,null,null,null,null,null,null,null,null,null,null,null,null,null,null,null,null,null,null,null,null,null,null,null,null,null,null,null,null,null,null,null,null,null,null,null,null,null,null,null,null,null,null,null,null,null,null,null,null,null,null,null,null,null,null,null,null,null,null,null,null,null,null,null,null,null,null,null,null,null,null,null,null,null,null,null,null,null,null,null,null,null,null,null,null,null,null,null,null,null,null,null,null,null,null,null,null,null,null,null,null,null,null,null,null,null,null,null,null,null,null,null,null,null,null,null,null,null,null,null,null,null,null,null,null,null,null,null,null,null,null,null,null,null,null,null,null,null,null,null,null,null,null,null,null,null,null,null,null,null,null,null,null,null,null,null,null,null,null,null,null,null,null,null,null,null,null,null,null,null,null,null,null,null,null,null,null,null,null,null,null,null,null,null,null,null,null,null,null,null,null,null,null,null,null,null,null,null,null,null,null,null,null,4800,5000,5800,6400,6500,6400,5800,5300,4700,4600,null,null,null,null,null,6900,6800]
[null,null,null,null,null,null,null,null,null,null,null,null,null,null,null,null,null,null,null,null,null,null,null,null,null,null,null,null,null,null,null,null,null,null,null,null,null,null,null,null,null,null,null,null,null,null,null,null,null,null,null,null,null,null,null,null,null,null,null,null,null,null,null,null,null,null,null,null,null,null,null,null,null,null,null,null,null,null,null,null,null,null,null,null,null,null,null,null,null,null,null,null,null,null,null,null,null,null,null,null,null,null,null,null,null,null,null,null,null,null,null,null,null,null,null,null,null,null,null,null,null,null,null,null,null,null,null,null,null,null,null,null,null,null,null,null,null,null,null,null,null,null,null,null,null,null,null,null,null,null,null,null,null,null,null,null,null,null,null,null,null,null,null,null,null,null,null,null,null,null,null,null,null,null,null,null,null,null,null,null,null,null,null,null,null,null,null,null,null,null,null,null,null,null,null,null,null,null,null,null,null,null,null,null,null,null,null,null,null,null,null,null,null,null,null,null,null,null,null,null,null,null,null,2800,2800,2800,2900,2800,2800,2900,2800,2800,2900,null,null,null,null,null,6000,6000]
[null,null,null,null,null,null,null,null,null,null,null,null,null,null,null,null,null,null,null,null,null,null,null,null,null,null,null,null,null,null,null,null,null,null,null,null,null,null,null,null,null,null,null,null,null,null,null,null,null,null,null,null,null,null,null,null,null,null,null,null,null,null,null,null,null,null,null,null,null,null,null,null,null,null,null,null,null,null,null,null,null,null,null,null,null,null,null,null,null,null,null,null,null,null,null,null,null,null,null,null,null,null,null,null,null,null,null,null,null,null,null,null,null,null,null,null,null,null,null,null,null,null,null,null,null,null,null,null,null,null,null,null,null,null,null,null,null,null,null,null,null,null,null,null,null,null,null,null,null,null,null,null,null,null,null,null,null,null,null,null,null,null,null,null,null,null,null,null,null,null,null,null,null,null,null,null,null,null,null,null,null,null,null,null,null,null,null,null,null,null,null,null,null,null,null,null,null,null,null,null,null,null,null,null,null,null,null,null,null,null,null,null,null,null,null,null,null,null,null,null,null,null,null,6100,6000,6100,6100,5500,5300,5800,6000,6400,6300,null,null,null,null,null,2900,2800]
[null,null,null,null,null,null,null,null,null,null,null,null,null,null,null,null,null,null,null,null,null,null,null,null,null,null,null,null,null,null,null,null,null,null,null,null,null,null,null,null,null,null,null,null,null,null,null,null,null,null,null,null,null,null,null,null,null,null,null,null,null,null,null,null,null,null,null,null,null,null,null,null,null,null,null,null,null,null,null,null,null,null,null,null,null,null,null,null,null,null,null,null,null,null,null,null,null,null,null,null,null,null,null,null,null,null,null,null,null,null,null,null,null,null,null,null,null,null,null,null,null,null,null,null,null,null,null,null,null,null,null,null,null,null,null,null,null,null,null,null,null,null,null,null,null,null,null,null,null,null,null,null,null,null,null,null,null,null,null,null,null,null,null,null,null,null,null,null,null,null,null,null,null,null,null,null,null,null,null,null,null,null,null,null,null,null,null,null,null,null,null,null,null,null,null,null,null,null,null,null,null,null,null,null,null,null,null,null,null,null,null,null,null,null,null,null,null,null,null,null,null,null,null,200,200,200,200,200,200,200,200,200,200,null,null,null,null,null,6200,5300]
[null,null,null,null,null,null,null,null,null,null,null,null,null,null,null,null,null,null,null,null,null,null,null,null,null,null,null,null,null,null,null,null,null,null,null,null,null,null,null,null,null,null,null,null,null,null,null,null,null,null,null,null,null,null,null,null,null,null,null,null,null,null,null,null,null,null,null,null,null,null,null,null,null,null,null,null,null,null,null,null,null,null,null,null,null,null,null,null,null,null,null,null,null,null,null,null,null,null,null,null,null,null,null,null,null,null,null,null,null,null,null,null,null,null,null,null,null,null,null,null,null,null,null,null,null,null,null,null,null,null,null,null,null,null,null,null,null,null,null,null,null,null,null,null,null,null,null,null,null,null,null,null,null,null,null,null,null,null,null,null,null,null,null,null,null,null,null,null,null,null,null,null,null,null,null,null,null,null,null,null,null,null,null,null,null,null,null,null,null,null,null,null,null,null,null,null,null,null,null,null,null,null,null,null,null,null,null,null,null,null,null,null,null,null,null,null,null,null,null,null,null,null,null,500,500,500,500,500,500,500,500,500,500,null,null,null,null,null,200,200]
[null,null,null,null,null,null,null,null,null,null,null,null,null,null,null,null,null,null,null,null,null,null,null,null,null,null,null,null,null,null,null,null,null,null,null,null,null,null,null,null,null,null,null,null,null,null,null,null,null,null,null,null,null,null,null,null,null,null,null,null,null,null,null,null,null,null,null,null,null,null,null,null,null,null,null,null,null,null,null,null,null,null,null,null,null,null,null,null,null,null,null,null,null,null,null,null,null,null,null,null,null,null,null,null,null,null,null,null,null,null,null,null,null,null,null,null,null,null,null,null,null,null,null,null,null,null,null,null,null,null,null,null,null,null,null,null,null,null,null,null,null,null,null,null,null,null,null,null,null,null,null,null,null,null,null,null,null,null,null,null,null,null,null,null,null,null,null,null,null,null,null,null,null,null,null,null,null,null,null,null,null,null,null,null,null,null,null,null,null,null,null,null,null,null,null,null,null,null,null,null,null,null,null,null,null,null,null,null,null,null,null,null,null,null,null,null,null,null,null,null,null,null,null,5400,5300,5400,5400,4800,4600,5100,5300,5700,5600,null,null,null,null,null,500,500]
[null,null,null,null,null,null,null,null,null,null,null,null,null,null,null,null,null,null,null,null,null,null,null,null,null,null,null,null,null,null,null,null,null,null,null,null,null,null,null,null,null,null,null,null,null,null,null,null,null,null,null,null,null,null,null,null,null,null,null,null,null,null,null,null,null,null,null,null,null,null,null,null,null,null,null,null,null,null,null,null,null,null,null,null,null,null,null,null,null,null,null,null,null,null,null,null,null,null,null,null,null,null,null,null,null,null,null,null,null,null,null,null,null,null,null,null,null,null,null,null,null,null,null,null,null,null,null,null,null,null,null,null,null,null,null,null,null,null,null,null,null,null,null,null,null,null,null,null,null,null,null,null,null,null,null,null,null,null,null,null,null,null,null,null,null,null,null,null,null,null,null,null,null,null,null,null,null,null,null,null,null,null,null,null,null,null,null,null,null,null,null,null,null,null,null,null,null,null,null,null,null,null,null,null,null,null,null,null,null,null,null,null,null,null,null,null,null,null,null,null,null,null,null,72800,73300,73900,74900,74300,74900,74100,74800,75100,75500,null,null,null,null,null,5500,4600]
[null,null,null,null,null,null,null,null,null,null,null,null,null,null,null,null,null,null,null,null,null,null,null,null,null,null,null,null,null,null,null,null,null,null,null,null,null,null,null,null,null,null,null,null,null,null,null,null,null,null,null,null,null,null,null,null,null,null,null,null,null,null,null,null,null,null,null,null,null,null,null,null,null,null,null,null,null,null,null,null,null,null,null,null,null,null,null,null,null,null,null,null,null,null,null,null,null,null,null,null,null,null,null,null,null,null,null,null,null,null,null,null,null,null,null,null,null,null,null,null,null,null,null,null,null,null,null,null,null,null,null,null,null,null,null,null,null,null,null,null,null,null,null,null,null,null,null,null,null,null,null,null,null,null,null,null,null,null,null,null,null,null,null,null,null,null,null,null,null,null,null,null,null,null,null,null,null,null,null,null,null,null,null,null,null,null,null,null,null,null,null,null,null,null,null,null,null,null,null,null,null,null,null,null,null,null,null,null,null,null,null,null,null,null,null,null,null,null,null,null,null,null,null,65200,65700,66300,67500,67700,68000,66800,67200,67300,67900,null,null,null,null,null,75000,74000]
[null,null,null,null,null,null,null,null,null,null,null,null,null,null,null,null,null,null,null,null,null,null,null,null,null,null,null,null,null,null,null,null,null,null,null,null,null,null,null,null,null,null,null,null,null,null,null,null,null,null,null,null,null,null,null,null,null,null,null,null,null,null,null,null,null,null,null,null,null,null,null,null,null,null,null,null,null,null,null,null,null,null,null,null,null,null,null,null,null,null,null,null,null,null,null,null,null,null,null,null,null,null,null,null,null,null,null,null,null,null,null,null,null,null,null,null,null,null,null,null,null,null,null,null,null,null,null,null,null,null,null,null,null,null,null,null,null,null,null,null,null,null,null,null,null,null,null,null,null,null,null,null,null,null,null,null,null,null,null,null,null,null,null,null,null,null,null,null,null,null,null,null,null,null,null,null,null,null,null,null,null,null,null,null,null,null,null,null,null,null,null,null,null,null,null,null,null,null,null,null,null,null,null,null,null,null,null,null,null,null,null,null,null,null,null,null,null,null,null,null,null,null,null,18900,19100,19400,20000,20200,20200,19800,19900,20000,19900,null,null,null,null,null,67700,67500]
[null,null,null,null,null,null,null,null,null,null,null,null,null,null,null,null,null,null,null,null,null,null,null,null,null,null,null,null,null,null,null,null,null,null,null,null,null,null,null,null,null,null,null,null,null,null,null,null,null,null,null,null,null,null,null,null,null,null,null,null,null,null,null,null,null,null,null,null,null,null,null,null,null,null,null,null,null,null,null,null,null,null,null,null,null,null,null,null,null,null,null,null,null,null,null,null,null,null,null,null,null,null,null,null,null,null,null,null,null,null,null,null,null,null,null,null,null,null,null,null,null,null,null,null,null,null,null,null,null,null,null,null,null,null,null,null,null,null,null,null,null,null,null,null,null,null,null,null,null,null,null,null,null,null,null,null,null,null,null,null,null,null,null,null,null,null,null,null,null,null,null,null,null,null,null,null,null,null,null,null,null,null,null,null,null,null,null,null,null,null,null,null,null,null,null,null,null,null,null,null,null,null,null,null,null,null,null,null,null,null,null,null,null,null,null,null,null,null,null,null,null,null,null,53900,54200,54500,54900,54100,54700,54300,54900,55100,55600,null,null,null,null,null,20500,20500]
[null,null,null,null,null,null,null,null,null,null,null,null,null,null,null,null,null,null,null,null,null,null,null,null,null,null,null,null,null,null,null,null,null,null,null,null,null,null,null,null,null,null,null,null,null,null,null,null,null,null,null,null,null,null,null,null,null,null,null,null,null,null,null,null,null,null,null,null,null,null,null,null,null,null,null,null,null,null,null,null,null,null,null,null,null,null,null,null,null,null,null,null,null,null,null,null,null,null,null,null,null,null,null,null,null,null,null,null,null,null,null,null,null,null,null,null,null,null,null,null,null,null,null,null,null,null,null,null,null,null,null,null,null,null,null,null,null,null,null,null,null,null,null,null,null,null,null,null,null,null,null,null,null,null,null,null,null,null,null,null,null,null,null,null,null,null,null,null,null,null,null,null,null,null,null,null,null,null,null,null,null,null,null,null,null,null,null,null,null,null,null,null,null,null,null,null,null,null,null,null,null,null,null,null,null,null,null,null,null,null,null,null,null,null,null,null,null,null,null,null,null,null,null,46300,46600,46900,47500,47500,47800,47000,47300,47300,48000,null,null,null,null,null,54500,53500]
[null,null,null,null,null,null,null,null,null,null,null,null,null,null,null,null,null,null,null,null,null,null,null,null,null,null,null,null,null,null,null,null,null,null,null,null,null,null,null,null,null,null,null,null,null,null,null,null,null,null,null,null,null,null,null,null,null,null,null,null,null,null,null,null,null,null,null,null,null,null,null,null,null,null,null,null,null,null,null,null,null,null,null,null,null,null,null,null,null,null,null,null,null,null,null,null,null,null,null,null,null,null,null,null,null,null,null,null,null,null,null,null,null,null,null,null,null,null,null,null,null,null,null,null,null,null,null,null,null,null,null,null,null,null,null,null,null,null,null,null,null,null,null,null,null,null,null,null,null,null,null,null,null,null,null,null,null,null,null,null,null,null,null,null,null,null,null,null,null,null,null,null,null,null,null,null,null,null,null,null,null,null,null,null,null,null,null,null,null,null,null,null,null,null,null,null,null,null,null,null,null,null,null,null,null,null,null,null,null,null,null,null,null,null,null,null,null,null,null,null,null,null,null,2300,2500,2700,2900,2900,3000,2900,2900,2800,2600,null,null,null,null,null,47200,47000]
[null,null,null,null,null,null,null,null,null,null,null,null,null,null,null,null,null,null,null,null,null,null,null,null,null,null,null,null,null,null,null,null,null,null,null,null,null,null,null,null,null,null,null,null,null,null,null,null,null,null,null,null,null,null,null,null,null,null,null,null,null,null,null,null,null,null,null,null,null,null,null,null,null,null,null,null,null,null,null,null,null,null,null,null,null,null,null,null,null,null,null,null,null,null,null,null,null,null,null,null,null,null,null,null,null,null,null,null,null,null,null,null,null,null,null,null,null,null,null,null,null,null,null,null,null,null,null,null,null,null,null,null,null,null,null,null,null,null,null,null,null,null,null,null,null,null,null,null,null,null,null,null,null,null,null,null,null,null,null,null,null,null,null,null,null,null,null,null,null,null,null,null,null,null,null,null,null,null,null,null,null,null,null,null,null,null,null,null,null,null,null,null,null,null,null,null,null,null,null,null,null,null,null,null,null,null,null,null,null,null,null,null,null,null,null,null,null,null,null,null,null,null,null,16600,16600,16700,17100,17300,17200,16900,17000,17200,17300,null,null,null,null,null,2800,2800]
[null,null,null,null,null,null,null,null,null,null,null,null,null,null,null,null,null,null,null,null,null,null,null,null,null,null,null,null,null,null,null,null,null,null,null,null,null,null,null,null,null,null,null,null,null,null,null,null,null,null,null,null,null,null,null,null,null,null,null,null,null,null,null,null,null,null,null,null,null,null,null,null,null,null,null,null,null,null,null,null,null,null,null,null,null,null,null,null,null,null,null,null,null,null,null,null,null,null,null,null,null,null,null,null,null,null,null,null,null,null,null,null,null,null,null,null,null,null,null,null,null,null,null,null,null,null,null,null,null,null,null,null,null,null,null,null,null,null,null,null,null,null,null,null,null,null,null,null,null,null,null,null,null,null,null,null,null,null,null,null,null,null,null,null,null,null,null,null,null,null,null,null,null,null,null,null,null,null,null,null,null,null,null,null,null,null,null,null,null,null,null,null,null,null,null,null,null,null,null,null,null,null,null,null,null,null,null,null,null,null,null,null,null,null,null,null,null,null,null,null,null,null,null,15000,15000,15100,15200,15300,15400,15100,15300,15500,15700,null,null,null,null,null,17700,17700]
[null,null,null,null,null,null,null,null,null,null,null,null,null,null,null,null,null,null,null,null,null,null,null,null,null,null,null,null,null,null,null,null,null,null,null,null,null,null,null,null,null,null,null,null,null,null,null,null,null,null,null,null,null,null,null,null,null,null,null,null,null,null,null,null,null,null,null,null,null,null,null,null,null,null,null,null,null,null,null,null,null,null,null,null,null,null,null,null,null,null,null,null,null,null,null,null,null,null,null,null,null,null,null,null,null,null,null,null,null,null,null,null,null,null,null,null,null,null,null,null,null,null,null,null,null,null,null,null,null,null,null,null,null,null,null,null,null,null,null,null,null,null,null,null,null,null,null,null,null,null,null,null,null,null,null,null,null,null,null,null,null,null,null,null,null,null,null,null,null,null,null,null,null,null,null,null,null,null,null,null,null,null,null,null,null,null,null,null,null,null,null,null,null,null,null,null,null,null,null,null,null,null,null,null,null,null,null,null,null,null,null,null,null,null,null,null,null,null,null,null,null,null,null,4400,4400,4500,4600,4700,4700,4600,4700,4700,4800,null,null,null,null,null,15000,15000]
[null,null,null,null,null,null,null,null,null,null,null,null,null,null,null,null,null,null,null,null,null,null,null,null,null,null,null,null,null,null,null,null,null,null,null,null,null,null,null,null,null,null,null,null,null,null,null,null,null,null,null,null,null,null,null,null,null,null,null,null,null,null,null,null,null,null,null,null,null,null,null,null,null,null,null,null,null,null,null,null,null,null,null,null,null,null,null,null,null,null,null,null,null,null,null,null,null,null,null,null,null,null,null,null,null,null,null,null,null,null,null,null,null,null,null,null,null,null,null,null,null,null,null,null,null,null,null,null,null,null,null,null,null,null,null,null,null,null,null,null,null,null,null,null,null,null,null,null,null,null,null,null,null,null,null,null,null,null,null,null,null,null,null,null,null,null,null,null,null,null,null,null,null,null,null,null,null,null,null,null,null,null,null,null,null,null,null,null,null,null,null,null,null,null,null,null,null,null,null,null,null,null,null,null,null,null,null,null,null,null,null,null,null,null,null,null,null,null,null,null,null,null,null,8200,8200,8100,8200,8300,8400,8200,8300,8500,8500,null,null,null,null,null,4900,5000]
[null,null,null,null,null,null,null,null,null,null,null,null,null,null,null,null,null,null,null,null,null,null,null,null,null,null,null,null,null,null,null,null,null,null,null,null,null,null,null,null,null,null,null,null,null,null,null,null,null,null,null,null,null,null,null,null,null,null,null,null,null,null,null,null,null,null,null,null,null,null,null,null,null,null,null,null,null,null,null,null,null,null,null,null,null,null,null,null,null,null,null,null,null,null,null,null,null,null,null,null,null,null,null,null,null,null,null,null,null,null,null,null,null,null,null,null,null,null,null,null,null,null,null,null,null,null,null,null,null,null,null,null,null,null,null,null,null,null,null,null,null,null,null,null,null,null,null,null,null,null,null,null,null,null,null,null,null,null,null,null,null,null,null,null,null,null,null,null,null,null,null,null,null,null,null,null,null,null,null,null,null,null,null,null,null,null,null,null,null,null,null,null,null,null,null,null,null,null,null,null,null,null,null,null,null,null,null,null,null,null,null,null,null,null,null,null,null,null,null,null,null,null,null,2400,2400,2500,2400,2300,2300,2300,2300,2300,2400,null,null,null,null,null,7300,7400]
[null,null,null,null,null,null,null,null,null,null,null,null,null,null,null,null,null,null,null,null,null,null,null,null,null,null,null,null,null,null,null,null,null,null,null,null,null,null,null,null,null,null,null,null,null,null,null,null,null,null,null,null,null,null,null,null,null,null,null,null,null,null,null,null,null,null,null,null,null,null,null,null,null,null,null,null,null,null,null,null,null,null,null,null,null,null,null,null,null,null,null,null,null,null,null,null,null,null,null,null,null,null,null,null,null,null,null,null,null,null,null,null,null,null,null,null,null,null,null,null,null,null,null,null,null,null,null,null,null,null,null,null,null,null,null,null,null,null,null,null,null,null,null,null,null,null,null,null,null,null,null,null,null,null,null,null,null,null,null,null,null,null,null,null,null,null,null,null,null,null,null,null,null,null,null,null,null,null,null,null,null,null,null,null,null,null,null,null,null,null,null,null,null,null,null,null,null,null,null,null,null,null,null,null,null,null,null,null,null,null,null,null,null,null,null,null,null,null,null,null,null,null,null,400,400,400,400,400,400,400,400,400,400,null,null,null,null,null,2800,2600]
[null,null,null,null,null,null,null,null,null,null,null,null,null,null,null,null,null,null,null,null,null,null,null,null,null,null,null,null,null,null,null,null,null,null,null,null,null,null,null,null,null,null,null,null,null,null,null,null,null,null,null,null,null,null,null,null,null,null,null,null,null,null,null,null,null,null,null,null,null,null,null,null,null,null,null,null,null,null,null,null,null,null,null,null,null,null,null,null,null,null,null,null,null,null,null,null,null,null,null,null,null,null,null,null,null,null,null,null,null,null,null,null,null,null,null,null,null,null,null,null,null,null,null,null,null,null,null,null,null,null,null,null,null,null,null,null,null,null,null,null,null,null,null,null,null,null,null,null,null,null,null,null,null,null,null,null,null,null,null,null,null,null,null,null,null,null,null,null,null,null,null,null,null,null,null,null,null,null,null,null,null,null,null,null,null,null,null,null,null,null,null,null,null,null,null,null,null,null,null,null,null,null,null,null,null,null,null,null,null,null,null,null,null,null,null,null,null,null,null,null,null,null,null,5300,5300,5400,5400,5400,5400,5400,5400,5300,5300,null,null,null,null,null,400,400]
[null,null,null,null,null,null,null,null,null,null,null,null,null,null,null,null,null,null,null,null,null,null,null,null,null,null,null,null,null,null,null,null,null,null,null,null,null,null,null,null,null,null,null,null,null,null,null,null,null,null,null,null,null,null,null,null,null,null,null,null,null,null,null,null,null,null,null,null,null,null,null,null,null,null,null,null,null,null,null,null,null,null,null,null,null,null,null,null,null,null,null,null,null,null,null,null,null,null,null,null,null,null,null,null,null,null,null,null,null,null,null,null,null,null,null,null,null,null,null,null,null,null,null,null,null,null,null,null,null,null,null,null,null,null,null,null,null,null,null,null,null,null,null,null,null,null,null,null,null,null,null,null,null,null,null,null,null,null,null,null,null,null,null,null,null,null,null,null,null,null,null,null,null,null,null,null,null,null,null,null,null,null,null,null,null,null,null,null,null,null,null,null,null,null,null,null,null,null,null,null,null,null,null,null,null,null,null,null,null,null,null,null,null,null,null,null,null,null,null,null,null,null,null,6800,7000,7000,7200,7200,7300,7300,7300,7300,7400,null,null,null,null,null,5600,5600]
[null,null,null,null,null,null,null,null,null,null,null,null,null,null,null,null,null,null,null,null,null,null,null,null,null,null,null,null,null,null,null,null,null,null,null,null,null,null,null,null,null,null,null,null,null,null,null,null,null,null,null,null,null,null,null,null,null,null,null,null,null,null,null,null,null,null,null,null,null,null,null,null,null,null,null,null,null,null,null,null,null,null,null,null,null,null,null,null,null,null,null,null,null,null,null,null,null,null,null,null,null,null,null,null,null,null,null,null,null,null,null,null,null,null,null,null,null,null,null,null,null,null,null,null,null,null,null,null,null,null,null,null,null,null,null,null,null,null,null,null,null,null,null,null,null,null,null,null,null,null,null,null,null,null,null,null,null,null,null,null,null,null,null,null,null,null,null,null,null,null,null,null,null,null,null,null,null,null,null,null,null,null,null,null,null,null,null,null,null,null,null,null,null,null,null,null,null,null,null,null,null,null,null,null,null,null,null,null,null,null,null,null,null,null,null,null,null,null,null,null,null,null,null,9800,9700,9800,9800,9800,9800,9800,9900,9900,10000,null,null,null,null,null,6500,6500]
[null,null,null,null,null,null,null,null,null,null,null,null,null,null,null,null,null,null,null,null,null,null,null,null,null,null,null,null,null,null,null,null,null,null,null,null,null,null,null,null,null,null,null,null,null,null,null,null,null,null,null,null,null,null,null,null,null,null,null,null,null,null,null,null,null,null,null,null,null,null,null,null,null,null,null,null,null,null,null,null,null,null,null,null,null,null,null,null,null,null,null,null,null,null,null,null,null,null,null,null,null,null,null,null,null,null,null,null,null,null,null,null,null,null,null,null,null,null,null,null,null,null,null,null,null,null,null,null,null,null,null,null,null,null,null,null,null,null,null,null,null,null,null,null,null,null,null,null,null,null,null,null,null,null,null,null,null,null,null,null,null,null,null,null,null,null,null,null,null,null,null,null,null,null,null,null,null,null,null,null,null,null,null,null,null,null,null,null,null,null,null,null,null,null,null,null,null,null,null,null,null,null,null,null,null,null,null,null,null,null,null,null,null,null,null,null,null,null,null,null,null,null,null,5900,6000,6100,6300,6200,6300,5900,5900,5800,6100,null,null,null,null,null,10100,10000]
[null,null,null,null,null,null,null,null,null,null,null,null,null,null,null,null,null,null,null,null,null,null,null,null,null,null,null,null,null,null,null,null,null,null,null,null,null,null,null,null,null,null,null,null,null,null,null,null,null,null,null,null,null,null,null,null,null,null,null,null,null,null,null,null,null,null,null,null,null,null,null,null,null,null,null,null,null,null,null,null,null,null,null,null,null,null,null,null,null,null,null,null,null,null,null,null,null,null,null,null,null,null,null,null,null,null,null,null,null,null,null,null,null,null,null,null,null,null,null,null,null,null,null,null,null,null,null,null,null,null,null,null,null,null,null,null,null,null,null,null,null,null,null,null,null,null,null,null,null,null,null,null,null,null,null,null,null,null,null,null,null,null,null,null,null,null,null,null,null,null,null,null,null,null,null,null,null,null,null,null,null,null,null,null,null,null,null,null,null,null,null,null,null,null,null,null,null,null,null,null,null,null,null,null,null,null,null,null,null,null,null,null,null,null,null,null,null,null,null,null,null,null,null,3100,3200,3100,3200,3200,3200,3100,3100,3100,3100,null,null,null,null,null,6300,6300]
[null,null,null,null,null,null,null,null,null,null,null,null,null,null,null,null,null,null,null,null,null,null,null,null,null,null,null,null,null,null,null,null,null,null,null,null,null,null,null,null,null,null,null,null,null,null,null,null,null,null,null,null,null,null,null,null,null,null,null,null,null,null,null,null,null,null,null,null,null,null,null,null,null,null,null,null,null,null,null,null,null,null,null,null,null,null,null,null,null,null,null,null,null,null,null,null,null,null,null,null,null,null,null,null,null,null,null,null,null,null,null,null,null,null,null,null,null,null,null,null,null,null,null,null,null,null,null,null,null,null,null,null,null,null,null,null,null,null,null,null,null,null,null,null,null,null,null,null,null,null,null,null,null,null,null,null,null,null,null,null,null,null,null,null,null,null,null,null,null,null,null,null,null,null,null,null,null,null,null,null,null,null,null,null,null,null,null,null,null,null,null,null,null,null,null,null,null,null,null,null,null,null,null,null,null,null,null,null,null,null,null,null,null,null,null,null,null,null,null,null,null,null,null,7600,7600,7600,7400,6600,6900,7300,7600,7800,7600,null,null,null,null,null,3300,3200]
[null,null,null,null,null,null,null,null,null,null,null,null,null,null,null,null,null,null,null,null,null,null,null,null,null,null,null,null,null,null,null,null,null,null,null,null,null,null,null,null,null,null,null,null,null,null,null,null,null,null,null,null,null,null,null,null,null,null,null,null,null,null,null,null,null,null,null,null,null,null,null,null,null,null,null,null,null,null,null,null,null,null,null,null,null,null,null,null,null,null,null,null,null,null,null,null,null,null,null,null,null,null,null,null,null,null,null,null,null,null,null,null,null,null,null,null,null,null,null,null,null,null,null,null,null,null,null,null,null,null,null,null,null,null,null,null,null,null,null,null,null,null,null,null,null,null,null,null,null,null,null,null,null,null,null,null,null,null,null,null,null,null,null,null,null,null,null,null,null,null,null,null,null,null,null,null,null,null,null,null,null,null,null,null,null,null,null,null,null,null,null,null,null,null,null,null,null,null,null,null,null,null,null,null,null,null,null,null,null,null,null,null,null,null,null,null,null,null,null,null,null,null,null,400,400,400,400,400,400,400,400,400,400,null,null,null,null,null,7300,6500]
[null,null,null,null,null,null,null,null,null,null,null,null,null,null,null,null,null,null,null,null,null,null,null,null,null,null,null,null,null,null,null,null,null,null,null,null,null,null,null,null,null,null,null,null,null,null,null,null,null,null,null,null,null,null,null,null,null,null,null,null,null,null,null,null,null,null,null,null,null,null,null,null,null,null,null,null,null,null,null,null,null,null,null,null,null,null,null,null,null,null,null,null,null,null,null,null,null,null,null,null,null,null,null,null,null,null,null,null,null,null,null,null,null,null,null,null,null,null,null,null,null,null,null,null,null,null,null,null,null,null,null,null,null,null,null,null,null,null,null,null,null,null,null,null,null,null,null,null,null,null,null,null,null,null,null,null,null,null,null,null,null,null,null,null,null,null,null,null,null,null,null,null,null,null,null,null,null,null,null,null,null,null,null,null,null,null,null,null,null,null,null,null,null,null,null,null,null,null,null,null,null,null,null,null,null,null,null,null,null,null,null,null,null,null,null,null,null,null,null,null,null,null,null,400,400,400,300,300,300,400,400,400,400,null,null,null,null,null,400,400]
[null,null,null,null,null,null,null,null,null,null,null,null,null,null,null,null,null,null,null,null,null,null,null,null,null,null,null,null,null,null,null,null,null,null,null,null,null,null,null,null,null,null,null,null,null,null,null,null,null,null,null,null,null,null,null,null,null,null,null,null,null,null,null,null,null,null,null,null,null,null,null,null,null,null,null,null,null,null,null,null,null,null,null,null,null,null,null,null,null,null,null,null,null,null,null,null,null,null,null,null,null,null,null,null,null,null,null,null,null,null,null,null,null,null,null,null,null,null,null,null,null,null,null,null,null,null,null,null,null,null,null,null,null,null,null,null,null,null,null,null,null,null,null,null,null,null,null,null,null,null,null,null,null,null,null,null,null,null,null,null,null,null,null,null,null,null,null,null,null,null,null,null,null,null,null,null,null,null,null,null,null,null,null,null,null,null,null,null,null,null,null,null,null,null,null,null,null,null,null,null,null,null,null,null,null,null,null,null,null,null,null,null,null,null,null,null,null,null,null,null,null,null,null,6800,6800,6800,6700,5900,6200,6500,6800,7000,6800,null,null,null,null,null,300,300]

{"sheet":"SA","index":8,"n_rows":47,"n_cols":245,"rows_kept":47,"cut":false,"hidden":false,"merged":[]}
["BMRK YR","ST","AREA","INDUSTRY TITLE","SERIES","2000-01-01","2000-02-01","2000-03-01","2000-04-01","2000-05-01","2000-06-01","2000-07-01","2000-08-01","2000-09-01","2000-10-01","2000-11-01","2000-12-01","2001-01-01","2001-02-01","2001-03-01","2001-04-01","2001-05-01","2001-06-01","2001-07-01","2001-08-01","2001-09-01","2001-10-01","2001-11-01","2001-12-01","2002-01-01","2002-02-01","2002-03-01","2002-04-01","2002-05-01","2002-06-01","2002-07-01","2002-08-01","2002-09-01","2002-10-01","2002-11-01","2002-12-01","2003-01-01","2003-02-01","2003-03-01","2003-04-01","2003-05-01","2003-06-01","2003-07-01","2003-08-01","2003-09-01","2003-10-01","2003-11-01","2003-12-01","2004-01-01","2004-02-01","2004-03-01","2004-04-01","2004-05-01","2004-06-01","2004-07-01","2004-08-01","2004-09-01","2004-10-01","2004-11-01","2004-12-01","2005-01-01","2005-02-01","2005-03-01","2005-04-01","2005-05-01","2005-06-01","2005-07-01","2005-08-01","2005-09-01","2005-10-01","2005-11-01","2005-12-01","2006-01-01","2006-02-01","2006-03-01","2006-04-01","2006-05-01","2006-06-01","2006-07-01","2006-08-01","2006-09-01","2006-10-01","2006-11-01","2006-12-01","2007-01-01","2007-02-01","2007-03-01","2007-04-01","2007-05-01","2007-06-01","2007-07-01","2007-08-01","2007-09-01","2007-10-01","2007-11-01","2007-12-01","2008-01-01","2008-02-01","2008-03-01","2008-04-01","2008-05-01","2008-06-01","2008-07-01","2008-08-01","2008-09-01","2008-10-01","2008-11-01","2008-12-01","2009-01-01","2009-02-01","2009-03-01","2009-04-01","2009-05-01","2009-06-01","2009-07-01","2009-08-01","2009-09-01","2009-10-01","2009-11-01","2009-12-01","2010-01-01","2010-02-01","2010-03-01","2010-04-01","2010-05-01","2010-06-01","2010-07-01","2010-08-01","2010-09-01","2010-10-01","2010-11-01","2010-12-01","2011-01-01","2011-02-01","2011-03-01","2011-04-01","2011-05-01","2011-06-01","2011-07-01","2011-08-01","2011-09-01","2011-10-01","2011-11-01","2011-12-01","2012-01-01","2012-02-01","2012-03-01","2012-04-01","2012-05-01","2012-06-01","2012-07-01","2012-08-01","2012-09-01","2012-10-01","2012-11-01","2012-12-01","2013-01-01","2013-02-01","2013-03-01","2013-04-01","2013-05-01","2013-06-01","2013-07-01","2013-08-01","2013-09-01","2013-10-01","2013-11-01","2013-12-01","2014-01-01","2014-02-01","2014-03-01","2014-04-01","2014-05-01","2014-06-01","2014-07-01","2014-08-01","2014-09-01","2014-10-01","2014-11-01","2014-12-01","2015-01-01","2015-02-01","2015-03-01","2015-04-01","2015-05-01","2015-06-01","2015-07-01","2015-08-01","2015-09-01","2015-10-01","2015-11-01","2015-12-01","2016-01-01","2016-02-01","2016-03-01","2016-04-01","2016-05-01","2016-06-01","2016-07-01","2016-08-01","2016-09-01","2016-10-01","2016-11-01","2016-12-01","2017-01-01","2017-02-01","2017-03-01","2017-04-01","2017-05-01","2017-06-01","2017-07-01","2017-08-01","2017-09-01","2017-10-01","2017-11-01","2017-12-01","2018-01-01","2018-02-01","2018-03-01","2018-04-01","2018-05-01","2018-06-01","2018-07-01","2018-08-01","2018-09-01","2018-10-01","2018-11-01","2018-12-01","2019-01-01","2019-02-01","2019-03-01","2019-04-01","2019-05-01","2019-06-01","2019-07-01","2019-08-01","2019-09-01","2019-10-01","2019-11-01","2019-12-01"]
["2018-1","State",0,"Total Nonfarm",0,2812300,2820100,2830600,2836800,2833100,2839500,2834900,2839600,2834700,2835500,2842000,2830900,2834200,2841100,2834100,2828800,2824100,2815400,2811500,2808700,2801600,2792500,2785300,2776600,2782700,2781600,2780900,2779900,2779000,2778100,2776200,2778500,2773800,2785400,2788600,2780500,2773800,2777000,2771100,2773900,2773200,2771700,2760600,2760600,2766100,2777400,2775900,2777700,2780600,2784900,2788400,2789800,2795700,2799200,2809300,2816000,2807100,2817200,2818400,2817300,2818200,2824900,2827200,2836000,2831300,2828100,2837500,2840100,2846300,2842800,2845600,2850000,2849100,2852700,2855100,2862100,2855100,2862700,2861000,2861400,2864500,2862400,2862700,2865500,2870300,2868400,2873200,2873400,2878700,2887300,2881200,2879800,2879300,2873100,2872900,2877700,2882300,2881800,2878800,2874500,2877000,2874700,2872100,2867200,2870100,2858300,2849200,2834900,2808900,2792200,2770900,2748900,2748200,2735200,2723600,2716400,2714800,2714900,2711600,2710500,2709900,2710000,2711900,2723000,2725600,2723700,2726900,2729900,2728300,2737400,2738600,2736500,2740600,2742400,2745000,2748800,2749500,2746700,2760000,2756700,2759800,2755100,2755600,2761600,2757000,2763400,2778000,2786000,2784200,2783600,2774600,2778800,2784400,2789000,2797200,2793800,2784800,2801800,2803300,2792400,2803500,2807900,2808800,2814600,2821300,2821800,2822300,2826900,2830800,2832100,2834900,2840100,2844800,2851500,2852800,2864600,2863300,2865000,2875800,2871200,2874400,2877000,2880600,2883100,2889100,2890500,2895600,2897200,2898800,2903600,2901900,2910000,2918000,2921200,2920300,2926700,2921000,2919400,2928600,2936300,2931100,2930900,2937600,2933400,2940600,2943800,2944200,2944600,2943700,2946100,2946200,2943500,2943500,2947200,2946200,2953300,2961500,2967100,2973500,2968600,2968700,2976300,2984700,2986300,2982200,2979400,2992500,3001600,2988600,2984900,2980800,2980300,2983000,2986300,2981600,2978700,2980500,2982400,2981700,2991500]
["2018-1","State",0,"Total Private",5000000,2409300,2418700,2426600,2430300,2426000,2427200,2427700,2430600,2432000,2431800,2435000,2427200,2428300,2428600,2422100,2416300,2410600,2400300,2396800,2392900,2384900,2375100,2369700,2361000,2369700,2365800,2364400,2364500,2364000,2365800,2364900,2366600,2364800,2365500,2366800,2363400,2364700,2360900,2355000,2357800,2359500,2352200,2349500,2348600,2362400,2364500,2365200,2367000,2372200,2373200,2376300,2379900,2384900,2385700,2396400,2402000,2396700,2403600,2403600,2405400,2401500,2408700,2413000,2421400,2417100,2415300,2423300,2426200,2427900,2426700,2431500,2433200,2433400,2438100,2439600,2446700,2441300,2445800,2445200,2445500,2446400,2448000,2447700,2451000,2456100,2455400,2459400,2458400,2462800,2466800,2464100,2461400,2458100,2457300,2458900,2460100,2461600,2462300,2460400,2457400,2457000,2455200,2450100,2446500,2438400,2433300,2420700,2410000,2386100,2368800,2347900,2326600,2324400,2314500,2302300,2297700,2297700,2294900,2293300,2290200,2290600,2292700,2293700,2301400,2299900,2300800,2307700,2312500,2310000,2318600,2318800,2321700,2323400,2323800,2326300,2332800,2332000,2332100,2340900,2342700,2347500,2346100,2349100,2350600,2355600,2359200,2367300,2371800,2366000,2370900,2364700,2366000,2373600,2377400,2381300,2382500,2384100,2389900,2393400,2384700,2395500,2398400,2399500,2406300,2409000,2410000,2414100,2416200,2419400,2422600,2425100,2430500,2434600,2439800,2441600,2447400,2450100,2452800,2460700,2460200,2464500,2465600,2470300,2471600,2478600,2479700,2485900,2488500,2490200,2495100,2499200,2501200,2507400,2510600,2510600,2515000,2512300,2508600,2516600,2517700,2519700,2520300,2521800,2521900,2531700,2535200,2538900,2536800,2533500,2539200,2536900,2537100,2535000,2538600,2541400,2547000,2554100,2557800,2566000,2560400,2559600,2566300,2573500,2571800,2572200,2572000,2582800,2591900,2584600,2583200,2576800,2576500,2577700,2577200,2574000,2573900,2575100,2577000,2578100,2587100]
["2018-1","State",0,"Goods Producing",6000000,723900,726800,728600,728700,725300,725000,722900,721900,721000,720300,719200,714000,711600,709000,704000,699200,695000,689700,687700,684300,681300,675900,670900,667500,665000,661500,659600,658300,657100,656700,654900,654600,654200,653000,653200,648900,642900,639200,635500,634200,634400,631600,629500,627200,627600,627600,627100,627300,628400,629300,630500,632000,633300,631400,634600,636000,635700,635500,636100,636900,632100,636800,636700,637200,636400,636000,637800,637400,636500,636100,636300,635600,638600,639000,638800,640800,638400,640100,638500,637700,636100,634400,632000,633100,633700,631900,633600,632600,633800,633600,632600,630800,628200,627400,627100,625900,625800,625800,624800,621700,620900,620500,615700,612600,608500,605600,600000,593100,581200,570200,558900,546400,540800,534000,528400,526400,529800,527000,525700,524500,523000,523400,524700,527600,526800,527500,529100,530200,530700,531500,531500,532200,533300,535000,536300,539300,540500,540500,543000,543900,544100,543300,544900,546200,547700,549400,551600,554800,551400,552900,552700,552300,553300,554900,554500,557100,557800,559000,558900,554900,558200,559400,558500,560400,561200,562300,563800,562500,564700,565300,566800,568200,570100,572100,574000,575500,576500,577500,578200,578900,580100,580800,580400,580900,581600,581300,581500,580300,580600,580700,581000,581900,581900,581800,582200,581800,580800,579700,579300,579900,579900,581000,582100,583200,584500,586300,587300,587900,587900,588600,588700,589100,589100,590700,592700,594400,598000,602400,606100,605400,608200,613400,615700,617800,619400,620000,620200,620800,608100,606800,605400,602700,605000,605700,602600,603600,602300,601800,603100,606000]
["2018-1","State",0,"Service-Providing",7000000,2088400,2093300.0000000002,2102000,2108100,2107800,2114500,2112000,2117700,2113700,2115200,2122800,2116900,2122600,2132100,2130100,2129600,2129100,2125700,2123800,2124400,2120300,2116600,2114400,2109100,2117700,2120100,2121300,2121600,2121900,2121400,2121300,2123900,2119600,2132400,2135400,2131600,2130900,2137800,2135600,2139700,2138800,2140100,2131100,2133400,2138500,2149800,2148800,2150400,2152200,2155600,2157900,2157800,2162400,2167800,2174700,2180000,2171400,2181700,2182300,2180400,2186100,2188100,2190500,2198800,2194900,2192100,2199700,2202700,2209800,2206700,2209300,2214400,2210500,2213700,2216300,2221300,2216700,2222600,2222500,2223700,2228400,2228000,2230700,2232400,2236600,2236500,2239600,2240800,2244900,2253700,2248600,2249000,2251100,2245700,2245800,2251800,2256500,2256000,2254000,2252800,2256100,2254200,2256400,2254600,2261600,2252700,2249200,2241800,2227700,2222000,2212000,2202500,2207400,2201200,2195200,2190000,2185000,2187900,2185900,2186000,2186900,2186600,2187200,2195400,2198800,2196200,2197800,2199700,2197600,2205900,2207100,2204300,2207300,2207400,2208700,2209500,2209000,2206200,2217000,2212800,2215700,2211800,2210700,2215400,2209300,2214000,2226400,2231200,2232800,2230700,2221900,2226500,2231100,2234100,2242700,2236700,2227000,2242800,2244400,2237500,2245300,2248500,2250300,2254200,2260100,2259500,2258500,2264400,2266100,2266800,2268100,2271900,2274700,2279400,2278800,2289100,2286800,2287500,2297600,2292300,2294300,2296200,2300200,2302200,2307500,2309200,2314100,2316900,2318200,2322900,2320900,2328100,2336100,2339400,2338100,2344900,2340200,2339700,2349300,2356400,2351200,2349900,2355500,2350200,2356100,2357500,2356900,2356700,2355800,2357500,2357500,2354400,2354400,2356500,2353500,2358900,2363500,2364700,2367400,2363200,2360500,2362900,2369000,2368500,2362800,2359400,2372300,2380800,2380500,2378100,2375400,2377600,2378000,2380600,2379000,2375100,2378200,2380600,2378600,2385500]
["2018-1","State",0,"Private Service Providing",8000000,1685400,1691900,1698000,1701600,1700700,1702200,1704800,1708700,1711000,1711500,1715800,1713200,1716700,1719600,1718100,1717100,1715600,1710600,1709100,1708600,1703600,1699200,1698800,1693500,1704700,1704300,1704800,1706200,1706900,1709100,1710000,1712000,1710600,1712500,1713600,1714500,1721800,1721700,1719500,1723600,1725100,1720600,1720000,1721400,1734800,1736900,1738100,1739700,1743800,1743900,1745800,1747900,1751600,1754300,1761800,1766000,1761000,1768100,1767500,1768500,1769400,1771900,1776300,1784200,1780700,1779300,1785500,1788800,1791400,1790600,1795200,1797600,1794800,1799100,1800800,1805900,1802900,1805700,1806700,1807800,1810300,1813600,1815700,1817900,1822400,1823500,1825800,1825800,1829000,1833200,1831500,1830600,1829900,1829900,1831800,1834200,1835800,1836500,1835600,1835700,1836100,1834700,1834400,1833900,1829900,1827700,1820700,1816900,1804900,1798600,1789000,1780200,1783600,1780500,1773900,1771300,1767900,1767900,1767600,1765700,1767600,1769300,1769000,1773800,1773100,1773300,1778600,1782300,1779300,1787100,1787300,1789500,1790100,1788800,1790000,1793500,1791500,1791600,1797900,1798800,1803400,1802800,1804200,1804400,1807900,1809800,1815700,1817000,1814600,1818000,1812000,1813700,1820300,1822500,1826800,1825400,1826300,1830900,1834500,1829800,1837300,1839000,1841000,1845900,1847800,1847700,1850300,1853700,1854700,1857300,1858300,1862300,1864500,1867700,1867600,1871900,1873600,1875300,1882500,1881300,1884400,1884800,1889900,1890700,1897000,1898400,1904400,1908200,1909600,1914400,1918200,1919300,1925500,1928800,1928400,1933200,1931500,1928900,1937300,1937800,1939800,1939300,1939700,1938700,1947200,1948900,1951600,1948900,1945600,1950600,1948200,1948000,1945900,1947900,1948700,1952600,1956100,1955400,1959900,1955000,1951400,1952900,1957800,1954000,1952800,1952000,1962600,1971100,1976500,1976400,1971400,1973800,1972700,1971500,1971400,1970300,1972800,1975200,1975000,1981100]
["2018-1","State",0,"Mining and Logging",10000000,4200,4200,4200,4200,4100,4000,4000,4000,4000,3900,4000,3800,3900,3900,3900,3900,3900,3900,3900,3900,3900,3900,3900,3900,3900,3800,3800,3800,3900,3800,3800,3800,3900,3800,3800,3800,3900,3700,3700,3700,3800,3800,3700,3700,3800,3700,3800,3800,3800,3800,3800,3800,3800,3800,3800,3800,3800,3900,4000,4000,3900,3900,4000,3900,3900,4000,4000,4000,4000,3900,4000,3900,4000,4000,4000,4000,4000,4000,3900,3900,3900,3900,3800,3800,3800,3800,3800,3800,3700,3600,3700,3600,3600,3600,3600,3400,3500,3500,3400,3400,3300,3400,3400,3400,3400,3300,3300,3200,3200,3100,3000,2900,3000,2900,3000,3000,3000,3000,2900,3000,2900,2900,2900,3000,3000,2900,3000,3000,2900,3000,2900,2900,3000,3000,3000,2900,2900,3100,3000,3000,3100,3200,3300,3300,3300,3400,3500,3600,3500,3500,3500,3500,3500,3500,3500,3600,3600,3600,3500,3500,3700,3700,3700,3800,3800,3800,3800,3800,3900,3900,3800,3900,4000,4000,4100,4200,4200,4300,4300,4400,4400,4400,4300,4300,4300,4200,4100,4100,4000,4000,4000,4100,4000,3900,3900,3800,3800,3700,3600,3700,3600,3700,3700,3800,3900,4000,4200,4300,4300,4400,4400,4600,4600,4500,4600,4500,4600,4600,4600,4600,4500,4600,4600,4600,4600,4600,4600,4600,4700,4800,4800,4800,4800,4800,4700,4700,4600,4700,4700,4600]
["2018-1","State",0,"Mining, Logging and Construction",15000000,127500,128000,129900,131700,130000,129600,129000,129600,128900,128400,128100,126400,128800.00000000001,130100,128800.00000000001,128199.99999999999,129000,128800.00000000001,129800.00000000001,130199.99999999999,130100,129900,129300.00000000001,128900,128100,127900,126800,127800,127600,128000,128300.00000000001,128100,128400,128500,129199.99999999999,127400,128199.99999999999,126900,125600,125800,128100,128300.00000000001,127600,127900,128500,128900,129000,129800.00000000001,129699.99999999999,129500,130100,130500,130199.99999999999,130199.99999999999,131000,131000,130900,130800.00000000001,131300,131500,130900,131300,131100,131700,131200,131000,131800,131600,131600,131400,131900,131200,133200,133700,132500,134100,131800,132500,131100,130900,130199.99999999999,129600,128500,130000,131100,129100,131700,130300.00000000001,130800.00000000001,130199.99999999999,129800.00000000001,129500,128900,129000,128600,127300,126200,125500,124800,122900,122900,122900,122300,121600,120500,119200,117000,114900,111700,110800,108100,105700,105700,104400,103400,102200,101900,101200,100600,99900,99400,98800,98200,99900,97200,96800,96600,96800,96700,97700,96500,96000,96000,95600,95500,95300,95500,95600,96100,96100,96200,95900,96300,96300,96400,97000,97900,100100,96200,96000,95600,95400,96200,97400,97400,99600,100400,101400,101300,98500,101900,102000,102700,103700,103900,104100,104600,103100,104500,104700,105200,105300,106300,107600,108200,109100,109900,110300,110700,111000,112200,112000,111800,113200,114000,113800,113900,113700,113600,114100,114500,115800,115700,116100,116600,116000,115500,115300,115700,116400,116700,117000,117900,118000,118900,120300,120300,121300,121200,121500,121700,122000,122200,120800,121100,121800,122700,124300,126300,124800,126100,127600,127600,128600,129500,129900,129700,130400,130600,130600,129300,126800,129000,129500,129800,130400,132000,132400,132600,132600]
["2018-1","State",0,"Construction",20000000,123300,123800,125700,127500,125900,125600,125000,125600,124900,124500,124100,122600,124900,126200,124900,124300,125100,124900,125900,126300,126200,126000,125400,125000,124200,124100,123000,124000,123700,124200,124500,124300,124500,124700,125400,123600,124300,123200,121900,122100,124300,124500,123900,124200,124700,125200,125200,126000,125900,125700,126300,126700,126400,126400,127200,127200,127100,126900,127300,127500,127000,127400,127100,127800,127300,127000,127800,127600,127600,127500,127900,127300,129199.99999999999,129699.99999999999,128500,130100,127800,128500,127200,127000,126300,125700,124700,126200,127300,125300,127900,126500,127100,126600,126100,125900,125300,125400,125000,123900,122700,122000,121400,119500,119600,119500,118900,118200,117100,115900,113700,111700,108500,107700,105100,102800,102700,101500,100400,99200,98900,98200,97700,96900,96500,95900,95300,96900,94200,93900,93600,93800,93800,94700,93600,93100,93000,92600,92500,92400,92600,92500,93100,93100,93100,92700,93000,93000,93100,93600,94400,96500,92700,92500,92100,91900,92700,93900,93900,96000,96800,97800,97800,95000,98200,98300,99000,99900,100100,100300,100800,99300,100600,100800,101400,101400,102300,103600,104100,104900,105700,106000,106400,106600,107800,107600,107500,108900,109700,109600,109800,109600,109600,110100,110500,111700,111700,112200,112700,112200,111700,111600,112100,112700,113100,113300,114200,114200,115000,116300,116100,117000,116900,117100,117300,117400,117600,116300,116500,117300,118100,119700,121700,120200,121600,123000,123000,124000,124900,125300,125100,125800,125900,125800,124500,122000,124200,124700,125100,125700,127400,127700,127900,128000]
["2018-1","State",0,"Manufacturing",30000000,596400,598800,598700,597000,595300,595400,593900,592300,592100,591900,591100,587600,582800,578900,575200,571000,566000,560900,557900,554100,551200,546000,541600,538600,536900,533600,532800,530500,529500,528700,526600,526500,525800,524500,524000,521500,514700.00000000006,512299.99999999994,509900,508400,506300,503300,501900,499300,499100,498700,498100,497500,498700,499800,500400,501500,503100,501200,503600,505000,504800,504700,504800,505400,501200,505500,505600,505500,505200,505000,506000,505800,504900,504700,504400,504400,505400,505300,506300,506700,506600,507600,507400,506800,505900,504800,503500,503100,502600,502800,501900,502300,503000,503400,502800,501300,499300,498400,498500,498600,499600,500300,500000,498800,498000,497600,493400,491000,488000,486400,483000,478200,469500,459400,450800,440700,435100,429600,425000,424200,427900,425800,425100,424600,423600,424600,426500,427700,429600,430700,432500,433400,434000,433800,435000,436200,437300,439400,440800,444000,445000,444900,446900,447800,447900,447400,448600,449900,451300,452400,453700,454700,455200,456900,457100,456900,457100,457500,457100,457500,457400,457600,457600,456400,456300,457400,455800,456700,457300,458200,459200,459400,460200,460600,461600,462900,463800,464500,465800,466400,466600,467200,467500,467900,467900,468800,468600,467700,467600,467500,467600,466600,467000,466600,466500,466100,466200,465700,465600,465800,465300,464400,463600,463500,463200,464000,464200,465200,465600,466000,467000,466600,466700,467100,467000,467100,466900,469900,471600,472600,475300,478100,479800,480600,482100,485800,488100,489200,489900,490100,490500,490400,477500,476200,476100,475900,476000,476200,472800,473200,470300,469400,470500,473400]
["2018-1","State",0,"Durable Goods",31000000,375400,377300,376700,376000,374400,374000,373300,372300,372400,372000,370900,368700,365400,362400,359700,354800,351600,347900,345300,342500,340300,335800,332500,330300,328800,327200,326500,324800,324500,324200,323000,323000,322500,321100,320500,318500,317900,315600,314100,313400,311700,309800,308200,306100,306400,306800,306800,306600,307600,308700,309300,310000,311600,310500,313100,314600,314500,314500,315200,316000,312200,316800,317100,317600,317300,317400,317700,318100,317500,317600,317200,317200,318400,318500,319700,319900,320300,321300,321100,321000,320300,319300,318200,317900,317100,317200,316300,317300,317500,317000,316700,315700,314000,313300,313100,313000,313900,314400,314300,313300,312900,312300,310200,307900,305600,303800,301500,297700,290600,282200,274900,266400,261899.99999999997,257399.99999999997,254700,253200,255800,255100,254200,253700,252800,253700,255300,256300,257600.00000000003,258100.00000000003,258899.99999999997,260300,261000,260899.99999999997,261700,263100,263900,265900,267000,269200,269900,270500,272000,272300,272300,272000,273200,274200,275600,276600,277900,278300,278900,280300,280400,280100,280000,280200,279800,280000,280000,280100,280200,279100,278900,279900,278100,278700,279100,279600,280200,280100,280400,280300,281100,282200,282900,283700,284200,284600,284700,285300,285500,286200,285900,286300,286400,285400,284900,284800,284600,283500,283900,283100,282800,282200,282200,281800,281400,281100,280700,279700,278900,278500,278100,278600,278600,279100,279300,279500,280000,280000,280200,280500,280700,280500,280000,283500,284800,285000,287800,290200,291200,291200,291900,295000,297000,296900,296800,296500,295600,296000,287700,286200,286100,285700,285500,285000,283000,282500,281500,280800,281100,282000]
["2018-1","State",0,"Non-Durable Goods",32000000,221000,221500,222000,221000,220900,221400,220600,220000,219700,219900,220200,218900,217400,216500,215500,216200,214400,213000,212600,211600,210900,210200,209100,208300,208100,206400,206300,205700,205000,204500,203600,203500,203300,203400,203500,203000,196800,196700,195800,195000,194600,193500,193700,193200,192700,191900,191300,190900,191100,191100,191100,191500,191500,190700,190500,190400,190300,190200,189600,189400,189000,188700,188500,187900,187900,187600,188300,187700,187400,187100,187200,187200,187000,186800,186600,186800,186300,186300,186300,185800,185600,185500,185300,185200,185500,185600,185600,185000,185500,186400,186100,185600,185300,185100,185400,185600,185700,185900,185700,185500,185100,185300,183200,183100,182400,182600,181500,180500,178900,177200,175900,174300,173200,172200,170300,171000,172100,170700,170900,170900,170800,170900,171200,171400,172000,172600,173600,173100,173000,172900,173300,173100,173400,173500,173800,174800,175100,174400,174900,175500,175600,175400,175400,175700,175700,175800,175800,176400,176300,176600,176700,176800,177100,177300,177300,177500,177400,177500,177400,177300,177400,177500,177700,178000,178200,178600,179000,179300,179800,180300,180500,180700,180900,180800,181600,181800,181900,181900,182000,181700,182000,182500,182200,182300,182700,182700,183000,183100,183100,183500,183700,183900,184000,183900,184200,184700,184600,184700,184700,185000,185100,185400,185600,186100,186300,186500,187000,186600,186500,186600,186300,186600,186900,186400,186800,187600,187500,187900,188600,189400,190200,190800,191100,192300,193100,193600,194900,194400,189800,190000,190000,190200,190500,191200,189800,190700,188800,188600,189400,191400]
["2018-1","State",0,"Trade, Transportation, and Utilities",40000000,549100,550000,551200,553100,551600,550400,552400,553300,555400,556600,556500,555800,557100,555400,553800,552700,551700,549100,546400,546300,543400,540800,539800,537400,540500,539700,539500,537100,536800,535800,535900,534600,534500,534400,535500,535200,535800,536100,533900,536500,536400,536900,535200,535300,536900,537200,536700,537300,537000,536600,536800,536800,538300,539300,541600,541300,540000,540300,540900,540300,539400,540700,541100,542900,542400,540800,543200,544500,544400,546700,547000,548000,543100,544200,544600,544800,543900,544700,543500,544500,544700,544600,545900,547400,548200,548000,548300,546700,548600,548800,547800,546000,546200,545200,545700,545400,546500,545800,545500,545100,543500,541900,541400,540300,538300,535900,532800,531000,527700,525500,522100,519500,519700.00000000006,518700.00000000006,515799.99999999994,514900,513200.00000000006,512200.00000000006,510200,508600,508300,507900,508000,508500,508300,507900,508100,508000,507400,509900,508500,508800,508900,508800,509300,510700,509300,508700,510800,511600,512500,512100,512700.00000000006,512500,512500,512200.00000000006,512000,511000,511700,511400,510800,510800,512100,513200.00000000006,515000,514299.99999999994,514700.00000000006,515799.99999999994,515700.00000000006,516100,516799.99999999994,517500,517700.00000000006,518500,518500,519100,519500,520799.99999999994,521200.00000000006,522100,522900,524600,524000,524600,525000,525000,525400,525100,527300,526700,527100,526800,528100,527600,529600,530300,532900,534400,536200,536300,536200,534700,537700,539300,538900,540800,540100,539700,541300,541200,541100,541000,540500,540200,543200,544400,543400,542700,542200,542000,541700,542200,542000,537300,538600,539600,541400,542300,544800,542700,541700,542800,544700,544100,540200,537200,540100,542200,548600,549300,548800,546400,545700,546600,547200,547900,549500,548600,547500,548200]
["2018-1","State",0,"Wholesale Trade",41000000,116100,116400,116700,116500,116400,116500,116800,117000,117100,117200,117500,117600,117500,117500,117400,116700,117100,117000,116600,116500,116100,116000,115600,115400,115300,115100,115200,115200,115300,115000,115400,115100,115000,114200,114500,114100,113400,113500,113300,113700,113700,113800,113400,113700,113800,114200,114000,114300,114500,114400,114600,114200,114200,114300,115900,116500,115800,116400,116800,116900,117100,117400,117200,118200,118400,118500,118900,119100,119300,119700,119900,120200,120700,120900,121200,121300,121200,121600,121700,121900,122100,122100,122100,122300,122300,122600,122600,122700,122900,123100,123300,123000,123200,123100,123300,123400,123500,123400,123600,123500,123700,123400,123100,123000,122500,121700,121500,120800,120300,119500,118700,117100,116800,116100,115300,114800,114400,114400,114000,113700,113200,113000,112800,113200,113300,113200,113600,113900,113600,114100,114100,114200,114300,114500,114600,114800,115200,115100,116000,116200,116700,116600,116800,116900,117000,117200,117400,117600,117400,117400,117200,117100,117300,117600,117900,117900,119100,119300,119100,119100,119300,119500,119300,119400,119500,119600,119700,119800,119600,119800,120100,120100,120300,120500,120700,121000,120900,120700,121000,121100,121700,121600,121800,122100,122500,122700,123000,123100,123100,123700,124100,124100,124200,124400,124500,124600,124500,124200,124700,124700,124900,124600,124600,124900,124900,125100,125200,124900,125300,125500,125400,125800,126000,125000,125500,124500,125200,125600,125300,125200,125400,125800,126000,125800,124400,123500,124100,125400,128700,127800,127600,126600,126700,127400,127400,128100,127800,126700,125400,127100]
["2018-1","State",0,"Retail Trade",42000000,328100,328800,329500,331200,329800,329000,329900,330500,332100,332600,332200,331300,329400,328000,327100,326800,325500,323600,321600,321900,320100,318400,317900,315900,319800,319800,319500,317300,316600,316700,316700,316000,315500,315900,316300,316600,317400,317400,315500,317400,317300,316900,316400,316700,317300,317300,317000,317300,316900,316500,316300,316500,317400,318000,318200,317400,317000,315700,315800,315400,314300,315300,315500,316100,315600,314000,315600,316500,316200,318800,318300,318700,312700,313400,313400,313600,312800,312900,312000,312600,312300,312500,313900,314600,315600,315000,315400,314000,315200,314500,314700,312600,312700,311700,311700,311400,312200,311900,311800,312000,310600,309900,309900,309200,308400,307000,304400,303800,301900,301000,299100,298100,298000,297600,296500,296000,295100,294700,293600,292700,292900,292500,292900,292800,292800,292300,292100,292300,292200,293900,292800,293000,293100,293100,293600,295000,293400,293000,294000,294600,294900,294800,295200,295000,295000,294600,294500,293700,293900,293500,293000,293400,294200,295100,296800,296000,295300,296100,296000,296700,297300,298300,298500,298800,299000,299300,299500,301000,301000,301400,301900,303000,302400,302800,303000,302600,302900,302600,303800,303100,302900,302700,303400,302700,303900,303900,304200,305200,306700,306200,305900,304200,307200,308200,307900,309500,308800,308500,309300,309100,308800,308900,308000,307300,310000,311300,310100,309600,308600,308500,307900,307800,307400,303500,304500,303900,304800,306800,307900,307000,305800,306300,306200,305800,303300,300600,302900,303200,308000,310900,309700,308200,307700,306900,306900,307400,309200,309600,310300,311100]
["2018-1","State",0,"Transportation, Warehousing, and Utilities",43000000,104900,104800,105000,105400,105400,104900,105700,105800,106200,106800,106800,106900,110200,109900,109300,109200,109100,108500,108200,107900,107200,106400,106300,106100,105400,104800,104800,104600,104900,104100,103800,103500,104000,104300,104700,104500,105000,105200,105100,105400,105400,106200,105400,104900,105800,105700,105700,105700,105600,105700,105900,106100,106700,107000,107500,107400,107200,108200,108300,108000,108000,108000,108400,108600,108400,108300,108700,108900,108900,108200,108800,109100,109700,109900,110000,109900,109900,110200,109800,110000,110300,110000,109900,110500,110300,110400,110300,110000,110500,111200,109800,110400,110300,110400,110700,110600,110800,110500,110100,109600,109200,108600,108400,108100,107400,107200,106900,106400,105500,105000,104300,104300,104900,105000,104000,104100,103700,103100,102600,102200,102200,102400,102300,102500,102200,102400,102400,101800,101600,101900,101600,101600,101500,101200,101100,100900,100700,100600,100800,100800,100900,100700,100700,100600,100500,100400,100100,99700,100400,100500,100600,100300,100600,100500,100300,100400,100300,100400,100600,100300,100200,99700,99900,100300,100000,100200,100300,100000,100600,100900,100900,101500,101300,101300,101300,101400,101600,101800,102500,102500,102500,102500,102900,102800,103200,103700,105700,106100,106400,106400,106200,106400,106300,106700,106500,106700,106800,107000,107300,107400,107400,107500,107900,108000,108300,108000,108100,108200,108300,108000,108400,108600,108600,108800,108600,111200,111400,109900,111600,110500,110500,110700,112500,112500,112500,113100,113100,113600,111900,110600,111500,111600,111300,112300,112900,112400,112500,112300,111800,110000]
["2018-1","State",0,"Information",50000000,52500,52800,52900,53000,53200,53300,53700,53700,53900,54500,55000,55000,53800,54000,54200,54300,53700,53600,53300,52900,52800,52400,52200,51900,51800,51700,51500,51400,51200,51000,51000,51000,50800,50800,50700,50800,50800,50400,50400,50200,50100,50100,50100,50200,50600,50300,50400,50400,50300,50100,50200,50000,49800,49700,50100,50000,49900,49700,49600,49500,49600,49700,49600,50000,49900,50000,49700,49700,49800,49600,49600,49600,49600,49600,49500,49200,49100,49000,49100,49100,49100,49300,49400,49500,49800,49800,49800,50000,50100,50300,50500,50500,50500,50500,50400,50400,50300,50300,50300,50500,51200,50700,50300,50100,49900,49700,49400,49300,49200,49300,48800,48300,48400,48200,47800,47600,47500,46900,47000,47100,46800,46500,46600,46400,46500,46700,46700,46800,46800,46500,46900,46900,46900,47000,46900,47100,46900,46500,46800,46700,46800,46700,46700,46600,46400,46400,46300,46400,46300,46600,46400,46500,46600,46600,46700,46500,46900,47000,47100,47200,47300,47300,47300,47300,47300,47400,47400,47500,47500,47600,47700,47600,47700,47800,48000,48100,47900,48200,48300,48400,48600,48400,48400,48500,48700,48600,49000,49400,49300,49400,49400,49300,49300,49300,49400,49400,49400,49000,49100,49200,48900,48800,48700,48600,48600,48600,48600,48200,48000,47800,47600,47400,47300,47100,46800,47000,46800,46700,46700,46700,46600,46300,46200,46200,46600,47000,47500,47600,47700,47500,47600,47900,47700,47900,48400,48500,48500,48400,48500,48600]
["2018-1","State",0,"Financial Activities",55000000,144000,143900,144100,144800,144700,145100,145300,145000,145300,145700,146000,146400,146700,146700,147600,146800,147100,147300,147600,147400,147700,147100,147400,147100,147700,148100,148200,148400,148500,148700,149200,149500,149700,149600,150200,150500,150200,151000,151200,151600,152200,152300,151900,152100,152200,152300,152200,152600,152500,152500,152800,153100,153200,153400,153900,154100,153500,154200,154300,154700,154200,153600,154200,154100,154000,154300,154600,154700,154900,154800,155000,155100,155100,154900,155200,155800,156200,156200,156800,156600,157000,157000,157100,157400,157400,157300,157200,157200,156900,157300,157000,156600,156900,158100,158100,158300,158400,158900,158700,158800,159100,158800,158900,158700,158100,157700,157600,157300,157300,156800,156400,156300,156100,155800,155200,155100,154400,154200,153900,153500,153100,152900,153100,152500,152300,152000,152000,151600,151500,151700,151600,151500,151100,151100,151100,151000,150600,150500,150700,150300,150900,150700,150600,150500,151200,151100,151200,150900,150900,150800,150800,150800,150800,150800,150600,150700,150500,150600,150700,150300,150600,150600,150700,150600,150600,150300,150300,150200,149000,149400,149500,149900,150000,150100,150000,150400,150800,150300,150400,150700,150700,151000,151100,150900,151300,151400,151400,151100,151200,151500,151400,151400,151200,151400,151400,151500,151400,151500,152200,152200,152200,152400,152600,152300,153000,153200,153500,153200,152900,153000,152900,152800,152500,152400,151600,150800,151100,151500,150700,150700,150300,150000,150200,149800,149600,150700,150400,151200,153600,153400,153800,153500,153300,154400,154300,153800,152700,152300,153100,153200]
["2018-1","State",0,"Finance and Insurance",55520000,117600,117600,117700,118200,118300,118500,118600,118500,118800,119100,119500,119800,120000,120000,120800,120000,120300,120400,120900,120700,120900,120600,120700,120600,120900,121200,121300,121600,121700,121900,122400,122700,122800,122700,123200,123400,123700,124200,124400,124500,125000,125100,124700,124700,124800,124800,124800,125200,125200,125200,125400,125600,125600,125900,126000,126200,125600,126300,126400,126900,126200,125800,126200,126000,126000,126400,126400,126700,126700,126800,126900,126900,126900,126800,127100,127600,128000,127900,128300.00000000001,128300.00000000001,128699.99999999999,128800.00000000001,128900,129199.99999999999,129199.99999999999,129100,129000,129000,128699.99999999999,129100,128900,128600,128900,130000,130199.99999999999,130400,130699.99999999999,131100,131000,131200,131600,131400,131600,131600,131200,130699.99999999999,130699.99999999999,130500,131000,130699.99999999999,130500,130699.99999999999,130400,130100,129699.99999999999,129600,129000,128900,128800.00000000001,128400,127800,127700,128000,127600,127500,127400,127400,127100,127100,127100,127100,127000,126700,126700,126600,126500,126400,126200,126500,126200,126700,126600,126500,126400,127000,127000,127100,126800,126700,126600,126500,126600,126700,126600,126500,126500,126200,126300,126300,126000,126100,126200,126200,126200,126100,126000,126000,125900,124800,125100,125100,125400,125600,125600,125600,126000,126200,125900,126100,126400,126300,126500,126500,126300,126400,126500,126300,126000,126000,126200,126100,126100,126100,126000,126100,126100,126000,126200,126600,126500,126500,126500,126600,126300,126900,127000,127200,126900,126700,126500,126500,126500,126200,125900,125000,124400,124600,124900,124100,124200,123700,123500,123500,123100,122900,123900,123600,124300,126600,126100,126800,126700,126600,127600,127400,126900,125900,125500,126300,126300]
["2018-1","State",0,"Real Estate and Rental and Leasing",55530000,26400,26300,26400,26600,26400,26600,26700,26500,26500,26600,26500,26600,26700,26700,26800,26800,26800,26900,26700,26700,26800,26500,26700,26500,26800,26900,26900,26800,26800,26800,26800,26800,26900,26900,27000,27100,26500,26800,26800,27100,27200,27200,27200,27400,27400,27500,27400,27400,27300,27300,27400,27500,27600,27500,27900,27900,27900,27900,27900,27800,28000,27800,28000,28100,28000,27900,28200,28000,28200,28000,28100,28200,28200,28100,28100,28200,28200,28300,28500,28300,28300,28200,28200,28200,28200,28200,28200,28200,28200,28200,28100,28000,28000,28100,27900,27900,27700,27800,27700,27600,27500,27400,27300,27100,26900,27000,26900,26800,26300,26100,25900,25600,25700,25700,25500,25500,25400,25300,25100,25100,25300,25200,25100,24900,24800,24600,24600,24500,24400,24600,24500,24500,24400,24400,24500,24500,24200,24300,24200,24100,24200,24100,24100,24100,24200,24100,24100,24100,24200,24200,24300,24200,24100,24200,24100,24200,24300,24300,24400,24300,24500,24400,24500,24400,24500,24300,24300,24300,24200,24300,24400,24500,24400,24500,24400,24400,24600,24400,24300,24300,24400,24500,24600,24600,24900,24900,25100,25100,25200,25300,25300,25300,25100,25400,25300,25400,25400,25300,25600,25700,25700,25900,26000,26000,26100,26200,26300,26300,26200,26500,26400,26300,26300,26500,26600,26400,26500,26600,26600,26500,26600,26500,26700,26700,26700,26800,26800,26900,27000,27300,27000,26800,26700,26800,26900,26900,26800,26800,26800,26900]
["2018-1","State",0,"Professional and Business Services",60000000,246900,249100,250400,249200,251100,251100,249400,249700,250300,249100,250500,247800,246600,246200,244200,242800,242700,241500,241400,241000,239100,237600,237200,236300,240600,240600,242200,243500,243600,243800,244000,243900,243500,243600,242600,242200,246900,247500,247400,247000,246200,245700,246100,245700,248100,248300,249600,250300,252000,252100,252400,252700,253900,256000,256100.00000000003,259200,256700,259600.00000000003,259700,260100.00000000003,261800,262500,264000,265800,264600,264600,267100,267800,268300,266800,268700,269900,269400,270900,271300,275000,274100,274700,274200,274000,274900,276000,276400,275500,277600,278000,279400,281400,282000,283700,283200,283500,283200,282900,284000,285600,286200,287300,286300,285500,285900,286400,286000,286600,285000,281600,278600,276700,271400,266700,262100.00000000003,259700,259800,258100.00000000003,257800,257100.00000000003,257500,259899.99999999997,262400,263500,264100,267200,266000,271500,272400,272800,275100,277600,277700,281000,282500,284500,285600,285400,287500,286100,285900,286700,288000,288100,289900,289300,290100,289900,291200,291800,295100,295500,294100,294800,293600,293300,294900,295500,297500,295300,296400,298800,301600,298900,300800,301800,302700,303700,303700,303300,303900,305700,305900,306000,305700,306300,307200,306900,307000,308300,308400,310100,312100,309800,310600,310000,311000,312000,313300,313600,315700,317500,316300,317400,318600,320100,322500,322400,322200,322600,321600,321300,322000,321800,322700,321900,322300,322500,323400,322200,324500,325000,324400,324600,324700,323800,323200,325300,326500,327900,326000,326200,329600,330000,328300,324500,322400,322200,323200,322100,322100,321700,324000,325600,325300,328300,326100,323400,321600,322800,323900,326600,326400,325900]
["2018-1","State",0,"Professional, Scientific, and Technical Services",60540000,87700,88000,88400,87700,89100,89700,89400,89400,89800,89100,89400,89500,89600,89900,89700,89600,89500,89400,89400,89400,89200,89200,88500,88000,89600,89300,89300,89200,88900,89000,89600,89400,89400,89400,89600,89800,89600,89500,89300,89000,88800,88500,87900,87900,88200,88400,88500,88300,88100,88300,88400,88800,89300,89400,89700,89900,89800,90100,90500,90600,91200,91400,91600,91600,91800,92100,92700,93100,93400,93500,93800,94300,94400,94600,94600,95500,95400,95700,95800,95800,95900,96100,96100,96000,96700,96800,97200,97800,98200,98500,98800,99000,99100,99100,99300,99400,99600,99900,99900,101200,100900,101000,100900,101100,101200,100800,100300,100000,99200,98500,97600,96400,95300,94900,94000,93400,93200,93100,93500,93000,93000,92900,93000,93000,93100,93100,93600,93700,93500,94300,94500,95000,95300,95600,95500,96300,96100,95800,96100,96300,96700,96600,97300,96800,97100,97300,97600,97900,98000,98500,98000,98100,98200,98700,100200,98600,99000,99300,99400,99400,99600,99400,100300,100100,100300,100400,99700,101100,100500,100600,100900,100900,101000,101400,101400,101600,101400,101400,101700,102200,103200,103100,103600,103800,104300,104600,104800,105000,105300,105900,106200,106400,106600,106800,106900,107400,107400,107000,107800,108000,108300,108000,108000,108000,108100,108200,108400,108400,108600,109100,108800,108800,108900,109200,109300,110200,110600,109800,109900,110000,109200,107400,106900,106900,107400,107100,107300,107400,111600,112300,112300,112600,112100,111400,112600,112800,112900,113900,114100,113600]
["2018-1","State",0,"Mgmt. Of Companies and Enterprises",60550000,null,null,null,null,null,null,null,null,null,null,null,null,null,null,null,null,null,null,null,null,null,null,null,null,null,null,null,null,null,null,null,null,null,null,null,null,40900,40900,41000,40800,40700,40800,40900,41000,41100,41800,41900,41700,43100,43100,43100,43000,43200,43400,43300,43500,43400,43600,43700,43700,43800,44000,44200,44300,44200,44300,44300,44400,44400,44100,44200,44300,44000,43900,44000,44500,44500,44800,44900,45000,45200,45500,45600,45700,46300,46500,46700,47000,47000,47000,46600,46500,46500,46700,46800,46800,47200,47400,47400,47600,48000,48100,48600,48700,48900,48800,49000,49100,48800,48800,48600,48400,48500,48600,48800,48800,49000,49000,49100,49400,48800,49400,49700,50200,50300,50600,50500,51300,51400,51800,52200,52600,52700,53000,53200,53500,53700,53900,54100,54400,54800,55000,55100,55300,55600,55700,56000,56200,56300,56600,56600,56600,56600,56800,57100,57400,57800,57900,58400,58200,58400,58700,58600,58900,58900,59200,59400,59500,58800,59000,59100,59200,59400,59500,59500,59900,59900,59800,59900,60000,61100,61400,61800,62200,62800,63200,64200,65099.999999999993,65400.000000000007,66000,66500,67100,67700,67800,68500,68600,68500,68600,68800,68700,68700,68600,68500,68400,69600,69500,69400,69400,69200,69100,68800,68800,68700,68900,69000,69600,68700,69100,69300,69800,69500,69300,68500,68200,68300,68500,68700,68600,66400,66700,66400,66500,66500,66300,66600,66600,66400,66400,66100,66000]
["2018-1","State",0,"Administrative and Support and Waste Management and Remediation Services",60560000,127700,129300.00000000001,130100,129600,130100,129400,128000,128199.99999999999,128199.99999999999,127500,128699.99999999999,126000,124800,123900,122000,120600,120300,118900,118500,117800,116000,114100,114200,113700,115900,116100,117300,118900,119200,119100,118800,119200,118500,119000,117800,117000,116400,117100,117100,117200,116700,116400,117300,116800,118800,118100,119200,120300,120800,120700,120900,120900,121400,123200,123100,125800,123500,125900,125500,125800,126800,127100,128199.99999999999,129900,128600,128199.99999999999,130100,130300.00000000001,130500,129199.99999999999,130699.99999999999,131300,131000,132400,132700,135000,134200,134200,133500,133200,133800,134400,134700,133800,134600,134700,135500,136600,136800,138200,137800,138000,137600,137100,137900,139400,139400,140000,139000,136700,137000,137300,136500,136800,134900,132000,129300.00000000001,127600,123400,119400,115900,114900,116000,114600,115000,114900,115300,117800,119800,121100,122300,124900,123300,128300.00000000001,129000,129100,131000,132600,132800,134900,135800,136900,137600,136800,138800,136300,136100,137000,137800,137400,138400,137700,137700,137800,138500,138800,141500,141400,139800,139700,139000,138600,140100,140000,140200,139300,139600,141600,143800,141300,142800,143700,143800,144700,144500,143700,144800,145100,146600,146400,145700,146200,146800,146000,146100,146800,147100,148900,150500,147600,146300,145500,145600,146000,146200,145800,146700,147400,145600,145500,145900,146600,148200,147800,146800,146600,145700,145700,145400,145100,145700,145300,145800,146100,145700,144500,146700,147200,146600,146400,147100,146200,145600,147200,148200,148100,146700,147300,150400,150200,149600,147800,147000,147100,147500,146500,146100,145700,146000,146600,146600,149200,147500,145700,142400,143400,144600,146300,146200,146300]
["2018-1","State",0,"Education and Health Services",65000000,333500,334600,336600,338500,338000,339500,340800,342500,341500,341800,343000,344600,344200,348200,349200,349200,349200,348100,348800,349800,350900,351800,352900,353700,352600,353000,353500,355300,356000,357800,356900,359200,358500,359400,360300,360500,360900,361200,361300,362600,362600,357400,359600,360700,367400,368800,367900,367900,368500,369800,370300,371100,371700,371800,372400,373400,373100,373900,374400,375400,376100,376400,377500,378000,378600,379300,379700,380300,381500,381400,382300,382700,383700,384800,384600,385500,386000,386600,387700,387900,388800,389800,390100,390100,390000,390600,391100,391500,392000,393000,393800,394500,395600,393300,392900,394100,394600,395000,395700,396900,397400,398500,399500,400300,401400,403000,404300,406100,405300,406100,406400,405600,406200,407700,407200,407700,406100,406900,406400,405700,407600,408000,408600,405900,405500,406700,408200,409100,407300,407800,407900,408100,408200,408000,407100,409600,410100,410400,411400,411400,412700,413000,413500,414400,414800,415600,416600,417200,417300,418000,415200,417600,420000,421800,422000,422700,421600,422200,422700,422700,423600,423400,423600,425100,425500,426000,426500,426100,427900,428100,428600,429200,429600,430500,430700,431400,431900,431700,432900,433300,432700,433600,434600,434400,435700,435800,436900,436500,436700,438200,439100,440100,441100,442000,442500,443900,444200,444000,446500,446300,446900,446800,447200,447000,448400,449000,449300,449500,448800,451400,450600,450900,451100,453600,452300,453000,453500,453600,453000,452100,451600,452000,455500,455700,457800,458500,459900,461400,458600,456600,455100,458500,460200,459200,458100,458200,458400,459500,460400,461000]
["2018-1","State",0,"Educational Services",65610000,42100,42700,43200,43800,43700,45000,45200,45700,44000,43900,44200,44600,42700,45800,46100,46000,45300,43000,43300,43100,43600,44000,43800,43700,43700,43800,44000,44700,44600,45400,44800,45900,44500,44200,44500,44300,44200,44200,43900,43600,43800,38500,40200,41200,47700,48400,47200,46700,46000,46700,46600,46900,46700,47000,47000,47400,46900,47100,47100,47400,47600,47600,47800,47800,47800,48000,47800,48100,48000,47800,48100,48000,48300,48500,48400,48800,49000,48800,49100,48800,49000,49100,49500,49100,49100,49200,49400,49100,49400,49200,49500,49700,49800,47400,46600,47000,47100,47100,47000,47800,47600,48100,48600,48700,49300,50300,50600,51400,51000,51000,51000,50100,50100,51300,51200,51300,50100,50000,49800,49500,49900,50000,50100,49300,48600,49800,50800,51500,50400,49700,49400,49400,49600,49200,48300,49700,50100,49900,50400,50600,50600,50700,50900,50800,49700,49800,50200,50300,50500,50200,46200,48100,49400,50100,50100,50300,49600,49700,49800,49600,49600,49500,49400,49700,49700,49900,49900,49700,50000,49700,49700,49800,50100,49800,50000,50100,50100,49900,49800,50200,50000,50200,50300,50100,50200,50100,50500,49900,50100,50300,50400,50300,50300,50100,50300,50600,50600,50700,50900,50700,50600,50600,50600,50600,50700,50900,50800,50900,50300,51000,50700,50600,51200,51000,51100,51200,51200,51800,51600,51300,51000,50700,50700,50500,52000,52700,53000,53100,53300,52500,52500,52700,52900,53100,53300,53200,52900,52300,52400,52400]
["2018-1","State",0,"Health Care and Social Assistance",65620000,291400,291900,293400,294700,294300,294500,295600,296800,297500,297900,298800,300000,301500,302400,303100,303200,303900,305100,305500,306700,307300,307800,309100,310000,308900,309200,309500,310600,311400,312400,312100,313300,314000,315200,315800,316200,316700,317000,317400,319000,318800,318900,319400,319500,319700,320400,320700,321200,322500,323100,323700,324200,325000,324800,325400,326000,326200,326800,327300,328000,328500,328800,329700,330200,330800,331300,331900,332200,333500,333600,334200,334700,335400,336300,336200,336700,337000,337800,338600,339100,339800,340700,340600,341000,340900,341400,341700,342400,342600,343800,344300,344800,345800,345900,346300,347100,347500,347900,348700,349100,349800,350400,350900,351600,352100,352700,353700,354700,354300,355100,355400,355500,356100,356400,356000,356400,356000,356900,356600,356200,357700,358000,358500,356600,356900,356900,357400,357600,356900,358100,358500,358700,358600,358800,358800,359900,360000,360500,361000,360800,362100,362300,362600,363600,365100,365800,366400,366900,366800,367800,369000,369500,370600,371700,371900,372400,372000,372500,372900,373100,374000,373900,374200,375400,375800,376100,376600,376400,377900,378400,378900,379400,379500,380700,380700,381300,381800,381800,383100,383100,382700,383400,384300,384300,385500,385700,386400,386600,386600,387900,388700,389800,390800,391900,392200,393300,393600,393300,395600,395600,396300,396200,396600,396400,397700,398100,398500,398600,398500,400400,399900,400300,399900,402600,401200,401800,402300,401800,401400,400800,400600,401300,404800,405200,405800,405800,406900,408300,405300,404100,402600,405800,407300,406100,404800,405000,405500,407200,408000,408600]
["2018-1","State",0,"Leisure and Hospitality",70000000,233900,235000,236900,236800,235900,236700,237100,238900,238100,237200,237900,236700,237700,238400,238200,240700,240300,239900,240000,239500,237900,237900,237500,234900,239200,239000,237800,238200,238500,239600,241000,241800,241700,242400,241800,242800,244400,242700,242500,242900,244800,245400,244300,244800,246900,247600,249000,248800,249400,248400,248700,249500,249800,248900,252400,252400,252200,253200,252700,253200,252500,253000,253900,257200,255000,254500,255200,255700,256399.99999999997,255300,256700,256300,258000,259000,259800,259899.99999999997,257800,258600.00000000003,259399.99999999997,259700,259600.00000000003,260700,260500,261399.99999999997,262300,262600,262700,261500,261700,262400,261399.99999999997,262000,260300,262000,262700,262300,261800,261100.00000000003,260899.99999999997,260300,260100.00000000003,259500,259300,258700,258100.00000000003,258600.00000000003,257899.99999999997,257000,254800,255200,254200,252500,255100,253900,252300,251300,251600,250300,250200,250000,250800,249900,249700,251800,251200,250500,251600,252300,251800,252700,252900,252800,252300,251500,251000,251800,251500,251900,252700,253400,253400,253900,253400,252900,254200,254800,256800,258200,256600.00000000003,257600.00000000003,257399.99999999997,256899.99999999997,258200,257000,257300,258300,258800,259200,259300,257300,260600.00000000003,260500,261399.99999999997,262800,263400,263200,263400,263700,262900,263100,262700,262800,263700,264800,263100,264000,264200,264700,265700,266400,267600,267500,268900,269300,270000,270500,270100,271100,271700,273200,275000,274800,274800,275600,275100,275400,275300,274200,275900,276700,277200,277800,277400,277400,280000,280500,281100,279400,278600,281000,280300,280300,279200,280000,281500,283300,283600,282500,282400,281200,281100,285400,287100,284600,284000,284800,290500,295200,289700,290000,286200,285000,285000,286300,287300,284800,285000,285700,286300,289900]
["2018-1","State",0,"Arts, Entertainment, and Recreation",70710000,32200.000000000004,32600,32500,32600,32800,32500,32400,32400,32500,32400,32400,32100,32400,32299.999999999996,31300,32400,32700.000000000004,32299.999999999996,32600,32200.000000000004,32100,32400,32100,30500,32299.999999999996,32200.000000000004,31500,33000,32800,33300,33500,33800,33500,33800,33300,34000,33700,33800,33700,33700,34200,34700,34000,33900,34300,33900,34200,34100,35100,34900,34500,34500,34300,34100,34500,34400,34300,34600,34700,34800,34500,34100,34300,35200,34300,34400,34400,34500,34700,34700,34800,34600,34600,35000,35000,35800,34800,34900,34900,35100,35200,35100,34900,35100,35500,35800,36000,35400,36100,36300,36000,36000,35900,36100,36400,36400,36400,36200,35900,35300,35800,35800,35700,35900,35100,35900,35100,35400,35000,34600,34600,33700,35300,35100,34500,34400,34800,34000,34300,34000,34100,34000,34400,35400,34700,33800,34700,34900,34600,34600,34600,34700,34500,34700,34300,34700,34200,34600,35200,35200,35200,35600,35500,35500,35500,35200,36400,37400,35600,35500,35500,35300,36000,35500,35300,35600,35800,35700,35500,33800,36300,35900,35800,36100,36400,36300,36600,37100,36500,36700,36400,35400,36500,36600,36900,36700,36700,36600,37200,37500,37500,37200,37600,37700,37900,38100,37100,37800,38000,38700,39500,38800,39000,39300,39400,39500,39600,39300,39800,40000,40100,40200,39900,39500,41100,40700,40700,40400,40300,41100,40500,40700,39900,42700,42800,43000,41900,42500,41800,40000,39900,40300,40600,40400,40000,41700,43400,43000,47400,48800,45800,45100,44300,44800,46000,45600,46000,46400,46400,46900]
["2018-1","State",0,"Accommodation and Food Services",70720000,201700,202400,204400,204200,203100,204200,204700,206500,205600,204800,205500,204600,205300,206100,206900,208300,207600,207600,207400,207300,205800,205500,205400,204400,206900,206800,206300,205200,205700,206300,207500,208000,208200,208600,208500,208800,210700,208900,208800,209200,210600,210700,210300,210900,212600,213700,214800,214700,214300,213500,214200,215000,215500,214800,217900,218000,217900,218600,218000,218400,218000,218900,219600,222000,220700,220100,220800,221200,221700,220600,221900,221700,223400,224000,224800,224100,223000,223700,224500,224600,224400,225600,225600,226300,226800,226800,226700,226100,225600,226100,225400,226000,224400,225900,226300,225900,225400,224900,225000,225000,224300,223700,223600,222800,223000,222700,222800,221600,219800,220600,219600,218800,219800,218800,217800,216900,216800,216300,215900,216000,216700,215900,215300,216400,216500,216700,216900,217400,217200,218100,218300,218100,217800,216800,216700,217100,217300,217300,217500,218200,218200,218300,217900,217400,218700,219600,220400,220800,221000,222100,221900,221600,222200,221500,222000,222700,223000,223500,223800,223500,224300,224600,225600,226700,227000,226900,226800,226600,226400,226400,226300,227400,227200,228200,226200,227300,227500,228100,228500,228900,230100,230300,231300,231600,232100,232400,233000,233300,233700,234500,235500,236000,235800,236300,235700,235900,235700,234900,236100,236700,237100,237600,237500,237900,238900,239800,240400,239000,238300,239900,239800,239600,239300,237300,238700,240300,241700,240000,240600,241200,241200,245100,246500,244200,244000,243100,247100,252200,242300,241200,240400,239900,240700,241500,241300,239200,239000,239300,239900,243000]
["2018-1","State",0,"Other Services",80000000,125500,126500,125900,126200,126200,126100,126100,125600,126500,126600,126900,126900,130600,130699.99999999999,130900,130600,130900,131100,131600,131700,131800,131600,131800,132200,132300,132200,132100,132300,132300,132400,132000,132000,131900,132300,132500,132500,132800,132800,132800,132800,132800,132800,132800,132600,132700,132400,132300,132400,134100,134400,134600,134700,134900,135200,135300,135600,135600,137200,135900,135300,135800,136000,136000,136200,136200,135800,136000,136100,136100,136000,135900,136000,135900,135700,135800,135700,135800,135900,136000,136000,136200,136200,136300,136600,137100,137200,137300,137500,137700,137700,137800,137500,137200,137900,138000,138100,138000,138100,138200,138600,138900,138900,139000,139200,139100,141200,140100,139500,139200,139000,139000,138300,138300,138100,137800,137600,137600,137500,137500,137300,136900,136900,137000,137200,136900,136700,136900,136900,136800,137500,137000,136900,137100,137000,137100,137200,137200,136900,137500,137300,137200,137100,137200,137600,137600,137900,137700,137800,137700,138800,137800,137800,137700,137600,137700,137600,137400,137300,137400,137300,137600,137900,137600,137900,138800,138400,139300,139700,140300,141000,141200,141900,142300,143000,143800,144700,145000,145200,145800,146000,147100,147500,147800,148000,148400,148200,148400,148200,148200,148400,148500,148900,148900,148800,148900,149600,149500,149200,150300,150400,150800,150600,151000,150700,150600,151000,151200,150900,150700,150800,150400,150600,150600,152200,151400,151000,153700,152600,152700,151600,151800,151900,151700,151400,151400,151700,152100,151800,154300,154000,154600,154200,154700,153700,154500,154300,154800,154100,152800,154300]
["2018-1","State",0,"Government",90000000,403000,401400,404000,406500,407100,412300,407200,409000,402700,403700,407000,403700,405900,412500,412000,412500,413500,415100,414700,415800,416700,417400,415600,415600,413000,415800,416500,415400,415000,412300,411300,411900,409000,419900,421800,417100,409100,416100,416100,416100,413700,419500,411100,412000,403700,412900,410700,410700,408400,411700,412100,409900,410800,413500,412900,414000,410400,413600,414800,411900,416700,416200,414200,414600,414200,412800,414200,413900,418400,416100,414100,416800,415700,414600,415500,415400,413800,416900,415800,415900,418100,414400,415000,414500,414200,413000,413800,415000,415900,420500,417100,418400,421200,415800,414000,417600,420700,419500,418400,417100,420000,419500,422000,420700,431700,425000,428500,424900,422800,423400,423000,422300,423800,420700,421300,418700,417100,420000,418300,420300,419300,417300,418200,421600,425700,422900,419200,417400,418300,418800,419800,414800,417200,418600,418700,416000,417500,414600,419100,414000,412300,409000,406500,411000,401400,404200,410700,414200,418200,412700,409900,412800,410800,411600,415900,411300,400700,411900,409900,407700,408000,409500,409300,408300,412300,411800,408200,410700,411400,409500,409800,409600,410200,411700,411200,417200,413200,412200,415100,411000,409900,411400,410300,411500,410500,410800,409700,408700,408600,408500,402700,408800,410600,410600,409700,411700,408700,410800,412000,418600,411400,410600,415800,411500,408900,408600,405300,407800,410200,406900,409300,406400,408500,408600,404800,406300,407400,409300,407500,408200,409100,410000,411200,414500,410000,407400,409700,409700,404000,401700,404000,403800,405300,409100,407600,404800,405400,405400,403600,404400]
["2018-1","State",0,"Federal Government",90910000,30700,30700,32299.999999999996,33700,37800,38100,33300,34900,29700,29800,30400,30200,30100,30000,30100,30100,30200,30100,30200,30200,30200,30100,30100,29900,29900,29900,29900,29700,29700,30000,29800,29800,29800,30200,30100,30100,29900,30000,30000,29900,29800,29800,29700,29600,30100,29600,29500,29700,29600,29600,29500,29700,29500,29500,29600,29700,29500,29600,29600,29400,29400,29400,29300,29400,29400,29200,29200,29200,29200,29100,29100,29100,29100,29100,29300,29300,29200,29300,29300,29200,29300,29200,29300,29300,29400,29200,29200,29200,29200,29300,29200,29300,29200,29400,29300,29100,29400,29500,29500,29500,29600,29600,29800,29800,29800,29600,29700,29800,29900,29900,29700,31900,31900,29800,29600,29700,29600,29800,29700,29700,29600,29600,30300,33500,37900,34300,32400,30500,29700,29600,29600,29500,29500,29400,29500,29500,29400,29400,29500,29400,29400,29400,29100,29100,29000,29000,29100,29000,29000,29000,29100,29100,29000,29100,28700,28900,28800,28900,28600,28800,28700,28600,28600,28500,28600,28500,28700,28400,28600,28600,28600,28600,28600,28500,28600,28700,28700,28700,28800,28800,28700,28700,28700,28800,28800,28900,28900,28800,28800,28800,28900,28900,28900,28900,29000,28900,28900,29100,28900,29100,29200,29100,29200,29100,29200,29100,29200,28900,29100,29100,29100,28800,29000,29000,29000,29000,29100,29100,29000,29000,29100,29100,29100,29200,29300,29300,29300,29100,29000,29000,28900,29000,29100,29100,29100,29600,29400,29300,29200,29200]
["2018-1","State",0,"State Government",90920000,100300,99500,99600,99800,98100,100900,97400,96300,94300,95500,96200,96000,94900,101400,101000,100300,101400,101800,102600,101000,101600,101100,100500,100000,95700,99300,100100,100600,99300,99500,97800,100000,99000,101500,102900,100800,95300,100800,101200,101400,100700,104300,98600,100200,100100,100100,100300,99600,99400,99900,99800,99800,99300,102000,102100,102700,104100,102900,102800,102700,104600,101900,101300,100900,101000,100500,101600,100700,104400,102100,101900,103300,103800,102600,102000,102000,101400,104100,103700,103900,105600,103500,102500,103200,102800,103200,103800,102800,103700,104400,103400,104000,104300,102600,102500,103500,104900,103800,103400,102600,103900,103300,104200,104000,103600,105000,104400,104300,103600,103100,103200,99600,100900,99500,99200,99100,97300,97400,98200,99200,97800,98300,97700,99400,99400,100800,100700,100700,100200,99600,99000,97300,97300,97500,98100,96800,99900,97100,97000,91700,94400,95600,95700,96400,87200,90300,95700,96300,96700,94800,96200,95800,97600,97000,97000,96500,87000,96800,96100,96200,94100,95800,96600,97200,98200,98600,97900,98000,98600,98100,97300,97700,96900,97400,97500,97900,99000,98000,98800,98600,98200,98400,98400,97900,97000,96700,97000,96100,96100,95400,95200,96000,95800,95700,95700,95400,95300,95500,95600,95500,95100,96000,96000,95700,95400,95600,90500,95800,96500,96500,96200,96400,95400,94700,95100,92000,92200,93600,92900,93700,94000,94200,94000,93500,94100,93600,94300,94900,91800,92500,92300,91300,92300,93300,94000,92300,91700,92300,92400,92200]
["2018-1","State",0,"Local Government",90930000,272000,271200,272100,273000,271200,273300,276500,277800,278700,278400,280400,277500,280900,281100,280900,282100,281900,283200,281900,284600,284900,286200,285000,285700,287400,286600,286500,285100,286000,282800,283700,282100,280200,288200,288800,286200,283900,285300,284900,284800,283200,285400,282800,282200,273500,283200,280900,281400,279400,282200,282800,280400,282000,282000,281200,281600,276800,281100,282400,279800,282700,284900,283600,284300,283800,283100,283400,284000,284800,284900,283100,284400,282800,282900,284200,284100,283200,283500,282800,282800,283200,281700,283200,282000,282000,280600,280800,283000,283000,286800,284500,285100,287700,283800,282200,285000,286400,286200,285500,285000,286500,286600,288000,286900,298300,290400,294400,290800,289300,290400,290100,290800,291000,291400,292500,289900,290200,292800,290400,291400,291900,289400,290200,288700,288400,287800,286100,286200,288400,289600,291200,288000,290400,291700,291100,289700,288200,288100,292600,292900,288500,284000,281700,285500,285200,284900,285900,288900,292500,288900,284600,287900,284200,285500,290200,285900,284900,286200,285200,282700,285200,285100,284100,282600,285500,284700,281600,284300,284200,282800,283900,283300,284700,285800,285100,290600,285500,285500,287500,283600,283000,284300,283200,284800,284700,285200,283800,283800,283700,284300,278600,283900,285900,286000,285000,287400,284500,286200,287500,294000,287100,285500,290600,286700,284300,283900,285600,283100,284600,281300,284000,281200,284100,284900,280700,285300,286100,286600,285600,285500,286000,286700,288100,291800,286600,284500,286100,285700,283200,280200,282800,283500,283900,286700,284500,282900,284300,283800,282000,283000]
[null,null,null,null,null,null,null,null,null,null,null,null,null,null,null,null,null,null,null,null,null,null,null,null,null,null,null,null,null,null,null,null,null,null,null,null,null,null,null,null,null,null,null,null,null,null,null,null,null,null,null,null,null,null,null,null,null,null,null,null,null,null,null,null,null,null,null,null,null,null,null,null,null,null,null,null,null,null,null,null,null,null,null,null,null,null,null,null,null,null,null,null,null,null,null,null,null,null,null,null,null,null,null,null,null,null,null,null,null,null,null,null,null,null,null,null,null,null,null,null,null,null,null,null,null,114400,114700,114700,115300,115300,115000,114500,114800,115400,116300,115900,116000,116200,116000,116300,116000,115700,116000,116100,116600,116500,116100,116100,116600,116600,116700,117000,117100,117500,116600,116100,116600,116700,117400,118000,117900,117900,118400,118400,118400,118300,118900,118700,118900,119100,118900,118800,119400,119400,119900,119800,120700,120900,121400,121400,121400,121300,121900,122200,122000,122900,122200,122500,123000,122800,122900,123200,123200,123300,123600,123300,124300,124500,124900,124700,125200,125200,124800,125500,125800,125300,125400,125500,125200,125000,125300,125300,125400,125300,125000,124800,125200,125200,125100,125300,125500,125600,126100,126400,126700,127100,127200,127100,127500,127800,127300,128000,129100,126300,125500,125800,126100,126300,126600,126400,125500,125700,125700,125700,125800]
[null,null,null,null,null,null,null,null,null,null,null,null,null,null,null,null,null,null,null,null,null,null,null,null,null,null,null,null,null,null,null,null,null,null,null,null,null,null,null,null,null,null,null,null,null,null,null,null,null,null,null,null,null,null,null,null,null,null,null,null,null,null,null,null,null,null,null,null,null,null,null,null,null,null,null,null,null,null,null,null,null,null,null,null,null,null,null,null,null,null,null,null,null,null,null,null,null,null,null,null,null,null,null,null,null,null,null,null,null,null,null,null,null,null,null,null,null,null,null,null,null,null,null,null,null,80100,80500,80400,80700,81100,81300,81400,81400,81500,81100,81000,81600,81700,81000,81500,81800,81600,81100,81700,81700,82800,82900,82700,82700,83000,83200,83400,83700,83800,83700,83200,83100,83700,83500,83800,83500,83200,83400,83400,82800,83500,83500,83000,83400,83500,83900,83700,83900,84600,83800,83500,84200,83900,84100,84500,85100,84600,84300,84600,84500,84800,85000,85200,85100,85600,85300,85400,85100,85500,85300,85000,85400,85700,86300,85800,86000,85600,86000,85700,86300,86000,86200,86500,86200,86300,86300,86600,86700,86100,86500,86600,86400,86200,86100,85400,86000,86400,86200,87000,87200,87200,87800,88200,88000,87800,87300,87000,87700,88200,88100,88000,87800,87700,87800,88100,87500,87600,87600,87600,87800]
[null,null,null,null,null,null,null,null,null,null,null,null,null,null,null,null,null,null,null,null,null,null,null,null,null,null,null,null,null,null,null,null,null,null,null,null,null,null,null,null,null,null,null,null,null,null,null,null,null,null,null,null,null,null,null,null,null,null,null,null,null,null,null,null,null,null,null,null,null,null,null,null,null,null,null,null,null,null,null,null,null,null,null,null,null,null,null,null,null,null,null,null,null,null,null,null,null,null,null,null,null,null,null,null,null,null,null,null,null,null,null,null,null,null,null,null,null,null,null,null,null,null,null,null,null,44500,44200,44700,45500,45100,45300,45200,45000,45200,45200,45400,45300,45200,45400,45400,45100,45200,44800,45300,45100,45200,45200,45000,45100,45200,45200,45100,45600,45600,45700,45500,45800,45800,45900,46300,46200,46700,46900,47100,46800,46900,47100,47000,47200,47100,47300,47400,47600,47300,47000,47300,47600,47600,47500,47800,47800,47900,48000,48000,48100,47900,48000,48200,48000,48100,47800,47800,47900,47900,47700,47700,47700,47800,47800,47600,47500,48000,47700,47800,47600,48000,47800,47800,47900,48000,48000,48000,47900,47700,48000,48100,47900,48000,48200,48400,48400,48300,48400,48500,48400,48600,48700,48800,48700,49100,49100,49200,49300,49000,49000,49400,49100,49100,49400,49100,48500,48800,49000,49100,49200]
[null,null,null,null,null,null,null,null,null,null,null,null,null,null,null,null,null,null,null,null,null,null,null,null,null,null,null,null,null,null,null,null,null,null,null,null,null,null,null,null,null,null,null,null,null,null,null,null,null,null,null,null,null,null,null,null,null,null,null,null,null,null,null,null,null,null,null,null,null,null,null,null,null,null,null,null,null,null,null,null,null,null,null,null,null,null,null,null,null,null,null,null,null,null,null,null,null,null,null,null,null,null,null,null,null,null,null,null,null,null,null,null,null,null,null,null,null,null,null,null,null,null,null,null,null,164300,164400,165000,165100,165100,164600,164900,164800,164900,166400,165600,165500,165200,166400,165800,165900,166000,165800,165800,166000,166200,166300,165500,166300,167100,167200,167500,167700,167300,167400,167200,167300,167800,167000,167100,167200,167500,167900,168200,167600,169200,169100,169500,169900,170800,170100,169900,170100,169600,170000,170200,169800,170900,171500,171300,171500,171800,171900,172300,172300,172600,172600,172800,172900,173300,173500,174500,173600,173800,174100,174000,174900,174200,175400,175100,175600,175700,174600,176300,177200,176400,176700,177000,177100,177400,177200,177700,178000,177800,178500,178400,178600,178700,177900,178300,177800,178100,178800,179500,179700,180100,180500,180500,180200,180700,180700,181300,182600,183300,183200,183400,182900,183000,182900,183500,183100,183400,184500,184900,185000]
[null,null,null,null,null,null,null,null,null,null,null,null,null,null,null,null,null,null,null,null,null,null,null,null,null,null,null,null,null,null,null,null,null,null,null,null,null,null,null,null,null,null,null,null,null,null,null,null,null,null,null,null,null,null,null,null,null,null,null,null,null,null,null,null,null,null,null,null,null,null,null,null,null,null,null,null,null,null,null,null,null,null,null,null,null,null,null,null,null,null,null,null,null,null,null,null,null,null,null,null,null,null,null,null,null,null,null,null,null,null,null,null,null,null,null,null,null,null,null,null,null,null,null,null,null,61200,61500,61500,61700,61500,61400,61300,61400,61400,61300,61200,61200,60700,60800,60900,60800,60800,60700,61400,61100,60900,60800,61200,61500,61800,61800,62000,62300,62500,62300,62600,61700,62700,63300,63100,63200,63400,63700,63700,63700,63900,64099.999999999993,63800,64099.999999999993,64099.999999999993,63600,63700,63800,63700,63600,63800,64200,64400.000000000007,64599.999999999993,65099.999999999993,65300,65500,65300,65700,65700,66100,66200,66300,66100,66200,66200,66400,66900,66800,67100,67100,67300,67400,67400,67400,67500,67700,67500,67700,67100,67400,67700,67900,68100,68000,68300,68300,68300,68600,68900,69100,69000,68800,68600,68300,69200,69200,69300,69100,69100,69400,69300,69300,69000,68600,68500,68400,68900,70400,70600,70500,70500,70500,70600,70500,71000,71000,71000,71300,71100]
[null,null,null,null,null,null,null,null,null,null,null,null,null,null,null,null,null,null,null,null,null,null,null,null,null,null,null,null,null,null,null,null,null,null,null,null,null,null,null,null,null,null,null,null,null,null,null,null,null,null,null,null,null,null,null,null,null,null,null,null,null,null,null,null,null,null,null,null,null,null,null,null,null,null,null,null,null,null,null,null,null,null,null,null,null,null,null,null,null,null,null,null,null,null,null,null,null,null,null,null,null,null,null,null,null,null,null,null,null,null,null,null,null,null,null,null,null,null,null,null,null,null,null,null,null,73500,73700,73700,74200,74300,74600,74300,74400,73500,74300,74100,74000,74100,74200,74100,73700,74000,73400,73500,73900,74400,75000,74500,74600,74900,75000,75300,75600,75400,75600,75300,75900,76300,76700,76500,76600,76100,76500,76400,76200,76700,76600,77100,77100,76900,76900,76900,76900,76600,76700,76600,76800,76500,76600,76600,77000,77100,77000,77300,77000,77000,77300,77500,77400,77600,77300,77300,77300,77200,77300,77300,77400,77600,77800,78000,78400,78100,78600,79100,78800,78700,78900,79200,79000,79300,79300,79000,78900,78700,78900,78700,78600,78500,79200,79300,79200,79700,80100,79400,79700,80200,80700,80600,80300,80500,80000,80100,80200,79400,79700,80200,79700,79800,79700,79700,80100,80200,80300,80600,80500]
[null,null,null,null,null,null,null,null,null,null,null,null,null,null,null,null,null,null,null,null,null,null,null,null,null,null,null,null,null,null,null,null,null,null,null,null,null,null,null,null,null,null,null,null,null,null,null,null,null,null,null,null,null,null,null,null,null,null,null,null,null,null,null,null,null,null,null,null,null,null,null,null,null,null,null,null,null,null,null,null,null,null,null,null,null,null,null,null,null,null,null,null,null,null,null,null,null,null,null,null,null,null,null,null,null,null,null,null,null,null,null,null,null,null,null,null,null,null,null,null,null,null,null,null,null,357700,358000,358300,360600,359000,358500,358200,359200,359200,361100,362400,359800,362100,360000,361300,361100,361900,360300,363600,362600,364000,362200,362300,362200,360300,361500,366500,367100,367300,366800,366500,366800,368100,368700,369800,369900,364900,370900,372300,372200,373200,374200,374200,375300,376600,376500,376000,377900,378100,379100,379100,378700,379200,380300,382200,382900,382600,382800,385500,384700,386300,386800,387600,389000,388000,388800,390300,390600,391200,392900,392800,394700,395300,395900,395200,398800,395900,396000,398300,398600,399000,399000,400000,397800,396000,400100,401600,400400,400800,402100,400800,401200,401100,402200,403000,403200,402400,404500,405900,405400,405900,406700,407300,406700,408800,407800,409100,410000,403700,404200,404200,404100,403400,405800,405600,405300,404300,407100,408300,409300]
[null,null,null,null,null,null,null,null,null,null,null,null,null,null,null,null,null,null,null,null,null,null,null,null,null,null,null,null,null,null,null,null,null,null,null,null,null,null,null,null,null,null,null,null,null,null,null,null,null,null,null,null,null,null,null,null,null,null,null,null,null,null,null,null,null,null,null,null,null,null,null,null,null,null,null,null,null,null,null,null,null,null,null,null,null,null,null,null,null,null,null,null,null,null,null,null,null,null,null,null,null,null,null,null,null,null,null,null,null,null,null,null,null,null,null,null,null,null,null,null,null,null,null,null,null,807300,805500,805800,807100,808700,805500,809200,809400,807400,811500,812100,812100,812900,813200,814300,814800,812900,813100,816200,815300,815100,813100,814200,813400,814600,815900,819600,819900,822000,821500,820400,820900,822000,825000,826500,826500,824800,829300,830200,830300,832200,832400,834100,832800,837900,837500,837700,840400,839200,841000,840600,841100,840300,843800,844700,848400,848300,846800,851700,852300,848600,851000,852200,854400,856200,856800,857000,858300,858000,859000,859900,861600,863700,864200,864000,866200,863300,862300,863600,864100,864600,864100,863900,864000,865000,866500,869700,866700,866500,867400,867300,866400,865700,865600,867200,870000,874300,876400,877700,878300,874400,872200,874100,872100,873100,873500,873600,876400,880800,882200,878100,878800,879500,878700,878800,879200,880900,884700,885900,888900]
[null,null,null,null,null,null,null,null,null,null,null,null,null,null,null,null,null,null,null,null,null,null,null,null,null,null,null,null,null,null,null,null,null,null,null,null,null,null,null,null,null,null,null,null,null,null,null,null,null,null,null,null,null,null,null,null,null,null,null,null,null,null,null,null,null,null,null,null,null,null,null,null,null,null,null,null,null,null,null,null,null,null,null,null,null,null,null,null,null,null,null,null,null,null,null,null,null,null,null,null,null,null,null,null,null,null,null,null,null,null,null,null,null,null,null,null,null,null,null,null,null,null,null,null,null,90900,91600,91900,92300,92500,92800,93100,93400,93200,93100,93300,93500,93500,93300,93800,92900,93100,92700,93400,92800,93600,93000,91900,92200,93000,93000,93500,93900,94100,93700,93100,93700,93700,94200,94100,94200,93600,94100,93300,93100,92900,93100,92700,93500,93500,93700,93200,93200,93400,93700,93700,93700,93900,93400,94100,93600,93900,94200,94200,94000,93800,93700,94500,94600,94700,94400,94800,94800,94700,95000,94700,95600,96300,96300,96500,96500,96300,96700,96800,97200,97600,97500,97600,97600,97700,97900,97400,98000,97800,98100,98200,97900,97600,98100,97800,98300,98100,98400,98500,98500,98500,98300,98400,98200,98700,98600,98900,99100,98300,98100,98500,98200,98100,98600,98400,98300,98200,98400,98600,98700]
[null,null,null,null,null,null,null,null,null,null,null,null,null,null,null,null,null,null,null,null,null,null,null,null,null,null,null,null,null,null,null,null,null,null,null,null,null,null,null,null,null,null,null,null,null,null,null,null,null,null,null,null,null,null,null,null,null,null,null,null,null,null,null,null,null,null,null,null,null,null,null,null,null,null,null,null,null,null,null,null,null,null,null,null,null,null,null,null,null,null,null,null,null,null,null,null,null,null,null,null,null,null,null,null,null,null,null,null,null,null,null,null,null,null,null,null,null,null,null,null,null,null,null,null,null,73400,73600,73500,74000,73700,73900,74200,73900,74000,74100,74100,74100,74700,74400,74600,74500,74800,75000,75500,75300,75400,74800,74800,75100,75300,75400,75600,75800,76000,76000,75900,75800,75600,76100,75600,75700,75100,75300,74900,74900,75100,75200,75000,75300,75500,75300,75500,75600,75800,76100,76100,76400,76500,76600,76800,76700,76700,77000,77700,77400,77000,77100,76700,77100,77200,76900,77100,77000,76800,77000,76800,77000,77200,76900,77900,77400,77600,77300,77600,77700,77800,77500,77800,77800,77800,78000,78100,77700,77700,77800,77900,77900,77800,77500,77600,77000,77900,78500,78300,77900,77700,77700,77900,78000,77900,78000,78100,78400,79200,79200,79200,79000,78900,79000,79000,78900,78900,79000,78700,78800]
[null,null,null,null,null,null,null,null,null,null,null,null,null,null,null,null,null,null,null,null,null,null,null,null,null,null,null,null,null,null,null,null,null,null,null,null,null,null,null,null,null,null,null,null,null,null,null,null,null,null,null,null,null,null,null,null,null,null,null,null,null,null,null,null,null,null,null,null,null,null,null,null,null,null,null,null,null,null,null,null,null,null,null,null,null,null,null,null,null,null,null,null,null,null,null,null,null,null,null,null,null,null,null,null,null,null,null,null,null,null,null,null,null,null,null,null,null,null,null,null,null,null,null,null,null,58400,58600,58200,58300,57900,58400,58400,58300,58100,58600,58600,58100,57500,57500,57700,57600,57800,57700,57600,57400,57700,57600,57400,57500,57500,57600,57800,57900,57600,57700,57700,57800,57600,58000,58100,58200,58300,58600,58600,58800,59100,59300,59200,59500,59700,59500,59800,60000,60300,60200,60600,60500,60400,60400,60600,60600,60600,60500,60800,60600,60500,60600,61400,61000,61200,61000,61200,61000,60700,61100,60900,61100,60900,60800,61100,61400,61400,61700,61700,61900,61900,61700,62000,62100,62300,62300,62300,62500,62400,62500,62500,62600,62600,63000,62900,63300,63200,63500,63300,63500,63600,64100,64200,64000,64300,64300,64100,64000,63500,63700,63800,64300,64400,64400,64200,64200,64300,64600,64400,64400]
[null,null,null,null,null,null,null,null,null,null,null,null,null,null,null,null,null,null,null,null,null,null,null,null,null,null,null,null,null,null,null,null,null,null,null,null,null,null,null,null,null,null,null,null,null,null,null,null,null,null,null,null,null,null,null,null,null,null,null,null,null,null,null,null,null,null,null,null,null,null,null,null,null,null,null,null,null,null,null,null,null,null,null,null,null,null,null,null,null,null,null,null,null,null,null,null,null,null,null,null,null,null,null,null,null,null,null,null,null,null,null,null,null,null,null,null,null,null,null,null,null,null,null,null,null,68100,67600,67800,67700,67800,67800,67700,68000,67900,68100,67600,67600,68100,67900,67800,68100,67800,67700,68000,67600,67700,67500,67800,67400,67300,67500,67400,67500,67600,67300,67000,66900,67200,67900,67800,68300,68200,68500,68500,68900,68900,69000,68800,68800,69000,69000,69400,69300,69700,69900,70200,70500,70900,71000,71000,71400,71500,71600,71700,71900,71500,71900,72200,71600,71500,71700,71700,71900,72200,72000,71900,72200,71700,71500,71700,72100,72000,72100,72300,72500,72200,72000,72300,71900,72200,72300,72200,72000,72200,72200,72300,72100,71900,72400,72500,72800,73100,73700,73600,73700,73700,73900,74200,74500,74300,74300,74300,74700,73900,73800,74100,73800,73900,74300,74000,74000,73700,74100,74200,74200]